BEGIN:VCALENDAR
VERSION:2.0
PRODID:-//GO Latin Dance - ECPv6.15.18//NONSGML v1.0//EN
CALSCALE:GREGORIAN
METHOD:PUBLISH
X-ORIGINAL-URL:https://golatindance.com
X-WR-CALDESC:Events for GO Latin Dance
REFRESH-INTERVAL;VALUE=DURATION:PT1H
X-Robots-Tag:noindex
X-PUBLISHED-TTL:PT1H
BEGIN:VTIMEZONE
TZID:America/New_York
BEGIN:DAYLIGHT
TZOFFSETFROM:-0500
TZOFFSETTO:-0400
TZNAME:EDT
DTSTART:20270314T070000
END:DAYLIGHT
BEGIN:STANDARD
TZOFFSETFROM:-0400
TZOFFSETTO:-0500
TZNAME:EST
DTSTART:20271107T060000
END:STANDARD
BEGIN:DAYLIGHT
TZOFFSETFROM:-0500
TZOFFSETTO:-0400
TZNAME:EDT
DTSTART:20280312T070000
END:DAYLIGHT
BEGIN:STANDARD
TZOFFSETFROM:-0400
TZOFFSETTO:-0500
TZNAME:EST
DTSTART:20281105T060000
END:STANDARD
BEGIN:DAYLIGHT
TZOFFSETFROM:-0500
TZOFFSETTO:-0400
TZNAME:EDT
DTSTART:20290311T070000
END:DAYLIGHT
BEGIN:STANDARD
TZOFFSETFROM:-0400
TZOFFSETTO:-0500
TZNAME:EST
DTSTART:20291104T060000
END:STANDARD
BEGIN:DAYLIGHT
TZOFFSETFROM:-0500
TZOFFSETTO:-0400
TZNAME:EDT
DTSTART:20300310T070000
END:DAYLIGHT
BEGIN:STANDARD
TZOFFSETFROM:-0400
TZOFFSETTO:-0500
TZNAME:EST
DTSTART:20301103T060000
END:STANDARD
END:VTIMEZONE
BEGIN:VEVENT
DTSTART;TZID=America/New_York:20281229T210000
DTEND;TZID=America/New_York:20281230T020000
DTSTAMP:20260422T053752
CREATED:20221115T171926Z
LAST-MODIFIED:20240416T145152Z
UID:10221683-1861736400-1861754400@golatindance.com
SUMMARY:THE MIAMI BACHATA SOCIAL
DESCRIPTION:See you all this Friday for the best and biggest bachata social in Miami. We can’t wait to see y’all at the dance floor and thanks again for making us a Miami staple for all our local dancers and non local dancers.\nWe are so happy to see people coming from different cities and countries visiting us every week.\nPrice :$15 (in advance)\n$20 (at the door)\n9pm-10:30 Bachata and/or Salsa Classes ( Included with the cover )\nVisit https://www.eventbrite.com/o/the-miami-bachata-overdose-social-41065630183 for the latest class details.\n10:30 pm social starts.\nBring your own refreshments!!\nVK DANCE ARENA\n3129 W Hallandale Beach Blvd\, Hallandale Beach\, FL 33009\nFREE PARKING
URL:https://golatindance.com/event/the-miami-bachata-social/2028-12-29/
LOCATION:VK Dance ARENA\, 3129 West Hallandale Beach Boulevard\, Hallandale Beach\, FL 33009\, Hallandale Beach\, FL\, 33009\, United States
CATEGORIES:Miami
ATTACH;FMTTYPE=image/png:https://golatindance.com/wp-content/uploads/2022/11/MAXI-SOLIS-Instagram-Post-9.png
END:VEVENT
BEGIN:VEVENT
DTSTART;TZID=America/New_York:20290105T210000
DTEND;TZID=America/New_York:20290106T020000
DTSTAMP:20260422T053752
CREATED:20221115T171926Z
LAST-MODIFIED:20240416T145152Z
UID:10221684-1862341200-1862359200@golatindance.com
SUMMARY:THE MIAMI BACHATA SOCIAL
DESCRIPTION:See you all this Friday for the best and biggest bachata social in Miami. We can’t wait to see y’all at the dance floor and thanks again for making us a Miami staple for all our local dancers and non local dancers.\nWe are so happy to see people coming from different cities and countries visiting us every week.\nPrice :$15 (in advance)\n$20 (at the door)\n9pm-10:30 Bachata and/or Salsa Classes ( Included with the cover )\nVisit https://www.eventbrite.com/o/the-miami-bachata-overdose-social-41065630183 for the latest class details.\n10:30 pm social starts.\nBring your own refreshments!!\nVK DANCE ARENA\n3129 W Hallandale Beach Blvd\, Hallandale Beach\, FL 33009\nFREE PARKING
URL:https://golatindance.com/event/the-miami-bachata-social/2029-01-05/
LOCATION:VK Dance ARENA\, 3129 West Hallandale Beach Boulevard\, Hallandale Beach\, FL 33009\, Hallandale Beach\, FL\, 33009\, United States
CATEGORIES:Miami
ATTACH;FMTTYPE=image/png:https://golatindance.com/wp-content/uploads/2022/11/MAXI-SOLIS-Instagram-Post-9.png
END:VEVENT
BEGIN:VEVENT
DTSTART;TZID=America/New_York:20290112T210000
DTEND;TZID=America/New_York:20290113T020000
DTSTAMP:20260422T053752
CREATED:20221115T171926Z
LAST-MODIFIED:20240416T145152Z
UID:10221685-1862946000-1862964000@golatindance.com
SUMMARY:THE MIAMI BACHATA SOCIAL
DESCRIPTION:See you all this Friday for the best and biggest bachata social in Miami. We can’t wait to see y’all at the dance floor and thanks again for making us a Miami staple for all our local dancers and non local dancers.\nWe are so happy to see people coming from different cities and countries visiting us every week.\nPrice :$15 (in advance)\n$20 (at the door)\n9pm-10:30 Bachata and/or Salsa Classes ( Included with the cover )\nVisit https://www.eventbrite.com/o/the-miami-bachata-overdose-social-41065630183 for the latest class details.\n10:30 pm social starts.\nBring your own refreshments!!\nVK DANCE ARENA\n3129 W Hallandale Beach Blvd\, Hallandale Beach\, FL 33009\nFREE PARKING
URL:https://golatindance.com/event/the-miami-bachata-social/2029-01-12/
LOCATION:VK Dance ARENA\, 3129 West Hallandale Beach Boulevard\, Hallandale Beach\, FL 33009\, Hallandale Beach\, FL\, 33009\, United States
CATEGORIES:Miami
ATTACH;FMTTYPE=image/png:https://golatindance.com/wp-content/uploads/2022/11/MAXI-SOLIS-Instagram-Post-9.png
END:VEVENT
BEGIN:VEVENT
DTSTART;TZID=America/New_York:20290119T210000
DTEND;TZID=America/New_York:20290120T020000
DTSTAMP:20260422T053752
CREATED:20221115T171926Z
LAST-MODIFIED:20240416T145152Z
UID:10221686-1863550800-1863568800@golatindance.com
SUMMARY:THE MIAMI BACHATA SOCIAL
DESCRIPTION:See you all this Friday for the best and biggest bachata social in Miami. We can’t wait to see y’all at the dance floor and thanks again for making us a Miami staple for all our local dancers and non local dancers.\nWe are so happy to see people coming from different cities and countries visiting us every week.\nPrice :$15 (in advance)\n$20 (at the door)\n9pm-10:30 Bachata and/or Salsa Classes ( Included with the cover )\nVisit https://www.eventbrite.com/o/the-miami-bachata-overdose-social-41065630183 for the latest class details.\n10:30 pm social starts.\nBring your own refreshments!!\nVK DANCE ARENA\n3129 W Hallandale Beach Blvd\, Hallandale Beach\, FL 33009\nFREE PARKING
URL:https://golatindance.com/event/the-miami-bachata-social/2029-01-19/
LOCATION:VK Dance ARENA\, 3129 West Hallandale Beach Boulevard\, Hallandale Beach\, FL 33009\, Hallandale Beach\, FL\, 33009\, United States
CATEGORIES:Miami
ATTACH;FMTTYPE=image/png:https://golatindance.com/wp-content/uploads/2022/11/MAXI-SOLIS-Instagram-Post-9.png
END:VEVENT
BEGIN:VEVENT
DTSTART;TZID=America/New_York:20290126T210000
DTEND;TZID=America/New_York:20290127T020000
DTSTAMP:20260422T053752
CREATED:20221115T171926Z
LAST-MODIFIED:20240416T145152Z
UID:10221687-1864155600-1864173600@golatindance.com
SUMMARY:THE MIAMI BACHATA SOCIAL
DESCRIPTION:See you all this Friday for the best and biggest bachata social in Miami. We can’t wait to see y’all at the dance floor and thanks again for making us a Miami staple for all our local dancers and non local dancers.\nWe are so happy to see people coming from different cities and countries visiting us every week.\nPrice :$15 (in advance)\n$20 (at the door)\n9pm-10:30 Bachata and/or Salsa Classes ( Included with the cover )\nVisit https://www.eventbrite.com/o/the-miami-bachata-overdose-social-41065630183 for the latest class details.\n10:30 pm social starts.\nBring your own refreshments!!\nVK DANCE ARENA\n3129 W Hallandale Beach Blvd\, Hallandale Beach\, FL 33009\nFREE PARKING
URL:https://golatindance.com/event/the-miami-bachata-social/2029-01-26/
LOCATION:VK Dance ARENA\, 3129 West Hallandale Beach Boulevard\, Hallandale Beach\, FL 33009\, Hallandale Beach\, FL\, 33009\, United States
CATEGORIES:Miami
ATTACH;FMTTYPE=image/png:https://golatindance.com/wp-content/uploads/2022/11/MAXI-SOLIS-Instagram-Post-9.png
END:VEVENT
BEGIN:VEVENT
DTSTART;TZID=America/New_York:20290202T210000
DTEND;TZID=America/New_York:20290203T020000
DTSTAMP:20260422T053752
CREATED:20221115T171926Z
LAST-MODIFIED:20240416T145152Z
UID:10221688-1864760400-1864778400@golatindance.com
SUMMARY:THE MIAMI BACHATA SOCIAL
DESCRIPTION:See you all this Friday for the best and biggest bachata social in Miami. We can’t wait to see y’all at the dance floor and thanks again for making us a Miami staple for all our local dancers and non local dancers.\nWe are so happy to see people coming from different cities and countries visiting us every week.\nPrice :$15 (in advance)\n$20 (at the door)\n9pm-10:30 Bachata and/or Salsa Classes ( Included with the cover )\nVisit https://www.eventbrite.com/o/the-miami-bachata-overdose-social-41065630183 for the latest class details.\n10:30 pm social starts.\nBring your own refreshments!!\nVK DANCE ARENA\n3129 W Hallandale Beach Blvd\, Hallandale Beach\, FL 33009\nFREE PARKING
URL:https://golatindance.com/event/the-miami-bachata-social/2029-02-02/
LOCATION:VK Dance ARENA\, 3129 West Hallandale Beach Boulevard\, Hallandale Beach\, FL 33009\, Hallandale Beach\, FL\, 33009\, United States
CATEGORIES:Miami
ATTACH;FMTTYPE=image/png:https://golatindance.com/wp-content/uploads/2022/11/MAXI-SOLIS-Instagram-Post-9.png
END:VEVENT
BEGIN:VEVENT
DTSTART;TZID=America/New_York:20290209T210000
DTEND;TZID=America/New_York:20290210T020000
DTSTAMP:20260422T053752
CREATED:20221115T171926Z
LAST-MODIFIED:20240416T145152Z
UID:10221689-1865365200-1865383200@golatindance.com
SUMMARY:THE MIAMI BACHATA SOCIAL
DESCRIPTION:See you all this Friday for the best and biggest bachata social in Miami. We can’t wait to see y’all at the dance floor and thanks again for making us a Miami staple for all our local dancers and non local dancers.\nWe are so happy to see people coming from different cities and countries visiting us every week.\nPrice :$15 (in advance)\n$20 (at the door)\n9pm-10:30 Bachata and/or Salsa Classes ( Included with the cover )\nVisit https://www.eventbrite.com/o/the-miami-bachata-overdose-social-41065630183 for the latest class details.\n10:30 pm social starts.\nBring your own refreshments!!\nVK DANCE ARENA\n3129 W Hallandale Beach Blvd\, Hallandale Beach\, FL 33009\nFREE PARKING
URL:https://golatindance.com/event/the-miami-bachata-social/2029-02-09/
LOCATION:VK Dance ARENA\, 3129 West Hallandale Beach Boulevard\, Hallandale Beach\, FL 33009\, Hallandale Beach\, FL\, 33009\, United States
CATEGORIES:Miami
ATTACH;FMTTYPE=image/png:https://golatindance.com/wp-content/uploads/2022/11/MAXI-SOLIS-Instagram-Post-9.png
END:VEVENT
BEGIN:VEVENT
DTSTART;TZID=America/New_York:20290216T210000
DTEND;TZID=America/New_York:20290217T020000
DTSTAMP:20260422T053752
CREATED:20221115T171926Z
LAST-MODIFIED:20240416T145152Z
UID:10221690-1865970000-1865988000@golatindance.com
SUMMARY:THE MIAMI BACHATA SOCIAL
DESCRIPTION:See you all this Friday for the best and biggest bachata social in Miami. We can’t wait to see y’all at the dance floor and thanks again for making us a Miami staple for all our local dancers and non local dancers.\nWe are so happy to see people coming from different cities and countries visiting us every week.\nPrice :$15 (in advance)\n$20 (at the door)\n9pm-10:30 Bachata and/or Salsa Classes ( Included with the cover )\nVisit https://www.eventbrite.com/o/the-miami-bachata-overdose-social-41065630183 for the latest class details.\n10:30 pm social starts.\nBring your own refreshments!!\nVK DANCE ARENA\n3129 W Hallandale Beach Blvd\, Hallandale Beach\, FL 33009\nFREE PARKING
URL:https://golatindance.com/event/the-miami-bachata-social/2029-02-16/
LOCATION:VK Dance ARENA\, 3129 West Hallandale Beach Boulevard\, Hallandale Beach\, FL 33009\, Hallandale Beach\, FL\, 33009\, United States
CATEGORIES:Miami
ATTACH;FMTTYPE=image/png:https://golatindance.com/wp-content/uploads/2022/11/MAXI-SOLIS-Instagram-Post-9.png
END:VEVENT
BEGIN:VEVENT
DTSTART;TZID=America/New_York:20290223T210000
DTEND;TZID=America/New_York:20290224T020000
DTSTAMP:20260422T053752
CREATED:20221115T171926Z
LAST-MODIFIED:20240416T145152Z
UID:10221691-1866574800-1866592800@golatindance.com
SUMMARY:THE MIAMI BACHATA SOCIAL
DESCRIPTION:See you all this Friday for the best and biggest bachata social in Miami. We can’t wait to see y’all at the dance floor and thanks again for making us a Miami staple for all our local dancers and non local dancers.\nWe are so happy to see people coming from different cities and countries visiting us every week.\nPrice :$15 (in advance)\n$20 (at the door)\n9pm-10:30 Bachata and/or Salsa Classes ( Included with the cover )\nVisit https://www.eventbrite.com/o/the-miami-bachata-overdose-social-41065630183 for the latest class details.\n10:30 pm social starts.\nBring your own refreshments!!\nVK DANCE ARENA\n3129 W Hallandale Beach Blvd\, Hallandale Beach\, FL 33009\nFREE PARKING
URL:https://golatindance.com/event/the-miami-bachata-social/2029-02-23/
LOCATION:VK Dance ARENA\, 3129 West Hallandale Beach Boulevard\, Hallandale Beach\, FL 33009\, Hallandale Beach\, FL\, 33009\, United States
CATEGORIES:Miami
ATTACH;FMTTYPE=image/png:https://golatindance.com/wp-content/uploads/2022/11/MAXI-SOLIS-Instagram-Post-9.png
END:VEVENT
BEGIN:VEVENT
DTSTART;TZID=America/New_York:20290302T210000
DTEND;TZID=America/New_York:20290303T020000
DTSTAMP:20260422T053752
CREATED:20221115T171926Z
LAST-MODIFIED:20240416T145152Z
UID:10221692-1867179600-1867197600@golatindance.com
SUMMARY:THE MIAMI BACHATA SOCIAL
DESCRIPTION:See you all this Friday for the best and biggest bachata social in Miami. We can’t wait to see y’all at the dance floor and thanks again for making us a Miami staple for all our local dancers and non local dancers.\nWe are so happy to see people coming from different cities and countries visiting us every week.\nPrice :$15 (in advance)\n$20 (at the door)\n9pm-10:30 Bachata and/or Salsa Classes ( Included with the cover )\nVisit https://www.eventbrite.com/o/the-miami-bachata-overdose-social-41065630183 for the latest class details.\n10:30 pm social starts.\nBring your own refreshments!!\nVK DANCE ARENA\n3129 W Hallandale Beach Blvd\, Hallandale Beach\, FL 33009\nFREE PARKING
URL:https://golatindance.com/event/the-miami-bachata-social/2029-03-02/
LOCATION:VK Dance ARENA\, 3129 West Hallandale Beach Boulevard\, Hallandale Beach\, FL 33009\, Hallandale Beach\, FL\, 33009\, United States
CATEGORIES:Miami
ATTACH;FMTTYPE=image/png:https://golatindance.com/wp-content/uploads/2022/11/MAXI-SOLIS-Instagram-Post-9.png
END:VEVENT
BEGIN:VEVENT
DTSTART;TZID=America/New_York:20290309T210000
DTEND;TZID=America/New_York:20290310T020000
DTSTAMP:20260422T053752
CREATED:20221115T171926Z
LAST-MODIFIED:20240416T145152Z
UID:10221693-1867784400-1867802400@golatindance.com
SUMMARY:THE MIAMI BACHATA SOCIAL
DESCRIPTION:See you all this Friday for the best and biggest bachata social in Miami. We can’t wait to see y’all at the dance floor and thanks again for making us a Miami staple for all our local dancers and non local dancers.\nWe are so happy to see people coming from different cities and countries visiting us every week.\nPrice :$15 (in advance)\n$20 (at the door)\n9pm-10:30 Bachata and/or Salsa Classes ( Included with the cover )\nVisit https://www.eventbrite.com/o/the-miami-bachata-overdose-social-41065630183 for the latest class details.\n10:30 pm social starts.\nBring your own refreshments!!\nVK DANCE ARENA\n3129 W Hallandale Beach Blvd\, Hallandale Beach\, FL 33009\nFREE PARKING
URL:https://golatindance.com/event/the-miami-bachata-social/2029-03-09/
LOCATION:VK Dance ARENA\, 3129 West Hallandale Beach Boulevard\, Hallandale Beach\, FL 33009\, Hallandale Beach\, FL\, 33009\, United States
CATEGORIES:Miami
ATTACH;FMTTYPE=image/png:https://golatindance.com/wp-content/uploads/2022/11/MAXI-SOLIS-Instagram-Post-9.png
END:VEVENT
BEGIN:VEVENT
DTSTART;TZID=America/New_York:20290316T210000
DTEND;TZID=America/New_York:20290317T020000
DTSTAMP:20260422T053752
CREATED:20221115T171926Z
LAST-MODIFIED:20240416T145152Z
UID:10238048-1868389200-1868407200@golatindance.com
SUMMARY:THE MIAMI BACHATA SOCIAL
DESCRIPTION:See you all this Friday for the best and biggest bachata social in Miami. We can’t wait to see y’all at the dance floor and thanks again for making us a Miami staple for all our local dancers and non local dancers.\nWe are so happy to see people coming from different cities and countries visiting us every week.\nPrice :$15 (in advance)\n$20 (at the door)\n9pm-10:30 Bachata and/or Salsa Classes ( Included with the cover )\nVisit https://www.eventbrite.com/o/the-miami-bachata-overdose-social-41065630183 for the latest class details.\n10:30 pm social starts.\nBring your own refreshments!!\nVK DANCE ARENA\n3129 W Hallandale Beach Blvd\, Hallandale Beach\, FL 33009\nFREE PARKING
URL:https://golatindance.com/event/the-miami-bachata-social/2029-03-16/
LOCATION:VK Dance ARENA\, 3129 West Hallandale Beach Boulevard\, Hallandale Beach\, FL 33009\, Hallandale Beach\, FL\, 33009\, United States
CATEGORIES:Miami
ATTACH;FMTTYPE=image/png:https://golatindance.com/wp-content/uploads/2022/11/MAXI-SOLIS-Instagram-Post-9.png
END:VEVENT
BEGIN:VEVENT
DTSTART;TZID=America/New_York:20290323T210000
DTEND;TZID=America/New_York:20290324T020000
DTSTAMP:20260422T053752
CREATED:20221115T171926Z
LAST-MODIFIED:20240416T145152Z
UID:10238049-1868994000-1869012000@golatindance.com
SUMMARY:THE MIAMI BACHATA SOCIAL
DESCRIPTION:See you all this Friday for the best and biggest bachata social in Miami. We can’t wait to see y’all at the dance floor and thanks again for making us a Miami staple for all our local dancers and non local dancers.\nWe are so happy to see people coming from different cities and countries visiting us every week.\nPrice :$15 (in advance)\n$20 (at the door)\n9pm-10:30 Bachata and/or Salsa Classes ( Included with the cover )\nVisit https://www.eventbrite.com/o/the-miami-bachata-overdose-social-41065630183 for the latest class details.\n10:30 pm social starts.\nBring your own refreshments!!\nVK DANCE ARENA\n3129 W Hallandale Beach Blvd\, Hallandale Beach\, FL 33009\nFREE PARKING
URL:https://golatindance.com/event/the-miami-bachata-social/2029-03-23/
LOCATION:VK Dance ARENA\, 3129 West Hallandale Beach Boulevard\, Hallandale Beach\, FL 33009\, Hallandale Beach\, FL\, 33009\, United States
CATEGORIES:Miami
ATTACH;FMTTYPE=image/png:https://golatindance.com/wp-content/uploads/2022/11/MAXI-SOLIS-Instagram-Post-9.png
END:VEVENT
BEGIN:VEVENT
DTSTART;TZID=America/New_York:20290330T210000
DTEND;TZID=America/New_York:20290331T020000
DTSTAMP:20260422T053752
CREATED:20221115T171926Z
LAST-MODIFIED:20240416T145152Z
UID:10238050-1869598800-1869616800@golatindance.com
SUMMARY:THE MIAMI BACHATA SOCIAL
DESCRIPTION:See you all this Friday for the best and biggest bachata social in Miami. We can’t wait to see y’all at the dance floor and thanks again for making us a Miami staple for all our local dancers and non local dancers.\nWe are so happy to see people coming from different cities and countries visiting us every week.\nPrice :$15 (in advance)\n$20 (at the door)\n9pm-10:30 Bachata and/or Salsa Classes ( Included with the cover )\nVisit https://www.eventbrite.com/o/the-miami-bachata-overdose-social-41065630183 for the latest class details.\n10:30 pm social starts.\nBring your own refreshments!!\nVK DANCE ARENA\n3129 W Hallandale Beach Blvd\, Hallandale Beach\, FL 33009\nFREE PARKING
URL:https://golatindance.com/event/the-miami-bachata-social/2029-03-30/
LOCATION:VK Dance ARENA\, 3129 West Hallandale Beach Boulevard\, Hallandale Beach\, FL 33009\, Hallandale Beach\, FL\, 33009\, United States
CATEGORIES:Miami
ATTACH;FMTTYPE=image/png:https://golatindance.com/wp-content/uploads/2022/11/MAXI-SOLIS-Instagram-Post-9.png
END:VEVENT
BEGIN:VEVENT
DTSTART;TZID=America/New_York:20290406T210000
DTEND;TZID=America/New_York:20290407T020000
DTSTAMP:20260422T053752
CREATED:20221115T171926Z
LAST-MODIFIED:20240416T145152Z
UID:10238051-1870203600-1870221600@golatindance.com
SUMMARY:THE MIAMI BACHATA SOCIAL
DESCRIPTION:See you all this Friday for the best and biggest bachata social in Miami. We can’t wait to see y’all at the dance floor and thanks again for making us a Miami staple for all our local dancers and non local dancers.\nWe are so happy to see people coming from different cities and countries visiting us every week.\nPrice :$15 (in advance)\n$20 (at the door)\n9pm-10:30 Bachata and/or Salsa Classes ( Included with the cover )\nVisit https://www.eventbrite.com/o/the-miami-bachata-overdose-social-41065630183 for the latest class details.\n10:30 pm social starts.\nBring your own refreshments!!\nVK DANCE ARENA\n3129 W Hallandale Beach Blvd\, Hallandale Beach\, FL 33009\nFREE PARKING
URL:https://golatindance.com/event/the-miami-bachata-social/2029-04-06/
LOCATION:VK Dance ARENA\, 3129 West Hallandale Beach Boulevard\, Hallandale Beach\, FL 33009\, Hallandale Beach\, FL\, 33009\, United States
CATEGORIES:Miami
ATTACH;FMTTYPE=image/png:https://golatindance.com/wp-content/uploads/2022/11/MAXI-SOLIS-Instagram-Post-9.png
END:VEVENT
BEGIN:VEVENT
DTSTART;TZID=America/New_York:20290413T210000
DTEND;TZID=America/New_York:20290414T020000
DTSTAMP:20260422T053752
CREATED:20221115T171926Z
LAST-MODIFIED:20240416T145152Z
UID:10238052-1870808400-1870826400@golatindance.com
SUMMARY:THE MIAMI BACHATA SOCIAL
DESCRIPTION:See you all this Friday for the best and biggest bachata social in Miami. We can’t wait to see y’all at the dance floor and thanks again for making us a Miami staple for all our local dancers and non local dancers.\nWe are so happy to see people coming from different cities and countries visiting us every week.\nPrice :$15 (in advance)\n$20 (at the door)\n9pm-10:30 Bachata and/or Salsa Classes ( Included with the cover )\nVisit https://www.eventbrite.com/o/the-miami-bachata-overdose-social-41065630183 for the latest class details.\n10:30 pm social starts.\nBring your own refreshments!!\nVK DANCE ARENA\n3129 W Hallandale Beach Blvd\, Hallandale Beach\, FL 33009\nFREE PARKING
URL:https://golatindance.com/event/the-miami-bachata-social/2029-04-13/
LOCATION:VK Dance ARENA\, 3129 West Hallandale Beach Boulevard\, Hallandale Beach\, FL 33009\, Hallandale Beach\, FL\, 33009\, United States
CATEGORIES:Miami
ATTACH;FMTTYPE=image/png:https://golatindance.com/wp-content/uploads/2022/11/MAXI-SOLIS-Instagram-Post-9.png
END:VEVENT
END:VCALENDAR