BEGIN:VCALENDAR
VERSION:2.0
PRODID:-//GO Latin Dance - ECPv6.15.18//NONSGML v1.0//EN
CALSCALE:GREGORIAN
METHOD:PUBLISH
X-ORIGINAL-URL:https://golatindance.com
X-WR-CALDESC:Events for GO Latin Dance
REFRESH-INTERVAL;VALUE=DURATION:PT1H
X-Robots-Tag:noindex
X-PUBLISHED-TTL:PT1H
BEGIN:VTIMEZONE
TZID:America/Chicago
BEGIN:DAYLIGHT
TZOFFSETFROM:-0600
TZOFFSETTO:-0500
TZNAME:CDT
DTSTART:20250309T080000
END:DAYLIGHT
BEGIN:STANDARD
TZOFFSETFROM:-0500
TZOFFSETTO:-0600
TZNAME:CST
DTSTART:20251102T070000
END:STANDARD
BEGIN:DAYLIGHT
TZOFFSETFROM:-0600
TZOFFSETTO:-0500
TZNAME:CDT
DTSTART:20260308T080000
END:DAYLIGHT
BEGIN:STANDARD
TZOFFSETFROM:-0500
TZOFFSETTO:-0600
TZNAME:CST
DTSTART:20261101T070000
END:STANDARD
BEGIN:DAYLIGHT
TZOFFSETFROM:-0600
TZOFFSETTO:-0500
TZNAME:CDT
DTSTART:20270314T080000
END:DAYLIGHT
BEGIN:STANDARD
TZOFFSETFROM:-0500
TZOFFSETTO:-0600
TZNAME:CST
DTSTART:20271107T070000
END:STANDARD
END:VTIMEZONE
BEGIN:VEVENT
DTSTART;TZID=America/Chicago:20260228T210000
DTEND;TZID=America/Chicago:20260301T020000
DTSTAMP:20260424T212813
CREATED:20260211T162711Z
LAST-MODIFIED:20260211T162841Z
UID:10445827-1772312400-1772330400@golatindance.com
SUMMARY:La Vibra Salsa Social
DESCRIPTION:Step into the soul of Havana! La Vibra Salsa Social is bringing the Cuban spirit to the dance floor for a night of music\, movement\, and pure Latin energy. Bring your friends\, bring your best vibes\, and dress to impress as we celebrate the passion and flair of Cuba! \n🕺 9:00 PM | Beginner-Friendly Salsa On2 Lesson\nWarm up the night with a high-energy salsa class led by the Pioneers of the Texas Salsa Scene — Sandunga Dance Company.\n✔️ No partner needed\n✔️ No prior experience required \n🪩 Social Dancing Until 2:00 AM\nDance the night away with DJ Marlon (Dallas) spinning the best in salsa and Latin rhythms. \n📸 Complimentary Professional Photos\nCapture your Havana-inspired look and your best dance moments throughout the night. \n🇨🇺 NOCHE CUBANA — DRESS CODE: “A Night in Havana”\nThink Guayaberas\, flowing dresses\, bold colors\, ruffles\, and floral accents 🌺
URL:https://golatindance.com/event/la-vibra-salsa-social/
LOCATION:Tropik Vybe Studio\, 2701 Custer Pkwy Ste 911\, Richardson\, TX\, United States
CATEGORIES:Dallas-Fort Worth
ATTACH;FMTTYPE=image/jpeg:https://golatindance.com/wp-content/uploads/2026/02/630481059_26300107806259887_8457684356630863401_n.jpg
END:VEVENT
BEGIN:VEVENT
DTSTART;TZID=America/Chicago:20260124T210000
DTEND;TZID=America/Chicago:20260125T020000
DTSTAMP:20260424T212813
CREATED:20260107T213138Z
LAST-MODIFIED:20260107T213336Z
UID:10430819-1769288400-1769306400@golatindance.com
SUMMARY:DFW Salsa Social Night - Red Theme
DESCRIPTION:🔥 La Vibra Salsa Social (Red Edition) –\nDallas\, Texas Salsa Social \nWear red. Bring heat. Dance all night. This is the RED EDITION you’ve been waiting for—glam vibes\, spicy music\, and a floor packed with energy. \nWhen:\n– Saturday\, January 24\, 2026\n– Doors open 8:50 PM\n– 9:00 PM – 2:00 AM \nWhere:\n– Tropik Vybe Studio\n– 2701 Custer Pkwy\, Suite 911\, Richardson\, TX 75080 \nWhat’s cooking:\n– 9:00 PM Beginner-Friendly Salsa Class led by Texas salsa pioneers Sandunga Dance Company — no partner or experience needed\n– Social dancing till 2:00 AM with DJ Marlon\n– Complimentary professional photos to capture your red-hot look\n– Dress code: RED THEME — Dress to impress \nPerks & Policies:\n– BYOB\n– Tables available for reservation — Ice bucket & cups included (6 seats per table)\n– Limited capacity — ticket prices increase as we fill up\n– No cash — debit/credit card purchases only\n– No refunds. No credit. No roll-over.\n– Need to transfer a ticket or table? Email help@tropikvybe.info \nPaint the room red\, warm up with the vybe trybe\, and let DJ Marlon keep you moving till 2 AM. This is how we kick off 2026 — see you on the dance floor!
URL:https://golatindance.com/event/dfw-salsa-social-night-red-theme/
LOCATION:2701 Custer Parkway Suite 911\, 2701 Custer Parkway Suite 911\, Richardson\, TX\, United States
CATEGORIES:Dallas-Fort Worth
ATTACH;FMTTYPE=image/jpeg:https://golatindance.com/wp-content/uploads/2026/01/604795023_1458792242632565_7357515389991587855_n.jpg
END:VEVENT
END:VCALENDAR