BEGIN:VCALENDAR
VERSION:2.0
PRODID:-//GO Latin Dance - ECPv6.15.18//NONSGML v1.0//EN
CALSCALE:GREGORIAN
METHOD:PUBLISH
X-WR-CALNAME:GO Latin Dance
X-ORIGINAL-URL:https://golatindance.com
X-WR-CALDESC:Events for GO Latin Dance
REFRESH-INTERVAL;VALUE=DURATION:PT1H
X-Robots-Tag:noindex
X-PUBLISHED-TTL:PT1H
BEGIN:VTIMEZONE
TZID:America/Los_Angeles
BEGIN:DAYLIGHT
TZOFFSETFROM:-0800
TZOFFSETTO:-0700
TZNAME:PDT
DTSTART:20270314T100000
END:DAYLIGHT
BEGIN:STANDARD
TZOFFSETFROM:-0700
TZOFFSETTO:-0800
TZNAME:PST
DTSTART:20271107T090000
END:STANDARD
BEGIN:DAYLIGHT
TZOFFSETFROM:-0800
TZOFFSETTO:-0700
TZNAME:PDT
DTSTART:20280312T100000
END:DAYLIGHT
BEGIN:STANDARD
TZOFFSETFROM:-0700
TZOFFSETTO:-0800
TZNAME:PST
DTSTART:20281105T090000
END:STANDARD
BEGIN:DAYLIGHT
TZOFFSETFROM:-0800
TZOFFSETTO:-0700
TZNAME:PDT
DTSTART:20290311T100000
END:DAYLIGHT
BEGIN:STANDARD
TZOFFSETFROM:-0700
TZOFFSETTO:-0800
TZNAME:PST
DTSTART:20291104T090000
END:STANDARD
BEGIN:DAYLIGHT
TZOFFSETFROM:-0800
TZOFFSETTO:-0700
TZNAME:PDT
DTSTART:20300310T100000
END:DAYLIGHT
BEGIN:STANDARD
TZOFFSETFROM:-0700
TZOFFSETTO:-0800
TZNAME:PST
DTSTART:20301103T090000
END:STANDARD
END:VTIMEZONE
BEGIN:VEVENT
DTSTART;TZID=America/Los_Angeles:20281019T190000
DTEND;TZID=America/Los_Angeles:20281020T010000
DTSTAMP:20260421T072353
CREATED:20221108T050721Z
LAST-MODIFIED:20241231T210122Z
UID:10262774-1855594800-1855616400@golatindance.com
SUMMARY:Salsa Night at Vinnies
DESCRIPTION:Bachata/Salsa Classes @ 8pm\nParty @ 9pm -1 30 am
URL:https://golatindance.com/event/salsa-night-at-vinnies/2028-10-19/
LOCATION:Vinnie’s Bar And Grill\, 2045 Mount Diablo St\, Concord\, CA\, 94520\, United States
CATEGORIES:San Francisco
ATTACH;FMTTYPE=image/jpeg:https://golatindance.com/wp-content/uploads/2022/11/download.jpg
GEO:37.9778026;-122.0352218
X-APPLE-STRUCTURED-LOCATION;VALUE=URI;X-ADDRESS=Vinnie’s Bar And Grill 2045 Mount Diablo St Concord CA 94520 United States;X-APPLE-RADIUS=500;X-TITLE=2045 Mount Diablo St:geo:-122.0352218,37.9778026
END:VEVENT
BEGIN:VEVENT
DTSTART;TZID=America/Los_Angeles:20281026T190000
DTEND;TZID=America/Los_Angeles:20281027T010000
DTSTAMP:20260421T072353
CREATED:20221108T050721Z
LAST-MODIFIED:20241231T210122Z
UID:10262775-1856199600-1856221200@golatindance.com
SUMMARY:Salsa Night at Vinnies
DESCRIPTION:Bachata/Salsa Classes @ 8pm\nParty @ 9pm -1 30 am
URL:https://golatindance.com/event/salsa-night-at-vinnies/2028-10-26/
LOCATION:Vinnie’s Bar And Grill\, 2045 Mount Diablo St\, Concord\, CA\, 94520\, United States
CATEGORIES:San Francisco
ATTACH;FMTTYPE=image/jpeg:https://golatindance.com/wp-content/uploads/2022/11/download.jpg
GEO:37.9778026;-122.0352218
X-APPLE-STRUCTURED-LOCATION;VALUE=URI;X-ADDRESS=Vinnie’s Bar And Grill 2045 Mount Diablo St Concord CA 94520 United States;X-APPLE-RADIUS=500;X-TITLE=2045 Mount Diablo St:geo:-122.0352218,37.9778026
END:VEVENT
BEGIN:VEVENT
DTSTART;TZID=America/Los_Angeles:20281102T190000
DTEND;TZID=America/Los_Angeles:20281103T010000
DTSTAMP:20260421T072353
CREATED:20221108T050721Z
LAST-MODIFIED:20241231T210122Z
UID:10262776-1856804400-1856826000@golatindance.com
SUMMARY:Salsa Night at Vinnies
DESCRIPTION:Bachata/Salsa Classes @ 8pm\nParty @ 9pm -1 30 am
URL:https://golatindance.com/event/salsa-night-at-vinnies/2028-11-02/
LOCATION:Vinnie’s Bar And Grill\, 2045 Mount Diablo St\, Concord\, CA\, 94520\, United States
CATEGORIES:San Francisco
ATTACH;FMTTYPE=image/jpeg:https://golatindance.com/wp-content/uploads/2022/11/download.jpg
GEO:37.9778026;-122.0352218
X-APPLE-STRUCTURED-LOCATION;VALUE=URI;X-ADDRESS=Vinnie’s Bar And Grill 2045 Mount Diablo St Concord CA 94520 United States;X-APPLE-RADIUS=500;X-TITLE=2045 Mount Diablo St:geo:-122.0352218,37.9778026
END:VEVENT
BEGIN:VEVENT
DTSTART;TZID=America/Los_Angeles:20281109T190000
DTEND;TZID=America/Los_Angeles:20281110T010000
DTSTAMP:20260421T072353
CREATED:20221108T050721Z
LAST-MODIFIED:20241231T210122Z
UID:10262777-1857409200-1857430800@golatindance.com
SUMMARY:Salsa Night at Vinnies
DESCRIPTION:Bachata/Salsa Classes @ 8pm\nParty @ 9pm -1 30 am
URL:https://golatindance.com/event/salsa-night-at-vinnies/2028-11-09/
LOCATION:Vinnie’s Bar And Grill\, 2045 Mount Diablo St\, Concord\, CA\, 94520\, United States
CATEGORIES:San Francisco
ATTACH;FMTTYPE=image/jpeg:https://golatindance.com/wp-content/uploads/2022/11/download.jpg
GEO:37.9778026;-122.0352218
X-APPLE-STRUCTURED-LOCATION;VALUE=URI;X-ADDRESS=Vinnie’s Bar And Grill 2045 Mount Diablo St Concord CA 94520 United States;X-APPLE-RADIUS=500;X-TITLE=2045 Mount Diablo St:geo:-122.0352218,37.9778026
END:VEVENT
BEGIN:VEVENT
DTSTART;TZID=America/Los_Angeles:20281116T190000
DTEND;TZID=America/Los_Angeles:20281117T010000
DTSTAMP:20260421T072353
CREATED:20221108T050721Z
LAST-MODIFIED:20241231T210122Z
UID:10262778-1858014000-1858035600@golatindance.com
SUMMARY:Salsa Night at Vinnies
DESCRIPTION:Bachata/Salsa Classes @ 8pm\nParty @ 9pm -1 30 am
URL:https://golatindance.com/event/salsa-night-at-vinnies/2028-11-16/
LOCATION:Vinnie’s Bar And Grill\, 2045 Mount Diablo St\, Concord\, CA\, 94520\, United States
CATEGORIES:San Francisco
ATTACH;FMTTYPE=image/jpeg:https://golatindance.com/wp-content/uploads/2022/11/download.jpg
GEO:37.9778026;-122.0352218
X-APPLE-STRUCTURED-LOCATION;VALUE=URI;X-ADDRESS=Vinnie’s Bar And Grill 2045 Mount Diablo St Concord CA 94520 United States;X-APPLE-RADIUS=500;X-TITLE=2045 Mount Diablo St:geo:-122.0352218,37.9778026
END:VEVENT
BEGIN:VEVENT
DTSTART;TZID=America/Los_Angeles:20281123T190000
DTEND;TZID=America/Los_Angeles:20281124T010000
DTSTAMP:20260421T072353
CREATED:20221108T050721Z
LAST-MODIFIED:20241231T210122Z
UID:10262779-1858618800-1858640400@golatindance.com
SUMMARY:Salsa Night at Vinnies
DESCRIPTION:Bachata/Salsa Classes @ 8pm\nParty @ 9pm -1 30 am
URL:https://golatindance.com/event/salsa-night-at-vinnies/2028-11-23/
LOCATION:Vinnie’s Bar And Grill\, 2045 Mount Diablo St\, Concord\, CA\, 94520\, United States
CATEGORIES:San Francisco
ATTACH;FMTTYPE=image/jpeg:https://golatindance.com/wp-content/uploads/2022/11/download.jpg
GEO:37.9778026;-122.0352218
X-APPLE-STRUCTURED-LOCATION;VALUE=URI;X-ADDRESS=Vinnie’s Bar And Grill 2045 Mount Diablo St Concord CA 94520 United States;X-APPLE-RADIUS=500;X-TITLE=2045 Mount Diablo St:geo:-122.0352218,37.9778026
END:VEVENT
BEGIN:VEVENT
DTSTART;TZID=America/Los_Angeles:20281130T190000
DTEND;TZID=America/Los_Angeles:20281201T010000
DTSTAMP:20260421T072353
CREATED:20221108T050721Z
LAST-MODIFIED:20241231T210122Z
UID:10262780-1859223600-1859245200@golatindance.com
SUMMARY:Salsa Night at Vinnies
DESCRIPTION:Bachata/Salsa Classes @ 8pm\nParty @ 9pm -1 30 am
URL:https://golatindance.com/event/salsa-night-at-vinnies/2028-11-30/
LOCATION:Vinnie’s Bar And Grill\, 2045 Mount Diablo St\, Concord\, CA\, 94520\, United States
CATEGORIES:San Francisco
ATTACH;FMTTYPE=image/jpeg:https://golatindance.com/wp-content/uploads/2022/11/download.jpg
GEO:37.9778026;-122.0352218
X-APPLE-STRUCTURED-LOCATION;VALUE=URI;X-ADDRESS=Vinnie’s Bar And Grill 2045 Mount Diablo St Concord CA 94520 United States;X-APPLE-RADIUS=500;X-TITLE=2045 Mount Diablo St:geo:-122.0352218,37.9778026
END:VEVENT
BEGIN:VEVENT
DTSTART;TZID=America/Los_Angeles:20281207T190000
DTEND;TZID=America/Los_Angeles:20281208T010000
DTSTAMP:20260421T072353
CREATED:20221108T050721Z
LAST-MODIFIED:20241231T210122Z
UID:10262781-1859828400-1859850000@golatindance.com
SUMMARY:Salsa Night at Vinnies
DESCRIPTION:Bachata/Salsa Classes @ 8pm\nParty @ 9pm -1 30 am
URL:https://golatindance.com/event/salsa-night-at-vinnies/2028-12-07/
LOCATION:Vinnie’s Bar And Grill\, 2045 Mount Diablo St\, Concord\, CA\, 94520\, United States
CATEGORIES:San Francisco
ATTACH;FMTTYPE=image/jpeg:https://golatindance.com/wp-content/uploads/2022/11/download.jpg
GEO:37.9778026;-122.0352218
X-APPLE-STRUCTURED-LOCATION;VALUE=URI;X-ADDRESS=Vinnie’s Bar And Grill 2045 Mount Diablo St Concord CA 94520 United States;X-APPLE-RADIUS=500;X-TITLE=2045 Mount Diablo St:geo:-122.0352218,37.9778026
END:VEVENT
BEGIN:VEVENT
DTSTART;TZID=America/Los_Angeles:20281214T190000
DTEND;TZID=America/Los_Angeles:20281215T010000
DTSTAMP:20260421T072353
CREATED:20221108T050721Z
LAST-MODIFIED:20241231T210122Z
UID:10262782-1860433200-1860454800@golatindance.com
SUMMARY:Salsa Night at Vinnies
DESCRIPTION:Bachata/Salsa Classes @ 8pm\nParty @ 9pm -1 30 am
URL:https://golatindance.com/event/salsa-night-at-vinnies/2028-12-14/
LOCATION:Vinnie’s Bar And Grill\, 2045 Mount Diablo St\, Concord\, CA\, 94520\, United States
CATEGORIES:San Francisco
ATTACH;FMTTYPE=image/jpeg:https://golatindance.com/wp-content/uploads/2022/11/download.jpg
GEO:37.9778026;-122.0352218
X-APPLE-STRUCTURED-LOCATION;VALUE=URI;X-ADDRESS=Vinnie’s Bar And Grill 2045 Mount Diablo St Concord CA 94520 United States;X-APPLE-RADIUS=500;X-TITLE=2045 Mount Diablo St:geo:-122.0352218,37.9778026
END:VEVENT
BEGIN:VEVENT
DTSTART;TZID=America/Los_Angeles:20281221T190000
DTEND;TZID=America/Los_Angeles:20281222T010000
DTSTAMP:20260421T072353
CREATED:20221108T050721Z
LAST-MODIFIED:20241231T210122Z
UID:10262783-1861038000-1861059600@golatindance.com
SUMMARY:Salsa Night at Vinnies
DESCRIPTION:Bachata/Salsa Classes @ 8pm\nParty @ 9pm -1 30 am
URL:https://golatindance.com/event/salsa-night-at-vinnies/2028-12-21/
LOCATION:Vinnie’s Bar And Grill\, 2045 Mount Diablo St\, Concord\, CA\, 94520\, United States
CATEGORIES:San Francisco
ATTACH;FMTTYPE=image/jpeg:https://golatindance.com/wp-content/uploads/2022/11/download.jpg
GEO:37.9778026;-122.0352218
X-APPLE-STRUCTURED-LOCATION;VALUE=URI;X-ADDRESS=Vinnie’s Bar And Grill 2045 Mount Diablo St Concord CA 94520 United States;X-APPLE-RADIUS=500;X-TITLE=2045 Mount Diablo St:geo:-122.0352218,37.9778026
END:VEVENT
BEGIN:VEVENT
DTSTART;TZID=America/Los_Angeles:20281228T190000
DTEND;TZID=America/Los_Angeles:20281229T010000
DTSTAMP:20260421T072353
CREATED:20221108T050721Z
LAST-MODIFIED:20241231T210122Z
UID:10262784-1861642800-1861664400@golatindance.com
SUMMARY:Salsa Night at Vinnies
DESCRIPTION:Bachata/Salsa Classes @ 8pm\nParty @ 9pm -1 30 am
URL:https://golatindance.com/event/salsa-night-at-vinnies/2028-12-28/
LOCATION:Vinnie’s Bar And Grill\, 2045 Mount Diablo St\, Concord\, CA\, 94520\, United States
CATEGORIES:San Francisco
ATTACH;FMTTYPE=image/jpeg:https://golatindance.com/wp-content/uploads/2022/11/download.jpg
GEO:37.9778026;-122.0352218
X-APPLE-STRUCTURED-LOCATION;VALUE=URI;X-ADDRESS=Vinnie’s Bar And Grill 2045 Mount Diablo St Concord CA 94520 United States;X-APPLE-RADIUS=500;X-TITLE=2045 Mount Diablo St:geo:-122.0352218,37.9778026
END:VEVENT
BEGIN:VEVENT
DTSTART;TZID=America/Los_Angeles:20290104T190000
DTEND;TZID=America/Los_Angeles:20290105T010000
DTSTAMP:20260421T072353
CREATED:20221108T050721Z
LAST-MODIFIED:20241231T210122Z
UID:10262785-1862247600-1862269200@golatindance.com
SUMMARY:Salsa Night at Vinnies
DESCRIPTION:Bachata/Salsa Classes @ 8pm\nParty @ 9pm -1 30 am
URL:https://golatindance.com/event/salsa-night-at-vinnies/2029-01-04/
LOCATION:Vinnie’s Bar And Grill\, 2045 Mount Diablo St\, Concord\, CA\, 94520\, United States
CATEGORIES:San Francisco
ATTACH;FMTTYPE=image/jpeg:https://golatindance.com/wp-content/uploads/2022/11/download.jpg
GEO:37.9778026;-122.0352218
X-APPLE-STRUCTURED-LOCATION;VALUE=URI;X-ADDRESS=Vinnie’s Bar And Grill 2045 Mount Diablo St Concord CA 94520 United States;X-APPLE-RADIUS=500;X-TITLE=2045 Mount Diablo St:geo:-122.0352218,37.9778026
END:VEVENT
BEGIN:VEVENT
DTSTART;TZID=America/Los_Angeles:20290111T190000
DTEND;TZID=America/Los_Angeles:20290112T010000
DTSTAMP:20260421T072353
CREATED:20221108T050721Z
LAST-MODIFIED:20241231T210122Z
UID:10262786-1862852400-1862874000@golatindance.com
SUMMARY:Salsa Night at Vinnies
DESCRIPTION:Bachata/Salsa Classes @ 8pm\nParty @ 9pm -1 30 am
URL:https://golatindance.com/event/salsa-night-at-vinnies/2029-01-11/
LOCATION:Vinnie’s Bar And Grill\, 2045 Mount Diablo St\, Concord\, CA\, 94520\, United States
CATEGORIES:San Francisco
ATTACH;FMTTYPE=image/jpeg:https://golatindance.com/wp-content/uploads/2022/11/download.jpg
GEO:37.9778026;-122.0352218
X-APPLE-STRUCTURED-LOCATION;VALUE=URI;X-ADDRESS=Vinnie’s Bar And Grill 2045 Mount Diablo St Concord CA 94520 United States;X-APPLE-RADIUS=500;X-TITLE=2045 Mount Diablo St:geo:-122.0352218,37.9778026
END:VEVENT
BEGIN:VEVENT
DTSTART;TZID=America/Los_Angeles:20290118T190000
DTEND;TZID=America/Los_Angeles:20290119T010000
DTSTAMP:20260421T072353
CREATED:20221108T050721Z
LAST-MODIFIED:20241231T210122Z
UID:10262787-1863457200-1863478800@golatindance.com
SUMMARY:Salsa Night at Vinnies
DESCRIPTION:Bachata/Salsa Classes @ 8pm\nParty @ 9pm -1 30 am
URL:https://golatindance.com/event/salsa-night-at-vinnies/2029-01-18/
LOCATION:Vinnie’s Bar And Grill\, 2045 Mount Diablo St\, Concord\, CA\, 94520\, United States
CATEGORIES:San Francisco
ATTACH;FMTTYPE=image/jpeg:https://golatindance.com/wp-content/uploads/2022/11/download.jpg
GEO:37.9778026;-122.0352218
X-APPLE-STRUCTURED-LOCATION;VALUE=URI;X-ADDRESS=Vinnie’s Bar And Grill 2045 Mount Diablo St Concord CA 94520 United States;X-APPLE-RADIUS=500;X-TITLE=2045 Mount Diablo St:geo:-122.0352218,37.9778026
END:VEVENT
BEGIN:VEVENT
DTSTART;TZID=America/Los_Angeles:20290125T190000
DTEND;TZID=America/Los_Angeles:20290126T010000
DTSTAMP:20260421T072353
CREATED:20221108T050721Z
LAST-MODIFIED:20241231T210122Z
UID:10262788-1864062000-1864083600@golatindance.com
SUMMARY:Salsa Night at Vinnies
DESCRIPTION:Bachata/Salsa Classes @ 8pm\nParty @ 9pm -1 30 am
URL:https://golatindance.com/event/salsa-night-at-vinnies/2029-01-25/
LOCATION:Vinnie’s Bar And Grill\, 2045 Mount Diablo St\, Concord\, CA\, 94520\, United States
CATEGORIES:San Francisco
ATTACH;FMTTYPE=image/jpeg:https://golatindance.com/wp-content/uploads/2022/11/download.jpg
GEO:37.9778026;-122.0352218
X-APPLE-STRUCTURED-LOCATION;VALUE=URI;X-ADDRESS=Vinnie’s Bar And Grill 2045 Mount Diablo St Concord CA 94520 United States;X-APPLE-RADIUS=500;X-TITLE=2045 Mount Diablo St:geo:-122.0352218,37.9778026
END:VEVENT
BEGIN:VEVENT
DTSTART;TZID=America/Los_Angeles:20290201T190000
DTEND;TZID=America/Los_Angeles:20290202T010000
DTSTAMP:20260421T072353
CREATED:20221108T050721Z
LAST-MODIFIED:20241231T210122Z
UID:10262789-1864666800-1864688400@golatindance.com
SUMMARY:Salsa Night at Vinnies
DESCRIPTION:Bachata/Salsa Classes @ 8pm\nParty @ 9pm -1 30 am
URL:https://golatindance.com/event/salsa-night-at-vinnies/2029-02-01/
LOCATION:Vinnie’s Bar And Grill\, 2045 Mount Diablo St\, Concord\, CA\, 94520\, United States
CATEGORIES:San Francisco
ATTACH;FMTTYPE=image/jpeg:https://golatindance.com/wp-content/uploads/2022/11/download.jpg
GEO:37.9778026;-122.0352218
X-APPLE-STRUCTURED-LOCATION;VALUE=URI;X-ADDRESS=Vinnie’s Bar And Grill 2045 Mount Diablo St Concord CA 94520 United States;X-APPLE-RADIUS=500;X-TITLE=2045 Mount Diablo St:geo:-122.0352218,37.9778026
END:VEVENT
BEGIN:VEVENT
DTSTART;TZID=America/Los_Angeles:20290208T190000
DTEND;TZID=America/Los_Angeles:20290209T010000
DTSTAMP:20260421T072353
CREATED:20221108T050721Z
LAST-MODIFIED:20241231T210122Z
UID:10262790-1865271600-1865293200@golatindance.com
SUMMARY:Salsa Night at Vinnies
DESCRIPTION:Bachata/Salsa Classes @ 8pm\nParty @ 9pm -1 30 am
URL:https://golatindance.com/event/salsa-night-at-vinnies/2029-02-08/
LOCATION:Vinnie’s Bar And Grill\, 2045 Mount Diablo St\, Concord\, CA\, 94520\, United States
CATEGORIES:San Francisco
ATTACH;FMTTYPE=image/jpeg:https://golatindance.com/wp-content/uploads/2022/11/download.jpg
GEO:37.9778026;-122.0352218
X-APPLE-STRUCTURED-LOCATION;VALUE=URI;X-ADDRESS=Vinnie’s Bar And Grill 2045 Mount Diablo St Concord CA 94520 United States;X-APPLE-RADIUS=500;X-TITLE=2045 Mount Diablo St:geo:-122.0352218,37.9778026
END:VEVENT
BEGIN:VEVENT
DTSTART;TZID=America/Los_Angeles:20290215T190000
DTEND;TZID=America/Los_Angeles:20290216T010000
DTSTAMP:20260421T072353
CREATED:20221108T050721Z
LAST-MODIFIED:20241231T210122Z
UID:10262791-1865876400-1865898000@golatindance.com
SUMMARY:Salsa Night at Vinnies
DESCRIPTION:Bachata/Salsa Classes @ 8pm\nParty @ 9pm -1 30 am
URL:https://golatindance.com/event/salsa-night-at-vinnies/2029-02-15/
LOCATION:Vinnie’s Bar And Grill\, 2045 Mount Diablo St\, Concord\, CA\, 94520\, United States
CATEGORIES:San Francisco
ATTACH;FMTTYPE=image/jpeg:https://golatindance.com/wp-content/uploads/2022/11/download.jpg
GEO:37.9778026;-122.0352218
X-APPLE-STRUCTURED-LOCATION;VALUE=URI;X-ADDRESS=Vinnie’s Bar And Grill 2045 Mount Diablo St Concord CA 94520 United States;X-APPLE-RADIUS=500;X-TITLE=2045 Mount Diablo St:geo:-122.0352218,37.9778026
END:VEVENT
BEGIN:VEVENT
DTSTART;TZID=America/Los_Angeles:20290222T190000
DTEND;TZID=America/Los_Angeles:20290223T010000
DTSTAMP:20260421T072353
CREATED:20221108T050721Z
LAST-MODIFIED:20241231T210122Z
UID:10262792-1866481200-1866502800@golatindance.com
SUMMARY:Salsa Night at Vinnies
DESCRIPTION:Bachata/Salsa Classes @ 8pm\nParty @ 9pm -1 30 am
URL:https://golatindance.com/event/salsa-night-at-vinnies/2029-02-22/
LOCATION:Vinnie’s Bar And Grill\, 2045 Mount Diablo St\, Concord\, CA\, 94520\, United States
CATEGORIES:San Francisco
ATTACH;FMTTYPE=image/jpeg:https://golatindance.com/wp-content/uploads/2022/11/download.jpg
GEO:37.9778026;-122.0352218
X-APPLE-STRUCTURED-LOCATION;VALUE=URI;X-ADDRESS=Vinnie’s Bar And Grill 2045 Mount Diablo St Concord CA 94520 United States;X-APPLE-RADIUS=500;X-TITLE=2045 Mount Diablo St:geo:-122.0352218,37.9778026
END:VEVENT
BEGIN:VEVENT
DTSTART;TZID=America/Los_Angeles:20290301T190000
DTEND;TZID=America/Los_Angeles:20290302T010000
DTSTAMP:20260421T072353
CREATED:20221108T050721Z
LAST-MODIFIED:20241231T210122Z
UID:10262793-1867086000-1867107600@golatindance.com
SUMMARY:Salsa Night at Vinnies
DESCRIPTION:Bachata/Salsa Classes @ 8pm\nParty @ 9pm -1 30 am
URL:https://golatindance.com/event/salsa-night-at-vinnies/2029-03-01/
LOCATION:Vinnie’s Bar And Grill\, 2045 Mount Diablo St\, Concord\, CA\, 94520\, United States
CATEGORIES:San Francisco
ATTACH;FMTTYPE=image/jpeg:https://golatindance.com/wp-content/uploads/2022/11/download.jpg
GEO:37.9778026;-122.0352218
X-APPLE-STRUCTURED-LOCATION;VALUE=URI;X-ADDRESS=Vinnie’s Bar And Grill 2045 Mount Diablo St Concord CA 94520 United States;X-APPLE-RADIUS=500;X-TITLE=2045 Mount Diablo St:geo:-122.0352218,37.9778026
END:VEVENT
BEGIN:VEVENT
DTSTART;TZID=America/Los_Angeles:20290308T190000
DTEND;TZID=America/Los_Angeles:20290309T010000
DTSTAMP:20260421T072353
CREATED:20221108T050721Z
LAST-MODIFIED:20241231T210122Z
UID:10262794-1867690800-1867712400@golatindance.com
SUMMARY:Salsa Night at Vinnies
DESCRIPTION:Bachata/Salsa Classes @ 8pm\nParty @ 9pm -1 30 am
URL:https://golatindance.com/event/salsa-night-at-vinnies/2029-03-08/
LOCATION:Vinnie’s Bar And Grill\, 2045 Mount Diablo St\, Concord\, CA\, 94520\, United States
CATEGORIES:San Francisco
ATTACH;FMTTYPE=image/jpeg:https://golatindance.com/wp-content/uploads/2022/11/download.jpg
GEO:37.9778026;-122.0352218
X-APPLE-STRUCTURED-LOCATION;VALUE=URI;X-ADDRESS=Vinnie’s Bar And Grill 2045 Mount Diablo St Concord CA 94520 United States;X-APPLE-RADIUS=500;X-TITLE=2045 Mount Diablo St:geo:-122.0352218,37.9778026
END:VEVENT
BEGIN:VEVENT
DTSTART;TZID=America/Los_Angeles:20290315T190000
DTEND;TZID=America/Los_Angeles:20290316T010000
DTSTAMP:20260421T072353
CREATED:20221108T050721Z
LAST-MODIFIED:20241231T210122Z
UID:10262795-1868295600-1868317200@golatindance.com
SUMMARY:Salsa Night at Vinnies
DESCRIPTION:Bachata/Salsa Classes @ 8pm\nParty @ 9pm -1 30 am
URL:https://golatindance.com/event/salsa-night-at-vinnies/2029-03-15/
LOCATION:Vinnie’s Bar And Grill\, 2045 Mount Diablo St\, Concord\, CA\, 94520\, United States
CATEGORIES:San Francisco
ATTACH;FMTTYPE=image/jpeg:https://golatindance.com/wp-content/uploads/2022/11/download.jpg
GEO:37.9778026;-122.0352218
X-APPLE-STRUCTURED-LOCATION;VALUE=URI;X-ADDRESS=Vinnie’s Bar And Grill 2045 Mount Diablo St Concord CA 94520 United States;X-APPLE-RADIUS=500;X-TITLE=2045 Mount Diablo St:geo:-122.0352218,37.9778026
END:VEVENT
BEGIN:VEVENT
DTSTART;TZID=America/Los_Angeles:20290322T190000
DTEND;TZID=America/Los_Angeles:20290323T010000
DTSTAMP:20260421T072353
CREATED:20221108T050721Z
LAST-MODIFIED:20241231T210122Z
UID:10262796-1868900400-1868922000@golatindance.com
SUMMARY:Salsa Night at Vinnies
DESCRIPTION:Bachata/Salsa Classes @ 8pm\nParty @ 9pm -1 30 am
URL:https://golatindance.com/event/salsa-night-at-vinnies/2029-03-22/
LOCATION:Vinnie’s Bar And Grill\, 2045 Mount Diablo St\, Concord\, CA\, 94520\, United States
CATEGORIES:San Francisco
ATTACH;FMTTYPE=image/jpeg:https://golatindance.com/wp-content/uploads/2022/11/download.jpg
GEO:37.9778026;-122.0352218
X-APPLE-STRUCTURED-LOCATION;VALUE=URI;X-ADDRESS=Vinnie’s Bar And Grill 2045 Mount Diablo St Concord CA 94520 United States;X-APPLE-RADIUS=500;X-TITLE=2045 Mount Diablo St:geo:-122.0352218,37.9778026
END:VEVENT
BEGIN:VEVENT
DTSTART;TZID=America/Los_Angeles:20290329T190000
DTEND;TZID=America/Los_Angeles:20290330T010000
DTSTAMP:20260421T072353
CREATED:20221108T050721Z
LAST-MODIFIED:20241231T210122Z
UID:10262797-1869505200-1869526800@golatindance.com
SUMMARY:Salsa Night at Vinnies
DESCRIPTION:Bachata/Salsa Classes @ 8pm\nParty @ 9pm -1 30 am
URL:https://golatindance.com/event/salsa-night-at-vinnies/2029-03-29/
LOCATION:Vinnie’s Bar And Grill\, 2045 Mount Diablo St\, Concord\, CA\, 94520\, United States
CATEGORIES:San Francisco
ATTACH;FMTTYPE=image/jpeg:https://golatindance.com/wp-content/uploads/2022/11/download.jpg
GEO:37.9778026;-122.0352218
X-APPLE-STRUCTURED-LOCATION;VALUE=URI;X-ADDRESS=Vinnie’s Bar And Grill 2045 Mount Diablo St Concord CA 94520 United States;X-APPLE-RADIUS=500;X-TITLE=2045 Mount Diablo St:geo:-122.0352218,37.9778026
END:VEVENT
BEGIN:VEVENT
DTSTART;TZID=America/Los_Angeles:20290405T190000
DTEND;TZID=America/Los_Angeles:20290406T010000
DTSTAMP:20260421T072353
CREATED:20221108T050721Z
LAST-MODIFIED:20241231T210122Z
UID:10262798-1870110000-1870131600@golatindance.com
SUMMARY:Salsa Night at Vinnies
DESCRIPTION:Bachata/Salsa Classes @ 8pm\nParty @ 9pm -1 30 am
URL:https://golatindance.com/event/salsa-night-at-vinnies/2029-04-05/
LOCATION:Vinnie’s Bar And Grill\, 2045 Mount Diablo St\, Concord\, CA\, 94520\, United States
CATEGORIES:San Francisco
ATTACH;FMTTYPE=image/jpeg:https://golatindance.com/wp-content/uploads/2022/11/download.jpg
GEO:37.9778026;-122.0352218
X-APPLE-STRUCTURED-LOCATION;VALUE=URI;X-ADDRESS=Vinnie’s Bar And Grill 2045 Mount Diablo St Concord CA 94520 United States;X-APPLE-RADIUS=500;X-TITLE=2045 Mount Diablo St:geo:-122.0352218,37.9778026
END:VEVENT
BEGIN:VEVENT
DTSTART;TZID=America/Los_Angeles:20290412T190000
DTEND;TZID=America/Los_Angeles:20290413T010000
DTSTAMP:20260421T072353
CREATED:20221108T050721Z
LAST-MODIFIED:20241231T210122Z
UID:10262799-1870714800-1870736400@golatindance.com
SUMMARY:Salsa Night at Vinnies
DESCRIPTION:Bachata/Salsa Classes @ 8pm\nParty @ 9pm -1 30 am
URL:https://golatindance.com/event/salsa-night-at-vinnies/2029-04-12/
LOCATION:Vinnie’s Bar And Grill\, 2045 Mount Diablo St\, Concord\, CA\, 94520\, United States
CATEGORIES:San Francisco
ATTACH;FMTTYPE=image/jpeg:https://golatindance.com/wp-content/uploads/2022/11/download.jpg
GEO:37.9778026;-122.0352218
X-APPLE-STRUCTURED-LOCATION;VALUE=URI;X-ADDRESS=Vinnie’s Bar And Grill 2045 Mount Diablo St Concord CA 94520 United States;X-APPLE-RADIUS=500;X-TITLE=2045 Mount Diablo St:geo:-122.0352218,37.9778026
END:VEVENT
BEGIN:VEVENT
DTSTART;TZID=America/Los_Angeles:20290419T190000
DTEND;TZID=America/Los_Angeles:20290420T010000
DTSTAMP:20260421T072353
CREATED:20221108T050721Z
LAST-MODIFIED:20241231T210122Z
UID:10262800-1871319600-1871341200@golatindance.com
SUMMARY:Salsa Night at Vinnies
DESCRIPTION:Bachata/Salsa Classes @ 8pm\nParty @ 9pm -1 30 am
URL:https://golatindance.com/event/salsa-night-at-vinnies/2029-04-19/
LOCATION:Vinnie’s Bar And Grill\, 2045 Mount Diablo St\, Concord\, CA\, 94520\, United States
CATEGORIES:San Francisco
ATTACH;FMTTYPE=image/jpeg:https://golatindance.com/wp-content/uploads/2022/11/download.jpg
GEO:37.9778026;-122.0352218
X-APPLE-STRUCTURED-LOCATION;VALUE=URI;X-ADDRESS=Vinnie’s Bar And Grill 2045 Mount Diablo St Concord CA 94520 United States;X-APPLE-RADIUS=500;X-TITLE=2045 Mount Diablo St:geo:-122.0352218,37.9778026
END:VEVENT
BEGIN:VEVENT
DTSTART;TZID=America/Los_Angeles:20290426T190000
DTEND;TZID=America/Los_Angeles:20290427T010000
DTSTAMP:20260421T072353
CREATED:20221108T050721Z
LAST-MODIFIED:20241231T210122Z
UID:10262801-1871924400-1871946000@golatindance.com
SUMMARY:Salsa Night at Vinnies
DESCRIPTION:Bachata/Salsa Classes @ 8pm\nParty @ 9pm -1 30 am
URL:https://golatindance.com/event/salsa-night-at-vinnies/2029-04-26/
LOCATION:Vinnie’s Bar And Grill\, 2045 Mount Diablo St\, Concord\, CA\, 94520\, United States
CATEGORIES:San Francisco
ATTACH;FMTTYPE=image/jpeg:https://golatindance.com/wp-content/uploads/2022/11/download.jpg
GEO:37.9778026;-122.0352218
X-APPLE-STRUCTURED-LOCATION;VALUE=URI;X-ADDRESS=Vinnie’s Bar And Grill 2045 Mount Diablo St Concord CA 94520 United States;X-APPLE-RADIUS=500;X-TITLE=2045 Mount Diablo St:geo:-122.0352218,37.9778026
END:VEVENT
BEGIN:VEVENT
DTSTART;TZID=America/Los_Angeles:20290503T190000
DTEND;TZID=America/Los_Angeles:20290504T010000
DTSTAMP:20260421T072353
CREATED:20221108T050721Z
LAST-MODIFIED:20241231T210122Z
UID:10262802-1872529200-1872550800@golatindance.com
SUMMARY:Salsa Night at Vinnies
DESCRIPTION:Bachata/Salsa Classes @ 8pm\nParty @ 9pm -1 30 am
URL:https://golatindance.com/event/salsa-night-at-vinnies/2029-05-03/
LOCATION:Vinnie’s Bar And Grill\, 2045 Mount Diablo St\, Concord\, CA\, 94520\, United States
CATEGORIES:San Francisco
ATTACH;FMTTYPE=image/jpeg:https://golatindance.com/wp-content/uploads/2022/11/download.jpg
GEO:37.9778026;-122.0352218
X-APPLE-STRUCTURED-LOCATION;VALUE=URI;X-ADDRESS=Vinnie’s Bar And Grill 2045 Mount Diablo St Concord CA 94520 United States;X-APPLE-RADIUS=500;X-TITLE=2045 Mount Diablo St:geo:-122.0352218,37.9778026
END:VEVENT
BEGIN:VEVENT
DTSTART;TZID=America/Los_Angeles:20290510T190000
DTEND;TZID=America/Los_Angeles:20290511T010000
DTSTAMP:20260421T072353
CREATED:20221108T050721Z
LAST-MODIFIED:20241231T210122Z
UID:10262803-1873134000-1873155600@golatindance.com
SUMMARY:Salsa Night at Vinnies
DESCRIPTION:Bachata/Salsa Classes @ 8pm\nParty @ 9pm -1 30 am
URL:https://golatindance.com/event/salsa-night-at-vinnies/2029-05-10/
LOCATION:Vinnie’s Bar And Grill\, 2045 Mount Diablo St\, Concord\, CA\, 94520\, United States
CATEGORIES:San Francisco
ATTACH;FMTTYPE=image/jpeg:https://golatindance.com/wp-content/uploads/2022/11/download.jpg
GEO:37.9778026;-122.0352218
X-APPLE-STRUCTURED-LOCATION;VALUE=URI;X-ADDRESS=Vinnie’s Bar And Grill 2045 Mount Diablo St Concord CA 94520 United States;X-APPLE-RADIUS=500;X-TITLE=2045 Mount Diablo St:geo:-122.0352218,37.9778026
END:VEVENT
END:VCALENDAR