BEGIN:VCALENDAR
VERSION:2.0
PRODID:-//GO Latin Dance - ECPv6.15.18//NONSGML v1.0//EN
CALSCALE:GREGORIAN
METHOD:PUBLISH
X-WR-CALNAME:GO Latin Dance
X-ORIGINAL-URL:https://golatindance.com
X-WR-CALDESC:Events for GO Latin Dance
REFRESH-INTERVAL;VALUE=DURATION:PT1H
X-Robots-Tag:noindex
X-PUBLISHED-TTL:PT1H
BEGIN:VTIMEZONE
TZID:America/Los_Angeles
BEGIN:DAYLIGHT
TZOFFSETFROM:-0800
TZOFFSETTO:-0700
TZNAME:PDT
DTSTART:20280312T100000
END:DAYLIGHT
BEGIN:STANDARD
TZOFFSETFROM:-0700
TZOFFSETTO:-0800
TZNAME:PST
DTSTART:20281105T090000
END:STANDARD
BEGIN:DAYLIGHT
TZOFFSETFROM:-0800
TZOFFSETTO:-0700
TZNAME:PDT
DTSTART:20290311T100000
END:DAYLIGHT
BEGIN:STANDARD
TZOFFSETFROM:-0700
TZOFFSETTO:-0800
TZNAME:PST
DTSTART:20291104T090000
END:STANDARD
BEGIN:DAYLIGHT
TZOFFSETFROM:-0800
TZOFFSETTO:-0700
TZNAME:PDT
DTSTART:20300310T100000
END:DAYLIGHT
BEGIN:STANDARD
TZOFFSETFROM:-0700
TZOFFSETTO:-0800
TZNAME:PST
DTSTART:20301103T090000
END:STANDARD
END:VTIMEZONE
BEGIN:VEVENT
DTSTART;TZID=America/Los_Angeles:20290308T190000
DTEND;TZID=America/Los_Angeles:20290309T010000
DTSTAMP:20260421T095855
CREATED:20221108T050721Z
LAST-MODIFIED:20241231T210122Z
UID:10262794-1867690800-1867712400@golatindance.com
SUMMARY:Salsa Night at Vinnies
DESCRIPTION:Bachata/Salsa Classes @ 8pm\nParty @ 9pm -1 30 am
URL:https://golatindance.com/event/salsa-night-at-vinnies/2029-03-08/
LOCATION:Vinnie’s Bar And Grill\, 2045 Mount Diablo St\, Concord\, CA\, 94520\, United States
CATEGORIES:San Francisco
ATTACH;FMTTYPE=image/jpeg:https://golatindance.com/wp-content/uploads/2022/11/download.jpg
GEO:37.9778026;-122.0352218
X-APPLE-STRUCTURED-LOCATION;VALUE=URI;X-ADDRESS=Vinnie’s Bar And Grill 2045 Mount Diablo St Concord CA 94520 United States;X-APPLE-RADIUS=500;X-TITLE=2045 Mount Diablo St:geo:-122.0352218,37.9778026
END:VEVENT
BEGIN:VEVENT
DTSTART;TZID=America/Los_Angeles:20290315T190000
DTEND;TZID=America/Los_Angeles:20290316T010000
DTSTAMP:20260421T095855
CREATED:20221108T050721Z
LAST-MODIFIED:20241231T210122Z
UID:10262795-1868295600-1868317200@golatindance.com
SUMMARY:Salsa Night at Vinnies
DESCRIPTION:Bachata/Salsa Classes @ 8pm\nParty @ 9pm -1 30 am
URL:https://golatindance.com/event/salsa-night-at-vinnies/2029-03-15/
LOCATION:Vinnie’s Bar And Grill\, 2045 Mount Diablo St\, Concord\, CA\, 94520\, United States
CATEGORIES:San Francisco
ATTACH;FMTTYPE=image/jpeg:https://golatindance.com/wp-content/uploads/2022/11/download.jpg
GEO:37.9778026;-122.0352218
X-APPLE-STRUCTURED-LOCATION;VALUE=URI;X-ADDRESS=Vinnie’s Bar And Grill 2045 Mount Diablo St Concord CA 94520 United States;X-APPLE-RADIUS=500;X-TITLE=2045 Mount Diablo St:geo:-122.0352218,37.9778026
END:VEVENT
BEGIN:VEVENT
DTSTART;TZID=America/Los_Angeles:20290322T190000
DTEND;TZID=America/Los_Angeles:20290323T010000
DTSTAMP:20260421T095855
CREATED:20221108T050721Z
LAST-MODIFIED:20241231T210122Z
UID:10262796-1868900400-1868922000@golatindance.com
SUMMARY:Salsa Night at Vinnies
DESCRIPTION:Bachata/Salsa Classes @ 8pm\nParty @ 9pm -1 30 am
URL:https://golatindance.com/event/salsa-night-at-vinnies/2029-03-22/
LOCATION:Vinnie’s Bar And Grill\, 2045 Mount Diablo St\, Concord\, CA\, 94520\, United States
CATEGORIES:San Francisco
ATTACH;FMTTYPE=image/jpeg:https://golatindance.com/wp-content/uploads/2022/11/download.jpg
GEO:37.9778026;-122.0352218
X-APPLE-STRUCTURED-LOCATION;VALUE=URI;X-ADDRESS=Vinnie’s Bar And Grill 2045 Mount Diablo St Concord CA 94520 United States;X-APPLE-RADIUS=500;X-TITLE=2045 Mount Diablo St:geo:-122.0352218,37.9778026
END:VEVENT
BEGIN:VEVENT
DTSTART;TZID=America/Los_Angeles:20290329T190000
DTEND;TZID=America/Los_Angeles:20290330T010000
DTSTAMP:20260421T095855
CREATED:20221108T050721Z
LAST-MODIFIED:20241231T210122Z
UID:10262797-1869505200-1869526800@golatindance.com
SUMMARY:Salsa Night at Vinnies
DESCRIPTION:Bachata/Salsa Classes @ 8pm\nParty @ 9pm -1 30 am
URL:https://golatindance.com/event/salsa-night-at-vinnies/2029-03-29/
LOCATION:Vinnie’s Bar And Grill\, 2045 Mount Diablo St\, Concord\, CA\, 94520\, United States
CATEGORIES:San Francisco
ATTACH;FMTTYPE=image/jpeg:https://golatindance.com/wp-content/uploads/2022/11/download.jpg
GEO:37.9778026;-122.0352218
X-APPLE-STRUCTURED-LOCATION;VALUE=URI;X-ADDRESS=Vinnie’s Bar And Grill 2045 Mount Diablo St Concord CA 94520 United States;X-APPLE-RADIUS=500;X-TITLE=2045 Mount Diablo St:geo:-122.0352218,37.9778026
END:VEVENT
BEGIN:VEVENT
DTSTART;TZID=America/Los_Angeles:20290405T190000
DTEND;TZID=America/Los_Angeles:20290406T010000
DTSTAMP:20260421T095855
CREATED:20221108T050721Z
LAST-MODIFIED:20241231T210122Z
UID:10262798-1870110000-1870131600@golatindance.com
SUMMARY:Salsa Night at Vinnies
DESCRIPTION:Bachata/Salsa Classes @ 8pm\nParty @ 9pm -1 30 am
URL:https://golatindance.com/event/salsa-night-at-vinnies/2029-04-05/
LOCATION:Vinnie’s Bar And Grill\, 2045 Mount Diablo St\, Concord\, CA\, 94520\, United States
CATEGORIES:San Francisco
ATTACH;FMTTYPE=image/jpeg:https://golatindance.com/wp-content/uploads/2022/11/download.jpg
GEO:37.9778026;-122.0352218
X-APPLE-STRUCTURED-LOCATION;VALUE=URI;X-ADDRESS=Vinnie’s Bar And Grill 2045 Mount Diablo St Concord CA 94520 United States;X-APPLE-RADIUS=500;X-TITLE=2045 Mount Diablo St:geo:-122.0352218,37.9778026
END:VEVENT
BEGIN:VEVENT
DTSTART;TZID=America/Los_Angeles:20290412T190000
DTEND;TZID=America/Los_Angeles:20290413T010000
DTSTAMP:20260421T095855
CREATED:20221108T050721Z
LAST-MODIFIED:20241231T210122Z
UID:10262799-1870714800-1870736400@golatindance.com
SUMMARY:Salsa Night at Vinnies
DESCRIPTION:Bachata/Salsa Classes @ 8pm\nParty @ 9pm -1 30 am
URL:https://golatindance.com/event/salsa-night-at-vinnies/2029-04-12/
LOCATION:Vinnie’s Bar And Grill\, 2045 Mount Diablo St\, Concord\, CA\, 94520\, United States
CATEGORIES:San Francisco
ATTACH;FMTTYPE=image/jpeg:https://golatindance.com/wp-content/uploads/2022/11/download.jpg
GEO:37.9778026;-122.0352218
X-APPLE-STRUCTURED-LOCATION;VALUE=URI;X-ADDRESS=Vinnie’s Bar And Grill 2045 Mount Diablo St Concord CA 94520 United States;X-APPLE-RADIUS=500;X-TITLE=2045 Mount Diablo St:geo:-122.0352218,37.9778026
END:VEVENT
BEGIN:VEVENT
DTSTART;TZID=America/Los_Angeles:20290419T190000
DTEND;TZID=America/Los_Angeles:20290420T010000
DTSTAMP:20260421T095855
CREATED:20221108T050721Z
LAST-MODIFIED:20241231T210122Z
UID:10262800-1871319600-1871341200@golatindance.com
SUMMARY:Salsa Night at Vinnies
DESCRIPTION:Bachata/Salsa Classes @ 8pm\nParty @ 9pm -1 30 am
URL:https://golatindance.com/event/salsa-night-at-vinnies/2029-04-19/
LOCATION:Vinnie’s Bar And Grill\, 2045 Mount Diablo St\, Concord\, CA\, 94520\, United States
CATEGORIES:San Francisco
ATTACH;FMTTYPE=image/jpeg:https://golatindance.com/wp-content/uploads/2022/11/download.jpg
GEO:37.9778026;-122.0352218
X-APPLE-STRUCTURED-LOCATION;VALUE=URI;X-ADDRESS=Vinnie’s Bar And Grill 2045 Mount Diablo St Concord CA 94520 United States;X-APPLE-RADIUS=500;X-TITLE=2045 Mount Diablo St:geo:-122.0352218,37.9778026
END:VEVENT
BEGIN:VEVENT
DTSTART;TZID=America/Los_Angeles:20290426T190000
DTEND;TZID=America/Los_Angeles:20290427T010000
DTSTAMP:20260421T095855
CREATED:20221108T050721Z
LAST-MODIFIED:20241231T210122Z
UID:10262801-1871924400-1871946000@golatindance.com
SUMMARY:Salsa Night at Vinnies
DESCRIPTION:Bachata/Salsa Classes @ 8pm\nParty @ 9pm -1 30 am
URL:https://golatindance.com/event/salsa-night-at-vinnies/2029-04-26/
LOCATION:Vinnie’s Bar And Grill\, 2045 Mount Diablo St\, Concord\, CA\, 94520\, United States
CATEGORIES:San Francisco
ATTACH;FMTTYPE=image/jpeg:https://golatindance.com/wp-content/uploads/2022/11/download.jpg
GEO:37.9778026;-122.0352218
X-APPLE-STRUCTURED-LOCATION;VALUE=URI;X-ADDRESS=Vinnie’s Bar And Grill 2045 Mount Diablo St Concord CA 94520 United States;X-APPLE-RADIUS=500;X-TITLE=2045 Mount Diablo St:geo:-122.0352218,37.9778026
END:VEVENT
BEGIN:VEVENT
DTSTART;TZID=America/Los_Angeles:20290503T190000
DTEND;TZID=America/Los_Angeles:20290504T010000
DTSTAMP:20260421T095855
CREATED:20221108T050721Z
LAST-MODIFIED:20241231T210122Z
UID:10262802-1872529200-1872550800@golatindance.com
SUMMARY:Salsa Night at Vinnies
DESCRIPTION:Bachata/Salsa Classes @ 8pm\nParty @ 9pm -1 30 am
URL:https://golatindance.com/event/salsa-night-at-vinnies/2029-05-03/
LOCATION:Vinnie’s Bar And Grill\, 2045 Mount Diablo St\, Concord\, CA\, 94520\, United States
CATEGORIES:San Francisco
ATTACH;FMTTYPE=image/jpeg:https://golatindance.com/wp-content/uploads/2022/11/download.jpg
GEO:37.9778026;-122.0352218
X-APPLE-STRUCTURED-LOCATION;VALUE=URI;X-ADDRESS=Vinnie’s Bar And Grill 2045 Mount Diablo St Concord CA 94520 United States;X-APPLE-RADIUS=500;X-TITLE=2045 Mount Diablo St:geo:-122.0352218,37.9778026
END:VEVENT
BEGIN:VEVENT
DTSTART;TZID=America/Los_Angeles:20290510T190000
DTEND;TZID=America/Los_Angeles:20290511T010000
DTSTAMP:20260421T095855
CREATED:20221108T050721Z
LAST-MODIFIED:20241231T210122Z
UID:10262803-1873134000-1873155600@golatindance.com
SUMMARY:Salsa Night at Vinnies
DESCRIPTION:Bachata/Salsa Classes @ 8pm\nParty @ 9pm -1 30 am
URL:https://golatindance.com/event/salsa-night-at-vinnies/2029-05-10/
LOCATION:Vinnie’s Bar And Grill\, 2045 Mount Diablo St\, Concord\, CA\, 94520\, United States
CATEGORIES:San Francisco
ATTACH;FMTTYPE=image/jpeg:https://golatindance.com/wp-content/uploads/2022/11/download.jpg
GEO:37.9778026;-122.0352218
X-APPLE-STRUCTURED-LOCATION;VALUE=URI;X-ADDRESS=Vinnie’s Bar And Grill 2045 Mount Diablo St Concord CA 94520 United States;X-APPLE-RADIUS=500;X-TITLE=2045 Mount Diablo St:geo:-122.0352218,37.9778026
END:VEVENT
BEGIN:VEVENT
DTSTART;TZID=America/Los_Angeles:20290517T190000
DTEND;TZID=America/Los_Angeles:20290518T010000
DTSTAMP:20260421T095855
CREATED:20221108T050721Z
LAST-MODIFIED:20241231T210122Z
UID:10262804-1873738800-1873760400@golatindance.com
SUMMARY:Salsa Night at Vinnies
DESCRIPTION:Bachata/Salsa Classes @ 8pm\nParty @ 9pm -1 30 am
URL:https://golatindance.com/event/salsa-night-at-vinnies/2029-05-17/
LOCATION:Vinnie’s Bar And Grill\, 2045 Mount Diablo St\, Concord\, CA\, 94520\, United States
CATEGORIES:San Francisco
ATTACH;FMTTYPE=image/jpeg:https://golatindance.com/wp-content/uploads/2022/11/download.jpg
GEO:37.9778026;-122.0352218
X-APPLE-STRUCTURED-LOCATION;VALUE=URI;X-ADDRESS=Vinnie’s Bar And Grill 2045 Mount Diablo St Concord CA 94520 United States;X-APPLE-RADIUS=500;X-TITLE=2045 Mount Diablo St:geo:-122.0352218,37.9778026
END:VEVENT
BEGIN:VEVENT
DTSTART;TZID=America/Los_Angeles:20290524T190000
DTEND;TZID=America/Los_Angeles:20290525T010000
DTSTAMP:20260421T095855
CREATED:20221108T050721Z
LAST-MODIFIED:20241231T210122Z
UID:10262805-1874343600-1874365200@golatindance.com
SUMMARY:Salsa Night at Vinnies
DESCRIPTION:Bachata/Salsa Classes @ 8pm\nParty @ 9pm -1 30 am
URL:https://golatindance.com/event/salsa-night-at-vinnies/2029-05-24/
LOCATION:Vinnie’s Bar And Grill\, 2045 Mount Diablo St\, Concord\, CA\, 94520\, United States
CATEGORIES:San Francisco
ATTACH;FMTTYPE=image/jpeg:https://golatindance.com/wp-content/uploads/2022/11/download.jpg
GEO:37.9778026;-122.0352218
X-APPLE-STRUCTURED-LOCATION;VALUE=URI;X-ADDRESS=Vinnie’s Bar And Grill 2045 Mount Diablo St Concord CA 94520 United States;X-APPLE-RADIUS=500;X-TITLE=2045 Mount Diablo St:geo:-122.0352218,37.9778026
END:VEVENT
BEGIN:VEVENT
DTSTART;TZID=America/Los_Angeles:20290531T190000
DTEND;TZID=America/Los_Angeles:20290601T010000
DTSTAMP:20260421T095855
CREATED:20221108T050721Z
LAST-MODIFIED:20241231T210122Z
UID:10262806-1874948400-1874970000@golatindance.com
SUMMARY:Salsa Night at Vinnies
DESCRIPTION:Bachata/Salsa Classes @ 8pm\nParty @ 9pm -1 30 am
URL:https://golatindance.com/event/salsa-night-at-vinnies/2029-05-31/
LOCATION:Vinnie’s Bar And Grill\, 2045 Mount Diablo St\, Concord\, CA\, 94520\, United States
CATEGORIES:San Francisco
ATTACH;FMTTYPE=image/jpeg:https://golatindance.com/wp-content/uploads/2022/11/download.jpg
GEO:37.9778026;-122.0352218
X-APPLE-STRUCTURED-LOCATION;VALUE=URI;X-ADDRESS=Vinnie’s Bar And Grill 2045 Mount Diablo St Concord CA 94520 United States;X-APPLE-RADIUS=500;X-TITLE=2045 Mount Diablo St:geo:-122.0352218,37.9778026
END:VEVENT
BEGIN:VEVENT
DTSTART;TZID=America/Los_Angeles:20290607T190000
DTEND;TZID=America/Los_Angeles:20290608T010000
DTSTAMP:20260421T095855
CREATED:20221108T050721Z
LAST-MODIFIED:20241231T210122Z
UID:10262807-1875553200-1875574800@golatindance.com
SUMMARY:Salsa Night at Vinnies
DESCRIPTION:Bachata/Salsa Classes @ 8pm\nParty @ 9pm -1 30 am
URL:https://golatindance.com/event/salsa-night-at-vinnies/2029-06-07/
LOCATION:Vinnie’s Bar And Grill\, 2045 Mount Diablo St\, Concord\, CA\, 94520\, United States
CATEGORIES:San Francisco
ATTACH;FMTTYPE=image/jpeg:https://golatindance.com/wp-content/uploads/2022/11/download.jpg
GEO:37.9778026;-122.0352218
X-APPLE-STRUCTURED-LOCATION;VALUE=URI;X-ADDRESS=Vinnie’s Bar And Grill 2045 Mount Diablo St Concord CA 94520 United States;X-APPLE-RADIUS=500;X-TITLE=2045 Mount Diablo St:geo:-122.0352218,37.9778026
END:VEVENT
BEGIN:VEVENT
DTSTART;TZID=America/Los_Angeles:20290614T190000
DTEND;TZID=America/Los_Angeles:20290615T010000
DTSTAMP:20260421T095855
CREATED:20221108T050721Z
LAST-MODIFIED:20241231T210122Z
UID:10267899-1876158000-1876179600@golatindance.com
SUMMARY:Salsa Night at Vinnies
DESCRIPTION:Bachata/Salsa Classes @ 8pm\nParty @ 9pm -1 30 am
URL:https://golatindance.com/event/salsa-night-at-vinnies/2029-06-14/
LOCATION:Vinnie’s Bar And Grill\, 2045 Mount Diablo St\, Concord\, CA\, 94520\, United States
CATEGORIES:San Francisco
ATTACH;FMTTYPE=image/jpeg:https://golatindance.com/wp-content/uploads/2022/11/download.jpg
GEO:37.9778026;-122.0352218
X-APPLE-STRUCTURED-LOCATION;VALUE=URI;X-ADDRESS=Vinnie’s Bar And Grill 2045 Mount Diablo St Concord CA 94520 United States;X-APPLE-RADIUS=500;X-TITLE=2045 Mount Diablo St:geo:-122.0352218,37.9778026
END:VEVENT
BEGIN:VEVENT
DTSTART;TZID=America/Los_Angeles:20290621T190000
DTEND;TZID=America/Los_Angeles:20290622T010000
DTSTAMP:20260421T095855
CREATED:20221108T050721Z
LAST-MODIFIED:20241231T210122Z
UID:10267900-1876762800-1876784400@golatindance.com
SUMMARY:Salsa Night at Vinnies
DESCRIPTION:Bachata/Salsa Classes @ 8pm\nParty @ 9pm -1 30 am
URL:https://golatindance.com/event/salsa-night-at-vinnies/2029-06-21/
LOCATION:Vinnie’s Bar And Grill\, 2045 Mount Diablo St\, Concord\, CA\, 94520\, United States
CATEGORIES:San Francisco
ATTACH;FMTTYPE=image/jpeg:https://golatindance.com/wp-content/uploads/2022/11/download.jpg
GEO:37.9778026;-122.0352218
X-APPLE-STRUCTURED-LOCATION;VALUE=URI;X-ADDRESS=Vinnie’s Bar And Grill 2045 Mount Diablo St Concord CA 94520 United States;X-APPLE-RADIUS=500;X-TITLE=2045 Mount Diablo St:geo:-122.0352218,37.9778026
END:VEVENT
BEGIN:VEVENT
DTSTART;TZID=America/Los_Angeles:20290628T190000
DTEND;TZID=America/Los_Angeles:20290629T010000
DTSTAMP:20260421T095855
CREATED:20221108T050721Z
LAST-MODIFIED:20241231T210122Z
UID:10275211-1877367600-1877389200@golatindance.com
SUMMARY:Salsa Night at Vinnies
DESCRIPTION:Bachata/Salsa Classes @ 8pm\nParty @ 9pm -1 30 am
URL:https://golatindance.com/event/salsa-night-at-vinnies/2029-06-28/
LOCATION:Vinnie’s Bar And Grill\, 2045 Mount Diablo St\, Concord\, CA\, 94520\, United States
CATEGORIES:San Francisco
ATTACH;FMTTYPE=image/jpeg:https://golatindance.com/wp-content/uploads/2022/11/download.jpg
GEO:37.9778026;-122.0352218
X-APPLE-STRUCTURED-LOCATION;VALUE=URI;X-ADDRESS=Vinnie’s Bar And Grill 2045 Mount Diablo St Concord CA 94520 United States;X-APPLE-RADIUS=500;X-TITLE=2045 Mount Diablo St:geo:-122.0352218,37.9778026
END:VEVENT
BEGIN:VEVENT
DTSTART;TZID=America/Los_Angeles:20290705T190000
DTEND;TZID=America/Los_Angeles:20290706T010000
DTSTAMP:20260421T095855
CREATED:20221108T050721Z
LAST-MODIFIED:20241231T210122Z
UID:10275212-1877972400-1877994000@golatindance.com
SUMMARY:Salsa Night at Vinnies
DESCRIPTION:Bachata/Salsa Classes @ 8pm\nParty @ 9pm -1 30 am
URL:https://golatindance.com/event/salsa-night-at-vinnies/2029-07-05/
LOCATION:Vinnie’s Bar And Grill\, 2045 Mount Diablo St\, Concord\, CA\, 94520\, United States
CATEGORIES:San Francisco
ATTACH;FMTTYPE=image/jpeg:https://golatindance.com/wp-content/uploads/2022/11/download.jpg
GEO:37.9778026;-122.0352218
X-APPLE-STRUCTURED-LOCATION;VALUE=URI;X-ADDRESS=Vinnie’s Bar And Grill 2045 Mount Diablo St Concord CA 94520 United States;X-APPLE-RADIUS=500;X-TITLE=2045 Mount Diablo St:geo:-122.0352218,37.9778026
END:VEVENT
BEGIN:VEVENT
DTSTART;TZID=America/Los_Angeles:20290712T190000
DTEND;TZID=America/Los_Angeles:20290713T010000
DTSTAMP:20260421T095855
CREATED:20221108T050721Z
LAST-MODIFIED:20241231T210122Z
UID:10275213-1878577200-1878598800@golatindance.com
SUMMARY:Salsa Night at Vinnies
DESCRIPTION:Bachata/Salsa Classes @ 8pm\nParty @ 9pm -1 30 am
URL:https://golatindance.com/event/salsa-night-at-vinnies/2029-07-12/
LOCATION:Vinnie’s Bar And Grill\, 2045 Mount Diablo St\, Concord\, CA\, 94520\, United States
CATEGORIES:San Francisco
ATTACH;FMTTYPE=image/jpeg:https://golatindance.com/wp-content/uploads/2022/11/download.jpg
GEO:37.9778026;-122.0352218
X-APPLE-STRUCTURED-LOCATION;VALUE=URI;X-ADDRESS=Vinnie’s Bar And Grill 2045 Mount Diablo St Concord CA 94520 United States;X-APPLE-RADIUS=500;X-TITLE=2045 Mount Diablo St:geo:-122.0352218,37.9778026
END:VEVENT
BEGIN:VEVENT
DTSTART;TZID=America/Los_Angeles:20290719T190000
DTEND;TZID=America/Los_Angeles:20290720T010000
DTSTAMP:20260421T095855
CREATED:20221108T050721Z
LAST-MODIFIED:20241231T210122Z
UID:10281852-1879182000-1879203600@golatindance.com
SUMMARY:Salsa Night at Vinnies
DESCRIPTION:Bachata/Salsa Classes @ 8pm\nParty @ 9pm -1 30 am
URL:https://golatindance.com/event/salsa-night-at-vinnies/2029-07-19/
LOCATION:Vinnie’s Bar And Grill\, 2045 Mount Diablo St\, Concord\, CA\, 94520\, United States
CATEGORIES:San Francisco
ATTACH;FMTTYPE=image/jpeg:https://golatindance.com/wp-content/uploads/2022/11/download.jpg
GEO:37.9778026;-122.0352218
X-APPLE-STRUCTURED-LOCATION;VALUE=URI;X-ADDRESS=Vinnie’s Bar And Grill 2045 Mount Diablo St Concord CA 94520 United States;X-APPLE-RADIUS=500;X-TITLE=2045 Mount Diablo St:geo:-122.0352218,37.9778026
END:VEVENT
BEGIN:VEVENT
DTSTART;TZID=America/Los_Angeles:20290726T190000
DTEND;TZID=America/Los_Angeles:20290727T010000
DTSTAMP:20260421T095855
CREATED:20221108T050721Z
LAST-MODIFIED:20241231T210122Z
UID:10281853-1879786800-1879808400@golatindance.com
SUMMARY:Salsa Night at Vinnies
DESCRIPTION:Bachata/Salsa Classes @ 8pm\nParty @ 9pm -1 30 am
URL:https://golatindance.com/event/salsa-night-at-vinnies/2029-07-26/
LOCATION:Vinnie’s Bar And Grill\, 2045 Mount Diablo St\, Concord\, CA\, 94520\, United States
CATEGORIES:San Francisco
ATTACH;FMTTYPE=image/jpeg:https://golatindance.com/wp-content/uploads/2022/11/download.jpg
GEO:37.9778026;-122.0352218
X-APPLE-STRUCTURED-LOCATION;VALUE=URI;X-ADDRESS=Vinnie’s Bar And Grill 2045 Mount Diablo St Concord CA 94520 United States;X-APPLE-RADIUS=500;X-TITLE=2045 Mount Diablo St:geo:-122.0352218,37.9778026
END:VEVENT
BEGIN:VEVENT
DTSTART;TZID=America/Los_Angeles:20290802T190000
DTEND;TZID=America/Los_Angeles:20290803T010000
DTSTAMP:20260421T095855
CREATED:20221108T050721Z
LAST-MODIFIED:20241231T210122Z
UID:10324902-1880391600-1880413200@golatindance.com
SUMMARY:Salsa Night at Vinnies
DESCRIPTION:Bachata/Salsa Classes @ 8pm\nParty @ 9pm -1 30 am
URL:https://golatindance.com/event/salsa-night-at-vinnies/2029-08-02/
LOCATION:Vinnie’s Bar And Grill\, 2045 Mount Diablo St\, Concord\, CA\, 94520\, United States
CATEGORIES:San Francisco
ATTACH;FMTTYPE=image/jpeg:https://golatindance.com/wp-content/uploads/2022/11/download.jpg
GEO:37.9778026;-122.0352218
X-APPLE-STRUCTURED-LOCATION;VALUE=URI;X-ADDRESS=Vinnie’s Bar And Grill 2045 Mount Diablo St Concord CA 94520 United States;X-APPLE-RADIUS=500;X-TITLE=2045 Mount Diablo St:geo:-122.0352218,37.9778026
END:VEVENT
BEGIN:VEVENT
DTSTART;TZID=America/Los_Angeles:20290809T190000
DTEND;TZID=America/Los_Angeles:20290810T010000
DTSTAMP:20260421T095855
CREATED:20221108T050721Z
LAST-MODIFIED:20241231T210122Z
UID:10324903-1880996400-1881018000@golatindance.com
SUMMARY:Salsa Night at Vinnies
DESCRIPTION:Bachata/Salsa Classes @ 8pm\nParty @ 9pm -1 30 am
URL:https://golatindance.com/event/salsa-night-at-vinnies/2029-08-09/
LOCATION:Vinnie’s Bar And Grill\, 2045 Mount Diablo St\, Concord\, CA\, 94520\, United States
CATEGORIES:San Francisco
ATTACH;FMTTYPE=image/jpeg:https://golatindance.com/wp-content/uploads/2022/11/download.jpg
GEO:37.9778026;-122.0352218
X-APPLE-STRUCTURED-LOCATION;VALUE=URI;X-ADDRESS=Vinnie’s Bar And Grill 2045 Mount Diablo St Concord CA 94520 United States;X-APPLE-RADIUS=500;X-TITLE=2045 Mount Diablo St:geo:-122.0352218,37.9778026
END:VEVENT
BEGIN:VEVENT
DTSTART;TZID=America/Los_Angeles:20290816T190000
DTEND;TZID=America/Los_Angeles:20290817T010000
DTSTAMP:20260421T095855
CREATED:20221108T050721Z
LAST-MODIFIED:20241231T210122Z
UID:10324904-1881601200-1881622800@golatindance.com
SUMMARY:Salsa Night at Vinnies
DESCRIPTION:Bachata/Salsa Classes @ 8pm\nParty @ 9pm -1 30 am
URL:https://golatindance.com/event/salsa-night-at-vinnies/2029-08-16/
LOCATION:Vinnie’s Bar And Grill\, 2045 Mount Diablo St\, Concord\, CA\, 94520\, United States
CATEGORIES:San Francisco
ATTACH;FMTTYPE=image/jpeg:https://golatindance.com/wp-content/uploads/2022/11/download.jpg
GEO:37.9778026;-122.0352218
X-APPLE-STRUCTURED-LOCATION;VALUE=URI;X-ADDRESS=Vinnie’s Bar And Grill 2045 Mount Diablo St Concord CA 94520 United States;X-APPLE-RADIUS=500;X-TITLE=2045 Mount Diablo St:geo:-122.0352218,37.9778026
END:VEVENT
BEGIN:VEVENT
DTSTART;TZID=America/Los_Angeles:20290823T190000
DTEND;TZID=America/Los_Angeles:20290824T010000
DTSTAMP:20260421T095855
CREATED:20221108T050721Z
LAST-MODIFIED:20241231T210122Z
UID:10324905-1882206000-1882227600@golatindance.com
SUMMARY:Salsa Night at Vinnies
DESCRIPTION:Bachata/Salsa Classes @ 8pm\nParty @ 9pm -1 30 am
URL:https://golatindance.com/event/salsa-night-at-vinnies/2029-08-23/
LOCATION:Vinnie’s Bar And Grill\, 2045 Mount Diablo St\, Concord\, CA\, 94520\, United States
CATEGORIES:San Francisco
ATTACH;FMTTYPE=image/jpeg:https://golatindance.com/wp-content/uploads/2022/11/download.jpg
GEO:37.9778026;-122.0352218
X-APPLE-STRUCTURED-LOCATION;VALUE=URI;X-ADDRESS=Vinnie’s Bar And Grill 2045 Mount Diablo St Concord CA 94520 United States;X-APPLE-RADIUS=500;X-TITLE=2045 Mount Diablo St:geo:-122.0352218,37.9778026
END:VEVENT
BEGIN:VEVENT
DTSTART;TZID=America/Los_Angeles:20290830T190000
DTEND;TZID=America/Los_Angeles:20290831T010000
DTSTAMP:20260421T095855
CREATED:20221108T050721Z
LAST-MODIFIED:20241231T210122Z
UID:10324906-1882810800-1882832400@golatindance.com
SUMMARY:Salsa Night at Vinnies
DESCRIPTION:Bachata/Salsa Classes @ 8pm\nParty @ 9pm -1 30 am
URL:https://golatindance.com/event/salsa-night-at-vinnies/2029-08-30/
LOCATION:Vinnie’s Bar And Grill\, 2045 Mount Diablo St\, Concord\, CA\, 94520\, United States
CATEGORIES:San Francisco
ATTACH;FMTTYPE=image/jpeg:https://golatindance.com/wp-content/uploads/2022/11/download.jpg
GEO:37.9778026;-122.0352218
X-APPLE-STRUCTURED-LOCATION;VALUE=URI;X-ADDRESS=Vinnie’s Bar And Grill 2045 Mount Diablo St Concord CA 94520 United States;X-APPLE-RADIUS=500;X-TITLE=2045 Mount Diablo St:geo:-122.0352218,37.9778026
END:VEVENT
BEGIN:VEVENT
DTSTART;TZID=America/Los_Angeles:20290906T190000
DTEND;TZID=America/Los_Angeles:20290907T010000
DTSTAMP:20260421T095855
CREATED:20221108T050721Z
LAST-MODIFIED:20241231T210122Z
UID:10324907-1883415600-1883437200@golatindance.com
SUMMARY:Salsa Night at Vinnies
DESCRIPTION:Bachata/Salsa Classes @ 8pm\nParty @ 9pm -1 30 am
URL:https://golatindance.com/event/salsa-night-at-vinnies/2029-09-06/
LOCATION:Vinnie’s Bar And Grill\, 2045 Mount Diablo St\, Concord\, CA\, 94520\, United States
CATEGORIES:San Francisco
ATTACH;FMTTYPE=image/jpeg:https://golatindance.com/wp-content/uploads/2022/11/download.jpg
GEO:37.9778026;-122.0352218
X-APPLE-STRUCTURED-LOCATION;VALUE=URI;X-ADDRESS=Vinnie’s Bar And Grill 2045 Mount Diablo St Concord CA 94520 United States;X-APPLE-RADIUS=500;X-TITLE=2045 Mount Diablo St:geo:-122.0352218,37.9778026
END:VEVENT
BEGIN:VEVENT
DTSTART;TZID=America/Los_Angeles:20290913T190000
DTEND;TZID=America/Los_Angeles:20290914T010000
DTSTAMP:20260421T095855
CREATED:20221108T050721Z
LAST-MODIFIED:20241231T210122Z
UID:10324908-1884020400-1884042000@golatindance.com
SUMMARY:Salsa Night at Vinnies
DESCRIPTION:Bachata/Salsa Classes @ 8pm\nParty @ 9pm -1 30 am
URL:https://golatindance.com/event/salsa-night-at-vinnies/2029-09-13/
LOCATION:Vinnie’s Bar And Grill\, 2045 Mount Diablo St\, Concord\, CA\, 94520\, United States
CATEGORIES:San Francisco
ATTACH;FMTTYPE=image/jpeg:https://golatindance.com/wp-content/uploads/2022/11/download.jpg
GEO:37.9778026;-122.0352218
X-APPLE-STRUCTURED-LOCATION;VALUE=URI;X-ADDRESS=Vinnie’s Bar And Grill 2045 Mount Diablo St Concord CA 94520 United States;X-APPLE-RADIUS=500;X-TITLE=2045 Mount Diablo St:geo:-122.0352218,37.9778026
END:VEVENT
BEGIN:VEVENT
DTSTART;TZID=America/Los_Angeles:20290920T190000
DTEND;TZID=America/Los_Angeles:20290921T010000
DTSTAMP:20260421T095855
CREATED:20221108T050721Z
LAST-MODIFIED:20241231T210122Z
UID:10324909-1884625200-1884646800@golatindance.com
SUMMARY:Salsa Night at Vinnies
DESCRIPTION:Bachata/Salsa Classes @ 8pm\nParty @ 9pm -1 30 am
URL:https://golatindance.com/event/salsa-night-at-vinnies/2029-09-20/
LOCATION:Vinnie’s Bar And Grill\, 2045 Mount Diablo St\, Concord\, CA\, 94520\, United States
CATEGORIES:San Francisco
ATTACH;FMTTYPE=image/jpeg:https://golatindance.com/wp-content/uploads/2022/11/download.jpg
GEO:37.9778026;-122.0352218
X-APPLE-STRUCTURED-LOCATION;VALUE=URI;X-ADDRESS=Vinnie’s Bar And Grill 2045 Mount Diablo St Concord CA 94520 United States;X-APPLE-RADIUS=500;X-TITLE=2045 Mount Diablo St:geo:-122.0352218,37.9778026
END:VEVENT
BEGIN:VEVENT
DTSTART;TZID=America/Los_Angeles:20290927T190000
DTEND;TZID=America/Los_Angeles:20290928T010000
DTSTAMP:20260421T095855
CREATED:20221108T050721Z
LAST-MODIFIED:20241231T210122Z
UID:10324910-1885230000-1885251600@golatindance.com
SUMMARY:Salsa Night at Vinnies
DESCRIPTION:Bachata/Salsa Classes @ 8pm\nParty @ 9pm -1 30 am
URL:https://golatindance.com/event/salsa-night-at-vinnies/2029-09-27/
LOCATION:Vinnie’s Bar And Grill\, 2045 Mount Diablo St\, Concord\, CA\, 94520\, United States
CATEGORIES:San Francisco
ATTACH;FMTTYPE=image/jpeg:https://golatindance.com/wp-content/uploads/2022/11/download.jpg
GEO:37.9778026;-122.0352218
X-APPLE-STRUCTURED-LOCATION;VALUE=URI;X-ADDRESS=Vinnie’s Bar And Grill 2045 Mount Diablo St Concord CA 94520 United States;X-APPLE-RADIUS=500;X-TITLE=2045 Mount Diablo St:geo:-122.0352218,37.9778026
END:VEVENT
END:VCALENDAR