BEGIN:VCALENDAR
VERSION:2.0
PRODID:-//GO Latin Dance - ECPv6.15.18//NONSGML v1.0//EN
CALSCALE:GREGORIAN
METHOD:PUBLISH
X-WR-CALNAME:GO Latin Dance
X-ORIGINAL-URL:https://golatindance.com
X-WR-CALDESC:Events for GO Latin Dance
REFRESH-INTERVAL;VALUE=DURATION:PT1H
X-Robots-Tag:noindex
X-PUBLISHED-TTL:PT1H
BEGIN:VTIMEZONE
TZID:America/Los_Angeles
BEGIN:DAYLIGHT
TZOFFSETFROM:-0800
TZOFFSETTO:-0700
TZNAME:PDT
DTSTART:20240310T100000
END:DAYLIGHT
BEGIN:STANDARD
TZOFFSETFROM:-0700
TZOFFSETTO:-0800
TZNAME:PST
DTSTART:20241103T090000
END:STANDARD
BEGIN:DAYLIGHT
TZOFFSETFROM:-0800
TZOFFSETTO:-0700
TZNAME:PDT
DTSTART:20250309T100000
END:DAYLIGHT
BEGIN:STANDARD
TZOFFSETFROM:-0700
TZOFFSETTO:-0800
TZNAME:PST
DTSTART:20251102T090000
END:STANDARD
BEGIN:DAYLIGHT
TZOFFSETFROM:-0800
TZOFFSETTO:-0700
TZNAME:PDT
DTSTART:20260308T100000
END:DAYLIGHT
BEGIN:STANDARD
TZOFFSETFROM:-0700
TZOFFSETTO:-0800
TZNAME:PST
DTSTART:20261101T090000
END:STANDARD
BEGIN:DAYLIGHT
TZOFFSETFROM:-0800
TZOFFSETTO:-0700
TZNAME:PDT
DTSTART:20270314T100000
END:DAYLIGHT
BEGIN:STANDARD
TZOFFSETFROM:-0700
TZOFFSETTO:-0800
TZNAME:PST
DTSTART:20271107T090000
END:STANDARD
END:VTIMEZONE
BEGIN:VEVENT
DTSTART;TZID=America/Los_Angeles:20260127T200000
DTEND;TZID=America/Los_Angeles:20260128T000000
DTSTAMP:20260424T095911
CREATED:20251204T192358Z
LAST-MODIFIED:20260205T165824Z
UID:10421169-1769544000-1769558400@golatindance.com
SUMMARY:Bachata Fever!
DESCRIPTION:FREE BACHATA LESSON AT 8:30PM! \n9:00PM – 12AM; with DJ Armando! \nEvery Tuesday night\, we’re turning up into a full-blown Bachata paradise with nothing but Bachata rhythms to keep your body moving. \nThis isn’t just social dancing — it’s a party. The music\, the energy\, the crowd — everything you need to make your Wednesday night unforgettable. \nCome get lost in the rhythm\, feel the Fever\, and let Bachata take over. 🌶️💃🏽🕺🏽 \n📍VMAC; 2648 E Burnside St\n@vmacpdx \n 
URL:https://golatindance.com/event/bachata-fever-every-wednesday-with-free-lesson-2/2026-01-27/
LOCATION:2648 E Burnside\, Portland\, OR\, 2648 E Burnside\, Portland\, OR\, United States
CATEGORIES:Portland
ATTACH;FMTTYPE=image/jpeg:https://golatindance.com/wp-content/uploads/2025/12/611279044_1489799826482001_812290362234327584_n.jpg
END:VEVENT
BEGIN:VEVENT
DTSTART;TZID=America/Los_Angeles:20260120T200000
DTEND;TZID=America/Los_Angeles:20260121T000000
DTSTAMP:20260424T095911
CREATED:20251204T192358Z
LAST-MODIFIED:20260205T165824Z
UID:10421168-1768939200-1768953600@golatindance.com
SUMMARY:Bachata Fever!
DESCRIPTION:FREE BACHATA LESSON AT 8:30PM! \n9:00PM – 12AM; with DJ Armando! \nEvery Tuesday night\, we’re turning up into a full-blown Bachata paradise with nothing but Bachata rhythms to keep your body moving. \nThis isn’t just social dancing — it’s a party. The music\, the energy\, the crowd — everything you need to make your Wednesday night unforgettable. \nCome get lost in the rhythm\, feel the Fever\, and let Bachata take over. 🌶️💃🏽🕺🏽 \n📍VMAC; 2648 E Burnside St\n@vmacpdx \n 
URL:https://golatindance.com/event/bachata-fever-every-wednesday-with-free-lesson-2/2026-01-20/
LOCATION:2648 E Burnside\, Portland\, OR\, 2648 E Burnside\, Portland\, OR\, United States
CATEGORIES:Portland
ATTACH;FMTTYPE=image/jpeg:https://golatindance.com/wp-content/uploads/2025/12/611279044_1489799826482001_812290362234327584_n.jpg
END:VEVENT
BEGIN:VEVENT
DTSTART;TZID=America/Los_Angeles:20260113T200000
DTEND;TZID=America/Los_Angeles:20260114T000000
DTSTAMP:20260424T095911
CREATED:20251204T192358Z
LAST-MODIFIED:20260205T165824Z
UID:10421167-1768334400-1768348800@golatindance.com
SUMMARY:Bachata Fever!
DESCRIPTION:FREE BACHATA LESSON AT 8:30PM! \n9:00PM – 12AM; with DJ Armando! \nEvery Tuesday night\, we’re turning up into a full-blown Bachata paradise with nothing but Bachata rhythms to keep your body moving. \nThis isn’t just social dancing — it’s a party. The music\, the energy\, the crowd — everything you need to make your Wednesday night unforgettable. \nCome get lost in the rhythm\, feel the Fever\, and let Bachata take over. 🌶️💃🏽🕺🏽 \n📍VMAC; 2648 E Burnside St\n@vmacpdx \n 
URL:https://golatindance.com/event/bachata-fever-every-wednesday-with-free-lesson-2/2026-01-13/
LOCATION:2648 E Burnside\, Portland\, OR\, 2648 E Burnside\, Portland\, OR\, United States
CATEGORIES:Portland
ATTACH;FMTTYPE=image/jpeg:https://golatindance.com/wp-content/uploads/2025/12/611279044_1489799826482001_812290362234327584_n.jpg
END:VEVENT
BEGIN:VEVENT
DTSTART;TZID=America/Los_Angeles:20260106T200000
DTEND;TZID=America/Los_Angeles:20260107T000000
DTSTAMP:20260424T095911
CREATED:20251204T192358Z
LAST-MODIFIED:20260205T165824Z
UID:10421166-1767729600-1767744000@golatindance.com
SUMMARY:Bachata Fever!
DESCRIPTION:FREE BACHATA LESSON AT 8:30PM! \n9:00PM – 12AM; with DJ Armando! \nEvery Tuesday night\, we’re turning up into a full-blown Bachata paradise with nothing but Bachata rhythms to keep your body moving. \nThis isn’t just social dancing — it’s a party. The music\, the energy\, the crowd — everything you need to make your Wednesday night unforgettable. \nCome get lost in the rhythm\, feel the Fever\, and let Bachata take over. 🌶️💃🏽🕺🏽 \n📍VMAC; 2648 E Burnside St\n@vmacpdx \n 
URL:https://golatindance.com/event/bachata-fever-every-wednesday-with-free-lesson-2/2026-01-06/
LOCATION:2648 E Burnside\, Portland\, OR\, 2648 E Burnside\, Portland\, OR\, United States
CATEGORIES:Portland
ATTACH;FMTTYPE=image/jpeg:https://golatindance.com/wp-content/uploads/2025/12/611279044_1489799826482001_812290362234327584_n.jpg
END:VEVENT
BEGIN:VEVENT
DTSTART;TZID=America/Los_Angeles:20251230T200000
DTEND;TZID=America/Los_Angeles:20251231T000000
DTSTAMP:20260424T095911
CREATED:20251204T192358Z
LAST-MODIFIED:20260205T165824Z
UID:10421165-1767124800-1767139200@golatindance.com
SUMMARY:Bachata Fever!
DESCRIPTION:FREE BACHATA LESSON AT 8:30PM! \n9:00PM – 12AM; with DJ Armando! \nEvery Tuesday night\, we’re turning up into a full-blown Bachata paradise with nothing but Bachata rhythms to keep your body moving. \nThis isn’t just social dancing — it’s a party. The music\, the energy\, the crowd — everything you need to make your Wednesday night unforgettable. \nCome get lost in the rhythm\, feel the Fever\, and let Bachata take over. 🌶️💃🏽🕺🏽 \n📍VMAC; 2648 E Burnside St\n@vmacpdx \n 
URL:https://golatindance.com/event/bachata-fever-every-wednesday-with-free-lesson-2/2025-12-30/
LOCATION:2648 E Burnside\, Portland\, OR\, 2648 E Burnside\, Portland\, OR\, United States
CATEGORIES:Portland
ATTACH;FMTTYPE=image/jpeg:https://golatindance.com/wp-content/uploads/2025/12/611279044_1489799826482001_812290362234327584_n.jpg
END:VEVENT
BEGIN:VEVENT
DTSTART;TZID=America/Los_Angeles:20251223T200000
DTEND;TZID=America/Los_Angeles:20251224T000000
DTSTAMP:20260424T095911
CREATED:20251204T192358Z
LAST-MODIFIED:20260205T165824Z
UID:10421164-1766520000-1766534400@golatindance.com
SUMMARY:Bachata Fever!
DESCRIPTION:FREE BACHATA LESSON AT 8:30PM! \n9:00PM – 12AM; with DJ Armando! \nEvery Tuesday night\, we’re turning up into a full-blown Bachata paradise with nothing but Bachata rhythms to keep your body moving. \nThis isn’t just social dancing — it’s a party. The music\, the energy\, the crowd — everything you need to make your Wednesday night unforgettable. \nCome get lost in the rhythm\, feel the Fever\, and let Bachata take over. 🌶️💃🏽🕺🏽 \n📍VMAC; 2648 E Burnside St\n@vmacpdx \n 
URL:https://golatindance.com/event/bachata-fever-every-wednesday-with-free-lesson-2/2025-12-23/
LOCATION:2648 E Burnside\, Portland\, OR\, 2648 E Burnside\, Portland\, OR\, United States
CATEGORIES:Portland
ATTACH;FMTTYPE=image/jpeg:https://golatindance.com/wp-content/uploads/2025/12/611279044_1489799826482001_812290362234327584_n.jpg
END:VEVENT
BEGIN:VEVENT
DTSTART;TZID=America/Los_Angeles:20251216T200000
DTEND;TZID=America/Los_Angeles:20251217T000000
DTSTAMP:20260424T095911
CREATED:20251204T192358Z
LAST-MODIFIED:20260205T165824Z
UID:10421163-1765915200-1765929600@golatindance.com
SUMMARY:Bachata Fever!
DESCRIPTION:FREE BACHATA LESSON AT 8:30PM! \n9:00PM – 12AM; with DJ Armando! \nEvery Tuesday night\, we’re turning up into a full-blown Bachata paradise with nothing but Bachata rhythms to keep your body moving. \nThis isn’t just social dancing — it’s a party. The music\, the energy\, the crowd — everything you need to make your Wednesday night unforgettable. \nCome get lost in the rhythm\, feel the Fever\, and let Bachata take over. 🌶️💃🏽🕺🏽 \n📍VMAC; 2648 E Burnside St\n@vmacpdx \n 
URL:https://golatindance.com/event/bachata-fever-every-wednesday-with-free-lesson-2/2025-12-16/
LOCATION:2648 E Burnside\, Portland\, OR\, 2648 E Burnside\, Portland\, OR\, United States
CATEGORIES:Portland
ATTACH;FMTTYPE=image/jpeg:https://golatindance.com/wp-content/uploads/2025/12/611279044_1489799826482001_812290362234327584_n.jpg
END:VEVENT
BEGIN:VEVENT
DTSTART;TZID=America/Los_Angeles:20251209T200000
DTEND;TZID=America/Los_Angeles:20251210T000000
DTSTAMP:20260424T095911
CREATED:20251204T192358Z
LAST-MODIFIED:20260205T165824Z
UID:10421162-1765310400-1765324800@golatindance.com
SUMMARY:Bachata Fever!
DESCRIPTION:FREE BACHATA LESSON AT 8:30PM! \n9:00PM – 12AM; with DJ Armando! \nEvery Tuesday night\, we’re turning up into a full-blown Bachata paradise with nothing but Bachata rhythms to keep your body moving. \nThis isn’t just social dancing — it’s a party. The music\, the energy\, the crowd — everything you need to make your Wednesday night unforgettable. \nCome get lost in the rhythm\, feel the Fever\, and let Bachata take over. 🌶️💃🏽🕺🏽 \n📍VMAC; 2648 E Burnside St\n@vmacpdx \n 
URL:https://golatindance.com/event/bachata-fever-every-wednesday-with-free-lesson-2/2025-12-09/
LOCATION:2648 E Burnside\, Portland\, OR\, 2648 E Burnside\, Portland\, OR\, United States
CATEGORIES:Portland
ATTACH;FMTTYPE=image/jpeg:https://golatindance.com/wp-content/uploads/2025/12/611279044_1489799826482001_812290362234327584_n.jpg
END:VEVENT
BEGIN:VEVENT
DTSTART;TZID=America/Los_Angeles:20251202T200000
DTEND;TZID=America/Los_Angeles:20251203T000000
DTSTAMP:20260424T095911
CREATED:20251204T192358Z
LAST-MODIFIED:20260205T165824Z
UID:10412236-1764705600-1764720000@golatindance.com
SUMMARY:Bachata Fever!
DESCRIPTION:FREE BACHATA LESSON AT 8:30PM! \n9:00PM – 12AM; with DJ Armando! \nEvery Tuesday night\, we’re turning up into a full-blown Bachata paradise with nothing but Bachata rhythms to keep your body moving. \nThis isn’t just social dancing — it’s a party. The music\, the energy\, the crowd — everything you need to make your Wednesday night unforgettable. \nCome get lost in the rhythm\, feel the Fever\, and let Bachata take over. 🌶️💃🏽🕺🏽 \n📍VMAC; 2648 E Burnside St\n@vmacpdx \n 
URL:https://golatindance.com/event/bachata-fever-every-wednesday-with-free-lesson-2/2025-12-02/
LOCATION:2648 E Burnside\, Portland\, OR\, 2648 E Burnside\, Portland\, OR\, United States
CATEGORIES:Portland
ATTACH;FMTTYPE=image/jpeg:https://golatindance.com/wp-content/uploads/2025/12/611279044_1489799826482001_812290362234327584_n.jpg
END:VEVENT
END:VCALENDAR