BEGIN:VCALENDAR
VERSION:2.0
PRODID:-//GO Latin Dance - ECPv6.15.18//NONSGML v1.0//EN
CALSCALE:GREGORIAN
METHOD:PUBLISH
X-WR-CALNAME:GO Latin Dance
X-ORIGINAL-URL:https://golatindance.com
X-WR-CALDESC:Events for GO Latin Dance
REFRESH-INTERVAL;VALUE=DURATION:PT1H
X-Robots-Tag:noindex
X-PUBLISHED-TTL:PT1H
BEGIN:VTIMEZONE
TZID:America/Vancouver
BEGIN:DAYLIGHT
TZOFFSETFROM:-0800
TZOFFSETTO:-0700
TZNAME:PDT
DTSTART:20270314T100000
END:DAYLIGHT
BEGIN:STANDARD
TZOFFSETFROM:-0700
TZOFFSETTO:-0800
TZNAME:PST
DTSTART:20271107T090000
END:STANDARD
BEGIN:DAYLIGHT
TZOFFSETFROM:-0800
TZOFFSETTO:-0700
TZNAME:PDT
DTSTART:20280312T100000
END:DAYLIGHT
BEGIN:STANDARD
TZOFFSETFROM:-0700
TZOFFSETTO:-0800
TZNAME:PST
DTSTART:20281105T090000
END:STANDARD
BEGIN:DAYLIGHT
TZOFFSETFROM:-0800
TZOFFSETTO:-0700
TZNAME:PDT
DTSTART:20290311T100000
END:DAYLIGHT
BEGIN:STANDARD
TZOFFSETFROM:-0700
TZOFFSETTO:-0800
TZNAME:PST
DTSTART:20291104T090000
END:STANDARD
BEGIN:DAYLIGHT
TZOFFSETFROM:-0800
TZOFFSETTO:-0700
TZNAME:PDT
DTSTART:20300310T100000
END:DAYLIGHT
BEGIN:STANDARD
TZOFFSETFROM:-0700
TZOFFSETTO:-0800
TZNAME:PST
DTSTART:20301103T090000
END:STANDARD
END:VTIMEZONE
BEGIN:VEVENT
DTSTART;TZID=America/Vancouver:20281020T210000
DTEND;TZID=America/Vancouver:20281021T010000
DTSTAMP:20260420T094014
CREATED:20240327T154704Z
LAST-MODIFIED:20251204T173553Z
UID:10233148-1855688400-1855702800@golatindance.com
SUMMARY:Latin Night at World Dance Company
DESCRIPTION:* Doors open at 9pm with a FREE dance lesson then the party starts at 9 pm and dance till 1 am\nFREE BEFORE 9PM\nDifferent themes every week!\nTickets available at: https://worlddanceco.com/\n$10 in advance\n$15 at the door\nWhere?\n4858 Imperial St.\, Burnaby\, near Metrotown\n604-517-4644\nDon’t miss it!!! Everyone is welcome
URL:https://golatindance.com/event/latin-night-at-world-dance-company/2028-10-20/
LOCATION:World Dance Co\, 4858 Imperial St\, Burnaby\, BC\, V5J 1C4\, Canada
CATEGORIES:Vancouver
END:VEVENT
BEGIN:VEVENT
DTSTART;TZID=America/Vancouver:20281027T210000
DTEND;TZID=America/Vancouver:20281028T010000
DTSTAMP:20260420T094014
CREATED:20240327T154704Z
LAST-MODIFIED:20251204T173553Z
UID:10233149-1856293200-1856307600@golatindance.com
SUMMARY:Latin Night at World Dance Company
DESCRIPTION:* Doors open at 9pm with a FREE dance lesson then the party starts at 9 pm and dance till 1 am\nFREE BEFORE 9PM\nDifferent themes every week!\nTickets available at: https://worlddanceco.com/\n$10 in advance\n$15 at the door\nWhere?\n4858 Imperial St.\, Burnaby\, near Metrotown\n604-517-4644\nDon’t miss it!!! Everyone is welcome
URL:https://golatindance.com/event/latin-night-at-world-dance-company/2028-10-27/
LOCATION:World Dance Co\, 4858 Imperial St\, Burnaby\, BC\, V5J 1C4\, Canada
CATEGORIES:Vancouver
END:VEVENT
BEGIN:VEVENT
DTSTART;TZID=America/Vancouver:20281103T210000
DTEND;TZID=America/Vancouver:20281104T010000
DTSTAMP:20260420T094014
CREATED:20240327T154704Z
LAST-MODIFIED:20251204T173553Z
UID:10233150-1856898000-1856912400@golatindance.com
SUMMARY:Latin Night at World Dance Company
DESCRIPTION:* Doors open at 9pm with a FREE dance lesson then the party starts at 9 pm and dance till 1 am\nFREE BEFORE 9PM\nDifferent themes every week!\nTickets available at: https://worlddanceco.com/\n$10 in advance\n$15 at the door\nWhere?\n4858 Imperial St.\, Burnaby\, near Metrotown\n604-517-4644\nDon’t miss it!!! Everyone is welcome
URL:https://golatindance.com/event/latin-night-at-world-dance-company/2028-11-03/
LOCATION:World Dance Co\, 4858 Imperial St\, Burnaby\, BC\, V5J 1C4\, Canada
CATEGORIES:Vancouver
END:VEVENT
BEGIN:VEVENT
DTSTART;TZID=America/Vancouver:20281110T210000
DTEND;TZID=America/Vancouver:20281111T010000
DTSTAMP:20260420T094014
CREATED:20240327T154704Z
LAST-MODIFIED:20251204T173553Z
UID:10233151-1857502800-1857517200@golatindance.com
SUMMARY:Latin Night at World Dance Company
DESCRIPTION:* Doors open at 9pm with a FREE dance lesson then the party starts at 9 pm and dance till 1 am\nFREE BEFORE 9PM\nDifferent themes every week!\nTickets available at: https://worlddanceco.com/\n$10 in advance\n$15 at the door\nWhere?\n4858 Imperial St.\, Burnaby\, near Metrotown\n604-517-4644\nDon’t miss it!!! Everyone is welcome
URL:https://golatindance.com/event/latin-night-at-world-dance-company/2028-11-10/
LOCATION:World Dance Co\, 4858 Imperial St\, Burnaby\, BC\, V5J 1C4\, Canada
CATEGORIES:Vancouver
END:VEVENT
BEGIN:VEVENT
DTSTART;TZID=America/Vancouver:20281117T210000
DTEND;TZID=America/Vancouver:20281118T010000
DTSTAMP:20260420T094014
CREATED:20240327T154704Z
LAST-MODIFIED:20251204T173553Z
UID:10233152-1858107600-1858122000@golatindance.com
SUMMARY:Latin Night at World Dance Company
DESCRIPTION:* Doors open at 9pm with a FREE dance lesson then the party starts at 9 pm and dance till 1 am\nFREE BEFORE 9PM\nDifferent themes every week!\nTickets available at: https://worlddanceco.com/\n$10 in advance\n$15 at the door\nWhere?\n4858 Imperial St.\, Burnaby\, near Metrotown\n604-517-4644\nDon’t miss it!!! Everyone is welcome
URL:https://golatindance.com/event/latin-night-at-world-dance-company/2028-11-17/
LOCATION:World Dance Co\, 4858 Imperial St\, Burnaby\, BC\, V5J 1C4\, Canada
CATEGORIES:Vancouver
END:VEVENT
BEGIN:VEVENT
DTSTART;TZID=America/Vancouver:20281124T210000
DTEND;TZID=America/Vancouver:20281125T010000
DTSTAMP:20260420T094014
CREATED:20240327T154704Z
LAST-MODIFIED:20251204T173553Z
UID:10233153-1858712400-1858726800@golatindance.com
SUMMARY:Latin Night at World Dance Company
DESCRIPTION:* Doors open at 9pm with a FREE dance lesson then the party starts at 9 pm and dance till 1 am\nFREE BEFORE 9PM\nDifferent themes every week!\nTickets available at: https://worlddanceco.com/\n$10 in advance\n$15 at the door\nWhere?\n4858 Imperial St.\, Burnaby\, near Metrotown\n604-517-4644\nDon’t miss it!!! Everyone is welcome
URL:https://golatindance.com/event/latin-night-at-world-dance-company/2028-11-24/
LOCATION:World Dance Co\, 4858 Imperial St\, Burnaby\, BC\, V5J 1C4\, Canada
CATEGORIES:Vancouver
END:VEVENT
BEGIN:VEVENT
DTSTART;TZID=America/Vancouver:20281201T210000
DTEND;TZID=America/Vancouver:20281202T010000
DTSTAMP:20260420T094014
CREATED:20240327T154704Z
LAST-MODIFIED:20251204T173553Z
UID:10233154-1859317200-1859331600@golatindance.com
SUMMARY:Latin Night at World Dance Company
DESCRIPTION:* Doors open at 9pm with a FREE dance lesson then the party starts at 9 pm and dance till 1 am\nFREE BEFORE 9PM\nDifferent themes every week!\nTickets available at: https://worlddanceco.com/\n$10 in advance\n$15 at the door\nWhere?\n4858 Imperial St.\, Burnaby\, near Metrotown\n604-517-4644\nDon’t miss it!!! Everyone is welcome
URL:https://golatindance.com/event/latin-night-at-world-dance-company/2028-12-01/
LOCATION:World Dance Co\, 4858 Imperial St\, Burnaby\, BC\, V5J 1C4\, Canada
CATEGORIES:Vancouver
END:VEVENT
BEGIN:VEVENT
DTSTART;TZID=America/Vancouver:20281208T210000
DTEND;TZID=America/Vancouver:20281209T010000
DTSTAMP:20260420T094014
CREATED:20240327T154704Z
LAST-MODIFIED:20251204T173553Z
UID:10233155-1859922000-1859936400@golatindance.com
SUMMARY:Latin Night at World Dance Company
DESCRIPTION:* Doors open at 9pm with a FREE dance lesson then the party starts at 9 pm and dance till 1 am\nFREE BEFORE 9PM\nDifferent themes every week!\nTickets available at: https://worlddanceco.com/\n$10 in advance\n$15 at the door\nWhere?\n4858 Imperial St.\, Burnaby\, near Metrotown\n604-517-4644\nDon’t miss it!!! Everyone is welcome
URL:https://golatindance.com/event/latin-night-at-world-dance-company/2028-12-08/
LOCATION:World Dance Co\, 4858 Imperial St\, Burnaby\, BC\, V5J 1C4\, Canada
CATEGORIES:Vancouver
END:VEVENT
BEGIN:VEVENT
DTSTART;TZID=America/Vancouver:20281215T210000
DTEND;TZID=America/Vancouver:20281216T010000
DTSTAMP:20260420T094014
CREATED:20240327T154704Z
LAST-MODIFIED:20251204T173553Z
UID:10233156-1860526800-1860541200@golatindance.com
SUMMARY:Latin Night at World Dance Company
DESCRIPTION:* Doors open at 9pm with a FREE dance lesson then the party starts at 9 pm and dance till 1 am\nFREE BEFORE 9PM\nDifferent themes every week!\nTickets available at: https://worlddanceco.com/\n$10 in advance\n$15 at the door\nWhere?\n4858 Imperial St.\, Burnaby\, near Metrotown\n604-517-4644\nDon’t miss it!!! Everyone is welcome
URL:https://golatindance.com/event/latin-night-at-world-dance-company/2028-12-15/
LOCATION:World Dance Co\, 4858 Imperial St\, Burnaby\, BC\, V5J 1C4\, Canada
CATEGORIES:Vancouver
END:VEVENT
BEGIN:VEVENT
DTSTART;TZID=America/Vancouver:20281222T210000
DTEND;TZID=America/Vancouver:20281223T010000
DTSTAMP:20260420T094014
CREATED:20240327T154704Z
LAST-MODIFIED:20251204T173553Z
UID:10233157-1861131600-1861146000@golatindance.com
SUMMARY:Latin Night at World Dance Company
DESCRIPTION:* Doors open at 9pm with a FREE dance lesson then the party starts at 9 pm and dance till 1 am\nFREE BEFORE 9PM\nDifferent themes every week!\nTickets available at: https://worlddanceco.com/\n$10 in advance\n$15 at the door\nWhere?\n4858 Imperial St.\, Burnaby\, near Metrotown\n604-517-4644\nDon’t miss it!!! Everyone is welcome
URL:https://golatindance.com/event/latin-night-at-world-dance-company/2028-12-22/
LOCATION:World Dance Co\, 4858 Imperial St\, Burnaby\, BC\, V5J 1C4\, Canada
CATEGORIES:Vancouver
END:VEVENT
BEGIN:VEVENT
DTSTART;TZID=America/Vancouver:20281229T210000
DTEND;TZID=America/Vancouver:20281230T010000
DTSTAMP:20260420T094014
CREATED:20240327T154704Z
LAST-MODIFIED:20251204T173553Z
UID:10233158-1861736400-1861750800@golatindance.com
SUMMARY:Latin Night at World Dance Company
DESCRIPTION:* Doors open at 9pm with a FREE dance lesson then the party starts at 9 pm and dance till 1 am\nFREE BEFORE 9PM\nDifferent themes every week!\nTickets available at: https://worlddanceco.com/\n$10 in advance\n$15 at the door\nWhere?\n4858 Imperial St.\, Burnaby\, near Metrotown\n604-517-4644\nDon’t miss it!!! Everyone is welcome
URL:https://golatindance.com/event/latin-night-at-world-dance-company/2028-12-29/
LOCATION:World Dance Co\, 4858 Imperial St\, Burnaby\, BC\, V5J 1C4\, Canada
CATEGORIES:Vancouver
END:VEVENT
BEGIN:VEVENT
DTSTART;TZID=America/Vancouver:20290105T210000
DTEND;TZID=America/Vancouver:20290106T010000
DTSTAMP:20260420T094014
CREATED:20240327T154704Z
LAST-MODIFIED:20251204T173553Z
UID:10233159-1862341200-1862355600@golatindance.com
SUMMARY:Latin Night at World Dance Company
DESCRIPTION:* Doors open at 9pm with a FREE dance lesson then the party starts at 9 pm and dance till 1 am\nFREE BEFORE 9PM\nDifferent themes every week!\nTickets available at: https://worlddanceco.com/\n$10 in advance\n$15 at the door\nWhere?\n4858 Imperial St.\, Burnaby\, near Metrotown\n604-517-4644\nDon’t miss it!!! Everyone is welcome
URL:https://golatindance.com/event/latin-night-at-world-dance-company/2029-01-05/
LOCATION:World Dance Co\, 4858 Imperial St\, Burnaby\, BC\, V5J 1C4\, Canada
CATEGORIES:Vancouver
END:VEVENT
BEGIN:VEVENT
DTSTART;TZID=America/Vancouver:20290112T210000
DTEND;TZID=America/Vancouver:20290113T010000
DTSTAMP:20260420T094014
CREATED:20240327T154704Z
LAST-MODIFIED:20251204T173553Z
UID:10233160-1862946000-1862960400@golatindance.com
SUMMARY:Latin Night at World Dance Company
DESCRIPTION:* Doors open at 9pm with a FREE dance lesson then the party starts at 9 pm and dance till 1 am\nFREE BEFORE 9PM\nDifferent themes every week!\nTickets available at: https://worlddanceco.com/\n$10 in advance\n$15 at the door\nWhere?\n4858 Imperial St.\, Burnaby\, near Metrotown\n604-517-4644\nDon’t miss it!!! Everyone is welcome
URL:https://golatindance.com/event/latin-night-at-world-dance-company/2029-01-12/
LOCATION:World Dance Co\, 4858 Imperial St\, Burnaby\, BC\, V5J 1C4\, Canada
CATEGORIES:Vancouver
END:VEVENT
BEGIN:VEVENT
DTSTART;TZID=America/Vancouver:20290119T210000
DTEND;TZID=America/Vancouver:20290120T010000
DTSTAMP:20260420T094014
CREATED:20240327T154704Z
LAST-MODIFIED:20251204T173553Z
UID:10233161-1863550800-1863565200@golatindance.com
SUMMARY:Latin Night at World Dance Company
DESCRIPTION:* Doors open at 9pm with a FREE dance lesson then the party starts at 9 pm and dance till 1 am\nFREE BEFORE 9PM\nDifferent themes every week!\nTickets available at: https://worlddanceco.com/\n$10 in advance\n$15 at the door\nWhere?\n4858 Imperial St.\, Burnaby\, near Metrotown\n604-517-4644\nDon’t miss it!!! Everyone is welcome
URL:https://golatindance.com/event/latin-night-at-world-dance-company/2029-01-19/
LOCATION:World Dance Co\, 4858 Imperial St\, Burnaby\, BC\, V5J 1C4\, Canada
CATEGORIES:Vancouver
END:VEVENT
BEGIN:VEVENT
DTSTART;TZID=America/Vancouver:20290126T210000
DTEND;TZID=America/Vancouver:20290127T010000
DTSTAMP:20260420T094014
CREATED:20240327T154704Z
LAST-MODIFIED:20251204T173553Z
UID:10233162-1864155600-1864170000@golatindance.com
SUMMARY:Latin Night at World Dance Company
DESCRIPTION:* Doors open at 9pm with a FREE dance lesson then the party starts at 9 pm and dance till 1 am\nFREE BEFORE 9PM\nDifferent themes every week!\nTickets available at: https://worlddanceco.com/\n$10 in advance\n$15 at the door\nWhere?\n4858 Imperial St.\, Burnaby\, near Metrotown\n604-517-4644\nDon’t miss it!!! Everyone is welcome
URL:https://golatindance.com/event/latin-night-at-world-dance-company/2029-01-26/
LOCATION:World Dance Co\, 4858 Imperial St\, Burnaby\, BC\, V5J 1C4\, Canada
CATEGORIES:Vancouver
END:VEVENT
BEGIN:VEVENT
DTSTART;TZID=America/Vancouver:20290202T210000
DTEND;TZID=America/Vancouver:20290203T010000
DTSTAMP:20260420T094014
CREATED:20240327T154704Z
LAST-MODIFIED:20251204T173553Z
UID:10233163-1864760400-1864774800@golatindance.com
SUMMARY:Latin Night at World Dance Company
DESCRIPTION:* Doors open at 9pm with a FREE dance lesson then the party starts at 9 pm and dance till 1 am\nFREE BEFORE 9PM\nDifferent themes every week!\nTickets available at: https://worlddanceco.com/\n$10 in advance\n$15 at the door\nWhere?\n4858 Imperial St.\, Burnaby\, near Metrotown\n604-517-4644\nDon’t miss it!!! Everyone is welcome
URL:https://golatindance.com/event/latin-night-at-world-dance-company/2029-02-02/
LOCATION:World Dance Co\, 4858 Imperial St\, Burnaby\, BC\, V5J 1C4\, Canada
CATEGORIES:Vancouver
END:VEVENT
BEGIN:VEVENT
DTSTART;TZID=America/Vancouver:20290209T210000
DTEND;TZID=America/Vancouver:20290210T010000
DTSTAMP:20260420T094014
CREATED:20240327T154704Z
LAST-MODIFIED:20251204T173553Z
UID:10233164-1865365200-1865379600@golatindance.com
SUMMARY:Latin Night at World Dance Company
DESCRIPTION:* Doors open at 9pm with a FREE dance lesson then the party starts at 9 pm and dance till 1 am\nFREE BEFORE 9PM\nDifferent themes every week!\nTickets available at: https://worlddanceco.com/\n$10 in advance\n$15 at the door\nWhere?\n4858 Imperial St.\, Burnaby\, near Metrotown\n604-517-4644\nDon’t miss it!!! Everyone is welcome
URL:https://golatindance.com/event/latin-night-at-world-dance-company/2029-02-09/
LOCATION:World Dance Co\, 4858 Imperial St\, Burnaby\, BC\, V5J 1C4\, Canada
CATEGORIES:Vancouver
END:VEVENT
BEGIN:VEVENT
DTSTART;TZID=America/Vancouver:20290216T210000
DTEND;TZID=America/Vancouver:20290217T010000
DTSTAMP:20260420T094014
CREATED:20240327T154704Z
LAST-MODIFIED:20251204T173553Z
UID:10233165-1865970000-1865984400@golatindance.com
SUMMARY:Latin Night at World Dance Company
DESCRIPTION:* Doors open at 9pm with a FREE dance lesson then the party starts at 9 pm and dance till 1 am\nFREE BEFORE 9PM\nDifferent themes every week!\nTickets available at: https://worlddanceco.com/\n$10 in advance\n$15 at the door\nWhere?\n4858 Imperial St.\, Burnaby\, near Metrotown\n604-517-4644\nDon’t miss it!!! Everyone is welcome
URL:https://golatindance.com/event/latin-night-at-world-dance-company/2029-02-16/
LOCATION:World Dance Co\, 4858 Imperial St\, Burnaby\, BC\, V5J 1C4\, Canada
CATEGORIES:Vancouver
END:VEVENT
BEGIN:VEVENT
DTSTART;TZID=America/Vancouver:20290223T210000
DTEND;TZID=America/Vancouver:20290224T010000
DTSTAMP:20260420T094014
CREATED:20240327T154704Z
LAST-MODIFIED:20251204T173553Z
UID:10233166-1866574800-1866589200@golatindance.com
SUMMARY:Latin Night at World Dance Company
DESCRIPTION:* Doors open at 9pm with a FREE dance lesson then the party starts at 9 pm and dance till 1 am\nFREE BEFORE 9PM\nDifferent themes every week!\nTickets available at: https://worlddanceco.com/\n$10 in advance\n$15 at the door\nWhere?\n4858 Imperial St.\, Burnaby\, near Metrotown\n604-517-4644\nDon’t miss it!!! Everyone is welcome
URL:https://golatindance.com/event/latin-night-at-world-dance-company/2029-02-23/
LOCATION:World Dance Co\, 4858 Imperial St\, Burnaby\, BC\, V5J 1C4\, Canada
CATEGORIES:Vancouver
END:VEVENT
BEGIN:VEVENT
DTSTART;TZID=America/Vancouver:20290302T210000
DTEND;TZID=America/Vancouver:20290303T010000
DTSTAMP:20260420T094014
CREATED:20240327T154704Z
LAST-MODIFIED:20251204T173553Z
UID:10233167-1867179600-1867194000@golatindance.com
SUMMARY:Latin Night at World Dance Company
DESCRIPTION:* Doors open at 9pm with a FREE dance lesson then the party starts at 9 pm and dance till 1 am\nFREE BEFORE 9PM\nDifferent themes every week!\nTickets available at: https://worlddanceco.com/\n$10 in advance\n$15 at the door\nWhere?\n4858 Imperial St.\, Burnaby\, near Metrotown\n604-517-4644\nDon’t miss it!!! Everyone is welcome
URL:https://golatindance.com/event/latin-night-at-world-dance-company/2029-03-02/
LOCATION:World Dance Co\, 4858 Imperial St\, Burnaby\, BC\, V5J 1C4\, Canada
CATEGORIES:Vancouver
END:VEVENT
BEGIN:VEVENT
DTSTART;TZID=America/Vancouver:20290309T210000
DTEND;TZID=America/Vancouver:20290310T010000
DTSTAMP:20260420T094014
CREATED:20240327T154704Z
LAST-MODIFIED:20251204T173553Z
UID:10233168-1867784400-1867798800@golatindance.com
SUMMARY:Latin Night at World Dance Company
DESCRIPTION:* Doors open at 9pm with a FREE dance lesson then the party starts at 9 pm and dance till 1 am\nFREE BEFORE 9PM\nDifferent themes every week!\nTickets available at: https://worlddanceco.com/\n$10 in advance\n$15 at the door\nWhere?\n4858 Imperial St.\, Burnaby\, near Metrotown\n604-517-4644\nDon’t miss it!!! Everyone is welcome
URL:https://golatindance.com/event/latin-night-at-world-dance-company/2029-03-09/
LOCATION:World Dance Co\, 4858 Imperial St\, Burnaby\, BC\, V5J 1C4\, Canada
CATEGORIES:Vancouver
END:VEVENT
BEGIN:VEVENT
DTSTART;TZID=America/Vancouver:20290316T210000
DTEND;TZID=America/Vancouver:20290317T010000
DTSTAMP:20260420T094014
CREATED:20240327T154704Z
LAST-MODIFIED:20251204T173553Z
UID:10233169-1868389200-1868403600@golatindance.com
SUMMARY:Latin Night at World Dance Company
DESCRIPTION:* Doors open at 9pm with a FREE dance lesson then the party starts at 9 pm and dance till 1 am\nFREE BEFORE 9PM\nDifferent themes every week!\nTickets available at: https://worlddanceco.com/\n$10 in advance\n$15 at the door\nWhere?\n4858 Imperial St.\, Burnaby\, near Metrotown\n604-517-4644\nDon’t miss it!!! Everyone is welcome
URL:https://golatindance.com/event/latin-night-at-world-dance-company/2029-03-16/
LOCATION:World Dance Co\, 4858 Imperial St\, Burnaby\, BC\, V5J 1C4\, Canada
CATEGORIES:Vancouver
END:VEVENT
BEGIN:VEVENT
DTSTART;TZID=America/Vancouver:20290323T210000
DTEND;TZID=America/Vancouver:20290324T010000
DTSTAMP:20260420T094014
CREATED:20240327T154704Z
LAST-MODIFIED:20251204T173553Z
UID:10233170-1868994000-1869008400@golatindance.com
SUMMARY:Latin Night at World Dance Company
DESCRIPTION:* Doors open at 9pm with a FREE dance lesson then the party starts at 9 pm and dance till 1 am\nFREE BEFORE 9PM\nDifferent themes every week!\nTickets available at: https://worlddanceco.com/\n$10 in advance\n$15 at the door\nWhere?\n4858 Imperial St.\, Burnaby\, near Metrotown\n604-517-4644\nDon’t miss it!!! Everyone is welcome
URL:https://golatindance.com/event/latin-night-at-world-dance-company/2029-03-23/
LOCATION:World Dance Co\, 4858 Imperial St\, Burnaby\, BC\, V5J 1C4\, Canada
CATEGORIES:Vancouver
END:VEVENT
BEGIN:VEVENT
DTSTART;TZID=America/Vancouver:20290330T210000
DTEND;TZID=America/Vancouver:20290331T010000
DTSTAMP:20260420T094014
CREATED:20240327T154704Z
LAST-MODIFIED:20251204T173553Z
UID:10233171-1869598800-1869613200@golatindance.com
SUMMARY:Latin Night at World Dance Company
DESCRIPTION:* Doors open at 9pm with a FREE dance lesson then the party starts at 9 pm and dance till 1 am\nFREE BEFORE 9PM\nDifferent themes every week!\nTickets available at: https://worlddanceco.com/\n$10 in advance\n$15 at the door\nWhere?\n4858 Imperial St.\, Burnaby\, near Metrotown\n604-517-4644\nDon’t miss it!!! Everyone is welcome
URL:https://golatindance.com/event/latin-night-at-world-dance-company/2029-03-30/
LOCATION:World Dance Co\, 4858 Imperial St\, Burnaby\, BC\, V5J 1C4\, Canada
CATEGORIES:Vancouver
END:VEVENT
BEGIN:VEVENT
DTSTART;TZID=America/Vancouver:20290406T210000
DTEND;TZID=America/Vancouver:20290407T010000
DTSTAMP:20260420T094014
CREATED:20240327T154704Z
LAST-MODIFIED:20251204T173553Z
UID:10245260-1870203600-1870218000@golatindance.com
SUMMARY:Latin Night at World Dance Company
DESCRIPTION:* Doors open at 9pm with a FREE dance lesson then the party starts at 9 pm and dance till 1 am\nFREE BEFORE 9PM\nDifferent themes every week!\nTickets available at: https://worlddanceco.com/\n$10 in advance\n$15 at the door\nWhere?\n4858 Imperial St.\, Burnaby\, near Metrotown\n604-517-4644\nDon’t miss it!!! Everyone is welcome
URL:https://golatindance.com/event/latin-night-at-world-dance-company/2029-04-06/
LOCATION:World Dance Co\, 4858 Imperial St\, Burnaby\, BC\, V5J 1C4\, Canada
CATEGORIES:Vancouver
END:VEVENT
BEGIN:VEVENT
DTSTART;TZID=America/Vancouver:20290413T210000
DTEND;TZID=America/Vancouver:20290414T010000
DTSTAMP:20260420T094014
CREATED:20240327T154704Z
LAST-MODIFIED:20251204T173553Z
UID:10245261-1870808400-1870822800@golatindance.com
SUMMARY:Latin Night at World Dance Company
DESCRIPTION:* Doors open at 9pm with a FREE dance lesson then the party starts at 9 pm and dance till 1 am\nFREE BEFORE 9PM\nDifferent themes every week!\nTickets available at: https://worlddanceco.com/\n$10 in advance\n$15 at the door\nWhere?\n4858 Imperial St.\, Burnaby\, near Metrotown\n604-517-4644\nDon’t miss it!!! Everyone is welcome
URL:https://golatindance.com/event/latin-night-at-world-dance-company/2029-04-13/
LOCATION:World Dance Co\, 4858 Imperial St\, Burnaby\, BC\, V5J 1C4\, Canada
CATEGORIES:Vancouver
END:VEVENT
BEGIN:VEVENT
DTSTART;TZID=America/Vancouver:20290420T210000
DTEND;TZID=America/Vancouver:20290421T010000
DTSTAMP:20260420T094014
CREATED:20240327T154704Z
LAST-MODIFIED:20251204T173553Z
UID:10245262-1871413200-1871427600@golatindance.com
SUMMARY:Latin Night at World Dance Company
DESCRIPTION:* Doors open at 9pm with a FREE dance lesson then the party starts at 9 pm and dance till 1 am\nFREE BEFORE 9PM\nDifferent themes every week!\nTickets available at: https://worlddanceco.com/\n$10 in advance\n$15 at the door\nWhere?\n4858 Imperial St.\, Burnaby\, near Metrotown\n604-517-4644\nDon’t miss it!!! Everyone is welcome
URL:https://golatindance.com/event/latin-night-at-world-dance-company/2029-04-20/
LOCATION:World Dance Co\, 4858 Imperial St\, Burnaby\, BC\, V5J 1C4\, Canada
CATEGORIES:Vancouver
END:VEVENT
BEGIN:VEVENT
DTSTART;TZID=America/Vancouver:20290427T210000
DTEND;TZID=America/Vancouver:20290428T010000
DTSTAMP:20260420T094014
CREATED:20240327T154704Z
LAST-MODIFIED:20251204T173553Z
UID:10245263-1872018000-1872032400@golatindance.com
SUMMARY:Latin Night at World Dance Company
DESCRIPTION:* Doors open at 9pm with a FREE dance lesson then the party starts at 9 pm and dance till 1 am\nFREE BEFORE 9PM\nDifferent themes every week!\nTickets available at: https://worlddanceco.com/\n$10 in advance\n$15 at the door\nWhere?\n4858 Imperial St.\, Burnaby\, near Metrotown\n604-517-4644\nDon’t miss it!!! Everyone is welcome
URL:https://golatindance.com/event/latin-night-at-world-dance-company/2029-04-27/
LOCATION:World Dance Co\, 4858 Imperial St\, Burnaby\, BC\, V5J 1C4\, Canada
CATEGORIES:Vancouver
END:VEVENT
BEGIN:VEVENT
DTSTART;TZID=America/Vancouver:20290504T210000
DTEND;TZID=America/Vancouver:20290505T010000
DTSTAMP:20260420T094014
CREATED:20240327T154704Z
LAST-MODIFIED:20251204T173553Z
UID:10322565-1872622800-1872637200@golatindance.com
SUMMARY:Latin Night at World Dance Company
DESCRIPTION:* Doors open at 9pm with a FREE dance lesson then the party starts at 9 pm and dance till 1 am\nFREE BEFORE 9PM\nDifferent themes every week!\nTickets available at: https://worlddanceco.com/\n$10 in advance\n$15 at the door\nWhere?\n4858 Imperial St.\, Burnaby\, near Metrotown\n604-517-4644\nDon’t miss it!!! Everyone is welcome
URL:https://golatindance.com/event/latin-night-at-world-dance-company/2029-05-04/
LOCATION:World Dance Co\, 4858 Imperial St\, Burnaby\, BC\, V5J 1C4\, Canada
CATEGORIES:Vancouver
END:VEVENT
BEGIN:VEVENT
DTSTART;TZID=America/Vancouver:20290511T210000
DTEND;TZID=America/Vancouver:20290512T010000
DTSTAMP:20260420T094014
CREATED:20240327T154704Z
LAST-MODIFIED:20251204T173553Z
UID:10322566-1873227600-1873242000@golatindance.com
SUMMARY:Latin Night at World Dance Company
DESCRIPTION:* Doors open at 9pm with a FREE dance lesson then the party starts at 9 pm and dance till 1 am\nFREE BEFORE 9PM\nDifferent themes every week!\nTickets available at: https://worlddanceco.com/\n$10 in advance\n$15 at the door\nWhere?\n4858 Imperial St.\, Burnaby\, near Metrotown\n604-517-4644\nDon’t miss it!!! Everyone is welcome
URL:https://golatindance.com/event/latin-night-at-world-dance-company/2029-05-11/
LOCATION:World Dance Co\, 4858 Imperial St\, Burnaby\, BC\, V5J 1C4\, Canada
CATEGORIES:Vancouver
END:VEVENT
END:VCALENDAR