BEGIN:VCALENDAR
VERSION:2.0
PRODID:-//GO Latin Dance - ECPv6.15.18//NONSGML v1.0//EN
CALSCALE:GREGORIAN
METHOD:PUBLISH
X-WR-CALNAME:GO Latin Dance
X-ORIGINAL-URL:https://golatindance.com
X-WR-CALDESC:Events for GO Latin Dance
REFRESH-INTERVAL;VALUE=DURATION:PT1H
X-Robots-Tag:noindex
X-PUBLISHED-TTL:PT1H
BEGIN:VTIMEZONE
TZID:America/Vancouver
BEGIN:DAYLIGHT
TZOFFSETFROM:-0800
TZOFFSETTO:-0700
TZNAME:PDT
DTSTART:20280312T100000
END:DAYLIGHT
BEGIN:STANDARD
TZOFFSETFROM:-0700
TZOFFSETTO:-0800
TZNAME:PST
DTSTART:20281105T090000
END:STANDARD
BEGIN:DAYLIGHT
TZOFFSETFROM:-0800
TZOFFSETTO:-0700
TZNAME:PDT
DTSTART:20290311T100000
END:DAYLIGHT
BEGIN:STANDARD
TZOFFSETFROM:-0700
TZOFFSETTO:-0800
TZNAME:PST
DTSTART:20291104T090000
END:STANDARD
BEGIN:DAYLIGHT
TZOFFSETFROM:-0800
TZOFFSETTO:-0700
TZNAME:PDT
DTSTART:20300310T100000
END:DAYLIGHT
BEGIN:STANDARD
TZOFFSETFROM:-0700
TZOFFSETTO:-0800
TZNAME:PST
DTSTART:20301103T090000
END:STANDARD
END:VTIMEZONE
BEGIN:VEVENT
DTSTART;TZID=America/Vancouver:20290309T210000
DTEND;TZID=America/Vancouver:20290310T010000
DTSTAMP:20260420T123103
CREATED:20240327T154704Z
LAST-MODIFIED:20251204T173553Z
UID:10233168-1867784400-1867798800@golatindance.com
SUMMARY:Latin Night at World Dance Company
DESCRIPTION:* Doors open at 9pm with a FREE dance lesson then the party starts at 9 pm and dance till 1 am\nFREE BEFORE 9PM\nDifferent themes every week!\nTickets available at: https://worlddanceco.com/\n$10 in advance\n$15 at the door\nWhere?\n4858 Imperial St.\, Burnaby\, near Metrotown\n604-517-4644\nDon’t miss it!!! Everyone is welcome
URL:https://golatindance.com/event/latin-night-at-world-dance-company/2029-03-09/
LOCATION:World Dance Co\, 4858 Imperial St\, Burnaby\, BC\, V5J 1C4\, Canada
CATEGORIES:Vancouver
END:VEVENT
BEGIN:VEVENT
DTSTART;TZID=America/Vancouver:20290316T210000
DTEND;TZID=America/Vancouver:20290317T010000
DTSTAMP:20260420T123103
CREATED:20240327T154704Z
LAST-MODIFIED:20251204T173553Z
UID:10233169-1868389200-1868403600@golatindance.com
SUMMARY:Latin Night at World Dance Company
DESCRIPTION:* Doors open at 9pm with a FREE dance lesson then the party starts at 9 pm and dance till 1 am\nFREE BEFORE 9PM\nDifferent themes every week!\nTickets available at: https://worlddanceco.com/\n$10 in advance\n$15 at the door\nWhere?\n4858 Imperial St.\, Burnaby\, near Metrotown\n604-517-4644\nDon’t miss it!!! Everyone is welcome
URL:https://golatindance.com/event/latin-night-at-world-dance-company/2029-03-16/
LOCATION:World Dance Co\, 4858 Imperial St\, Burnaby\, BC\, V5J 1C4\, Canada
CATEGORIES:Vancouver
END:VEVENT
BEGIN:VEVENT
DTSTART;TZID=America/Vancouver:20290323T210000
DTEND;TZID=America/Vancouver:20290324T010000
DTSTAMP:20260420T123103
CREATED:20240327T154704Z
LAST-MODIFIED:20251204T173553Z
UID:10233170-1868994000-1869008400@golatindance.com
SUMMARY:Latin Night at World Dance Company
DESCRIPTION:* Doors open at 9pm with a FREE dance lesson then the party starts at 9 pm and dance till 1 am\nFREE BEFORE 9PM\nDifferent themes every week!\nTickets available at: https://worlddanceco.com/\n$10 in advance\n$15 at the door\nWhere?\n4858 Imperial St.\, Burnaby\, near Metrotown\n604-517-4644\nDon’t miss it!!! Everyone is welcome
URL:https://golatindance.com/event/latin-night-at-world-dance-company/2029-03-23/
LOCATION:World Dance Co\, 4858 Imperial St\, Burnaby\, BC\, V5J 1C4\, Canada
CATEGORIES:Vancouver
END:VEVENT
BEGIN:VEVENT
DTSTART;TZID=America/Vancouver:20290330T210000
DTEND;TZID=America/Vancouver:20290331T010000
DTSTAMP:20260420T123103
CREATED:20240327T154704Z
LAST-MODIFIED:20251204T173553Z
UID:10233171-1869598800-1869613200@golatindance.com
SUMMARY:Latin Night at World Dance Company
DESCRIPTION:* Doors open at 9pm with a FREE dance lesson then the party starts at 9 pm and dance till 1 am\nFREE BEFORE 9PM\nDifferent themes every week!\nTickets available at: https://worlddanceco.com/\n$10 in advance\n$15 at the door\nWhere?\n4858 Imperial St.\, Burnaby\, near Metrotown\n604-517-4644\nDon’t miss it!!! Everyone is welcome
URL:https://golatindance.com/event/latin-night-at-world-dance-company/2029-03-30/
LOCATION:World Dance Co\, 4858 Imperial St\, Burnaby\, BC\, V5J 1C4\, Canada
CATEGORIES:Vancouver
END:VEVENT
BEGIN:VEVENT
DTSTART;TZID=America/Vancouver:20290406T210000
DTEND;TZID=America/Vancouver:20290407T010000
DTSTAMP:20260420T123103
CREATED:20240327T154704Z
LAST-MODIFIED:20251204T173553Z
UID:10245260-1870203600-1870218000@golatindance.com
SUMMARY:Latin Night at World Dance Company
DESCRIPTION:* Doors open at 9pm with a FREE dance lesson then the party starts at 9 pm and dance till 1 am\nFREE BEFORE 9PM\nDifferent themes every week!\nTickets available at: https://worlddanceco.com/\n$10 in advance\n$15 at the door\nWhere?\n4858 Imperial St.\, Burnaby\, near Metrotown\n604-517-4644\nDon’t miss it!!! Everyone is welcome
URL:https://golatindance.com/event/latin-night-at-world-dance-company/2029-04-06/
LOCATION:World Dance Co\, 4858 Imperial St\, Burnaby\, BC\, V5J 1C4\, Canada
CATEGORIES:Vancouver
END:VEVENT
BEGIN:VEVENT
DTSTART;TZID=America/Vancouver:20290413T210000
DTEND;TZID=America/Vancouver:20290414T010000
DTSTAMP:20260420T123103
CREATED:20240327T154704Z
LAST-MODIFIED:20251204T173553Z
UID:10245261-1870808400-1870822800@golatindance.com
SUMMARY:Latin Night at World Dance Company
DESCRIPTION:* Doors open at 9pm with a FREE dance lesson then the party starts at 9 pm and dance till 1 am\nFREE BEFORE 9PM\nDifferent themes every week!\nTickets available at: https://worlddanceco.com/\n$10 in advance\n$15 at the door\nWhere?\n4858 Imperial St.\, Burnaby\, near Metrotown\n604-517-4644\nDon’t miss it!!! Everyone is welcome
URL:https://golatindance.com/event/latin-night-at-world-dance-company/2029-04-13/
LOCATION:World Dance Co\, 4858 Imperial St\, Burnaby\, BC\, V5J 1C4\, Canada
CATEGORIES:Vancouver
END:VEVENT
BEGIN:VEVENT
DTSTART;TZID=America/Vancouver:20290420T210000
DTEND;TZID=America/Vancouver:20290421T010000
DTSTAMP:20260420T123103
CREATED:20240327T154704Z
LAST-MODIFIED:20251204T173553Z
UID:10245262-1871413200-1871427600@golatindance.com
SUMMARY:Latin Night at World Dance Company
DESCRIPTION:* Doors open at 9pm with a FREE dance lesson then the party starts at 9 pm and dance till 1 am\nFREE BEFORE 9PM\nDifferent themes every week!\nTickets available at: https://worlddanceco.com/\n$10 in advance\n$15 at the door\nWhere?\n4858 Imperial St.\, Burnaby\, near Metrotown\n604-517-4644\nDon’t miss it!!! Everyone is welcome
URL:https://golatindance.com/event/latin-night-at-world-dance-company/2029-04-20/
LOCATION:World Dance Co\, 4858 Imperial St\, Burnaby\, BC\, V5J 1C4\, Canada
CATEGORIES:Vancouver
END:VEVENT
BEGIN:VEVENT
DTSTART;TZID=America/Vancouver:20290427T210000
DTEND;TZID=America/Vancouver:20290428T010000
DTSTAMP:20260420T123103
CREATED:20240327T154704Z
LAST-MODIFIED:20251204T173553Z
UID:10245263-1872018000-1872032400@golatindance.com
SUMMARY:Latin Night at World Dance Company
DESCRIPTION:* Doors open at 9pm with a FREE dance lesson then the party starts at 9 pm and dance till 1 am\nFREE BEFORE 9PM\nDifferent themes every week!\nTickets available at: https://worlddanceco.com/\n$10 in advance\n$15 at the door\nWhere?\n4858 Imperial St.\, Burnaby\, near Metrotown\n604-517-4644\nDon’t miss it!!! Everyone is welcome
URL:https://golatindance.com/event/latin-night-at-world-dance-company/2029-04-27/
LOCATION:World Dance Co\, 4858 Imperial St\, Burnaby\, BC\, V5J 1C4\, Canada
CATEGORIES:Vancouver
END:VEVENT
BEGIN:VEVENT
DTSTART;TZID=America/Vancouver:20290504T210000
DTEND;TZID=America/Vancouver:20290505T010000
DTSTAMP:20260420T123103
CREATED:20240327T154704Z
LAST-MODIFIED:20251204T173553Z
UID:10322565-1872622800-1872637200@golatindance.com
SUMMARY:Latin Night at World Dance Company
DESCRIPTION:* Doors open at 9pm with a FREE dance lesson then the party starts at 9 pm and dance till 1 am\nFREE BEFORE 9PM\nDifferent themes every week!\nTickets available at: https://worlddanceco.com/\n$10 in advance\n$15 at the door\nWhere?\n4858 Imperial St.\, Burnaby\, near Metrotown\n604-517-4644\nDon’t miss it!!! Everyone is welcome
URL:https://golatindance.com/event/latin-night-at-world-dance-company/2029-05-04/
LOCATION:World Dance Co\, 4858 Imperial St\, Burnaby\, BC\, V5J 1C4\, Canada
CATEGORIES:Vancouver
END:VEVENT
BEGIN:VEVENT
DTSTART;TZID=America/Vancouver:20290511T210000
DTEND;TZID=America/Vancouver:20290512T010000
DTSTAMP:20260420T123103
CREATED:20240327T154704Z
LAST-MODIFIED:20251204T173553Z
UID:10322566-1873227600-1873242000@golatindance.com
SUMMARY:Latin Night at World Dance Company
DESCRIPTION:* Doors open at 9pm with a FREE dance lesson then the party starts at 9 pm and dance till 1 am\nFREE BEFORE 9PM\nDifferent themes every week!\nTickets available at: https://worlddanceco.com/\n$10 in advance\n$15 at the door\nWhere?\n4858 Imperial St.\, Burnaby\, near Metrotown\n604-517-4644\nDon’t miss it!!! Everyone is welcome
URL:https://golatindance.com/event/latin-night-at-world-dance-company/2029-05-11/
LOCATION:World Dance Co\, 4858 Imperial St\, Burnaby\, BC\, V5J 1C4\, Canada
CATEGORIES:Vancouver
END:VEVENT
BEGIN:VEVENT
DTSTART;TZID=America/Vancouver:20290518T210000
DTEND;TZID=America/Vancouver:20290519T010000
DTSTAMP:20260420T123103
CREATED:20240327T154704Z
LAST-MODIFIED:20251204T173553Z
UID:10322567-1873832400-1873846800@golatindance.com
SUMMARY:Latin Night at World Dance Company
DESCRIPTION:* Doors open at 9pm with a FREE dance lesson then the party starts at 9 pm and dance till 1 am\nFREE BEFORE 9PM\nDifferent themes every week!\nTickets available at: https://worlddanceco.com/\n$10 in advance\n$15 at the door\nWhere?\n4858 Imperial St.\, Burnaby\, near Metrotown\n604-517-4644\nDon’t miss it!!! Everyone is welcome
URL:https://golatindance.com/event/latin-night-at-world-dance-company/2029-05-18/
LOCATION:World Dance Co\, 4858 Imperial St\, Burnaby\, BC\, V5J 1C4\, Canada
CATEGORIES:Vancouver
END:VEVENT
BEGIN:VEVENT
DTSTART;TZID=America/Vancouver:20290525T210000
DTEND;TZID=America/Vancouver:20290526T010000
DTSTAMP:20260420T123103
CREATED:20240327T154704Z
LAST-MODIFIED:20251204T173553Z
UID:10322568-1874437200-1874451600@golatindance.com
SUMMARY:Latin Night at World Dance Company
DESCRIPTION:* Doors open at 9pm with a FREE dance lesson then the party starts at 9 pm and dance till 1 am\nFREE BEFORE 9PM\nDifferent themes every week!\nTickets available at: https://worlddanceco.com/\n$10 in advance\n$15 at the door\nWhere?\n4858 Imperial St.\, Burnaby\, near Metrotown\n604-517-4644\nDon’t miss it!!! Everyone is welcome
URL:https://golatindance.com/event/latin-night-at-world-dance-company/2029-05-25/
LOCATION:World Dance Co\, 4858 Imperial St\, Burnaby\, BC\, V5J 1C4\, Canada
CATEGORIES:Vancouver
END:VEVENT
BEGIN:VEVENT
DTSTART;TZID=America/Vancouver:20290601T210000
DTEND;TZID=America/Vancouver:20290602T010000
DTSTAMP:20260420T123103
CREATED:20240327T154704Z
LAST-MODIFIED:20251204T173553Z
UID:10322569-1875042000-1875056400@golatindance.com
SUMMARY:Latin Night at World Dance Company
DESCRIPTION:* Doors open at 9pm with a FREE dance lesson then the party starts at 9 pm and dance till 1 am\nFREE BEFORE 9PM\nDifferent themes every week!\nTickets available at: https://worlddanceco.com/\n$10 in advance\n$15 at the door\nWhere?\n4858 Imperial St.\, Burnaby\, near Metrotown\n604-517-4644\nDon’t miss it!!! Everyone is welcome
URL:https://golatindance.com/event/latin-night-at-world-dance-company/2029-06-01/
LOCATION:World Dance Co\, 4858 Imperial St\, Burnaby\, BC\, V5J 1C4\, Canada
CATEGORIES:Vancouver
END:VEVENT
BEGIN:VEVENT
DTSTART;TZID=America/Vancouver:20290608T210000
DTEND;TZID=America/Vancouver:20290609T010000
DTSTAMP:20260420T123103
CREATED:20240327T154704Z
LAST-MODIFIED:20251204T173553Z
UID:10322570-1875646800-1875661200@golatindance.com
SUMMARY:Latin Night at World Dance Company
DESCRIPTION:* Doors open at 9pm with a FREE dance lesson then the party starts at 9 pm and dance till 1 am\nFREE BEFORE 9PM\nDifferent themes every week!\nTickets available at: https://worlddanceco.com/\n$10 in advance\n$15 at the door\nWhere?\n4858 Imperial St.\, Burnaby\, near Metrotown\n604-517-4644\nDon’t miss it!!! Everyone is welcome
URL:https://golatindance.com/event/latin-night-at-world-dance-company/2029-06-08/
LOCATION:World Dance Co\, 4858 Imperial St\, Burnaby\, BC\, V5J 1C4\, Canada
CATEGORIES:Vancouver
END:VEVENT
BEGIN:VEVENT
DTSTART;TZID=America/Vancouver:20290615T210000
DTEND;TZID=America/Vancouver:20290616T010000
DTSTAMP:20260420T123103
CREATED:20240327T154704Z
LAST-MODIFIED:20251204T173553Z
UID:10322571-1876251600-1876266000@golatindance.com
SUMMARY:Latin Night at World Dance Company
DESCRIPTION:* Doors open at 9pm with a FREE dance lesson then the party starts at 9 pm and dance till 1 am\nFREE BEFORE 9PM\nDifferent themes every week!\nTickets available at: https://worlddanceco.com/\n$10 in advance\n$15 at the door\nWhere?\n4858 Imperial St.\, Burnaby\, near Metrotown\n604-517-4644\nDon’t miss it!!! Everyone is welcome
URL:https://golatindance.com/event/latin-night-at-world-dance-company/2029-06-15/
LOCATION:World Dance Co\, 4858 Imperial St\, Burnaby\, BC\, V5J 1C4\, Canada
CATEGORIES:Vancouver
END:VEVENT
BEGIN:VEVENT
DTSTART;TZID=America/Vancouver:20290622T210000
DTEND;TZID=America/Vancouver:20290623T010000
DTSTAMP:20260420T123103
CREATED:20240327T154704Z
LAST-MODIFIED:20251204T173553Z
UID:10322572-1876856400-1876870800@golatindance.com
SUMMARY:Latin Night at World Dance Company
DESCRIPTION:* Doors open at 9pm with a FREE dance lesson then the party starts at 9 pm and dance till 1 am\nFREE BEFORE 9PM\nDifferent themes every week!\nTickets available at: https://worlddanceco.com/\n$10 in advance\n$15 at the door\nWhere?\n4858 Imperial St.\, Burnaby\, near Metrotown\n604-517-4644\nDon’t miss it!!! Everyone is welcome
URL:https://golatindance.com/event/latin-night-at-world-dance-company/2029-06-22/
LOCATION:World Dance Co\, 4858 Imperial St\, Burnaby\, BC\, V5J 1C4\, Canada
CATEGORIES:Vancouver
END:VEVENT
BEGIN:VEVENT
DTSTART;TZID=America/Vancouver:20290629T210000
DTEND;TZID=America/Vancouver:20290630T010000
DTSTAMP:20260420T123103
CREATED:20240327T154704Z
LAST-MODIFIED:20251204T173553Z
UID:10322573-1877461200-1877475600@golatindance.com
SUMMARY:Latin Night at World Dance Company
DESCRIPTION:* Doors open at 9pm with a FREE dance lesson then the party starts at 9 pm and dance till 1 am\nFREE BEFORE 9PM\nDifferent themes every week!\nTickets available at: https://worlddanceco.com/\n$10 in advance\n$15 at the door\nWhere?\n4858 Imperial St.\, Burnaby\, near Metrotown\n604-517-4644\nDon’t miss it!!! Everyone is welcome
URL:https://golatindance.com/event/latin-night-at-world-dance-company/2029-06-29/
LOCATION:World Dance Co\, 4858 Imperial St\, Burnaby\, BC\, V5J 1C4\, Canada
CATEGORIES:Vancouver
END:VEVENT
BEGIN:VEVENT
DTSTART;TZID=America/Vancouver:20290706T210000
DTEND;TZID=America/Vancouver:20290707T010000
DTSTAMP:20260420T123103
CREATED:20240327T154704Z
LAST-MODIFIED:20251204T173553Z
UID:10322574-1878066000-1878080400@golatindance.com
SUMMARY:Latin Night at World Dance Company
DESCRIPTION:* Doors open at 9pm with a FREE dance lesson then the party starts at 9 pm and dance till 1 am\nFREE BEFORE 9PM\nDifferent themes every week!\nTickets available at: https://worlddanceco.com/\n$10 in advance\n$15 at the door\nWhere?\n4858 Imperial St.\, Burnaby\, near Metrotown\n604-517-4644\nDon’t miss it!!! Everyone is welcome
URL:https://golatindance.com/event/latin-night-at-world-dance-company/2029-07-06/
LOCATION:World Dance Co\, 4858 Imperial St\, Burnaby\, BC\, V5J 1C4\, Canada
CATEGORIES:Vancouver
END:VEVENT
BEGIN:VEVENT
DTSTART;TZID=America/Vancouver:20290713T210000
DTEND;TZID=America/Vancouver:20290714T010000
DTSTAMP:20260420T123103
CREATED:20240327T154704Z
LAST-MODIFIED:20251204T173553Z
UID:10322575-1878670800-1878685200@golatindance.com
SUMMARY:Latin Night at World Dance Company
DESCRIPTION:* Doors open at 9pm with a FREE dance lesson then the party starts at 9 pm and dance till 1 am\nFREE BEFORE 9PM\nDifferent themes every week!\nTickets available at: https://worlddanceco.com/\n$10 in advance\n$15 at the door\nWhere?\n4858 Imperial St.\, Burnaby\, near Metrotown\n604-517-4644\nDon’t miss it!!! Everyone is welcome
URL:https://golatindance.com/event/latin-night-at-world-dance-company/2029-07-13/
LOCATION:World Dance Co\, 4858 Imperial St\, Burnaby\, BC\, V5J 1C4\, Canada
CATEGORIES:Vancouver
END:VEVENT
BEGIN:VEVENT
DTSTART;TZID=America/Vancouver:20290720T210000
DTEND;TZID=America/Vancouver:20290721T010000
DTSTAMP:20260420T123103
CREATED:20240327T154704Z
LAST-MODIFIED:20251204T173553Z
UID:10322576-1879275600-1879290000@golatindance.com
SUMMARY:Latin Night at World Dance Company
DESCRIPTION:* Doors open at 9pm with a FREE dance lesson then the party starts at 9 pm and dance till 1 am\nFREE BEFORE 9PM\nDifferent themes every week!\nTickets available at: https://worlddanceco.com/\n$10 in advance\n$15 at the door\nWhere?\n4858 Imperial St.\, Burnaby\, near Metrotown\n604-517-4644\nDon’t miss it!!! Everyone is welcome
URL:https://golatindance.com/event/latin-night-at-world-dance-company/2029-07-20/
LOCATION:World Dance Co\, 4858 Imperial St\, Burnaby\, BC\, V5J 1C4\, Canada
CATEGORIES:Vancouver
END:VEVENT
BEGIN:VEVENT
DTSTART;TZID=America/Vancouver:20290727T210000
DTEND;TZID=America/Vancouver:20290728T010000
DTSTAMP:20260420T123103
CREATED:20240327T154704Z
LAST-MODIFIED:20251204T173553Z
UID:10322577-1879880400-1879894800@golatindance.com
SUMMARY:Latin Night at World Dance Company
DESCRIPTION:* Doors open at 9pm with a FREE dance lesson then the party starts at 9 pm and dance till 1 am\nFREE BEFORE 9PM\nDifferent themes every week!\nTickets available at: https://worlddanceco.com/\n$10 in advance\n$15 at the door\nWhere?\n4858 Imperial St.\, Burnaby\, near Metrotown\n604-517-4644\nDon’t miss it!!! Everyone is welcome
URL:https://golatindance.com/event/latin-night-at-world-dance-company/2029-07-27/
LOCATION:World Dance Co\, 4858 Imperial St\, Burnaby\, BC\, V5J 1C4\, Canada
CATEGORIES:Vancouver
END:VEVENT
BEGIN:VEVENT
DTSTART;TZID=America/Vancouver:20290803T210000
DTEND;TZID=America/Vancouver:20290804T010000
DTSTAMP:20260420T123103
CREATED:20240327T154704Z
LAST-MODIFIED:20251204T173553Z
UID:10322578-1880485200-1880499600@golatindance.com
SUMMARY:Latin Night at World Dance Company
DESCRIPTION:* Doors open at 9pm with a FREE dance lesson then the party starts at 9 pm and dance till 1 am\nFREE BEFORE 9PM\nDifferent themes every week!\nTickets available at: https://worlddanceco.com/\n$10 in advance\n$15 at the door\nWhere?\n4858 Imperial St.\, Burnaby\, near Metrotown\n604-517-4644\nDon’t miss it!!! Everyone is welcome
URL:https://golatindance.com/event/latin-night-at-world-dance-company/2029-08-03/
LOCATION:World Dance Co\, 4858 Imperial St\, Burnaby\, BC\, V5J 1C4\, Canada
CATEGORIES:Vancouver
END:VEVENT
BEGIN:VEVENT
DTSTART;TZID=America/Vancouver:20290810T210000
DTEND;TZID=America/Vancouver:20290811T010000
DTSTAMP:20260420T123103
CREATED:20240327T154704Z
LAST-MODIFIED:20251204T173553Z
UID:10322579-1881090000-1881104400@golatindance.com
SUMMARY:Latin Night at World Dance Company
DESCRIPTION:* Doors open at 9pm with a FREE dance lesson then the party starts at 9 pm and dance till 1 am\nFREE BEFORE 9PM\nDifferent themes every week!\nTickets available at: https://worlddanceco.com/\n$10 in advance\n$15 at the door\nWhere?\n4858 Imperial St.\, Burnaby\, near Metrotown\n604-517-4644\nDon’t miss it!!! Everyone is welcome
URL:https://golatindance.com/event/latin-night-at-world-dance-company/2029-08-10/
LOCATION:World Dance Co\, 4858 Imperial St\, Burnaby\, BC\, V5J 1C4\, Canada
CATEGORIES:Vancouver
END:VEVENT
BEGIN:VEVENT
DTSTART;TZID=America/Vancouver:20290817T210000
DTEND;TZID=America/Vancouver:20290818T010000
DTSTAMP:20260420T123103
CREATED:20240327T154704Z
LAST-MODIFIED:20251204T173553Z
UID:10322580-1881694800-1881709200@golatindance.com
SUMMARY:Latin Night at World Dance Company
DESCRIPTION:* Doors open at 9pm with a FREE dance lesson then the party starts at 9 pm and dance till 1 am\nFREE BEFORE 9PM\nDifferent themes every week!\nTickets available at: https://worlddanceco.com/\n$10 in advance\n$15 at the door\nWhere?\n4858 Imperial St.\, Burnaby\, near Metrotown\n604-517-4644\nDon’t miss it!!! Everyone is welcome
URL:https://golatindance.com/event/latin-night-at-world-dance-company/2029-08-17/
LOCATION:World Dance Co\, 4858 Imperial St\, Burnaby\, BC\, V5J 1C4\, Canada
CATEGORIES:Vancouver
END:VEVENT
BEGIN:VEVENT
DTSTART;TZID=America/Vancouver:20290824T210000
DTEND;TZID=America/Vancouver:20290825T010000
DTSTAMP:20260420T123103
CREATED:20240327T154704Z
LAST-MODIFIED:20251204T173553Z
UID:10322581-1882299600-1882314000@golatindance.com
SUMMARY:Latin Night at World Dance Company
DESCRIPTION:* Doors open at 9pm with a FREE dance lesson then the party starts at 9 pm and dance till 1 am\nFREE BEFORE 9PM\nDifferent themes every week!\nTickets available at: https://worlddanceco.com/\n$10 in advance\n$15 at the door\nWhere?\n4858 Imperial St.\, Burnaby\, near Metrotown\n604-517-4644\nDon’t miss it!!! Everyone is welcome
URL:https://golatindance.com/event/latin-night-at-world-dance-company/2029-08-24/
LOCATION:World Dance Co\, 4858 Imperial St\, Burnaby\, BC\, V5J 1C4\, Canada
CATEGORIES:Vancouver
END:VEVENT
BEGIN:VEVENT
DTSTART;TZID=America/Vancouver:20290831T210000
DTEND;TZID=America/Vancouver:20290901T010000
DTSTAMP:20260420T123103
CREATED:20240327T154704Z
LAST-MODIFIED:20251204T173553Z
UID:10322582-1882904400-1882918800@golatindance.com
SUMMARY:Latin Night at World Dance Company
DESCRIPTION:* Doors open at 9pm with a FREE dance lesson then the party starts at 9 pm and dance till 1 am\nFREE BEFORE 9PM\nDifferent themes every week!\nTickets available at: https://worlddanceco.com/\n$10 in advance\n$15 at the door\nWhere?\n4858 Imperial St.\, Burnaby\, near Metrotown\n604-517-4644\nDon’t miss it!!! Everyone is welcome
URL:https://golatindance.com/event/latin-night-at-world-dance-company/2029-08-31/
LOCATION:World Dance Co\, 4858 Imperial St\, Burnaby\, BC\, V5J 1C4\, Canada
CATEGORIES:Vancouver
END:VEVENT
BEGIN:VEVENT
DTSTART;TZID=America/Vancouver:20290907T210000
DTEND;TZID=America/Vancouver:20290908T010000
DTSTAMP:20260420T123103
CREATED:20240327T154704Z
LAST-MODIFIED:20251204T173553Z
UID:10322583-1883509200-1883523600@golatindance.com
SUMMARY:Latin Night at World Dance Company
DESCRIPTION:* Doors open at 9pm with a FREE dance lesson then the party starts at 9 pm and dance till 1 am\nFREE BEFORE 9PM\nDifferent themes every week!\nTickets available at: https://worlddanceco.com/\n$10 in advance\n$15 at the door\nWhere?\n4858 Imperial St.\, Burnaby\, near Metrotown\n604-517-4644\nDon’t miss it!!! Everyone is welcome
URL:https://golatindance.com/event/latin-night-at-world-dance-company/2029-09-07/
LOCATION:World Dance Co\, 4858 Imperial St\, Burnaby\, BC\, V5J 1C4\, Canada
CATEGORIES:Vancouver
END:VEVENT
BEGIN:VEVENT
DTSTART;TZID=America/Vancouver:20290914T210000
DTEND;TZID=America/Vancouver:20290915T010000
DTSTAMP:20260420T123103
CREATED:20240327T154704Z
LAST-MODIFIED:20251204T173553Z
UID:10322584-1884114000-1884128400@golatindance.com
SUMMARY:Latin Night at World Dance Company
DESCRIPTION:* Doors open at 9pm with a FREE dance lesson then the party starts at 9 pm and dance till 1 am\nFREE BEFORE 9PM\nDifferent themes every week!\nTickets available at: https://worlddanceco.com/\n$10 in advance\n$15 at the door\nWhere?\n4858 Imperial St.\, Burnaby\, near Metrotown\n604-517-4644\nDon’t miss it!!! Everyone is welcome
URL:https://golatindance.com/event/latin-night-at-world-dance-company/2029-09-14/
LOCATION:World Dance Co\, 4858 Imperial St\, Burnaby\, BC\, V5J 1C4\, Canada
CATEGORIES:Vancouver
END:VEVENT
BEGIN:VEVENT
DTSTART;TZID=America/Vancouver:20290921T210000
DTEND;TZID=America/Vancouver:20290922T010000
DTSTAMP:20260420T123103
CREATED:20240327T154704Z
LAST-MODIFIED:20251204T173553Z
UID:10322585-1884718800-1884733200@golatindance.com
SUMMARY:Latin Night at World Dance Company
DESCRIPTION:* Doors open at 9pm with a FREE dance lesson then the party starts at 9 pm and dance till 1 am\nFREE BEFORE 9PM\nDifferent themes every week!\nTickets available at: https://worlddanceco.com/\n$10 in advance\n$15 at the door\nWhere?\n4858 Imperial St.\, Burnaby\, near Metrotown\n604-517-4644\nDon’t miss it!!! Everyone is welcome
URL:https://golatindance.com/event/latin-night-at-world-dance-company/2029-09-21/
LOCATION:World Dance Co\, 4858 Imperial St\, Burnaby\, BC\, V5J 1C4\, Canada
CATEGORIES:Vancouver
END:VEVENT
BEGIN:VEVENT
DTSTART;TZID=America/Vancouver:20290928T210000
DTEND;TZID=America/Vancouver:20290929T010000
DTSTAMP:20260420T123103
CREATED:20240327T154704Z
LAST-MODIFIED:20251204T173553Z
UID:10322586-1885323600-1885338000@golatindance.com
SUMMARY:Latin Night at World Dance Company
DESCRIPTION:* Doors open at 9pm with a FREE dance lesson then the party starts at 9 pm and dance till 1 am\nFREE BEFORE 9PM\nDifferent themes every week!\nTickets available at: https://worlddanceco.com/\n$10 in advance\n$15 at the door\nWhere?\n4858 Imperial St.\, Burnaby\, near Metrotown\n604-517-4644\nDon’t miss it!!! Everyone is welcome
URL:https://golatindance.com/event/latin-night-at-world-dance-company/2029-09-28/
LOCATION:World Dance Co\, 4858 Imperial St\, Burnaby\, BC\, V5J 1C4\, Canada
CATEGORIES:Vancouver
END:VEVENT
END:VCALENDAR