BEGIN:VCALENDAR
VERSION:2.0
PRODID:-//GO Latin Dance - ECPv6.15.18//NONSGML v1.0//EN
CALSCALE:GREGORIAN
METHOD:PUBLISH
X-WR-CALNAME:GO Latin Dance
X-ORIGINAL-URL:https://golatindance.com
X-WR-CALDESC:Events for GO Latin Dance
REFRESH-INTERVAL;VALUE=DURATION:PT1H
X-Robots-Tag:noindex
X-PUBLISHED-TTL:PT1H
BEGIN:VTIMEZONE
TZID:America/Vancouver
BEGIN:DAYLIGHT
TZOFFSETFROM:-0800
TZOFFSETTO:-0700
TZNAME:PDT
DTSTART:20280312T100000
END:DAYLIGHT
BEGIN:STANDARD
TZOFFSETFROM:-0700
TZOFFSETTO:-0800
TZNAME:PST
DTSTART:20281105T090000
END:STANDARD
BEGIN:DAYLIGHT
TZOFFSETFROM:-0800
TZOFFSETTO:-0700
TZNAME:PDT
DTSTART:20290311T100000
END:DAYLIGHT
BEGIN:STANDARD
TZOFFSETFROM:-0700
TZOFFSETTO:-0800
TZNAME:PST
DTSTART:20291104T090000
END:STANDARD
BEGIN:DAYLIGHT
TZOFFSETFROM:-0800
TZOFFSETTO:-0700
TZNAME:PDT
DTSTART:20300310T100000
END:DAYLIGHT
BEGIN:STANDARD
TZOFFSETFROM:-0700
TZOFFSETTO:-0800
TZNAME:PST
DTSTART:20301103T090000
END:STANDARD
BEGIN:DAYLIGHT
TZOFFSETFROM:-0800
TZOFFSETTO:-0700
TZNAME:PDT
DTSTART:20310309T100000
END:DAYLIGHT
BEGIN:STANDARD
TZOFFSETFROM:-0700
TZOFFSETTO:-0800
TZNAME:PST
DTSTART:20311102T090000
END:STANDARD
END:VTIMEZONE
BEGIN:VEVENT
DTSTART;TZID=America/Vancouver:20291214T210000
DTEND;TZID=America/Vancouver:20291215T010000
DTSTAMP:20260420T185608
CREATED:20240327T154704Z
LAST-MODIFIED:20251204T173553Z
UID:10322597-1891976400-1891990800@golatindance.com
SUMMARY:Latin Night at World Dance Company
DESCRIPTION:* Doors open at 9pm with a FREE dance lesson then the party starts at 9 pm and dance till 1 am\nFREE BEFORE 9PM\nDifferent themes every week!\nTickets available at: https://worlddanceco.com/\n$10 in advance\n$15 at the door\nWhere?\n4858 Imperial St.\, Burnaby\, near Metrotown\n604-517-4644\nDon’t miss it!!! Everyone is welcome
URL:https://golatindance.com/event/latin-night-at-world-dance-company/2029-12-14/
LOCATION:World Dance Co\, 4858 Imperial St\, Burnaby\, BC\, V5J 1C4\, Canada
CATEGORIES:Vancouver
END:VEVENT
BEGIN:VEVENT
DTSTART;TZID=America/Vancouver:20291221T210000
DTEND;TZID=America/Vancouver:20291222T010000
DTSTAMP:20260420T185608
CREATED:20240327T154704Z
LAST-MODIFIED:20251204T173553Z
UID:10420836-1892581200-1892595600@golatindance.com
SUMMARY:Latin Night at World Dance Company
DESCRIPTION:* Doors open at 9pm with a FREE dance lesson then the party starts at 9 pm and dance till 1 am\nFREE BEFORE 9PM\nDifferent themes every week!\nTickets available at: https://worlddanceco.com/\n$10 in advance\n$15 at the door\nWhere?\n4858 Imperial St.\, Burnaby\, near Metrotown\n604-517-4644\nDon’t miss it!!! Everyone is welcome
URL:https://golatindance.com/event/latin-night-at-world-dance-company/2029-12-21/
LOCATION:World Dance Co\, 4858 Imperial St\, Burnaby\, BC\, V5J 1C4\, Canada
CATEGORIES:Vancouver
END:VEVENT
BEGIN:VEVENT
DTSTART;TZID=America/Vancouver:20291228T210000
DTEND;TZID=America/Vancouver:20291229T010000
DTSTAMP:20260420T185608
CREATED:20240327T154704Z
LAST-MODIFIED:20251204T173553Z
UID:10420837-1893186000-1893200400@golatindance.com
SUMMARY:Latin Night at World Dance Company
DESCRIPTION:* Doors open at 9pm with a FREE dance lesson then the party starts at 9 pm and dance till 1 am\nFREE BEFORE 9PM\nDifferent themes every week!\nTickets available at: https://worlddanceco.com/\n$10 in advance\n$15 at the door\nWhere?\n4858 Imperial St.\, Burnaby\, near Metrotown\n604-517-4644\nDon’t miss it!!! Everyone is welcome
URL:https://golatindance.com/event/latin-night-at-world-dance-company/2029-12-28/
LOCATION:World Dance Co\, 4858 Imperial St\, Burnaby\, BC\, V5J 1C4\, Canada
CATEGORIES:Vancouver
END:VEVENT
BEGIN:VEVENT
DTSTART;TZID=America/Vancouver:20300104T210000
DTEND;TZID=America/Vancouver:20300105T010000
DTSTAMP:20260420T185608
CREATED:20240327T154704Z
LAST-MODIFIED:20251204T173553Z
UID:10420838-1893790800-1893805200@golatindance.com
SUMMARY:Latin Night at World Dance Company
DESCRIPTION:* Doors open at 9pm with a FREE dance lesson then the party starts at 9 pm and dance till 1 am\nFREE BEFORE 9PM\nDifferent themes every week!\nTickets available at: https://worlddanceco.com/\n$10 in advance\n$15 at the door\nWhere?\n4858 Imperial St.\, Burnaby\, near Metrotown\n604-517-4644\nDon’t miss it!!! Everyone is welcome
URL:https://golatindance.com/event/latin-night-at-world-dance-company/2030-01-04/
LOCATION:World Dance Co\, 4858 Imperial St\, Burnaby\, BC\, V5J 1C4\, Canada
CATEGORIES:Vancouver
END:VEVENT
BEGIN:VEVENT
DTSTART;TZID=America/Vancouver:20300111T210000
DTEND;TZID=America/Vancouver:20300112T010000
DTSTAMP:20260420T185608
CREATED:20240327T154704Z
LAST-MODIFIED:20251204T173553Z
UID:10420839-1894395600-1894410000@golatindance.com
SUMMARY:Latin Night at World Dance Company
DESCRIPTION:* Doors open at 9pm with a FREE dance lesson then the party starts at 9 pm and dance till 1 am\nFREE BEFORE 9PM\nDifferent themes every week!\nTickets available at: https://worlddanceco.com/\n$10 in advance\n$15 at the door\nWhere?\n4858 Imperial St.\, Burnaby\, near Metrotown\n604-517-4644\nDon’t miss it!!! Everyone is welcome
URL:https://golatindance.com/event/latin-night-at-world-dance-company/2030-01-11/
LOCATION:World Dance Co\, 4858 Imperial St\, Burnaby\, BC\, V5J 1C4\, Canada
CATEGORIES:Vancouver
END:VEVENT
BEGIN:VEVENT
DTSTART;TZID=America/Vancouver:20300118T210000
DTEND;TZID=America/Vancouver:20300119T010000
DTSTAMP:20260420T185608
CREATED:20240327T154704Z
LAST-MODIFIED:20251204T173553Z
UID:10420840-1895000400-1895014800@golatindance.com
SUMMARY:Latin Night at World Dance Company
DESCRIPTION:* Doors open at 9pm with a FREE dance lesson then the party starts at 9 pm and dance till 1 am\nFREE BEFORE 9PM\nDifferent themes every week!\nTickets available at: https://worlddanceco.com/\n$10 in advance\n$15 at the door\nWhere?\n4858 Imperial St.\, Burnaby\, near Metrotown\n604-517-4644\nDon’t miss it!!! Everyone is welcome
URL:https://golatindance.com/event/latin-night-at-world-dance-company/2030-01-18/
LOCATION:World Dance Co\, 4858 Imperial St\, Burnaby\, BC\, V5J 1C4\, Canada
CATEGORIES:Vancouver
END:VEVENT
BEGIN:VEVENT
DTSTART;TZID=America/Vancouver:20300125T210000
DTEND;TZID=America/Vancouver:20300126T010000
DTSTAMP:20260420T185608
CREATED:20240327T154704Z
LAST-MODIFIED:20251204T173553Z
UID:10420841-1895605200-1895619600@golatindance.com
SUMMARY:Latin Night at World Dance Company
DESCRIPTION:* Doors open at 9pm with a FREE dance lesson then the party starts at 9 pm and dance till 1 am\nFREE BEFORE 9PM\nDifferent themes every week!\nTickets available at: https://worlddanceco.com/\n$10 in advance\n$15 at the door\nWhere?\n4858 Imperial St.\, Burnaby\, near Metrotown\n604-517-4644\nDon’t miss it!!! Everyone is welcome
URL:https://golatindance.com/event/latin-night-at-world-dance-company/2030-01-25/
LOCATION:World Dance Co\, 4858 Imperial St\, Burnaby\, BC\, V5J 1C4\, Canada
CATEGORIES:Vancouver
END:VEVENT
BEGIN:VEVENT
DTSTART;TZID=America/Vancouver:20300201T210000
DTEND;TZID=America/Vancouver:20300202T010000
DTSTAMP:20260420T185608
CREATED:20240327T154704Z
LAST-MODIFIED:20251204T173553Z
UID:10420842-1896210000-1896224400@golatindance.com
SUMMARY:Latin Night at World Dance Company
DESCRIPTION:* Doors open at 9pm with a FREE dance lesson then the party starts at 9 pm and dance till 1 am\nFREE BEFORE 9PM\nDifferent themes every week!\nTickets available at: https://worlddanceco.com/\n$10 in advance\n$15 at the door\nWhere?\n4858 Imperial St.\, Burnaby\, near Metrotown\n604-517-4644\nDon’t miss it!!! Everyone is welcome
URL:https://golatindance.com/event/latin-night-at-world-dance-company/2030-02-01/
LOCATION:World Dance Co\, 4858 Imperial St\, Burnaby\, BC\, V5J 1C4\, Canada
CATEGORIES:Vancouver
END:VEVENT
BEGIN:VEVENT
DTSTART;TZID=America/Vancouver:20300208T210000
DTEND;TZID=America/Vancouver:20300209T010000
DTSTAMP:20260420T185608
CREATED:20240327T154704Z
LAST-MODIFIED:20251204T173553Z
UID:10420843-1896814800-1896829200@golatindance.com
SUMMARY:Latin Night at World Dance Company
DESCRIPTION:* Doors open at 9pm with a FREE dance lesson then the party starts at 9 pm and dance till 1 am\nFREE BEFORE 9PM\nDifferent themes every week!\nTickets available at: https://worlddanceco.com/\n$10 in advance\n$15 at the door\nWhere?\n4858 Imperial St.\, Burnaby\, near Metrotown\n604-517-4644\nDon’t miss it!!! Everyone is welcome
URL:https://golatindance.com/event/latin-night-at-world-dance-company/2030-02-08/
LOCATION:World Dance Co\, 4858 Imperial St\, Burnaby\, BC\, V5J 1C4\, Canada
CATEGORIES:Vancouver
END:VEVENT
BEGIN:VEVENT
DTSTART;TZID=America/Vancouver:20300215T210000
DTEND;TZID=America/Vancouver:20300216T010000
DTSTAMP:20260420T185608
CREATED:20240327T154704Z
LAST-MODIFIED:20251204T173553Z
UID:10420844-1897419600-1897434000@golatindance.com
SUMMARY:Latin Night at World Dance Company
DESCRIPTION:* Doors open at 9pm with a FREE dance lesson then the party starts at 9 pm and dance till 1 am\nFREE BEFORE 9PM\nDifferent themes every week!\nTickets available at: https://worlddanceco.com/\n$10 in advance\n$15 at the door\nWhere?\n4858 Imperial St.\, Burnaby\, near Metrotown\n604-517-4644\nDon’t miss it!!! Everyone is welcome
URL:https://golatindance.com/event/latin-night-at-world-dance-company/2030-02-15/
LOCATION:World Dance Co\, 4858 Imperial St\, Burnaby\, BC\, V5J 1C4\, Canada
CATEGORIES:Vancouver
END:VEVENT
BEGIN:VEVENT
DTSTART;TZID=America/Vancouver:20300222T210000
DTEND;TZID=America/Vancouver:20300223T010000
DTSTAMP:20260420T185608
CREATED:20240327T154704Z
LAST-MODIFIED:20251204T173553Z
UID:10420845-1898024400-1898038800@golatindance.com
SUMMARY:Latin Night at World Dance Company
DESCRIPTION:* Doors open at 9pm with a FREE dance lesson then the party starts at 9 pm and dance till 1 am\nFREE BEFORE 9PM\nDifferent themes every week!\nTickets available at: https://worlddanceco.com/\n$10 in advance\n$15 at the door\nWhere?\n4858 Imperial St.\, Burnaby\, near Metrotown\n604-517-4644\nDon’t miss it!!! Everyone is welcome
URL:https://golatindance.com/event/latin-night-at-world-dance-company/2030-02-22/
LOCATION:World Dance Co\, 4858 Imperial St\, Burnaby\, BC\, V5J 1C4\, Canada
CATEGORIES:Vancouver
END:VEVENT
BEGIN:VEVENT
DTSTART;TZID=America/Vancouver:20300301T210000
DTEND;TZID=America/Vancouver:20300302T010000
DTSTAMP:20260420T185608
CREATED:20240327T154704Z
LAST-MODIFIED:20251204T173553Z
UID:10420846-1898629200-1898643600@golatindance.com
SUMMARY:Latin Night at World Dance Company
DESCRIPTION:* Doors open at 9pm with a FREE dance lesson then the party starts at 9 pm and dance till 1 am\nFREE BEFORE 9PM\nDifferent themes every week!\nTickets available at: https://worlddanceco.com/\n$10 in advance\n$15 at the door\nWhere?\n4858 Imperial St.\, Burnaby\, near Metrotown\n604-517-4644\nDon’t miss it!!! Everyone is welcome
URL:https://golatindance.com/event/latin-night-at-world-dance-company/2030-03-01/
LOCATION:World Dance Co\, 4858 Imperial St\, Burnaby\, BC\, V5J 1C4\, Canada
CATEGORIES:Vancouver
END:VEVENT
BEGIN:VEVENT
DTSTART;TZID=America/Vancouver:20300308T210000
DTEND;TZID=America/Vancouver:20300309T010000
DTSTAMP:20260420T185608
CREATED:20240327T154704Z
LAST-MODIFIED:20251204T173553Z
UID:10420847-1899234000-1899248400@golatindance.com
SUMMARY:Latin Night at World Dance Company
DESCRIPTION:* Doors open at 9pm with a FREE dance lesson then the party starts at 9 pm and dance till 1 am\nFREE BEFORE 9PM\nDifferent themes every week!\nTickets available at: https://worlddanceco.com/\n$10 in advance\n$15 at the door\nWhere?\n4858 Imperial St.\, Burnaby\, near Metrotown\n604-517-4644\nDon’t miss it!!! Everyone is welcome
URL:https://golatindance.com/event/latin-night-at-world-dance-company/2030-03-08/
LOCATION:World Dance Co\, 4858 Imperial St\, Burnaby\, BC\, V5J 1C4\, Canada
CATEGORIES:Vancouver
END:VEVENT
BEGIN:VEVENT
DTSTART;TZID=America/Vancouver:20300315T210000
DTEND;TZID=America/Vancouver:20300316T010000
DTSTAMP:20260420T185608
CREATED:20240327T154704Z
LAST-MODIFIED:20251204T173553Z
UID:10420848-1899838800-1899853200@golatindance.com
SUMMARY:Latin Night at World Dance Company
DESCRIPTION:* Doors open at 9pm with a FREE dance lesson then the party starts at 9 pm and dance till 1 am\nFREE BEFORE 9PM\nDifferent themes every week!\nTickets available at: https://worlddanceco.com/\n$10 in advance\n$15 at the door\nWhere?\n4858 Imperial St.\, Burnaby\, near Metrotown\n604-517-4644\nDon’t miss it!!! Everyone is welcome
URL:https://golatindance.com/event/latin-night-at-world-dance-company/2030-03-15/
LOCATION:World Dance Co\, 4858 Imperial St\, Burnaby\, BC\, V5J 1C4\, Canada
CATEGORIES:Vancouver
END:VEVENT
BEGIN:VEVENT
DTSTART;TZID=America/Vancouver:20300322T210000
DTEND;TZID=America/Vancouver:20300323T010000
DTSTAMP:20260420T185608
CREATED:20240327T154704Z
LAST-MODIFIED:20251204T173553Z
UID:10420849-1900443600-1900458000@golatindance.com
SUMMARY:Latin Night at World Dance Company
DESCRIPTION:* Doors open at 9pm with a FREE dance lesson then the party starts at 9 pm and dance till 1 am\nFREE BEFORE 9PM\nDifferent themes every week!\nTickets available at: https://worlddanceco.com/\n$10 in advance\n$15 at the door\nWhere?\n4858 Imperial St.\, Burnaby\, near Metrotown\n604-517-4644\nDon’t miss it!!! Everyone is welcome
URL:https://golatindance.com/event/latin-night-at-world-dance-company/2030-03-22/
LOCATION:World Dance Co\, 4858 Imperial St\, Burnaby\, BC\, V5J 1C4\, Canada
CATEGORIES:Vancouver
END:VEVENT
BEGIN:VEVENT
DTSTART;TZID=America/Vancouver:20300329T210000
DTEND;TZID=America/Vancouver:20300330T010000
DTSTAMP:20260420T185608
CREATED:20240327T154704Z
LAST-MODIFIED:20251204T173553Z
UID:10420850-1901048400-1901062800@golatindance.com
SUMMARY:Latin Night at World Dance Company
DESCRIPTION:* Doors open at 9pm with a FREE dance lesson then the party starts at 9 pm and dance till 1 am\nFREE BEFORE 9PM\nDifferent themes every week!\nTickets available at: https://worlddanceco.com/\n$10 in advance\n$15 at the door\nWhere?\n4858 Imperial St.\, Burnaby\, near Metrotown\n604-517-4644\nDon’t miss it!!! Everyone is welcome
URL:https://golatindance.com/event/latin-night-at-world-dance-company/2030-03-29/
LOCATION:World Dance Co\, 4858 Imperial St\, Burnaby\, BC\, V5J 1C4\, Canada
CATEGORIES:Vancouver
END:VEVENT
BEGIN:VEVENT
DTSTART;TZID=America/Vancouver:20300405T210000
DTEND;TZID=America/Vancouver:20300406T010000
DTSTAMP:20260420T185608
CREATED:20240327T154704Z
LAST-MODIFIED:20251204T173553Z
UID:10420851-1901653200-1901667600@golatindance.com
SUMMARY:Latin Night at World Dance Company
DESCRIPTION:* Doors open at 9pm with a FREE dance lesson then the party starts at 9 pm and dance till 1 am\nFREE BEFORE 9PM\nDifferent themes every week!\nTickets available at: https://worlddanceco.com/\n$10 in advance\n$15 at the door\nWhere?\n4858 Imperial St.\, Burnaby\, near Metrotown\n604-517-4644\nDon’t miss it!!! Everyone is welcome
URL:https://golatindance.com/event/latin-night-at-world-dance-company/2030-04-05/
LOCATION:World Dance Co\, 4858 Imperial St\, Burnaby\, BC\, V5J 1C4\, Canada
CATEGORIES:Vancouver
END:VEVENT
BEGIN:VEVENT
DTSTART;TZID=America/Vancouver:20300412T210000
DTEND;TZID=America/Vancouver:20300413T010000
DTSTAMP:20260420T185608
CREATED:20240327T154704Z
LAST-MODIFIED:20251204T173553Z
UID:10420852-1902258000-1902272400@golatindance.com
SUMMARY:Latin Night at World Dance Company
DESCRIPTION:* Doors open at 9pm with a FREE dance lesson then the party starts at 9 pm and dance till 1 am\nFREE BEFORE 9PM\nDifferent themes every week!\nTickets available at: https://worlddanceco.com/\n$10 in advance\n$15 at the door\nWhere?\n4858 Imperial St.\, Burnaby\, near Metrotown\n604-517-4644\nDon’t miss it!!! Everyone is welcome
URL:https://golatindance.com/event/latin-night-at-world-dance-company/2030-04-12/
LOCATION:World Dance Co\, 4858 Imperial St\, Burnaby\, BC\, V5J 1C4\, Canada
CATEGORIES:Vancouver
END:VEVENT
BEGIN:VEVENT
DTSTART;TZID=America/Vancouver:20300419T210000
DTEND;TZID=America/Vancouver:20300420T010000
DTSTAMP:20260420T185608
CREATED:20240327T154704Z
LAST-MODIFIED:20251204T173553Z
UID:10420853-1902862800-1902877200@golatindance.com
SUMMARY:Latin Night at World Dance Company
DESCRIPTION:* Doors open at 9pm with a FREE dance lesson then the party starts at 9 pm and dance till 1 am\nFREE BEFORE 9PM\nDifferent themes every week!\nTickets available at: https://worlddanceco.com/\n$10 in advance\n$15 at the door\nWhere?\n4858 Imperial St.\, Burnaby\, near Metrotown\n604-517-4644\nDon’t miss it!!! Everyone is welcome
URL:https://golatindance.com/event/latin-night-at-world-dance-company/2030-04-19/
LOCATION:World Dance Co\, 4858 Imperial St\, Burnaby\, BC\, V5J 1C4\, Canada
CATEGORIES:Vancouver
END:VEVENT
BEGIN:VEVENT
DTSTART;TZID=America/Vancouver:20300426T210000
DTEND;TZID=America/Vancouver:20300427T010000
DTSTAMP:20260420T185608
CREATED:20240327T154704Z
LAST-MODIFIED:20251204T173553Z
UID:10420854-1903467600-1903482000@golatindance.com
SUMMARY:Latin Night at World Dance Company
DESCRIPTION:* Doors open at 9pm with a FREE dance lesson then the party starts at 9 pm and dance till 1 am\nFREE BEFORE 9PM\nDifferent themes every week!\nTickets available at: https://worlddanceco.com/\n$10 in advance\n$15 at the door\nWhere?\n4858 Imperial St.\, Burnaby\, near Metrotown\n604-517-4644\nDon’t miss it!!! Everyone is welcome
URL:https://golatindance.com/event/latin-night-at-world-dance-company/2030-04-26/
LOCATION:World Dance Co\, 4858 Imperial St\, Burnaby\, BC\, V5J 1C4\, Canada
CATEGORIES:Vancouver
END:VEVENT
BEGIN:VEVENT
DTSTART;TZID=America/Vancouver:20300503T210000
DTEND;TZID=America/Vancouver:20300504T010000
DTSTAMP:20260420T185608
CREATED:20240327T154704Z
LAST-MODIFIED:20251204T173553Z
UID:10420855-1904072400-1904086800@golatindance.com
SUMMARY:Latin Night at World Dance Company
DESCRIPTION:* Doors open at 9pm with a FREE dance lesson then the party starts at 9 pm and dance till 1 am\nFREE BEFORE 9PM\nDifferent themes every week!\nTickets available at: https://worlddanceco.com/\n$10 in advance\n$15 at the door\nWhere?\n4858 Imperial St.\, Burnaby\, near Metrotown\n604-517-4644\nDon’t miss it!!! Everyone is welcome
URL:https://golatindance.com/event/latin-night-at-world-dance-company/2030-05-03/
LOCATION:World Dance Co\, 4858 Imperial St\, Burnaby\, BC\, V5J 1C4\, Canada
CATEGORIES:Vancouver
END:VEVENT
BEGIN:VEVENT
DTSTART;TZID=America/Vancouver:20300510T210000
DTEND;TZID=America/Vancouver:20300511T010000
DTSTAMP:20260420T185608
CREATED:20240327T154704Z
LAST-MODIFIED:20251204T173553Z
UID:10420856-1904677200-1904691600@golatindance.com
SUMMARY:Latin Night at World Dance Company
DESCRIPTION:* Doors open at 9pm with a FREE dance lesson then the party starts at 9 pm and dance till 1 am\nFREE BEFORE 9PM\nDifferent themes every week!\nTickets available at: https://worlddanceco.com/\n$10 in advance\n$15 at the door\nWhere?\n4858 Imperial St.\, Burnaby\, near Metrotown\n604-517-4644\nDon’t miss it!!! Everyone is welcome
URL:https://golatindance.com/event/latin-night-at-world-dance-company/2030-05-10/
LOCATION:World Dance Co\, 4858 Imperial St\, Burnaby\, BC\, V5J 1C4\, Canada
CATEGORIES:Vancouver
END:VEVENT
BEGIN:VEVENT
DTSTART;TZID=America/Vancouver:20300517T210000
DTEND;TZID=America/Vancouver:20300518T010000
DTSTAMP:20260420T185608
CREATED:20240327T154704Z
LAST-MODIFIED:20251204T173553Z
UID:10420857-1905282000-1905296400@golatindance.com
SUMMARY:Latin Night at World Dance Company
DESCRIPTION:* Doors open at 9pm with a FREE dance lesson then the party starts at 9 pm and dance till 1 am\nFREE BEFORE 9PM\nDifferent themes every week!\nTickets available at: https://worlddanceco.com/\n$10 in advance\n$15 at the door\nWhere?\n4858 Imperial St.\, Burnaby\, near Metrotown\n604-517-4644\nDon’t miss it!!! Everyone is welcome
URL:https://golatindance.com/event/latin-night-at-world-dance-company/2030-05-17/
LOCATION:World Dance Co\, 4858 Imperial St\, Burnaby\, BC\, V5J 1C4\, Canada
CATEGORIES:Vancouver
END:VEVENT
BEGIN:VEVENT
DTSTART;TZID=America/Vancouver:20300524T210000
DTEND;TZID=America/Vancouver:20300525T010000
DTSTAMP:20260420T185608
CREATED:20240327T154704Z
LAST-MODIFIED:20251204T173553Z
UID:10420858-1905886800-1905901200@golatindance.com
SUMMARY:Latin Night at World Dance Company
DESCRIPTION:* Doors open at 9pm with a FREE dance lesson then the party starts at 9 pm and dance till 1 am\nFREE BEFORE 9PM\nDifferent themes every week!\nTickets available at: https://worlddanceco.com/\n$10 in advance\n$15 at the door\nWhere?\n4858 Imperial St.\, Burnaby\, near Metrotown\n604-517-4644\nDon’t miss it!!! Everyone is welcome
URL:https://golatindance.com/event/latin-night-at-world-dance-company/2030-05-24/
LOCATION:World Dance Co\, 4858 Imperial St\, Burnaby\, BC\, V5J 1C4\, Canada
CATEGORIES:Vancouver
END:VEVENT
BEGIN:VEVENT
DTSTART;TZID=America/Vancouver:20300531T210000
DTEND;TZID=America/Vancouver:20300601T010000
DTSTAMP:20260420T185608
CREATED:20240327T154704Z
LAST-MODIFIED:20251204T173553Z
UID:10420859-1906491600-1906506000@golatindance.com
SUMMARY:Latin Night at World Dance Company
DESCRIPTION:* Doors open at 9pm with a FREE dance lesson then the party starts at 9 pm and dance till 1 am\nFREE BEFORE 9PM\nDifferent themes every week!\nTickets available at: https://worlddanceco.com/\n$10 in advance\n$15 at the door\nWhere?\n4858 Imperial St.\, Burnaby\, near Metrotown\n604-517-4644\nDon’t miss it!!! Everyone is welcome
URL:https://golatindance.com/event/latin-night-at-world-dance-company/2030-05-31/
LOCATION:World Dance Co\, 4858 Imperial St\, Burnaby\, BC\, V5J 1C4\, Canada
CATEGORIES:Vancouver
END:VEVENT
BEGIN:VEVENT
DTSTART;TZID=America/Vancouver:20300607T210000
DTEND;TZID=America/Vancouver:20300608T010000
DTSTAMP:20260420T185608
CREATED:20240327T154704Z
LAST-MODIFIED:20251204T173553Z
UID:10420860-1907096400-1907110800@golatindance.com
SUMMARY:Latin Night at World Dance Company
DESCRIPTION:* Doors open at 9pm with a FREE dance lesson then the party starts at 9 pm and dance till 1 am\nFREE BEFORE 9PM\nDifferent themes every week!\nTickets available at: https://worlddanceco.com/\n$10 in advance\n$15 at the door\nWhere?\n4858 Imperial St.\, Burnaby\, near Metrotown\n604-517-4644\nDon’t miss it!!! Everyone is welcome
URL:https://golatindance.com/event/latin-night-at-world-dance-company/2030-06-07/
LOCATION:World Dance Co\, 4858 Imperial St\, Burnaby\, BC\, V5J 1C4\, Canada
CATEGORIES:Vancouver
END:VEVENT
BEGIN:VEVENT
DTSTART;TZID=America/Vancouver:20300614T210000
DTEND;TZID=America/Vancouver:20300615T010000
DTSTAMP:20260420T185608
CREATED:20240327T154704Z
LAST-MODIFIED:20251204T173553Z
UID:10420861-1907701200-1907715600@golatindance.com
SUMMARY:Latin Night at World Dance Company
DESCRIPTION:* Doors open at 9pm with a FREE dance lesson then the party starts at 9 pm and dance till 1 am\nFREE BEFORE 9PM\nDifferent themes every week!\nTickets available at: https://worlddanceco.com/\n$10 in advance\n$15 at the door\nWhere?\n4858 Imperial St.\, Burnaby\, near Metrotown\n604-517-4644\nDon’t miss it!!! Everyone is welcome
URL:https://golatindance.com/event/latin-night-at-world-dance-company/2030-06-14/
LOCATION:World Dance Co\, 4858 Imperial St\, Burnaby\, BC\, V5J 1C4\, Canada
CATEGORIES:Vancouver
END:VEVENT
BEGIN:VEVENT
DTSTART;TZID=America/Vancouver:20300621T210000
DTEND;TZID=America/Vancouver:20300622T010000
DTSTAMP:20260420T185608
CREATED:20240327T154704Z
LAST-MODIFIED:20251204T173553Z
UID:10420862-1908306000-1908320400@golatindance.com
SUMMARY:Latin Night at World Dance Company
DESCRIPTION:* Doors open at 9pm with a FREE dance lesson then the party starts at 9 pm and dance till 1 am\nFREE BEFORE 9PM\nDifferent themes every week!\nTickets available at: https://worlddanceco.com/\n$10 in advance\n$15 at the door\nWhere?\n4858 Imperial St.\, Burnaby\, near Metrotown\n604-517-4644\nDon’t miss it!!! Everyone is welcome
URL:https://golatindance.com/event/latin-night-at-world-dance-company/2030-06-21/
LOCATION:World Dance Co\, 4858 Imperial St\, Burnaby\, BC\, V5J 1C4\, Canada
CATEGORIES:Vancouver
END:VEVENT
BEGIN:VEVENT
DTSTART;TZID=America/Vancouver:20300628T210000
DTEND;TZID=America/Vancouver:20300629T010000
DTSTAMP:20260420T185608
CREATED:20240327T154704Z
LAST-MODIFIED:20251204T173553Z
UID:10420863-1908910800-1908925200@golatindance.com
SUMMARY:Latin Night at World Dance Company
DESCRIPTION:* Doors open at 9pm with a FREE dance lesson then the party starts at 9 pm and dance till 1 am\nFREE BEFORE 9PM\nDifferent themes every week!\nTickets available at: https://worlddanceco.com/\n$10 in advance\n$15 at the door\nWhere?\n4858 Imperial St.\, Burnaby\, near Metrotown\n604-517-4644\nDon’t miss it!!! Everyone is welcome
URL:https://golatindance.com/event/latin-night-at-world-dance-company/2030-06-28/
LOCATION:World Dance Co\, 4858 Imperial St\, Burnaby\, BC\, V5J 1C4\, Canada
CATEGORIES:Vancouver
END:VEVENT
BEGIN:VEVENT
DTSTART;TZID=America/Vancouver:20300705T210000
DTEND;TZID=America/Vancouver:20300706T010000
DTSTAMP:20260420T185608
CREATED:20240327T154704Z
LAST-MODIFIED:20251204T173553Z
UID:10420864-1909515600-1909530000@golatindance.com
SUMMARY:Latin Night at World Dance Company
DESCRIPTION:* Doors open at 9pm with a FREE dance lesson then the party starts at 9 pm and dance till 1 am\nFREE BEFORE 9PM\nDifferent themes every week!\nTickets available at: https://worlddanceco.com/\n$10 in advance\n$15 at the door\nWhere?\n4858 Imperial St.\, Burnaby\, near Metrotown\n604-517-4644\nDon’t miss it!!! Everyone is welcome
URL:https://golatindance.com/event/latin-night-at-world-dance-company/2030-07-05/
LOCATION:World Dance Co\, 4858 Imperial St\, Burnaby\, BC\, V5J 1C4\, Canada
CATEGORIES:Vancouver
END:VEVENT
END:VCALENDAR