BEGIN:VCALENDAR
VERSION:2.0
PRODID:-//GO Latin Dance - ECPv6.15.18//NONSGML v1.0//EN
CALSCALE:GREGORIAN
METHOD:PUBLISH
X-WR-CALNAME:GO Latin Dance
X-ORIGINAL-URL:https://golatindance.com
X-WR-CALDESC:Events for GO Latin Dance
REFRESH-INTERVAL;VALUE=DURATION:PT1H
X-Robots-Tag:noindex
X-PUBLISHED-TTL:PT1H
BEGIN:VTIMEZONE
TZID:America/Vancouver
BEGIN:DAYLIGHT
TZOFFSETFROM:-0800
TZOFFSETTO:-0700
TZNAME:PDT
DTSTART:20290311T100000
END:DAYLIGHT
BEGIN:STANDARD
TZOFFSETFROM:-0700
TZOFFSETTO:-0800
TZNAME:PST
DTSTART:20291104T090000
END:STANDARD
BEGIN:DAYLIGHT
TZOFFSETFROM:-0800
TZOFFSETTO:-0700
TZNAME:PDT
DTSTART:20300310T100000
END:DAYLIGHT
BEGIN:STANDARD
TZOFFSETFROM:-0700
TZOFFSETTO:-0800
TZNAME:PST
DTSTART:20301103T090000
END:STANDARD
BEGIN:DAYLIGHT
TZOFFSETFROM:-0800
TZOFFSETTO:-0700
TZNAME:PDT
DTSTART:20310309T100000
END:DAYLIGHT
BEGIN:STANDARD
TZOFFSETFROM:-0700
TZOFFSETTO:-0800
TZNAME:PST
DTSTART:20311102T090000
END:STANDARD
END:VTIMEZONE
BEGIN:VEVENT
DTSTART;TZID=America/Vancouver:20300712T210000
DTEND;TZID=America/Vancouver:20300713T010000
DTSTAMP:20260420T231619
CREATED:20240327T154704Z
LAST-MODIFIED:20251204T173553Z
UID:10420865-1910120400-1910134800@golatindance.com
SUMMARY:Latin Night at World Dance Company
DESCRIPTION:* Doors open at 9pm with a FREE dance lesson then the party starts at 9 pm and dance till 1 am\nFREE BEFORE 9PM\nDifferent themes every week!\nTickets available at: https://worlddanceco.com/\n$10 in advance\n$15 at the door\nWhere?\n4858 Imperial St.\, Burnaby\, near Metrotown\n604-517-4644\nDon’t miss it!!! Everyone is welcome
URL:https://golatindance.com/event/latin-night-at-world-dance-company/2030-07-12/
LOCATION:World Dance Co\, 4858 Imperial St\, Burnaby\, BC\, V5J 1C4\, Canada
CATEGORIES:Vancouver
END:VEVENT
BEGIN:VEVENT
DTSTART;TZID=America/Vancouver:20300719T210000
DTEND;TZID=America/Vancouver:20300720T010000
DTSTAMP:20260420T231619
CREATED:20240327T154704Z
LAST-MODIFIED:20251204T173553Z
UID:10420866-1910725200-1910739600@golatindance.com
SUMMARY:Latin Night at World Dance Company
DESCRIPTION:* Doors open at 9pm with a FREE dance lesson then the party starts at 9 pm and dance till 1 am\nFREE BEFORE 9PM\nDifferent themes every week!\nTickets available at: https://worlddanceco.com/\n$10 in advance\n$15 at the door\nWhere?\n4858 Imperial St.\, Burnaby\, near Metrotown\n604-517-4644\nDon’t miss it!!! Everyone is welcome
URL:https://golatindance.com/event/latin-night-at-world-dance-company/2030-07-19/
LOCATION:World Dance Co\, 4858 Imperial St\, Burnaby\, BC\, V5J 1C4\, Canada
CATEGORIES:Vancouver
END:VEVENT
BEGIN:VEVENT
DTSTART;TZID=America/Vancouver:20300726T210000
DTEND;TZID=America/Vancouver:20300727T010000
DTSTAMP:20260420T231619
CREATED:20240327T154704Z
LAST-MODIFIED:20251204T173553Z
UID:10420867-1911330000-1911344400@golatindance.com
SUMMARY:Latin Night at World Dance Company
DESCRIPTION:* Doors open at 9pm with a FREE dance lesson then the party starts at 9 pm and dance till 1 am\nFREE BEFORE 9PM\nDifferent themes every week!\nTickets available at: https://worlddanceco.com/\n$10 in advance\n$15 at the door\nWhere?\n4858 Imperial St.\, Burnaby\, near Metrotown\n604-517-4644\nDon’t miss it!!! Everyone is welcome
URL:https://golatindance.com/event/latin-night-at-world-dance-company/2030-07-26/
LOCATION:World Dance Co\, 4858 Imperial St\, Burnaby\, BC\, V5J 1C4\, Canada
CATEGORIES:Vancouver
END:VEVENT
BEGIN:VEVENT
DTSTART;TZID=America/Vancouver:20300802T210000
DTEND;TZID=America/Vancouver:20300803T010000
DTSTAMP:20260420T231619
CREATED:20240327T154704Z
LAST-MODIFIED:20251204T173553Z
UID:10420868-1911934800-1911949200@golatindance.com
SUMMARY:Latin Night at World Dance Company
DESCRIPTION:* Doors open at 9pm with a FREE dance lesson then the party starts at 9 pm and dance till 1 am\nFREE BEFORE 9PM\nDifferent themes every week!\nTickets available at: https://worlddanceco.com/\n$10 in advance\n$15 at the door\nWhere?\n4858 Imperial St.\, Burnaby\, near Metrotown\n604-517-4644\nDon’t miss it!!! Everyone is welcome
URL:https://golatindance.com/event/latin-night-at-world-dance-company/2030-08-02/
LOCATION:World Dance Co\, 4858 Imperial St\, Burnaby\, BC\, V5J 1C4\, Canada
CATEGORIES:Vancouver
END:VEVENT
BEGIN:VEVENT
DTSTART;TZID=America/Vancouver:20300809T210000
DTEND;TZID=America/Vancouver:20300810T010000
DTSTAMP:20260420T231619
CREATED:20240327T154704Z
LAST-MODIFIED:20251204T173553Z
UID:10420869-1912539600-1912554000@golatindance.com
SUMMARY:Latin Night at World Dance Company
DESCRIPTION:* Doors open at 9pm with a FREE dance lesson then the party starts at 9 pm and dance till 1 am\nFREE BEFORE 9PM\nDifferent themes every week!\nTickets available at: https://worlddanceco.com/\n$10 in advance\n$15 at the door\nWhere?\n4858 Imperial St.\, Burnaby\, near Metrotown\n604-517-4644\nDon’t miss it!!! Everyone is welcome
URL:https://golatindance.com/event/latin-night-at-world-dance-company/2030-08-09/
LOCATION:World Dance Co\, 4858 Imperial St\, Burnaby\, BC\, V5J 1C4\, Canada
CATEGORIES:Vancouver
END:VEVENT
BEGIN:VEVENT
DTSTART;TZID=America/Vancouver:20300816T210000
DTEND;TZID=America/Vancouver:20300817T010000
DTSTAMP:20260420T231619
CREATED:20240327T154704Z
LAST-MODIFIED:20251204T173553Z
UID:10420870-1913144400-1913158800@golatindance.com
SUMMARY:Latin Night at World Dance Company
DESCRIPTION:* Doors open at 9pm with a FREE dance lesson then the party starts at 9 pm and dance till 1 am\nFREE BEFORE 9PM\nDifferent themes every week!\nTickets available at: https://worlddanceco.com/\n$10 in advance\n$15 at the door\nWhere?\n4858 Imperial St.\, Burnaby\, near Metrotown\n604-517-4644\nDon’t miss it!!! Everyone is welcome
URL:https://golatindance.com/event/latin-night-at-world-dance-company/2030-08-16/
LOCATION:World Dance Co\, 4858 Imperial St\, Burnaby\, BC\, V5J 1C4\, Canada
CATEGORIES:Vancouver
END:VEVENT
BEGIN:VEVENT
DTSTART;TZID=America/Vancouver:20300823T210000
DTEND;TZID=America/Vancouver:20300824T010000
DTSTAMP:20260420T231619
CREATED:20240327T154704Z
LAST-MODIFIED:20251204T173553Z
UID:10420871-1913749200-1913763600@golatindance.com
SUMMARY:Latin Night at World Dance Company
DESCRIPTION:* Doors open at 9pm with a FREE dance lesson then the party starts at 9 pm and dance till 1 am\nFREE BEFORE 9PM\nDifferent themes every week!\nTickets available at: https://worlddanceco.com/\n$10 in advance\n$15 at the door\nWhere?\n4858 Imperial St.\, Burnaby\, near Metrotown\n604-517-4644\nDon’t miss it!!! Everyone is welcome
URL:https://golatindance.com/event/latin-night-at-world-dance-company/2030-08-23/
LOCATION:World Dance Co\, 4858 Imperial St\, Burnaby\, BC\, V5J 1C4\, Canada
CATEGORIES:Vancouver
END:VEVENT
BEGIN:VEVENT
DTSTART;TZID=America/Vancouver:20300830T210000
DTEND;TZID=America/Vancouver:20300831T010000
DTSTAMP:20260420T231619
CREATED:20240327T154704Z
LAST-MODIFIED:20251204T173553Z
UID:10420872-1914354000-1914368400@golatindance.com
SUMMARY:Latin Night at World Dance Company
DESCRIPTION:* Doors open at 9pm with a FREE dance lesson then the party starts at 9 pm and dance till 1 am\nFREE BEFORE 9PM\nDifferent themes every week!\nTickets available at: https://worlddanceco.com/\n$10 in advance\n$15 at the door\nWhere?\n4858 Imperial St.\, Burnaby\, near Metrotown\n604-517-4644\nDon’t miss it!!! Everyone is welcome
URL:https://golatindance.com/event/latin-night-at-world-dance-company/2030-08-30/
LOCATION:World Dance Co\, 4858 Imperial St\, Burnaby\, BC\, V5J 1C4\, Canada
CATEGORIES:Vancouver
END:VEVENT
BEGIN:VEVENT
DTSTART;TZID=America/Vancouver:20300906T210000
DTEND;TZID=America/Vancouver:20300907T010000
DTSTAMP:20260420T231619
CREATED:20240327T154704Z
LAST-MODIFIED:20251204T173553Z
UID:10420873-1914958800-1914973200@golatindance.com
SUMMARY:Latin Night at World Dance Company
DESCRIPTION:* Doors open at 9pm with a FREE dance lesson then the party starts at 9 pm and dance till 1 am\nFREE BEFORE 9PM\nDifferent themes every week!\nTickets available at: https://worlddanceco.com/\n$10 in advance\n$15 at the door\nWhere?\n4858 Imperial St.\, Burnaby\, near Metrotown\n604-517-4644\nDon’t miss it!!! Everyone is welcome
URL:https://golatindance.com/event/latin-night-at-world-dance-company/2030-09-06/
LOCATION:World Dance Co\, 4858 Imperial St\, Burnaby\, BC\, V5J 1C4\, Canada
CATEGORIES:Vancouver
END:VEVENT
BEGIN:VEVENT
DTSTART;TZID=America/Vancouver:20300913T210000
DTEND;TZID=America/Vancouver:20300914T010000
DTSTAMP:20260420T231619
CREATED:20240327T154704Z
LAST-MODIFIED:20251204T173553Z
UID:10420874-1915563600-1915578000@golatindance.com
SUMMARY:Latin Night at World Dance Company
DESCRIPTION:* Doors open at 9pm with a FREE dance lesson then the party starts at 9 pm and dance till 1 am\nFREE BEFORE 9PM\nDifferent themes every week!\nTickets available at: https://worlddanceco.com/\n$10 in advance\n$15 at the door\nWhere?\n4858 Imperial St.\, Burnaby\, near Metrotown\n604-517-4644\nDon’t miss it!!! Everyone is welcome
URL:https://golatindance.com/event/latin-night-at-world-dance-company/2030-09-13/
LOCATION:World Dance Co\, 4858 Imperial St\, Burnaby\, BC\, V5J 1C4\, Canada
CATEGORIES:Vancouver
END:VEVENT
BEGIN:VEVENT
DTSTART;TZID=America/Vancouver:20300920T210000
DTEND;TZID=America/Vancouver:20300921T010000
DTSTAMP:20260420T231619
CREATED:20240327T154704Z
LAST-MODIFIED:20251204T173553Z
UID:10420875-1916168400-1916182800@golatindance.com
SUMMARY:Latin Night at World Dance Company
DESCRIPTION:* Doors open at 9pm with a FREE dance lesson then the party starts at 9 pm and dance till 1 am\nFREE BEFORE 9PM\nDifferent themes every week!\nTickets available at: https://worlddanceco.com/\n$10 in advance\n$15 at the door\nWhere?\n4858 Imperial St.\, Burnaby\, near Metrotown\n604-517-4644\nDon’t miss it!!! Everyone is welcome
URL:https://golatindance.com/event/latin-night-at-world-dance-company/2030-09-20/
LOCATION:World Dance Co\, 4858 Imperial St\, Burnaby\, BC\, V5J 1C4\, Canada
CATEGORIES:Vancouver
END:VEVENT
BEGIN:VEVENT
DTSTART;TZID=America/Vancouver:20300927T210000
DTEND;TZID=America/Vancouver:20300928T010000
DTSTAMP:20260420T231619
CREATED:20240327T154704Z
LAST-MODIFIED:20251204T173553Z
UID:10420876-1916773200-1916787600@golatindance.com
SUMMARY:Latin Night at World Dance Company
DESCRIPTION:* Doors open at 9pm with a FREE dance lesson then the party starts at 9 pm and dance till 1 am\nFREE BEFORE 9PM\nDifferent themes every week!\nTickets available at: https://worlddanceco.com/\n$10 in advance\n$15 at the door\nWhere?\n4858 Imperial St.\, Burnaby\, near Metrotown\n604-517-4644\nDon’t miss it!!! Everyone is welcome
URL:https://golatindance.com/event/latin-night-at-world-dance-company/2030-09-27/
LOCATION:World Dance Co\, 4858 Imperial St\, Burnaby\, BC\, V5J 1C4\, Canada
CATEGORIES:Vancouver
END:VEVENT
BEGIN:VEVENT
DTSTART;TZID=America/Vancouver:20301004T210000
DTEND;TZID=America/Vancouver:20301005T010000
DTSTAMP:20260420T231619
CREATED:20240327T154704Z
LAST-MODIFIED:20251204T173553Z
UID:10420877-1917378000-1917392400@golatindance.com
SUMMARY:Latin Night at World Dance Company
DESCRIPTION:* Doors open at 9pm with a FREE dance lesson then the party starts at 9 pm and dance till 1 am\nFREE BEFORE 9PM\nDifferent themes every week!\nTickets available at: https://worlddanceco.com/\n$10 in advance\n$15 at the door\nWhere?\n4858 Imperial St.\, Burnaby\, near Metrotown\n604-517-4644\nDon’t miss it!!! Everyone is welcome
URL:https://golatindance.com/event/latin-night-at-world-dance-company/2030-10-04/
LOCATION:World Dance Co\, 4858 Imperial St\, Burnaby\, BC\, V5J 1C4\, Canada
CATEGORIES:Vancouver
END:VEVENT
BEGIN:VEVENT
DTSTART;TZID=America/Vancouver:20301011T210000
DTEND;TZID=America/Vancouver:20301012T010000
DTSTAMP:20260420T231619
CREATED:20240327T154704Z
LAST-MODIFIED:20251204T173553Z
UID:10420878-1917982800-1917997200@golatindance.com
SUMMARY:Latin Night at World Dance Company
DESCRIPTION:* Doors open at 9pm with a FREE dance lesson then the party starts at 9 pm and dance till 1 am\nFREE BEFORE 9PM\nDifferent themes every week!\nTickets available at: https://worlddanceco.com/\n$10 in advance\n$15 at the door\nWhere?\n4858 Imperial St.\, Burnaby\, near Metrotown\n604-517-4644\nDon’t miss it!!! Everyone is welcome
URL:https://golatindance.com/event/latin-night-at-world-dance-company/2030-10-11/
LOCATION:World Dance Co\, 4858 Imperial St\, Burnaby\, BC\, V5J 1C4\, Canada
CATEGORIES:Vancouver
END:VEVENT
BEGIN:VEVENT
DTSTART;TZID=America/Vancouver:20301018T210000
DTEND;TZID=America/Vancouver:20301019T010000
DTSTAMP:20260420T231619
CREATED:20240327T154704Z
LAST-MODIFIED:20251204T173553Z
UID:10420879-1918587600-1918602000@golatindance.com
SUMMARY:Latin Night at World Dance Company
DESCRIPTION:* Doors open at 9pm with a FREE dance lesson then the party starts at 9 pm and dance till 1 am\nFREE BEFORE 9PM\nDifferent themes every week!\nTickets available at: https://worlddanceco.com/\n$10 in advance\n$15 at the door\nWhere?\n4858 Imperial St.\, Burnaby\, near Metrotown\n604-517-4644\nDon’t miss it!!! Everyone is welcome
URL:https://golatindance.com/event/latin-night-at-world-dance-company/2030-10-18/
LOCATION:World Dance Co\, 4858 Imperial St\, Burnaby\, BC\, V5J 1C4\, Canada
CATEGORIES:Vancouver
END:VEVENT
BEGIN:VEVENT
DTSTART;TZID=America/Vancouver:20301025T210000
DTEND;TZID=America/Vancouver:20301026T010000
DTSTAMP:20260420T231619
CREATED:20240327T154704Z
LAST-MODIFIED:20251204T173553Z
UID:10420880-1919192400-1919206800@golatindance.com
SUMMARY:Latin Night at World Dance Company
DESCRIPTION:* Doors open at 9pm with a FREE dance lesson then the party starts at 9 pm and dance till 1 am\nFREE BEFORE 9PM\nDifferent themes every week!\nTickets available at: https://worlddanceco.com/\n$10 in advance\n$15 at the door\nWhere?\n4858 Imperial St.\, Burnaby\, near Metrotown\n604-517-4644\nDon’t miss it!!! Everyone is welcome
URL:https://golatindance.com/event/latin-night-at-world-dance-company/2030-10-25/
LOCATION:World Dance Co\, 4858 Imperial St\, Burnaby\, BC\, V5J 1C4\, Canada
CATEGORIES:Vancouver
END:VEVENT
BEGIN:VEVENT
DTSTART;TZID=America/Vancouver:20301101T210000
DTEND;TZID=America/Vancouver:20301102T010000
DTSTAMP:20260420T231619
CREATED:20240327T154704Z
LAST-MODIFIED:20251204T173553Z
UID:10420881-1919797200-1919811600@golatindance.com
SUMMARY:Latin Night at World Dance Company
DESCRIPTION:* Doors open at 9pm with a FREE dance lesson then the party starts at 9 pm and dance till 1 am\nFREE BEFORE 9PM\nDifferent themes every week!\nTickets available at: https://worlddanceco.com/\n$10 in advance\n$15 at the door\nWhere?\n4858 Imperial St.\, Burnaby\, near Metrotown\n604-517-4644\nDon’t miss it!!! Everyone is welcome
URL:https://golatindance.com/event/latin-night-at-world-dance-company/2030-11-01/
LOCATION:World Dance Co\, 4858 Imperial St\, Burnaby\, BC\, V5J 1C4\, Canada
CATEGORIES:Vancouver
END:VEVENT
BEGIN:VEVENT
DTSTART;TZID=America/Vancouver:20301108T210000
DTEND;TZID=America/Vancouver:20301109T010000
DTSTAMP:20260420T231619
CREATED:20240327T154704Z
LAST-MODIFIED:20251204T173553Z
UID:10420882-1920402000-1920416400@golatindance.com
SUMMARY:Latin Night at World Dance Company
DESCRIPTION:* Doors open at 9pm with a FREE dance lesson then the party starts at 9 pm and dance till 1 am\nFREE BEFORE 9PM\nDifferent themes every week!\nTickets available at: https://worlddanceco.com/\n$10 in advance\n$15 at the door\nWhere?\n4858 Imperial St.\, Burnaby\, near Metrotown\n604-517-4644\nDon’t miss it!!! Everyone is welcome
URL:https://golatindance.com/event/latin-night-at-world-dance-company/2030-11-08/
LOCATION:World Dance Co\, 4858 Imperial St\, Burnaby\, BC\, V5J 1C4\, Canada
CATEGORIES:Vancouver
END:VEVENT
BEGIN:VEVENT
DTSTART;TZID=America/Vancouver:20301115T210000
DTEND;TZID=America/Vancouver:20301116T010000
DTSTAMP:20260420T231619
CREATED:20240327T154704Z
LAST-MODIFIED:20251204T173553Z
UID:10420883-1921006800-1921021200@golatindance.com
SUMMARY:Latin Night at World Dance Company
DESCRIPTION:* Doors open at 9pm with a FREE dance lesson then the party starts at 9 pm and dance till 1 am\nFREE BEFORE 9PM\nDifferent themes every week!\nTickets available at: https://worlddanceco.com/\n$10 in advance\n$15 at the door\nWhere?\n4858 Imperial St.\, Burnaby\, near Metrotown\n604-517-4644\nDon’t miss it!!! Everyone is welcome
URL:https://golatindance.com/event/latin-night-at-world-dance-company/2030-11-15/
LOCATION:World Dance Co\, 4858 Imperial St\, Burnaby\, BC\, V5J 1C4\, Canada
CATEGORIES:Vancouver
END:VEVENT
BEGIN:VEVENT
DTSTART;TZID=America/Vancouver:20301122T210000
DTEND;TZID=America/Vancouver:20301123T010000
DTSTAMP:20260420T231619
CREATED:20240327T154704Z
LAST-MODIFIED:20251204T173553Z
UID:10420884-1921611600-1921626000@golatindance.com
SUMMARY:Latin Night at World Dance Company
DESCRIPTION:* Doors open at 9pm with a FREE dance lesson then the party starts at 9 pm and dance till 1 am\nFREE BEFORE 9PM\nDifferent themes every week!\nTickets available at: https://worlddanceco.com/\n$10 in advance\n$15 at the door\nWhere?\n4858 Imperial St.\, Burnaby\, near Metrotown\n604-517-4644\nDon’t miss it!!! Everyone is welcome
URL:https://golatindance.com/event/latin-night-at-world-dance-company/2030-11-22/
LOCATION:World Dance Co\, 4858 Imperial St\, Burnaby\, BC\, V5J 1C4\, Canada
CATEGORIES:Vancouver
END:VEVENT
BEGIN:VEVENT
DTSTART;TZID=America/Vancouver:20301129T210000
DTEND;TZID=America/Vancouver:20301130T010000
DTSTAMP:20260420T231619
CREATED:20240327T154704Z
LAST-MODIFIED:20251204T173553Z
UID:10420885-1922216400-1922230800@golatindance.com
SUMMARY:Latin Night at World Dance Company
DESCRIPTION:* Doors open at 9pm with a FREE dance lesson then the party starts at 9 pm and dance till 1 am\nFREE BEFORE 9PM\nDifferent themes every week!\nTickets available at: https://worlddanceco.com/\n$10 in advance\n$15 at the door\nWhere?\n4858 Imperial St.\, Burnaby\, near Metrotown\n604-517-4644\nDon’t miss it!!! Everyone is welcome
URL:https://golatindance.com/event/latin-night-at-world-dance-company/2030-11-29/
LOCATION:World Dance Co\, 4858 Imperial St\, Burnaby\, BC\, V5J 1C4\, Canada
CATEGORIES:Vancouver
END:VEVENT
END:VCALENDAR