BEGIN:VCALENDAR
VERSION:2.0
PRODID:-//GO Latin Dance - ECPv6.15.18//NONSGML v1.0//EN
CALSCALE:GREGORIAN
METHOD:PUBLISH
X-ORIGINAL-URL:https://golatindance.com
X-WR-CALDESC:Events for GO Latin Dance
REFRESH-INTERVAL;VALUE=DURATION:PT1H
X-Robots-Tag:noindex
X-PUBLISHED-TTL:PT1H
BEGIN:VTIMEZONE
TZID:Australia/Sydney
BEGIN:STANDARD
TZOFFSETFROM:+1100
TZOFFSETTO:+1000
TZNAME:AEST
DTSTART:20250405T160000
END:STANDARD
BEGIN:DAYLIGHT
TZOFFSETFROM:+1000
TZOFFSETTO:+1100
TZNAME:AEDT
DTSTART:20251004T160000
END:DAYLIGHT
BEGIN:STANDARD
TZOFFSETFROM:+1100
TZOFFSETTO:+1000
TZNAME:AEST
DTSTART:20260404T160000
END:STANDARD
BEGIN:DAYLIGHT
TZOFFSETFROM:+1000
TZOFFSETTO:+1100
TZNAME:AEDT
DTSTART:20261003T160000
END:DAYLIGHT
BEGIN:STANDARD
TZOFFSETFROM:+1100
TZOFFSETTO:+1000
TZNAME:AEST
DTSTART:20270403T160000
END:STANDARD
BEGIN:DAYLIGHT
TZOFFSETFROM:+1000
TZOFFSETTO:+1100
TZNAME:AEDT
DTSTART:20271002T160000
END:DAYLIGHT
END:VTIMEZONE
BEGIN:VEVENT
DTSTART;TZID=Australia/Sydney:20260410T213000
DTEND;TZID=Australia/Sydney:20260411T003000
DTSTAMP:20260424T093354
CREATED:20260220T203843Z
LAST-MODIFIED:20260220T204915Z
UID:10446194-1775856600-1775867400@golatindance.com
SUMMARY:BAM PARTY
DESCRIPTION:🎉 BAM Party! where bachata is king! 🎉\n📍 Tropical Soul Dance Studio \n💲 $20 prepaid | $25 at the door\n👯 Bring a friend for FREE (must be a brand new guest\, not a current or past TS student)\nDon’t miss the chance to dance\, connect\, and party with the community 💃🕺
URL:https://golatindance.com/event/bam-party/2026-04-10/
LOCATION:205-207 Parramatta Rd\, 205-207 Parramatta Rd\, Sydney\, NSW\, 2038\, Australia
CATEGORIES:Sydney
ATTACH;FMTTYPE=image/jpeg:https://golatindance.com/wp-content/uploads/2026/02/625162645_1496545602480077_3342765258775103638_n.jpg
END:VEVENT
BEGIN:VEVENT
DTSTART;TZID=Australia/Sydney:20260313T213000
DTEND;TZID=Australia/Sydney:20260314T003000
DTSTAMP:20260424T093354
CREATED:20260220T203843Z
LAST-MODIFIED:20260220T204915Z
UID:10446193-1773437400-1773448200@golatindance.com
SUMMARY:BAM PARTY
DESCRIPTION:🎉 BAM Party! where bachata is king! 🎉\n📍 Tropical Soul Dance Studio \n💲 $20 prepaid | $25 at the door\n👯 Bring a friend for FREE (must be a brand new guest\, not a current or past TS student)\nDon’t miss the chance to dance\, connect\, and party with the community 💃🕺
URL:https://golatindance.com/event/bam-party/2026-03-13/
LOCATION:205-207 Parramatta Rd\, 205-207 Parramatta Rd\, Sydney\, NSW\, 2038\, Australia
CATEGORIES:Sydney
ATTACH;FMTTYPE=image/jpeg:https://golatindance.com/wp-content/uploads/2026/02/625162645_1496545602480077_3342765258775103638_n.jpg
END:VEVENT
END:VCALENDAR