BEGIN:VCALENDAR
VERSION:2.0
PRODID:-//GO Latin Dance - ECPv6.15.18//NONSGML v1.0//EN
CALSCALE:GREGORIAN
METHOD:PUBLISH
X-ORIGINAL-URL:https://golatindance.com
X-WR-CALDESC:Events for GO Latin Dance
REFRESH-INTERVAL;VALUE=DURATION:PT1H
X-Robots-Tag:noindex
X-PUBLISHED-TTL:PT1H
BEGIN:VTIMEZONE
TZID:Australia/Sydney
BEGIN:STANDARD
TZOFFSETFROM:+1100
TZOFFSETTO:+1000
TZNAME:AEST
DTSTART:20250405T160000
END:STANDARD
BEGIN:DAYLIGHT
TZOFFSETFROM:+1000
TZOFFSETTO:+1100
TZNAME:AEDT
DTSTART:20251004T160000
END:DAYLIGHT
BEGIN:STANDARD
TZOFFSETFROM:+1100
TZOFFSETTO:+1000
TZNAME:AEST
DTSTART:20260404T160000
END:STANDARD
BEGIN:DAYLIGHT
TZOFFSETFROM:+1000
TZOFFSETTO:+1100
TZNAME:AEDT
DTSTART:20261003T160000
END:DAYLIGHT
BEGIN:STANDARD
TZOFFSETFROM:+1100
TZOFFSETTO:+1000
TZNAME:AEST
DTSTART:20270403T160000
END:STANDARD
BEGIN:DAYLIGHT
TZOFFSETFROM:+1000
TZOFFSETTO:+1100
TZNAME:AEDT
DTSTART:20271002T160000
END:DAYLIGHT
BEGIN:STANDARD
TZOFFSETFROM:+1100
TZOFFSETTO:+1000
TZNAME:AEST
DTSTART:20280401T160000
END:STANDARD
BEGIN:DAYLIGHT
TZOFFSETFROM:+1000
TZOFFSETTO:+1100
TZNAME:AEDT
DTSTART:20280930T160000
END:DAYLIGHT
BEGIN:STANDARD
TZOFFSETFROM:+1100
TZOFFSETTO:+1000
TZNAME:AEST
DTSTART:20290331T160000
END:STANDARD
BEGIN:DAYLIGHT
TZOFFSETFROM:+1000
TZOFFSETTO:+1100
TZNAME:AEDT
DTSTART:20291006T160000
END:DAYLIGHT
END:VTIMEZONE
BEGIN:VEVENT
DTSTART;TZID=Australia/Sydney:20260612T213000
DTEND;TZID=Australia/Sydney:20260613T003000
DTSTAMP:20260424T082338
CREATED:20260220T203843Z
LAST-MODIFIED:20260220T204915Z
UID:10446195-1781299800-1781310600@golatindance.com
SUMMARY:BAM PARTY
DESCRIPTION:🎉 BAM Party! where bachata is king! 🎉\n📍 Tropical Soul Dance Studio \n💲 $20 prepaid | $25 at the door\n👯 Bring a friend for FREE (must be a brand new guest\, not a current or past TS student)\nDon’t miss the chance to dance\, connect\, and party with the community 💃🕺
URL:https://golatindance.com/event/bam-party/2026-06-12/
LOCATION:205-207 Parramatta Rd\, 205-207 Parramatta Rd\, Sydney\, NSW\, 2038\, Australia
CATEGORIES:Sydney
ATTACH;FMTTYPE=image/jpeg:https://golatindance.com/wp-content/uploads/2026/02/625162645_1496545602480077_3342765258775103638_n.jpg
END:VEVENT
BEGIN:VEVENT
DTSTART;TZID=Australia/Sydney:20260710T213000
DTEND;TZID=Australia/Sydney:20260711T003000
DTSTAMP:20260424T082338
CREATED:20260220T203843Z
LAST-MODIFIED:20260220T204915Z
UID:10446196-1783719000-1783729800@golatindance.com
SUMMARY:BAM PARTY
DESCRIPTION:🎉 BAM Party! where bachata is king! 🎉\n📍 Tropical Soul Dance Studio \n💲 $20 prepaid | $25 at the door\n👯 Bring a friend for FREE (must be a brand new guest\, not a current or past TS student)\nDon’t miss the chance to dance\, connect\, and party with the community 💃🕺
URL:https://golatindance.com/event/bam-party/2026-07-10/
LOCATION:205-207 Parramatta Rd\, 205-207 Parramatta Rd\, Sydney\, NSW\, 2038\, Australia
CATEGORIES:Sydney
ATTACH;FMTTYPE=image/jpeg:https://golatindance.com/wp-content/uploads/2026/02/625162645_1496545602480077_3342765258775103638_n.jpg
END:VEVENT
BEGIN:VEVENT
DTSTART;TZID=Australia/Sydney:20260814T213000
DTEND;TZID=Australia/Sydney:20260815T003000
DTSTAMP:20260424T082338
CREATED:20260220T203843Z
LAST-MODIFIED:20260220T204915Z
UID:10446197-1786743000-1786753800@golatindance.com
SUMMARY:BAM PARTY
DESCRIPTION:🎉 BAM Party! where bachata is king! 🎉\n📍 Tropical Soul Dance Studio \n💲 $20 prepaid | $25 at the door\n👯 Bring a friend for FREE (must be a brand new guest\, not a current or past TS student)\nDon’t miss the chance to dance\, connect\, and party with the community 💃🕺
URL:https://golatindance.com/event/bam-party/2026-08-14/
LOCATION:205-207 Parramatta Rd\, 205-207 Parramatta Rd\, Sydney\, NSW\, 2038\, Australia
CATEGORIES:Sydney
ATTACH;FMTTYPE=image/jpeg:https://golatindance.com/wp-content/uploads/2026/02/625162645_1496545602480077_3342765258775103638_n.jpg
END:VEVENT
BEGIN:VEVENT
DTSTART;TZID=Australia/Sydney:20260911T213000
DTEND;TZID=Australia/Sydney:20260912T003000
DTSTAMP:20260424T082338
CREATED:20260220T203843Z
LAST-MODIFIED:20260220T204915Z
UID:10446198-1789162200-1789173000@golatindance.com
SUMMARY:BAM PARTY
DESCRIPTION:🎉 BAM Party! where bachata is king! 🎉\n📍 Tropical Soul Dance Studio \n💲 $20 prepaid | $25 at the door\n👯 Bring a friend for FREE (must be a brand new guest\, not a current or past TS student)\nDon’t miss the chance to dance\, connect\, and party with the community 💃🕺
URL:https://golatindance.com/event/bam-party/2026-09-11/
LOCATION:205-207 Parramatta Rd\, 205-207 Parramatta Rd\, Sydney\, NSW\, 2038\, Australia
CATEGORIES:Sydney
ATTACH;FMTTYPE=image/jpeg:https://golatindance.com/wp-content/uploads/2026/02/625162645_1496545602480077_3342765258775103638_n.jpg
END:VEVENT
BEGIN:VEVENT
DTSTART;TZID=Australia/Sydney:20261009T213000
DTEND;TZID=Australia/Sydney:20261010T003000
DTSTAMP:20260424T082338
CREATED:20260220T203843Z
LAST-MODIFIED:20260220T204915Z
UID:10446199-1791581400-1791592200@golatindance.com
SUMMARY:BAM PARTY
DESCRIPTION:🎉 BAM Party! where bachata is king! 🎉\n📍 Tropical Soul Dance Studio \n💲 $20 prepaid | $25 at the door\n👯 Bring a friend for FREE (must be a brand new guest\, not a current or past TS student)\nDon’t miss the chance to dance\, connect\, and party with the community 💃🕺
URL:https://golatindance.com/event/bam-party/2026-10-09/
LOCATION:205-207 Parramatta Rd\, 205-207 Parramatta Rd\, Sydney\, NSW\, 2038\, Australia
CATEGORIES:Sydney
ATTACH;FMTTYPE=image/jpeg:https://golatindance.com/wp-content/uploads/2026/02/625162645_1496545602480077_3342765258775103638_n.jpg
END:VEVENT
BEGIN:VEVENT
DTSTART;TZID=Australia/Sydney:20261113T213000
DTEND;TZID=Australia/Sydney:20261114T003000
DTSTAMP:20260424T082338
CREATED:20260220T203843Z
LAST-MODIFIED:20260220T204915Z
UID:10446200-1794605400-1794616200@golatindance.com
SUMMARY:BAM PARTY
DESCRIPTION:🎉 BAM Party! where bachata is king! 🎉\n📍 Tropical Soul Dance Studio \n💲 $20 prepaid | $25 at the door\n👯 Bring a friend for FREE (must be a brand new guest\, not a current or past TS student)\nDon’t miss the chance to dance\, connect\, and party with the community 💃🕺
URL:https://golatindance.com/event/bam-party/2026-11-13/
LOCATION:205-207 Parramatta Rd\, 205-207 Parramatta Rd\, Sydney\, NSW\, 2038\, Australia
CATEGORIES:Sydney
ATTACH;FMTTYPE=image/jpeg:https://golatindance.com/wp-content/uploads/2026/02/625162645_1496545602480077_3342765258775103638_n.jpg
END:VEVENT
BEGIN:VEVENT
DTSTART;TZID=Australia/Sydney:20261211T213000
DTEND;TZID=Australia/Sydney:20261212T003000
DTSTAMP:20260424T082338
CREATED:20260220T203843Z
LAST-MODIFIED:20260220T204915Z
UID:10446201-1797024600-1797035400@golatindance.com
SUMMARY:BAM PARTY
DESCRIPTION:🎉 BAM Party! where bachata is king! 🎉\n📍 Tropical Soul Dance Studio \n💲 $20 prepaid | $25 at the door\n👯 Bring a friend for FREE (must be a brand new guest\, not a current or past TS student)\nDon’t miss the chance to dance\, connect\, and party with the community 💃🕺
URL:https://golatindance.com/event/bam-party/2026-12-11/
LOCATION:205-207 Parramatta Rd\, 205-207 Parramatta Rd\, Sydney\, NSW\, 2038\, Australia
CATEGORIES:Sydney
ATTACH;FMTTYPE=image/jpeg:https://golatindance.com/wp-content/uploads/2026/02/625162645_1496545602480077_3342765258775103638_n.jpg
END:VEVENT
BEGIN:VEVENT
DTSTART;TZID=Australia/Sydney:20270108T213000
DTEND;TZID=Australia/Sydney:20270109T003000
DTSTAMP:20260424T082338
CREATED:20260220T203843Z
LAST-MODIFIED:20260220T204915Z
UID:10446202-1799443800-1799454600@golatindance.com
SUMMARY:BAM PARTY
DESCRIPTION:🎉 BAM Party! where bachata is king! 🎉\n📍 Tropical Soul Dance Studio \n💲 $20 prepaid | $25 at the door\n👯 Bring a friend for FREE (must be a brand new guest\, not a current or past TS student)\nDon’t miss the chance to dance\, connect\, and party with the community 💃🕺
URL:https://golatindance.com/event/bam-party/2027-01-08/
LOCATION:205-207 Parramatta Rd\, 205-207 Parramatta Rd\, Sydney\, NSW\, 2038\, Australia
CATEGORIES:Sydney
ATTACH;FMTTYPE=image/jpeg:https://golatindance.com/wp-content/uploads/2026/02/625162645_1496545602480077_3342765258775103638_n.jpg
END:VEVENT
BEGIN:VEVENT
DTSTART;TZID=Australia/Sydney:20270212T213000
DTEND;TZID=Australia/Sydney:20270213T003000
DTSTAMP:20260424T082338
CREATED:20260220T203843Z
LAST-MODIFIED:20260220T204915Z
UID:10446203-1802467800-1802478600@golatindance.com
SUMMARY:BAM PARTY
DESCRIPTION:🎉 BAM Party! where bachata is king! 🎉\n📍 Tropical Soul Dance Studio \n💲 $20 prepaid | $25 at the door\n👯 Bring a friend for FREE (must be a brand new guest\, not a current or past TS student)\nDon’t miss the chance to dance\, connect\, and party with the community 💃🕺
URL:https://golatindance.com/event/bam-party/2027-02-12/
LOCATION:205-207 Parramatta Rd\, 205-207 Parramatta Rd\, Sydney\, NSW\, 2038\, Australia
CATEGORIES:Sydney
ATTACH;FMTTYPE=image/jpeg:https://golatindance.com/wp-content/uploads/2026/02/625162645_1496545602480077_3342765258775103638_n.jpg
END:VEVENT
BEGIN:VEVENT
DTSTART;TZID=Australia/Sydney:20270312T213000
DTEND;TZID=Australia/Sydney:20270313T003000
DTSTAMP:20260424T082338
CREATED:20260220T203843Z
LAST-MODIFIED:20260220T204915Z
UID:10446204-1804887000-1804897800@golatindance.com
SUMMARY:BAM PARTY
DESCRIPTION:🎉 BAM Party! where bachata is king! 🎉\n📍 Tropical Soul Dance Studio \n💲 $20 prepaid | $25 at the door\n👯 Bring a friend for FREE (must be a brand new guest\, not a current or past TS student)\nDon’t miss the chance to dance\, connect\, and party with the community 💃🕺
URL:https://golatindance.com/event/bam-party/2027-03-12/
LOCATION:205-207 Parramatta Rd\, 205-207 Parramatta Rd\, Sydney\, NSW\, 2038\, Australia
CATEGORIES:Sydney
ATTACH;FMTTYPE=image/jpeg:https://golatindance.com/wp-content/uploads/2026/02/625162645_1496545602480077_3342765258775103638_n.jpg
END:VEVENT
BEGIN:VEVENT
DTSTART;TZID=Australia/Sydney:20270409T213000
DTEND;TZID=Australia/Sydney:20270410T003000
DTSTAMP:20260424T082338
CREATED:20260220T203843Z
LAST-MODIFIED:20260220T204915Z
UID:10446205-1807306200-1807317000@golatindance.com
SUMMARY:BAM PARTY
DESCRIPTION:🎉 BAM Party! where bachata is king! 🎉\n📍 Tropical Soul Dance Studio \n💲 $20 prepaid | $25 at the door\n👯 Bring a friend for FREE (must be a brand new guest\, not a current or past TS student)\nDon’t miss the chance to dance\, connect\, and party with the community 💃🕺
URL:https://golatindance.com/event/bam-party/2027-04-09/
LOCATION:205-207 Parramatta Rd\, 205-207 Parramatta Rd\, Sydney\, NSW\, 2038\, Australia
CATEGORIES:Sydney
ATTACH;FMTTYPE=image/jpeg:https://golatindance.com/wp-content/uploads/2026/02/625162645_1496545602480077_3342765258775103638_n.jpg
END:VEVENT
BEGIN:VEVENT
DTSTART;TZID=Australia/Sydney:20270514T213000
DTEND;TZID=Australia/Sydney:20270515T003000
DTSTAMP:20260424T082338
CREATED:20260220T203843Z
LAST-MODIFIED:20260220T204915Z
UID:10446206-1810330200-1810341000@golatindance.com
SUMMARY:BAM PARTY
DESCRIPTION:🎉 BAM Party! where bachata is king! 🎉\n📍 Tropical Soul Dance Studio \n💲 $20 prepaid | $25 at the door\n👯 Bring a friend for FREE (must be a brand new guest\, not a current or past TS student)\nDon’t miss the chance to dance\, connect\, and party with the community 💃🕺
URL:https://golatindance.com/event/bam-party/2027-05-14/
LOCATION:205-207 Parramatta Rd\, 205-207 Parramatta Rd\, Sydney\, NSW\, 2038\, Australia
CATEGORIES:Sydney
ATTACH;FMTTYPE=image/jpeg:https://golatindance.com/wp-content/uploads/2026/02/625162645_1496545602480077_3342765258775103638_n.jpg
END:VEVENT
BEGIN:VEVENT
DTSTART;TZID=Australia/Sydney:20270611T213000
DTEND;TZID=Australia/Sydney:20270612T003000
DTSTAMP:20260424T082338
CREATED:20260220T203843Z
LAST-MODIFIED:20260220T204915Z
UID:10446207-1812749400-1812760200@golatindance.com
SUMMARY:BAM PARTY
DESCRIPTION:🎉 BAM Party! where bachata is king! 🎉\n📍 Tropical Soul Dance Studio \n💲 $20 prepaid | $25 at the door\n👯 Bring a friend for FREE (must be a brand new guest\, not a current or past TS student)\nDon’t miss the chance to dance\, connect\, and party with the community 💃🕺
URL:https://golatindance.com/event/bam-party/2027-06-11/
LOCATION:205-207 Parramatta Rd\, 205-207 Parramatta Rd\, Sydney\, NSW\, 2038\, Australia
CATEGORIES:Sydney
ATTACH;FMTTYPE=image/jpeg:https://golatindance.com/wp-content/uploads/2026/02/625162645_1496545602480077_3342765258775103638_n.jpg
END:VEVENT
BEGIN:VEVENT
DTSTART;TZID=Australia/Sydney:20270709T213000
DTEND;TZID=Australia/Sydney:20270710T003000
DTSTAMP:20260424T082338
CREATED:20260220T203843Z
LAST-MODIFIED:20260220T204915Z
UID:10446208-1815168600-1815179400@golatindance.com
SUMMARY:BAM PARTY
DESCRIPTION:🎉 BAM Party! where bachata is king! 🎉\n📍 Tropical Soul Dance Studio \n💲 $20 prepaid | $25 at the door\n👯 Bring a friend for FREE (must be a brand new guest\, not a current or past TS student)\nDon’t miss the chance to dance\, connect\, and party with the community 💃🕺
URL:https://golatindance.com/event/bam-party/2027-07-09/
LOCATION:205-207 Parramatta Rd\, 205-207 Parramatta Rd\, Sydney\, NSW\, 2038\, Australia
CATEGORIES:Sydney
ATTACH;FMTTYPE=image/jpeg:https://golatindance.com/wp-content/uploads/2026/02/625162645_1496545602480077_3342765258775103638_n.jpg
END:VEVENT
BEGIN:VEVENT
DTSTART;TZID=Australia/Sydney:20270813T213000
DTEND;TZID=Australia/Sydney:20270814T003000
DTSTAMP:20260424T082338
CREATED:20260220T203843Z
LAST-MODIFIED:20260220T204915Z
UID:10446209-1818192600-1818203400@golatindance.com
SUMMARY:BAM PARTY
DESCRIPTION:🎉 BAM Party! where bachata is king! 🎉\n📍 Tropical Soul Dance Studio \n💲 $20 prepaid | $25 at the door\n👯 Bring a friend for FREE (must be a brand new guest\, not a current or past TS student)\nDon’t miss the chance to dance\, connect\, and party with the community 💃🕺
URL:https://golatindance.com/event/bam-party/2027-08-13/
LOCATION:205-207 Parramatta Rd\, 205-207 Parramatta Rd\, Sydney\, NSW\, 2038\, Australia
CATEGORIES:Sydney
ATTACH;FMTTYPE=image/jpeg:https://golatindance.com/wp-content/uploads/2026/02/625162645_1496545602480077_3342765258775103638_n.jpg
END:VEVENT
BEGIN:VEVENT
DTSTART;TZID=Australia/Sydney:20270910T213000
DTEND;TZID=Australia/Sydney:20270911T003000
DTSTAMP:20260424T082338
CREATED:20260220T203843Z
LAST-MODIFIED:20260220T204915Z
UID:10446210-1820611800-1820622600@golatindance.com
SUMMARY:BAM PARTY
DESCRIPTION:🎉 BAM Party! where bachata is king! 🎉\n📍 Tropical Soul Dance Studio \n💲 $20 prepaid | $25 at the door\n👯 Bring a friend for FREE (must be a brand new guest\, not a current or past TS student)\nDon’t miss the chance to dance\, connect\, and party with the community 💃🕺
URL:https://golatindance.com/event/bam-party/2027-09-10/
LOCATION:205-207 Parramatta Rd\, 205-207 Parramatta Rd\, Sydney\, NSW\, 2038\, Australia
CATEGORIES:Sydney
ATTACH;FMTTYPE=image/jpeg:https://golatindance.com/wp-content/uploads/2026/02/625162645_1496545602480077_3342765258775103638_n.jpg
END:VEVENT
BEGIN:VEVENT
DTSTART;TZID=Australia/Sydney:20271008T213000
DTEND;TZID=Australia/Sydney:20271009T003000
DTSTAMP:20260424T082338
CREATED:20260220T203843Z
LAST-MODIFIED:20260220T204915Z
UID:10446211-1823031000-1823041800@golatindance.com
SUMMARY:BAM PARTY
DESCRIPTION:🎉 BAM Party! where bachata is king! 🎉\n📍 Tropical Soul Dance Studio \n💲 $20 prepaid | $25 at the door\n👯 Bring a friend for FREE (must be a brand new guest\, not a current or past TS student)\nDon’t miss the chance to dance\, connect\, and party with the community 💃🕺
URL:https://golatindance.com/event/bam-party/2027-10-08/
LOCATION:205-207 Parramatta Rd\, 205-207 Parramatta Rd\, Sydney\, NSW\, 2038\, Australia
CATEGORIES:Sydney
ATTACH;FMTTYPE=image/jpeg:https://golatindance.com/wp-content/uploads/2026/02/625162645_1496545602480077_3342765258775103638_n.jpg
END:VEVENT
BEGIN:VEVENT
DTSTART;TZID=Australia/Sydney:20271112T213000
DTEND;TZID=Australia/Sydney:20271113T003000
DTSTAMP:20260424T082338
CREATED:20260220T203843Z
LAST-MODIFIED:20260220T204915Z
UID:10446212-1826055000-1826065800@golatindance.com
SUMMARY:BAM PARTY
DESCRIPTION:🎉 BAM Party! where bachata is king! 🎉\n📍 Tropical Soul Dance Studio \n💲 $20 prepaid | $25 at the door\n👯 Bring a friend for FREE (must be a brand new guest\, not a current or past TS student)\nDon’t miss the chance to dance\, connect\, and party with the community 💃🕺
URL:https://golatindance.com/event/bam-party/2027-11-12/
LOCATION:205-207 Parramatta Rd\, 205-207 Parramatta Rd\, Sydney\, NSW\, 2038\, Australia
CATEGORIES:Sydney
ATTACH;FMTTYPE=image/jpeg:https://golatindance.com/wp-content/uploads/2026/02/625162645_1496545602480077_3342765258775103638_n.jpg
END:VEVENT
BEGIN:VEVENT
DTSTART;TZID=Australia/Sydney:20271210T213000
DTEND;TZID=Australia/Sydney:20271211T003000
DTSTAMP:20260424T082338
CREATED:20260220T203843Z
LAST-MODIFIED:20260220T204915Z
UID:10446213-1828474200-1828485000@golatindance.com
SUMMARY:BAM PARTY
DESCRIPTION:🎉 BAM Party! where bachata is king! 🎉\n📍 Tropical Soul Dance Studio \n💲 $20 prepaid | $25 at the door\n👯 Bring a friend for FREE (must be a brand new guest\, not a current or past TS student)\nDon’t miss the chance to dance\, connect\, and party with the community 💃🕺
URL:https://golatindance.com/event/bam-party/2027-12-10/
LOCATION:205-207 Parramatta Rd\, 205-207 Parramatta Rd\, Sydney\, NSW\, 2038\, Australia
CATEGORIES:Sydney
ATTACH;FMTTYPE=image/jpeg:https://golatindance.com/wp-content/uploads/2026/02/625162645_1496545602480077_3342765258775103638_n.jpg
END:VEVENT
BEGIN:VEVENT
DTSTART;TZID=Australia/Sydney:20280114T213000
DTEND;TZID=Australia/Sydney:20280115T003000
DTSTAMP:20260424T082338
CREATED:20260220T203843Z
LAST-MODIFIED:20260220T204915Z
UID:10446214-1831498200-1831509000@golatindance.com
SUMMARY:BAM PARTY
DESCRIPTION:🎉 BAM Party! where bachata is king! 🎉\n📍 Tropical Soul Dance Studio \n💲 $20 prepaid | $25 at the door\n👯 Bring a friend for FREE (must be a brand new guest\, not a current or past TS student)\nDon’t miss the chance to dance\, connect\, and party with the community 💃🕺
URL:https://golatindance.com/event/bam-party/2028-01-14/
LOCATION:205-207 Parramatta Rd\, 205-207 Parramatta Rd\, Sydney\, NSW\, 2038\, Australia
CATEGORIES:Sydney
ATTACH;FMTTYPE=image/jpeg:https://golatindance.com/wp-content/uploads/2026/02/625162645_1496545602480077_3342765258775103638_n.jpg
END:VEVENT
BEGIN:VEVENT
DTSTART;TZID=Australia/Sydney:20280211T213000
DTEND;TZID=Australia/Sydney:20280212T003000
DTSTAMP:20260424T082338
CREATED:20260220T203843Z
LAST-MODIFIED:20260220T204915Z
UID:10446215-1833917400-1833928200@golatindance.com
SUMMARY:BAM PARTY
DESCRIPTION:🎉 BAM Party! where bachata is king! 🎉\n📍 Tropical Soul Dance Studio \n💲 $20 prepaid | $25 at the door\n👯 Bring a friend for FREE (must be a brand new guest\, not a current or past TS student)\nDon’t miss the chance to dance\, connect\, and party with the community 💃🕺
URL:https://golatindance.com/event/bam-party/2028-02-11/
LOCATION:205-207 Parramatta Rd\, 205-207 Parramatta Rd\, Sydney\, NSW\, 2038\, Australia
CATEGORIES:Sydney
ATTACH;FMTTYPE=image/jpeg:https://golatindance.com/wp-content/uploads/2026/02/625162645_1496545602480077_3342765258775103638_n.jpg
END:VEVENT
BEGIN:VEVENT
DTSTART;TZID=Australia/Sydney:20280310T213000
DTEND;TZID=Australia/Sydney:20280311T003000
DTSTAMP:20260424T082338
CREATED:20260220T203843Z
LAST-MODIFIED:20260220T204915Z
UID:10446216-1836336600-1836347400@golatindance.com
SUMMARY:BAM PARTY
DESCRIPTION:🎉 BAM Party! where bachata is king! 🎉\n📍 Tropical Soul Dance Studio \n💲 $20 prepaid | $25 at the door\n👯 Bring a friend for FREE (must be a brand new guest\, not a current or past TS student)\nDon’t miss the chance to dance\, connect\, and party with the community 💃🕺
URL:https://golatindance.com/event/bam-party/2028-03-10/
LOCATION:205-207 Parramatta Rd\, 205-207 Parramatta Rd\, Sydney\, NSW\, 2038\, Australia
CATEGORIES:Sydney
ATTACH;FMTTYPE=image/jpeg:https://golatindance.com/wp-content/uploads/2026/02/625162645_1496545602480077_3342765258775103638_n.jpg
END:VEVENT
BEGIN:VEVENT
DTSTART;TZID=Australia/Sydney:20280414T213000
DTEND;TZID=Australia/Sydney:20280415T003000
DTSTAMP:20260424T082338
CREATED:20260220T203843Z
LAST-MODIFIED:20260220T204915Z
UID:10446217-1839360600-1839371400@golatindance.com
SUMMARY:BAM PARTY
DESCRIPTION:🎉 BAM Party! where bachata is king! 🎉\n📍 Tropical Soul Dance Studio \n💲 $20 prepaid | $25 at the door\n👯 Bring a friend for FREE (must be a brand new guest\, not a current or past TS student)\nDon’t miss the chance to dance\, connect\, and party with the community 💃🕺
URL:https://golatindance.com/event/bam-party/2028-04-14/
LOCATION:205-207 Parramatta Rd\, 205-207 Parramatta Rd\, Sydney\, NSW\, 2038\, Australia
CATEGORIES:Sydney
ATTACH;FMTTYPE=image/jpeg:https://golatindance.com/wp-content/uploads/2026/02/625162645_1496545602480077_3342765258775103638_n.jpg
END:VEVENT
BEGIN:VEVENT
DTSTART;TZID=Australia/Sydney:20280512T213000
DTEND;TZID=Australia/Sydney:20280513T003000
DTSTAMP:20260424T082338
CREATED:20260220T203843Z
LAST-MODIFIED:20260220T204915Z
UID:10446218-1841779800-1841790600@golatindance.com
SUMMARY:BAM PARTY
DESCRIPTION:🎉 BAM Party! where bachata is king! 🎉\n📍 Tropical Soul Dance Studio \n💲 $20 prepaid | $25 at the door\n👯 Bring a friend for FREE (must be a brand new guest\, not a current or past TS student)\nDon’t miss the chance to dance\, connect\, and party with the community 💃🕺
URL:https://golatindance.com/event/bam-party/2028-05-12/
LOCATION:205-207 Parramatta Rd\, 205-207 Parramatta Rd\, Sydney\, NSW\, 2038\, Australia
CATEGORIES:Sydney
ATTACH;FMTTYPE=image/jpeg:https://golatindance.com/wp-content/uploads/2026/02/625162645_1496545602480077_3342765258775103638_n.jpg
END:VEVENT
BEGIN:VEVENT
DTSTART;TZID=Australia/Sydney:20280609T213000
DTEND;TZID=Australia/Sydney:20280610T003000
DTSTAMP:20260424T082338
CREATED:20260220T203843Z
LAST-MODIFIED:20260220T204915Z
UID:10446219-1844199000-1844209800@golatindance.com
SUMMARY:BAM PARTY
DESCRIPTION:🎉 BAM Party! where bachata is king! 🎉\n📍 Tropical Soul Dance Studio \n💲 $20 prepaid | $25 at the door\n👯 Bring a friend for FREE (must be a brand new guest\, not a current or past TS student)\nDon’t miss the chance to dance\, connect\, and party with the community 💃🕺
URL:https://golatindance.com/event/bam-party/2028-06-09/
LOCATION:205-207 Parramatta Rd\, 205-207 Parramatta Rd\, Sydney\, NSW\, 2038\, Australia
CATEGORIES:Sydney
ATTACH;FMTTYPE=image/jpeg:https://golatindance.com/wp-content/uploads/2026/02/625162645_1496545602480077_3342765258775103638_n.jpg
END:VEVENT
BEGIN:VEVENT
DTSTART;TZID=Australia/Sydney:20280714T213000
DTEND;TZID=Australia/Sydney:20280715T003000
DTSTAMP:20260424T082338
CREATED:20260220T203843Z
LAST-MODIFIED:20260220T204915Z
UID:10446220-1847223000-1847233800@golatindance.com
SUMMARY:BAM PARTY
DESCRIPTION:🎉 BAM Party! where bachata is king! 🎉\n📍 Tropical Soul Dance Studio \n💲 $20 prepaid | $25 at the door\n👯 Bring a friend for FREE (must be a brand new guest\, not a current or past TS student)\nDon’t miss the chance to dance\, connect\, and party with the community 💃🕺
URL:https://golatindance.com/event/bam-party/2028-07-14/
LOCATION:205-207 Parramatta Rd\, 205-207 Parramatta Rd\, Sydney\, NSW\, 2038\, Australia
CATEGORIES:Sydney
ATTACH;FMTTYPE=image/jpeg:https://golatindance.com/wp-content/uploads/2026/02/625162645_1496545602480077_3342765258775103638_n.jpg
END:VEVENT
BEGIN:VEVENT
DTSTART;TZID=Australia/Sydney:20280811T213000
DTEND;TZID=Australia/Sydney:20280812T003000
DTSTAMP:20260424T082338
CREATED:20260220T203843Z
LAST-MODIFIED:20260220T204915Z
UID:10446221-1849642200-1849653000@golatindance.com
SUMMARY:BAM PARTY
DESCRIPTION:🎉 BAM Party! where bachata is king! 🎉\n📍 Tropical Soul Dance Studio \n💲 $20 prepaid | $25 at the door\n👯 Bring a friend for FREE (must be a brand new guest\, not a current or past TS student)\nDon’t miss the chance to dance\, connect\, and party with the community 💃🕺
URL:https://golatindance.com/event/bam-party/2028-08-11/
LOCATION:205-207 Parramatta Rd\, 205-207 Parramatta Rd\, Sydney\, NSW\, 2038\, Australia
CATEGORIES:Sydney
ATTACH;FMTTYPE=image/jpeg:https://golatindance.com/wp-content/uploads/2026/02/625162645_1496545602480077_3342765258775103638_n.jpg
END:VEVENT
BEGIN:VEVENT
DTSTART;TZID=Australia/Sydney:20280908T213000
DTEND;TZID=Australia/Sydney:20280909T003000
DTSTAMP:20260424T082338
CREATED:20260220T203843Z
LAST-MODIFIED:20260220T204915Z
UID:10446222-1852061400-1852072200@golatindance.com
SUMMARY:BAM PARTY
DESCRIPTION:🎉 BAM Party! where bachata is king! 🎉\n📍 Tropical Soul Dance Studio \n💲 $20 prepaid | $25 at the door\n👯 Bring a friend for FREE (must be a brand new guest\, not a current or past TS student)\nDon’t miss the chance to dance\, connect\, and party with the community 💃🕺
URL:https://golatindance.com/event/bam-party/2028-09-08/
LOCATION:205-207 Parramatta Rd\, 205-207 Parramatta Rd\, Sydney\, NSW\, 2038\, Australia
CATEGORIES:Sydney
ATTACH;FMTTYPE=image/jpeg:https://golatindance.com/wp-content/uploads/2026/02/625162645_1496545602480077_3342765258775103638_n.jpg
END:VEVENT
BEGIN:VEVENT
DTSTART;TZID=Australia/Sydney:20281013T213000
DTEND;TZID=Australia/Sydney:20281014T003000
DTSTAMP:20260424T082338
CREATED:20260220T203843Z
LAST-MODIFIED:20260220T204915Z
UID:10446223-1855085400-1855096200@golatindance.com
SUMMARY:BAM PARTY
DESCRIPTION:🎉 BAM Party! where bachata is king! 🎉\n📍 Tropical Soul Dance Studio \n💲 $20 prepaid | $25 at the door\n👯 Bring a friend for FREE (must be a brand new guest\, not a current or past TS student)\nDon’t miss the chance to dance\, connect\, and party with the community 💃🕺
URL:https://golatindance.com/event/bam-party/2028-10-13/
LOCATION:205-207 Parramatta Rd\, 205-207 Parramatta Rd\, Sydney\, NSW\, 2038\, Australia
CATEGORIES:Sydney
ATTACH;FMTTYPE=image/jpeg:https://golatindance.com/wp-content/uploads/2026/02/625162645_1496545602480077_3342765258775103638_n.jpg
END:VEVENT
BEGIN:VEVENT
DTSTART;TZID=Australia/Sydney:20281110T213000
DTEND;TZID=Australia/Sydney:20281111T003000
DTSTAMP:20260424T082338
CREATED:20260220T203843Z
LAST-MODIFIED:20260220T204915Z
UID:10446224-1857504600-1857515400@golatindance.com
SUMMARY:BAM PARTY
DESCRIPTION:🎉 BAM Party! where bachata is king! 🎉\n📍 Tropical Soul Dance Studio \n💲 $20 prepaid | $25 at the door\n👯 Bring a friend for FREE (must be a brand new guest\, not a current or past TS student)\nDon’t miss the chance to dance\, connect\, and party with the community 💃🕺
URL:https://golatindance.com/event/bam-party/2028-11-10/
LOCATION:205-207 Parramatta Rd\, 205-207 Parramatta Rd\, Sydney\, NSW\, 2038\, Australia
CATEGORIES:Sydney
ATTACH;FMTTYPE=image/jpeg:https://golatindance.com/wp-content/uploads/2026/02/625162645_1496545602480077_3342765258775103638_n.jpg
END:VEVENT
END:VCALENDAR