BEGIN:VCALENDAR
VERSION:2.0
PRODID:-//GO Latin Dance - ECPv6.15.18//NONSGML v1.0//EN
CALSCALE:GREGORIAN
METHOD:PUBLISH
X-WR-CALNAME:GO Latin Dance
X-ORIGINAL-URL:https://golatindance.com
X-WR-CALDESC:Events for GO Latin Dance
REFRESH-INTERVAL;VALUE=DURATION:PT1H
X-Robots-Tag:noindex
X-PUBLISHED-TTL:PT1H
BEGIN:VTIMEZONE
TZID:Australia/Sydney
BEGIN:STANDARD
TZOFFSETFROM:+1100
TZOFFSETTO:+1000
TZNAME:AEST
DTSTART:20280401T160000
END:STANDARD
BEGIN:DAYLIGHT
TZOFFSETFROM:+1000
TZOFFSETTO:+1100
TZNAME:AEDT
DTSTART:20280930T160000
END:DAYLIGHT
BEGIN:STANDARD
TZOFFSETFROM:+1100
TZOFFSETTO:+1000
TZNAME:AEST
DTSTART:20290331T160000
END:STANDARD
BEGIN:DAYLIGHT
TZOFFSETFROM:+1000
TZOFFSETTO:+1100
TZNAME:AEDT
DTSTART:20291006T160000
END:DAYLIGHT
BEGIN:STANDARD
TZOFFSETFROM:+1100
TZOFFSETTO:+1000
TZNAME:AEST
DTSTART:20300406T160000
END:STANDARD
BEGIN:DAYLIGHT
TZOFFSETFROM:+1000
TZOFFSETTO:+1100
TZNAME:AEDT
DTSTART:20301005T160000
END:DAYLIGHT
BEGIN:STANDARD
TZOFFSETFROM:+1100
TZOFFSETTO:+1000
TZNAME:AEST
DTSTART:20310405T160000
END:STANDARD
BEGIN:DAYLIGHT
TZOFFSETFROM:+1000
TZOFFSETTO:+1100
TZNAME:AEDT
DTSTART:20311004T160000
END:DAYLIGHT
BEGIN:STANDARD
TZOFFSETFROM:+1100
TZOFFSETTO:+1000
TZNAME:AEST
DTSTART:20320403T160000
END:STANDARD
BEGIN:DAYLIGHT
TZOFFSETFROM:+1000
TZOFFSETTO:+1100
TZNAME:AEDT
DTSTART:20321002T160000
END:DAYLIGHT
END:VTIMEZONE
BEGIN:VEVENT
DTSTART;TZID=Australia/Sydney:20291012T213000
DTEND;TZID=Australia/Sydney:20291013T003000
DTSTAMP:20260424T141831
CREATED:20260220T203843Z
LAST-MODIFIED:20260220T204915Z
UID:10446235-1886535000-1886545800@golatindance.com
SUMMARY:BAM PARTY
DESCRIPTION:🎉 BAM Party! where bachata is king! 🎉\n📍 Tropical Soul Dance Studio \n💲 $20 prepaid | $25 at the door\n👯 Bring a friend for FREE (must be a brand new guest\, not a current or past TS student)\nDon’t miss the chance to dance\, connect\, and party with the community 💃🕺
URL:https://golatindance.com/event/bam-party/2029-10-12/
LOCATION:205-207 Parramatta Rd\, 205-207 Parramatta Rd\, Sydney\, NSW\, 2038\, Australia
CATEGORIES:Sydney
ATTACH;FMTTYPE=image/jpeg:https://golatindance.com/wp-content/uploads/2026/02/625162645_1496545602480077_3342765258775103638_n.jpg
END:VEVENT
BEGIN:VEVENT
DTSTART;TZID=Australia/Sydney:20291109T213000
DTEND;TZID=Australia/Sydney:20291110T003000
DTSTAMP:20260424T141831
CREATED:20260220T203843Z
LAST-MODIFIED:20260220T204915Z
UID:10446236-1888954200-1888965000@golatindance.com
SUMMARY:BAM PARTY
DESCRIPTION:🎉 BAM Party! where bachata is king! 🎉\n📍 Tropical Soul Dance Studio \n💲 $20 prepaid | $25 at the door\n👯 Bring a friend for FREE (must be a brand new guest\, not a current or past TS student)\nDon’t miss the chance to dance\, connect\, and party with the community 💃🕺
URL:https://golatindance.com/event/bam-party/2029-11-09/
LOCATION:205-207 Parramatta Rd\, 205-207 Parramatta Rd\, Sydney\, NSW\, 2038\, Australia
CATEGORIES:Sydney
ATTACH;FMTTYPE=image/jpeg:https://golatindance.com/wp-content/uploads/2026/02/625162645_1496545602480077_3342765258775103638_n.jpg
END:VEVENT
BEGIN:VEVENT
DTSTART;TZID=Australia/Sydney:20291214T213000
DTEND;TZID=Australia/Sydney:20291215T003000
DTSTAMP:20260424T141831
CREATED:20260220T203843Z
LAST-MODIFIED:20260220T204915Z
UID:10446237-1891978200-1891989000@golatindance.com
SUMMARY:BAM PARTY
DESCRIPTION:🎉 BAM Party! where bachata is king! 🎉\n📍 Tropical Soul Dance Studio \n💲 $20 prepaid | $25 at the door\n👯 Bring a friend for FREE (must be a brand new guest\, not a current or past TS student)\nDon’t miss the chance to dance\, connect\, and party with the community 💃🕺
URL:https://golatindance.com/event/bam-party/2029-12-14/
LOCATION:205-207 Parramatta Rd\, 205-207 Parramatta Rd\, Sydney\, NSW\, 2038\, Australia
CATEGORIES:Sydney
ATTACH;FMTTYPE=image/jpeg:https://golatindance.com/wp-content/uploads/2026/02/625162645_1496545602480077_3342765258775103638_n.jpg
END:VEVENT
BEGIN:VEVENT
DTSTART;TZID=Australia/Sydney:20300111T213000
DTEND;TZID=Australia/Sydney:20300112T003000
DTSTAMP:20260424T141831
CREATED:20260220T203843Z
LAST-MODIFIED:20260220T204915Z
UID:10446238-1894397400-1894408200@golatindance.com
SUMMARY:BAM PARTY
DESCRIPTION:🎉 BAM Party! where bachata is king! 🎉\n📍 Tropical Soul Dance Studio \n💲 $20 prepaid | $25 at the door\n👯 Bring a friend for FREE (must be a brand new guest\, not a current or past TS student)\nDon’t miss the chance to dance\, connect\, and party with the community 💃🕺
URL:https://golatindance.com/event/bam-party/2030-01-11/
LOCATION:205-207 Parramatta Rd\, 205-207 Parramatta Rd\, Sydney\, NSW\, 2038\, Australia
CATEGORIES:Sydney
ATTACH;FMTTYPE=image/jpeg:https://golatindance.com/wp-content/uploads/2026/02/625162645_1496545602480077_3342765258775103638_n.jpg
END:VEVENT
BEGIN:VEVENT
DTSTART;TZID=Australia/Sydney:20300208T213000
DTEND;TZID=Australia/Sydney:20300209T003000
DTSTAMP:20260424T141831
CREATED:20260220T203843Z
LAST-MODIFIED:20260220T204915Z
UID:10446239-1896816600-1896827400@golatindance.com
SUMMARY:BAM PARTY
DESCRIPTION:🎉 BAM Party! where bachata is king! 🎉\n📍 Tropical Soul Dance Studio \n💲 $20 prepaid | $25 at the door\n👯 Bring a friend for FREE (must be a brand new guest\, not a current or past TS student)\nDon’t miss the chance to dance\, connect\, and party with the community 💃🕺
URL:https://golatindance.com/event/bam-party/2030-02-08/
LOCATION:205-207 Parramatta Rd\, 205-207 Parramatta Rd\, Sydney\, NSW\, 2038\, Australia
CATEGORIES:Sydney
ATTACH;FMTTYPE=image/jpeg:https://golatindance.com/wp-content/uploads/2026/02/625162645_1496545602480077_3342765258775103638_n.jpg
END:VEVENT
BEGIN:VEVENT
DTSTART;TZID=Australia/Sydney:20300308T213000
DTEND;TZID=Australia/Sydney:20300309T003000
DTSTAMP:20260424T141832
CREATED:20260220T203843Z
LAST-MODIFIED:20260220T204915Z
UID:10446240-1899235800-1899246600@golatindance.com
SUMMARY:BAM PARTY
DESCRIPTION:🎉 BAM Party! where bachata is king! 🎉\n📍 Tropical Soul Dance Studio \n💲 $20 prepaid | $25 at the door\n👯 Bring a friend for FREE (must be a brand new guest\, not a current or past TS student)\nDon’t miss the chance to dance\, connect\, and party with the community 💃🕺
URL:https://golatindance.com/event/bam-party/2030-03-08/
LOCATION:205-207 Parramatta Rd\, 205-207 Parramatta Rd\, Sydney\, NSW\, 2038\, Australia
CATEGORIES:Sydney
ATTACH;FMTTYPE=image/jpeg:https://golatindance.com/wp-content/uploads/2026/02/625162645_1496545602480077_3342765258775103638_n.jpg
END:VEVENT
BEGIN:VEVENT
DTSTART;TZID=Australia/Sydney:20300412T213000
DTEND;TZID=Australia/Sydney:20300413T003000
DTSTAMP:20260424T141832
CREATED:20260220T203843Z
LAST-MODIFIED:20260220T204915Z
UID:10446241-1902259800-1902270600@golatindance.com
SUMMARY:BAM PARTY
DESCRIPTION:🎉 BAM Party! where bachata is king! 🎉\n📍 Tropical Soul Dance Studio \n💲 $20 prepaid | $25 at the door\n👯 Bring a friend for FREE (must be a brand new guest\, not a current or past TS student)\nDon’t miss the chance to dance\, connect\, and party with the community 💃🕺
URL:https://golatindance.com/event/bam-party/2030-04-12/
LOCATION:205-207 Parramatta Rd\, 205-207 Parramatta Rd\, Sydney\, NSW\, 2038\, Australia
CATEGORIES:Sydney
ATTACH;FMTTYPE=image/jpeg:https://golatindance.com/wp-content/uploads/2026/02/625162645_1496545602480077_3342765258775103638_n.jpg
END:VEVENT
BEGIN:VEVENT
DTSTART;TZID=Australia/Sydney:20300510T213000
DTEND;TZID=Australia/Sydney:20300511T003000
DTSTAMP:20260424T141832
CREATED:20260220T203843Z
LAST-MODIFIED:20260220T204915Z
UID:10446242-1904679000-1904689800@golatindance.com
SUMMARY:BAM PARTY
DESCRIPTION:🎉 BAM Party! where bachata is king! 🎉\n📍 Tropical Soul Dance Studio \n💲 $20 prepaid | $25 at the door\n👯 Bring a friend for FREE (must be a brand new guest\, not a current or past TS student)\nDon’t miss the chance to dance\, connect\, and party with the community 💃🕺
URL:https://golatindance.com/event/bam-party/2030-05-10/
LOCATION:205-207 Parramatta Rd\, 205-207 Parramatta Rd\, Sydney\, NSW\, 2038\, Australia
CATEGORIES:Sydney
ATTACH;FMTTYPE=image/jpeg:https://golatindance.com/wp-content/uploads/2026/02/625162645_1496545602480077_3342765258775103638_n.jpg
END:VEVENT
BEGIN:VEVENT
DTSTART;TZID=Australia/Sydney:20300614T213000
DTEND;TZID=Australia/Sydney:20300615T003000
DTSTAMP:20260424T141832
CREATED:20260220T203843Z
LAST-MODIFIED:20260220T204915Z
UID:10446243-1907703000-1907713800@golatindance.com
SUMMARY:BAM PARTY
DESCRIPTION:🎉 BAM Party! where bachata is king! 🎉\n📍 Tropical Soul Dance Studio \n💲 $20 prepaid | $25 at the door\n👯 Bring a friend for FREE (must be a brand new guest\, not a current or past TS student)\nDon’t miss the chance to dance\, connect\, and party with the community 💃🕺
URL:https://golatindance.com/event/bam-party/2030-06-14/
LOCATION:205-207 Parramatta Rd\, 205-207 Parramatta Rd\, Sydney\, NSW\, 2038\, Australia
CATEGORIES:Sydney
ATTACH;FMTTYPE=image/jpeg:https://golatindance.com/wp-content/uploads/2026/02/625162645_1496545602480077_3342765258775103638_n.jpg
END:VEVENT
BEGIN:VEVENT
DTSTART;TZID=Australia/Sydney:20300712T213000
DTEND;TZID=Australia/Sydney:20300713T003000
DTSTAMP:20260424T141832
CREATED:20260220T203843Z
LAST-MODIFIED:20260220T204915Z
UID:10446244-1910122200-1910133000@golatindance.com
SUMMARY:BAM PARTY
DESCRIPTION:🎉 BAM Party! where bachata is king! 🎉\n📍 Tropical Soul Dance Studio \n💲 $20 prepaid | $25 at the door\n👯 Bring a friend for FREE (must be a brand new guest\, not a current or past TS student)\nDon’t miss the chance to dance\, connect\, and party with the community 💃🕺
URL:https://golatindance.com/event/bam-party/2030-07-12/
LOCATION:205-207 Parramatta Rd\, 205-207 Parramatta Rd\, Sydney\, NSW\, 2038\, Australia
CATEGORIES:Sydney
ATTACH;FMTTYPE=image/jpeg:https://golatindance.com/wp-content/uploads/2026/02/625162645_1496545602480077_3342765258775103638_n.jpg
END:VEVENT
BEGIN:VEVENT
DTSTART;TZID=Australia/Sydney:20300809T213000
DTEND;TZID=Australia/Sydney:20300810T003000
DTSTAMP:20260424T141832
CREATED:20260220T203843Z
LAST-MODIFIED:20260220T204915Z
UID:10446245-1912541400-1912552200@golatindance.com
SUMMARY:BAM PARTY
DESCRIPTION:🎉 BAM Party! where bachata is king! 🎉\n📍 Tropical Soul Dance Studio \n💲 $20 prepaid | $25 at the door\n👯 Bring a friend for FREE (must be a brand new guest\, not a current or past TS student)\nDon’t miss the chance to dance\, connect\, and party with the community 💃🕺
URL:https://golatindance.com/event/bam-party/2030-08-09/
LOCATION:205-207 Parramatta Rd\, 205-207 Parramatta Rd\, Sydney\, NSW\, 2038\, Australia
CATEGORIES:Sydney
ATTACH;FMTTYPE=image/jpeg:https://golatindance.com/wp-content/uploads/2026/02/625162645_1496545602480077_3342765258775103638_n.jpg
END:VEVENT
BEGIN:VEVENT
DTSTART;TZID=Australia/Sydney:20300913T213000
DTEND;TZID=Australia/Sydney:20300914T003000
DTSTAMP:20260424T141832
CREATED:20260220T203843Z
LAST-MODIFIED:20260220T204915Z
UID:10446246-1915565400-1915576200@golatindance.com
SUMMARY:BAM PARTY
DESCRIPTION:🎉 BAM Party! where bachata is king! 🎉\n📍 Tropical Soul Dance Studio \n💲 $20 prepaid | $25 at the door\n👯 Bring a friend for FREE (must be a brand new guest\, not a current or past TS student)\nDon’t miss the chance to dance\, connect\, and party with the community 💃🕺
URL:https://golatindance.com/event/bam-party/2030-09-13/
LOCATION:205-207 Parramatta Rd\, 205-207 Parramatta Rd\, Sydney\, NSW\, 2038\, Australia
CATEGORIES:Sydney
ATTACH;FMTTYPE=image/jpeg:https://golatindance.com/wp-content/uploads/2026/02/625162645_1496545602480077_3342765258775103638_n.jpg
END:VEVENT
BEGIN:VEVENT
DTSTART;TZID=Australia/Sydney:20301011T213000
DTEND;TZID=Australia/Sydney:20301012T003000
DTSTAMP:20260424T141832
CREATED:20260220T203843Z
LAST-MODIFIED:20260220T204915Z
UID:10446247-1917984600-1917995400@golatindance.com
SUMMARY:BAM PARTY
DESCRIPTION:🎉 BAM Party! where bachata is king! 🎉\n📍 Tropical Soul Dance Studio \n💲 $20 prepaid | $25 at the door\n👯 Bring a friend for FREE (must be a brand new guest\, not a current or past TS student)\nDon’t miss the chance to dance\, connect\, and party with the community 💃🕺
URL:https://golatindance.com/event/bam-party/2030-10-11/
LOCATION:205-207 Parramatta Rd\, 205-207 Parramatta Rd\, Sydney\, NSW\, 2038\, Australia
CATEGORIES:Sydney
ATTACH;FMTTYPE=image/jpeg:https://golatindance.com/wp-content/uploads/2026/02/625162645_1496545602480077_3342765258775103638_n.jpg
END:VEVENT
BEGIN:VEVENT
DTSTART;TZID=Australia/Sydney:20301108T213000
DTEND;TZID=Australia/Sydney:20301109T003000
DTSTAMP:20260424T141832
CREATED:20260220T203843Z
LAST-MODIFIED:20260220T204915Z
UID:10446248-1920403800-1920414600@golatindance.com
SUMMARY:BAM PARTY
DESCRIPTION:🎉 BAM Party! where bachata is king! 🎉\n📍 Tropical Soul Dance Studio \n💲 $20 prepaid | $25 at the door\n👯 Bring a friend for FREE (must be a brand new guest\, not a current or past TS student)\nDon’t miss the chance to dance\, connect\, and party with the community 💃🕺
URL:https://golatindance.com/event/bam-party/2030-11-08/
LOCATION:205-207 Parramatta Rd\, 205-207 Parramatta Rd\, Sydney\, NSW\, 2038\, Australia
CATEGORIES:Sydney
ATTACH;FMTTYPE=image/jpeg:https://golatindance.com/wp-content/uploads/2026/02/625162645_1496545602480077_3342765258775103638_n.jpg
END:VEVENT
BEGIN:VEVENT
DTSTART;TZID=Australia/Sydney:20301213T213000
DTEND;TZID=Australia/Sydney:20301214T003000
DTSTAMP:20260424T141832
CREATED:20260220T203843Z
LAST-MODIFIED:20260220T204915Z
UID:10446249-1923427800-1923438600@golatindance.com
SUMMARY:BAM PARTY
DESCRIPTION:🎉 BAM Party! where bachata is king! 🎉\n📍 Tropical Soul Dance Studio \n💲 $20 prepaid | $25 at the door\n👯 Bring a friend for FREE (must be a brand new guest\, not a current or past TS student)\nDon’t miss the chance to dance\, connect\, and party with the community 💃🕺
URL:https://golatindance.com/event/bam-party/2030-12-13/
LOCATION:205-207 Parramatta Rd\, 205-207 Parramatta Rd\, Sydney\, NSW\, 2038\, Australia
CATEGORIES:Sydney
ATTACH;FMTTYPE=image/jpeg:https://golatindance.com/wp-content/uploads/2026/02/625162645_1496545602480077_3342765258775103638_n.jpg
END:VEVENT
BEGIN:VEVENT
DTSTART;TZID=Australia/Sydney:20310110T213000
DTEND;TZID=Australia/Sydney:20310111T003000
DTSTAMP:20260424T141832
CREATED:20260220T203843Z
LAST-MODIFIED:20260220T204915Z
UID:10446250-1925847000-1925857800@golatindance.com
SUMMARY:BAM PARTY
DESCRIPTION:🎉 BAM Party! where bachata is king! 🎉\n📍 Tropical Soul Dance Studio \n💲 $20 prepaid | $25 at the door\n👯 Bring a friend for FREE (must be a brand new guest\, not a current or past TS student)\nDon’t miss the chance to dance\, connect\, and party with the community 💃🕺
URL:https://golatindance.com/event/bam-party/2031-01-10/
LOCATION:205-207 Parramatta Rd\, 205-207 Parramatta Rd\, Sydney\, NSW\, 2038\, Australia
CATEGORIES:Sydney
ATTACH;FMTTYPE=image/jpeg:https://golatindance.com/wp-content/uploads/2026/02/625162645_1496545602480077_3342765258775103638_n.jpg
END:VEVENT
BEGIN:VEVENT
DTSTART;TZID=Australia/Sydney:20310214T213000
DTEND;TZID=Australia/Sydney:20310215T003000
DTSTAMP:20260424T141832
CREATED:20260220T203843Z
LAST-MODIFIED:20260220T204915Z
UID:10446251-1928871000-1928881800@golatindance.com
SUMMARY:BAM PARTY
DESCRIPTION:🎉 BAM Party! where bachata is king! 🎉\n📍 Tropical Soul Dance Studio \n💲 $20 prepaid | $25 at the door\n👯 Bring a friend for FREE (must be a brand new guest\, not a current or past TS student)\nDon’t miss the chance to dance\, connect\, and party with the community 💃🕺
URL:https://golatindance.com/event/bam-party/2031-02-14/
LOCATION:205-207 Parramatta Rd\, 205-207 Parramatta Rd\, Sydney\, NSW\, 2038\, Australia
CATEGORIES:Sydney
ATTACH;FMTTYPE=image/jpeg:https://golatindance.com/wp-content/uploads/2026/02/625162645_1496545602480077_3342765258775103638_n.jpg
END:VEVENT
END:VCALENDAR