BEGIN:VCALENDAR
VERSION:2.0
PRODID:-//GO Latin Dance - ECPv6.15.18//NONSGML v1.0//EN
CALSCALE:GREGORIAN
METHOD:PUBLISH
X-WR-CALNAME:GO Latin Dance
X-ORIGINAL-URL:https://golatindance.com
X-WR-CALDESC:Events for GO Latin Dance
REFRESH-INTERVAL;VALUE=DURATION:PT1H
X-Robots-Tag:noindex
X-PUBLISHED-TTL:PT1H
BEGIN:VTIMEZONE
TZID:America/Los_Angeles
BEGIN:DAYLIGHT
TZOFFSETFROM:-0800
TZOFFSETTO:-0700
TZNAME:PDT
DTSTART:20250309T100000
END:DAYLIGHT
BEGIN:STANDARD
TZOFFSETFROM:-0700
TZOFFSETTO:-0800
TZNAME:PST
DTSTART:20251102T090000
END:STANDARD
BEGIN:DAYLIGHT
TZOFFSETFROM:-0800
TZOFFSETTO:-0700
TZNAME:PDT
DTSTART:20260308T100000
END:DAYLIGHT
BEGIN:STANDARD
TZOFFSETFROM:-0700
TZOFFSETTO:-0800
TZNAME:PST
DTSTART:20261101T090000
END:STANDARD
BEGIN:DAYLIGHT
TZOFFSETFROM:-0800
TZOFFSETTO:-0700
TZNAME:PDT
DTSTART:20270314T100000
END:DAYLIGHT
BEGIN:STANDARD
TZOFFSETFROM:-0700
TZOFFSETTO:-0800
TZNAME:PST
DTSTART:20271107T090000
END:STANDARD
BEGIN:DAYLIGHT
TZOFFSETFROM:-0800
TZOFFSETTO:-0700
TZNAME:PDT
DTSTART:20280312T100000
END:DAYLIGHT
BEGIN:STANDARD
TZOFFSETFROM:-0700
TZOFFSETTO:-0800
TZNAME:PST
DTSTART:20281105T090000
END:STANDARD
END:VTIMEZONE
BEGIN:VEVENT
DTSTART;TZID=America/Los_Angeles:20260911T200000
DTEND;TZID=America/Los_Angeles:20260912T020000
DTSTAMP:20260425T000423
CREATED:20251202T210241Z
LAST-MODIFIED:20260113T170043Z
UID:10418355-1789156800-1789178400@golatindance.com
SUMMARY:Mama Juana Nights Studio City
DESCRIPTION:Every Friday Night!\nDoors Open @8pm\nSalsa Class by Raul Santiago @9pm\nMama Juana Project Orchestra @9:45pm\nDJ Mario @11:30pm
URL:https://golatindance.com/event/mama-juana-nights-studio-city/2026-09-11/
LOCATION:3704 Cahuenga Blvd\, 3704 Cahuenga Blvd\, Studio City\, CA\, 91604\, United States
CATEGORIES:Los Angeles
ATTACH;FMTTYPE=image/jpeg:https://golatindance.com/wp-content/uploads/2025/12/470174331_122122776752571595_3628749059414569209_n.jpg
END:VEVENT
BEGIN:VEVENT
DTSTART;TZID=America/Los_Angeles:20260918T200000
DTEND;TZID=America/Los_Angeles:20260919T020000
DTSTAMP:20260425T000423
CREATED:20251202T210241Z
LAST-MODIFIED:20260113T170043Z
UID:10418356-1789761600-1789783200@golatindance.com
SUMMARY:Mama Juana Nights Studio City
DESCRIPTION:Every Friday Night!\nDoors Open @8pm\nSalsa Class by Raul Santiago @9pm\nMama Juana Project Orchestra @9:45pm\nDJ Mario @11:30pm
URL:https://golatindance.com/event/mama-juana-nights-studio-city/2026-09-18/
LOCATION:3704 Cahuenga Blvd\, 3704 Cahuenga Blvd\, Studio City\, CA\, 91604\, United States
CATEGORIES:Los Angeles
ATTACH;FMTTYPE=image/jpeg:https://golatindance.com/wp-content/uploads/2025/12/470174331_122122776752571595_3628749059414569209_n.jpg
END:VEVENT
BEGIN:VEVENT
DTSTART;TZID=America/Los_Angeles:20260925T200000
DTEND;TZID=America/Los_Angeles:20260926T020000
DTSTAMP:20260425T000423
CREATED:20251202T210241Z
LAST-MODIFIED:20260113T170043Z
UID:10418357-1790366400-1790388000@golatindance.com
SUMMARY:Mama Juana Nights Studio City
DESCRIPTION:Every Friday Night!\nDoors Open @8pm\nSalsa Class by Raul Santiago @9pm\nMama Juana Project Orchestra @9:45pm\nDJ Mario @11:30pm
URL:https://golatindance.com/event/mama-juana-nights-studio-city/2026-09-25/
LOCATION:3704 Cahuenga Blvd\, 3704 Cahuenga Blvd\, Studio City\, CA\, 91604\, United States
CATEGORIES:Los Angeles
ATTACH;FMTTYPE=image/jpeg:https://golatindance.com/wp-content/uploads/2025/12/470174331_122122776752571595_3628749059414569209_n.jpg
END:VEVENT
BEGIN:VEVENT
DTSTART;TZID=America/Los_Angeles:20261002T200000
DTEND;TZID=America/Los_Angeles:20261003T020000
DTSTAMP:20260425T000423
CREATED:20251202T210241Z
LAST-MODIFIED:20260113T170043Z
UID:10418358-1790971200-1790992800@golatindance.com
SUMMARY:Mama Juana Nights Studio City
DESCRIPTION:Every Friday Night!\nDoors Open @8pm\nSalsa Class by Raul Santiago @9pm\nMama Juana Project Orchestra @9:45pm\nDJ Mario @11:30pm
URL:https://golatindance.com/event/mama-juana-nights-studio-city/2026-10-02/
LOCATION:3704 Cahuenga Blvd\, 3704 Cahuenga Blvd\, Studio City\, CA\, 91604\, United States
CATEGORIES:Los Angeles
ATTACH;FMTTYPE=image/jpeg:https://golatindance.com/wp-content/uploads/2025/12/470174331_122122776752571595_3628749059414569209_n.jpg
END:VEVENT
BEGIN:VEVENT
DTSTART;TZID=America/Los_Angeles:20261009T200000
DTEND;TZID=America/Los_Angeles:20261010T020000
DTSTAMP:20260425T000423
CREATED:20251202T210241Z
LAST-MODIFIED:20260113T170043Z
UID:10418359-1791576000-1791597600@golatindance.com
SUMMARY:Mama Juana Nights Studio City
DESCRIPTION:Every Friday Night!\nDoors Open @8pm\nSalsa Class by Raul Santiago @9pm\nMama Juana Project Orchestra @9:45pm\nDJ Mario @11:30pm
URL:https://golatindance.com/event/mama-juana-nights-studio-city/2026-10-09/
LOCATION:3704 Cahuenga Blvd\, 3704 Cahuenga Blvd\, Studio City\, CA\, 91604\, United States
CATEGORIES:Los Angeles
ATTACH;FMTTYPE=image/jpeg:https://golatindance.com/wp-content/uploads/2025/12/470174331_122122776752571595_3628749059414569209_n.jpg
END:VEVENT
BEGIN:VEVENT
DTSTART;TZID=America/Los_Angeles:20261016T200000
DTEND;TZID=America/Los_Angeles:20261017T020000
DTSTAMP:20260425T000423
CREATED:20251202T210241Z
LAST-MODIFIED:20260113T170043Z
UID:10418360-1792180800-1792202400@golatindance.com
SUMMARY:Mama Juana Nights Studio City
DESCRIPTION:Every Friday Night!\nDoors Open @8pm\nSalsa Class by Raul Santiago @9pm\nMama Juana Project Orchestra @9:45pm\nDJ Mario @11:30pm
URL:https://golatindance.com/event/mama-juana-nights-studio-city/2026-10-16/
LOCATION:3704 Cahuenga Blvd\, 3704 Cahuenga Blvd\, Studio City\, CA\, 91604\, United States
CATEGORIES:Los Angeles
ATTACH;FMTTYPE=image/jpeg:https://golatindance.com/wp-content/uploads/2025/12/470174331_122122776752571595_3628749059414569209_n.jpg
END:VEVENT
BEGIN:VEVENT
DTSTART;TZID=America/Los_Angeles:20261023T200000
DTEND;TZID=America/Los_Angeles:20261024T020000
DTSTAMP:20260425T000423
CREATED:20251202T210241Z
LAST-MODIFIED:20260113T170043Z
UID:10418361-1792785600-1792807200@golatindance.com
SUMMARY:Mama Juana Nights Studio City
DESCRIPTION:Every Friday Night!\nDoors Open @8pm\nSalsa Class by Raul Santiago @9pm\nMama Juana Project Orchestra @9:45pm\nDJ Mario @11:30pm
URL:https://golatindance.com/event/mama-juana-nights-studio-city/2026-10-23/
LOCATION:3704 Cahuenga Blvd\, 3704 Cahuenga Blvd\, Studio City\, CA\, 91604\, United States
CATEGORIES:Los Angeles
ATTACH;FMTTYPE=image/jpeg:https://golatindance.com/wp-content/uploads/2025/12/470174331_122122776752571595_3628749059414569209_n.jpg
END:VEVENT
BEGIN:VEVENT
DTSTART;TZID=America/Los_Angeles:20261030T200000
DTEND;TZID=America/Los_Angeles:20261031T020000
DTSTAMP:20260425T000423
CREATED:20251202T210241Z
LAST-MODIFIED:20260113T170043Z
UID:10418362-1793390400-1793412000@golatindance.com
SUMMARY:Mama Juana Nights Studio City
DESCRIPTION:Every Friday Night!\nDoors Open @8pm\nSalsa Class by Raul Santiago @9pm\nMama Juana Project Orchestra @9:45pm\nDJ Mario @11:30pm
URL:https://golatindance.com/event/mama-juana-nights-studio-city/2026-10-30/
LOCATION:3704 Cahuenga Blvd\, 3704 Cahuenga Blvd\, Studio City\, CA\, 91604\, United States
CATEGORIES:Los Angeles
ATTACH;FMTTYPE=image/jpeg:https://golatindance.com/wp-content/uploads/2025/12/470174331_122122776752571595_3628749059414569209_n.jpg
END:VEVENT
BEGIN:VEVENT
DTSTART;TZID=America/Los_Angeles:20261106T200000
DTEND;TZID=America/Los_Angeles:20261107T020000
DTSTAMP:20260425T000423
CREATED:20251202T210241Z
LAST-MODIFIED:20260113T170043Z
UID:10418363-1793995200-1794016800@golatindance.com
SUMMARY:Mama Juana Nights Studio City
DESCRIPTION:Every Friday Night!\nDoors Open @8pm\nSalsa Class by Raul Santiago @9pm\nMama Juana Project Orchestra @9:45pm\nDJ Mario @11:30pm
URL:https://golatindance.com/event/mama-juana-nights-studio-city/2026-11-06/
LOCATION:3704 Cahuenga Blvd\, 3704 Cahuenga Blvd\, Studio City\, CA\, 91604\, United States
CATEGORIES:Los Angeles
ATTACH;FMTTYPE=image/jpeg:https://golatindance.com/wp-content/uploads/2025/12/470174331_122122776752571595_3628749059414569209_n.jpg
END:VEVENT
BEGIN:VEVENT
DTSTART;TZID=America/Los_Angeles:20261113T200000
DTEND;TZID=America/Los_Angeles:20261114T020000
DTSTAMP:20260425T000423
CREATED:20251202T210241Z
LAST-MODIFIED:20260113T170043Z
UID:10418364-1794600000-1794621600@golatindance.com
SUMMARY:Mama Juana Nights Studio City
DESCRIPTION:Every Friday Night!\nDoors Open @8pm\nSalsa Class by Raul Santiago @9pm\nMama Juana Project Orchestra @9:45pm\nDJ Mario @11:30pm
URL:https://golatindance.com/event/mama-juana-nights-studio-city/2026-11-13/
LOCATION:3704 Cahuenga Blvd\, 3704 Cahuenga Blvd\, Studio City\, CA\, 91604\, United States
CATEGORIES:Los Angeles
ATTACH;FMTTYPE=image/jpeg:https://golatindance.com/wp-content/uploads/2025/12/470174331_122122776752571595_3628749059414569209_n.jpg
END:VEVENT
BEGIN:VEVENT
DTSTART;TZID=America/Los_Angeles:20261120T200000
DTEND;TZID=America/Los_Angeles:20261121T020000
DTSTAMP:20260425T000423
CREATED:20251202T210241Z
LAST-MODIFIED:20260113T170043Z
UID:10418365-1795204800-1795226400@golatindance.com
SUMMARY:Mama Juana Nights Studio City
DESCRIPTION:Every Friday Night!\nDoors Open @8pm\nSalsa Class by Raul Santiago @9pm\nMama Juana Project Orchestra @9:45pm\nDJ Mario @11:30pm
URL:https://golatindance.com/event/mama-juana-nights-studio-city/2026-11-20/
LOCATION:3704 Cahuenga Blvd\, 3704 Cahuenga Blvd\, Studio City\, CA\, 91604\, United States
CATEGORIES:Los Angeles
ATTACH;FMTTYPE=image/jpeg:https://golatindance.com/wp-content/uploads/2025/12/470174331_122122776752571595_3628749059414569209_n.jpg
END:VEVENT
BEGIN:VEVENT
DTSTART;TZID=America/Los_Angeles:20261127T200000
DTEND;TZID=America/Los_Angeles:20261128T020000
DTSTAMP:20260425T000423
CREATED:20251202T210241Z
LAST-MODIFIED:20260113T170043Z
UID:10418366-1795809600-1795831200@golatindance.com
SUMMARY:Mama Juana Nights Studio City
DESCRIPTION:Every Friday Night!\nDoors Open @8pm\nSalsa Class by Raul Santiago @9pm\nMama Juana Project Orchestra @9:45pm\nDJ Mario @11:30pm
URL:https://golatindance.com/event/mama-juana-nights-studio-city/2026-11-27/
LOCATION:3704 Cahuenga Blvd\, 3704 Cahuenga Blvd\, Studio City\, CA\, 91604\, United States
CATEGORIES:Los Angeles
ATTACH;FMTTYPE=image/jpeg:https://golatindance.com/wp-content/uploads/2025/12/470174331_122122776752571595_3628749059414569209_n.jpg
END:VEVENT
BEGIN:VEVENT
DTSTART;TZID=America/Los_Angeles:20261204T200000
DTEND;TZID=America/Los_Angeles:20261205T020000
DTSTAMP:20260425T000423
CREATED:20251202T210241Z
LAST-MODIFIED:20260113T170043Z
UID:10418367-1796414400-1796436000@golatindance.com
SUMMARY:Mama Juana Nights Studio City
DESCRIPTION:Every Friday Night!\nDoors Open @8pm\nSalsa Class by Raul Santiago @9pm\nMama Juana Project Orchestra @9:45pm\nDJ Mario @11:30pm
URL:https://golatindance.com/event/mama-juana-nights-studio-city/2026-12-04/
LOCATION:3704 Cahuenga Blvd\, 3704 Cahuenga Blvd\, Studio City\, CA\, 91604\, United States
CATEGORIES:Los Angeles
ATTACH;FMTTYPE=image/jpeg:https://golatindance.com/wp-content/uploads/2025/12/470174331_122122776752571595_3628749059414569209_n.jpg
END:VEVENT
BEGIN:VEVENT
DTSTART;TZID=America/Los_Angeles:20261211T200000
DTEND;TZID=America/Los_Angeles:20261212T020000
DTSTAMP:20260425T000423
CREATED:20251202T210241Z
LAST-MODIFIED:20260113T170043Z
UID:10418368-1797019200-1797040800@golatindance.com
SUMMARY:Mama Juana Nights Studio City
DESCRIPTION:Every Friday Night!\nDoors Open @8pm\nSalsa Class by Raul Santiago @9pm\nMama Juana Project Orchestra @9:45pm\nDJ Mario @11:30pm
URL:https://golatindance.com/event/mama-juana-nights-studio-city/2026-12-11/
LOCATION:3704 Cahuenga Blvd\, 3704 Cahuenga Blvd\, Studio City\, CA\, 91604\, United States
CATEGORIES:Los Angeles
ATTACH;FMTTYPE=image/jpeg:https://golatindance.com/wp-content/uploads/2025/12/470174331_122122776752571595_3628749059414569209_n.jpg
END:VEVENT
BEGIN:VEVENT
DTSTART;TZID=America/Los_Angeles:20261218T200000
DTEND;TZID=America/Los_Angeles:20261219T020000
DTSTAMP:20260425T000423
CREATED:20251202T210241Z
LAST-MODIFIED:20260113T170043Z
UID:10418369-1797624000-1797645600@golatindance.com
SUMMARY:Mama Juana Nights Studio City
DESCRIPTION:Every Friday Night!\nDoors Open @8pm\nSalsa Class by Raul Santiago @9pm\nMama Juana Project Orchestra @9:45pm\nDJ Mario @11:30pm
URL:https://golatindance.com/event/mama-juana-nights-studio-city/2026-12-18/
LOCATION:3704 Cahuenga Blvd\, 3704 Cahuenga Blvd\, Studio City\, CA\, 91604\, United States
CATEGORIES:Los Angeles
ATTACH;FMTTYPE=image/jpeg:https://golatindance.com/wp-content/uploads/2025/12/470174331_122122776752571595_3628749059414569209_n.jpg
END:VEVENT
BEGIN:VEVENT
DTSTART;TZID=America/Los_Angeles:20261225T200000
DTEND;TZID=America/Los_Angeles:20261226T020000
DTSTAMP:20260425T000423
CREATED:20251202T210241Z
LAST-MODIFIED:20260113T170043Z
UID:10418370-1798228800-1798250400@golatindance.com
SUMMARY:Mama Juana Nights Studio City
DESCRIPTION:Every Friday Night!\nDoors Open @8pm\nSalsa Class by Raul Santiago @9pm\nMama Juana Project Orchestra @9:45pm\nDJ Mario @11:30pm
URL:https://golatindance.com/event/mama-juana-nights-studio-city/2026-12-25/
LOCATION:3704 Cahuenga Blvd\, 3704 Cahuenga Blvd\, Studio City\, CA\, 91604\, United States
CATEGORIES:Los Angeles
ATTACH;FMTTYPE=image/jpeg:https://golatindance.com/wp-content/uploads/2025/12/470174331_122122776752571595_3628749059414569209_n.jpg
END:VEVENT
BEGIN:VEVENT
DTSTART;TZID=America/Los_Angeles:20270101T200000
DTEND;TZID=America/Los_Angeles:20270102T020000
DTSTAMP:20260425T000423
CREATED:20251202T210241Z
LAST-MODIFIED:20260113T170043Z
UID:10418371-1798833600-1798855200@golatindance.com
SUMMARY:Mama Juana Nights Studio City
DESCRIPTION:Every Friday Night!\nDoors Open @8pm\nSalsa Class by Raul Santiago @9pm\nMama Juana Project Orchestra @9:45pm\nDJ Mario @11:30pm
URL:https://golatindance.com/event/mama-juana-nights-studio-city/2027-01-01/
LOCATION:3704 Cahuenga Blvd\, 3704 Cahuenga Blvd\, Studio City\, CA\, 91604\, United States
CATEGORIES:Los Angeles
ATTACH;FMTTYPE=image/jpeg:https://golatindance.com/wp-content/uploads/2025/12/470174331_122122776752571595_3628749059414569209_n.jpg
END:VEVENT
BEGIN:VEVENT
DTSTART;TZID=America/Los_Angeles:20270108T200000
DTEND;TZID=America/Los_Angeles:20270109T020000
DTSTAMP:20260425T000423
CREATED:20251202T210241Z
LAST-MODIFIED:20260113T170043Z
UID:10418372-1799438400-1799460000@golatindance.com
SUMMARY:Mama Juana Nights Studio City
DESCRIPTION:Every Friday Night!\nDoors Open @8pm\nSalsa Class by Raul Santiago @9pm\nMama Juana Project Orchestra @9:45pm\nDJ Mario @11:30pm
URL:https://golatindance.com/event/mama-juana-nights-studio-city/2027-01-08/
LOCATION:3704 Cahuenga Blvd\, 3704 Cahuenga Blvd\, Studio City\, CA\, 91604\, United States
CATEGORIES:Los Angeles
ATTACH;FMTTYPE=image/jpeg:https://golatindance.com/wp-content/uploads/2025/12/470174331_122122776752571595_3628749059414569209_n.jpg
END:VEVENT
BEGIN:VEVENT
DTSTART;TZID=America/Los_Angeles:20270115T200000
DTEND;TZID=America/Los_Angeles:20270116T020000
DTSTAMP:20260425T000423
CREATED:20251202T210241Z
LAST-MODIFIED:20260113T170043Z
UID:10418373-1800043200-1800064800@golatindance.com
SUMMARY:Mama Juana Nights Studio City
DESCRIPTION:Every Friday Night!\nDoors Open @8pm\nSalsa Class by Raul Santiago @9pm\nMama Juana Project Orchestra @9:45pm\nDJ Mario @11:30pm
URL:https://golatindance.com/event/mama-juana-nights-studio-city/2027-01-15/
LOCATION:3704 Cahuenga Blvd\, 3704 Cahuenga Blvd\, Studio City\, CA\, 91604\, United States
CATEGORIES:Los Angeles
ATTACH;FMTTYPE=image/jpeg:https://golatindance.com/wp-content/uploads/2025/12/470174331_122122776752571595_3628749059414569209_n.jpg
END:VEVENT
BEGIN:VEVENT
DTSTART;TZID=America/Los_Angeles:20270122T200000
DTEND;TZID=America/Los_Angeles:20270123T020000
DTSTAMP:20260425T000423
CREATED:20251202T210241Z
LAST-MODIFIED:20260113T170043Z
UID:10418374-1800648000-1800669600@golatindance.com
SUMMARY:Mama Juana Nights Studio City
DESCRIPTION:Every Friday Night!\nDoors Open @8pm\nSalsa Class by Raul Santiago @9pm\nMama Juana Project Orchestra @9:45pm\nDJ Mario @11:30pm
URL:https://golatindance.com/event/mama-juana-nights-studio-city/2027-01-22/
LOCATION:3704 Cahuenga Blvd\, 3704 Cahuenga Blvd\, Studio City\, CA\, 91604\, United States
CATEGORIES:Los Angeles
ATTACH;FMTTYPE=image/jpeg:https://golatindance.com/wp-content/uploads/2025/12/470174331_122122776752571595_3628749059414569209_n.jpg
END:VEVENT
BEGIN:VEVENT
DTSTART;TZID=America/Los_Angeles:20270129T200000
DTEND;TZID=America/Los_Angeles:20270130T020000
DTSTAMP:20260425T000423
CREATED:20251202T210241Z
LAST-MODIFIED:20260113T170043Z
UID:10418375-1801252800-1801274400@golatindance.com
SUMMARY:Mama Juana Nights Studio City
DESCRIPTION:Every Friday Night!\nDoors Open @8pm\nSalsa Class by Raul Santiago @9pm\nMama Juana Project Orchestra @9:45pm\nDJ Mario @11:30pm
URL:https://golatindance.com/event/mama-juana-nights-studio-city/2027-01-29/
LOCATION:3704 Cahuenga Blvd\, 3704 Cahuenga Blvd\, Studio City\, CA\, 91604\, United States
CATEGORIES:Los Angeles
ATTACH;FMTTYPE=image/jpeg:https://golatindance.com/wp-content/uploads/2025/12/470174331_122122776752571595_3628749059414569209_n.jpg
END:VEVENT
BEGIN:VEVENT
DTSTART;TZID=America/Los_Angeles:20270205T200000
DTEND;TZID=America/Los_Angeles:20270206T020000
DTSTAMP:20260425T000423
CREATED:20251202T210241Z
LAST-MODIFIED:20260113T170043Z
UID:10418376-1801857600-1801879200@golatindance.com
SUMMARY:Mama Juana Nights Studio City
DESCRIPTION:Every Friday Night!\nDoors Open @8pm\nSalsa Class by Raul Santiago @9pm\nMama Juana Project Orchestra @9:45pm\nDJ Mario @11:30pm
URL:https://golatindance.com/event/mama-juana-nights-studio-city/2027-02-05/
LOCATION:3704 Cahuenga Blvd\, 3704 Cahuenga Blvd\, Studio City\, CA\, 91604\, United States
CATEGORIES:Los Angeles
ATTACH;FMTTYPE=image/jpeg:https://golatindance.com/wp-content/uploads/2025/12/470174331_122122776752571595_3628749059414569209_n.jpg
END:VEVENT
BEGIN:VEVENT
DTSTART;TZID=America/Los_Angeles:20270212T200000
DTEND;TZID=America/Los_Angeles:20270213T020000
DTSTAMP:20260425T000423
CREATED:20251202T210241Z
LAST-MODIFIED:20260113T170043Z
UID:10418377-1802462400-1802484000@golatindance.com
SUMMARY:Mama Juana Nights Studio City
DESCRIPTION:Every Friday Night!\nDoors Open @8pm\nSalsa Class by Raul Santiago @9pm\nMama Juana Project Orchestra @9:45pm\nDJ Mario @11:30pm
URL:https://golatindance.com/event/mama-juana-nights-studio-city/2027-02-12/
LOCATION:3704 Cahuenga Blvd\, 3704 Cahuenga Blvd\, Studio City\, CA\, 91604\, United States
CATEGORIES:Los Angeles
ATTACH;FMTTYPE=image/jpeg:https://golatindance.com/wp-content/uploads/2025/12/470174331_122122776752571595_3628749059414569209_n.jpg
END:VEVENT
BEGIN:VEVENT
DTSTART;TZID=America/Los_Angeles:20270219T200000
DTEND;TZID=America/Los_Angeles:20270220T020000
DTSTAMP:20260425T000423
CREATED:20251202T210241Z
LAST-MODIFIED:20260113T170043Z
UID:10418378-1803067200-1803088800@golatindance.com
SUMMARY:Mama Juana Nights Studio City
DESCRIPTION:Every Friday Night!\nDoors Open @8pm\nSalsa Class by Raul Santiago @9pm\nMama Juana Project Orchestra @9:45pm\nDJ Mario @11:30pm
URL:https://golatindance.com/event/mama-juana-nights-studio-city/2027-02-19/
LOCATION:3704 Cahuenga Blvd\, 3704 Cahuenga Blvd\, Studio City\, CA\, 91604\, United States
CATEGORIES:Los Angeles
ATTACH;FMTTYPE=image/jpeg:https://golatindance.com/wp-content/uploads/2025/12/470174331_122122776752571595_3628749059414569209_n.jpg
END:VEVENT
BEGIN:VEVENT
DTSTART;TZID=America/Los_Angeles:20270226T200000
DTEND;TZID=America/Los_Angeles:20270227T020000
DTSTAMP:20260425T000423
CREATED:20251202T210241Z
LAST-MODIFIED:20260113T170043Z
UID:10418379-1803672000-1803693600@golatindance.com
SUMMARY:Mama Juana Nights Studio City
DESCRIPTION:Every Friday Night!\nDoors Open @8pm\nSalsa Class by Raul Santiago @9pm\nMama Juana Project Orchestra @9:45pm\nDJ Mario @11:30pm
URL:https://golatindance.com/event/mama-juana-nights-studio-city/2027-02-26/
LOCATION:3704 Cahuenga Blvd\, 3704 Cahuenga Blvd\, Studio City\, CA\, 91604\, United States
CATEGORIES:Los Angeles
ATTACH;FMTTYPE=image/jpeg:https://golatindance.com/wp-content/uploads/2025/12/470174331_122122776752571595_3628749059414569209_n.jpg
END:VEVENT
BEGIN:VEVENT
DTSTART;TZID=America/Los_Angeles:20270305T200000
DTEND;TZID=America/Los_Angeles:20270306T020000
DTSTAMP:20260425T000423
CREATED:20251202T210241Z
LAST-MODIFIED:20260113T170043Z
UID:10418380-1804276800-1804298400@golatindance.com
SUMMARY:Mama Juana Nights Studio City
DESCRIPTION:Every Friday Night!\nDoors Open @8pm\nSalsa Class by Raul Santiago @9pm\nMama Juana Project Orchestra @9:45pm\nDJ Mario @11:30pm
URL:https://golatindance.com/event/mama-juana-nights-studio-city/2027-03-05/
LOCATION:3704 Cahuenga Blvd\, 3704 Cahuenga Blvd\, Studio City\, CA\, 91604\, United States
CATEGORIES:Los Angeles
ATTACH;FMTTYPE=image/jpeg:https://golatindance.com/wp-content/uploads/2025/12/470174331_122122776752571595_3628749059414569209_n.jpg
END:VEVENT
BEGIN:VEVENT
DTSTART;TZID=America/Los_Angeles:20270312T200000
DTEND;TZID=America/Los_Angeles:20270313T020000
DTSTAMP:20260425T000423
CREATED:20251202T210241Z
LAST-MODIFIED:20260113T170043Z
UID:10418381-1804881600-1804903200@golatindance.com
SUMMARY:Mama Juana Nights Studio City
DESCRIPTION:Every Friday Night!\nDoors Open @8pm\nSalsa Class by Raul Santiago @9pm\nMama Juana Project Orchestra @9:45pm\nDJ Mario @11:30pm
URL:https://golatindance.com/event/mama-juana-nights-studio-city/2027-03-12/
LOCATION:3704 Cahuenga Blvd\, 3704 Cahuenga Blvd\, Studio City\, CA\, 91604\, United States
CATEGORIES:Los Angeles
ATTACH;FMTTYPE=image/jpeg:https://golatindance.com/wp-content/uploads/2025/12/470174331_122122776752571595_3628749059414569209_n.jpg
END:VEVENT
BEGIN:VEVENT
DTSTART;TZID=America/Los_Angeles:20270319T200000
DTEND;TZID=America/Los_Angeles:20270320T020000
DTSTAMP:20260425T000423
CREATED:20251202T210241Z
LAST-MODIFIED:20260113T170043Z
UID:10418382-1805486400-1805508000@golatindance.com
SUMMARY:Mama Juana Nights Studio City
DESCRIPTION:Every Friday Night!\nDoors Open @8pm\nSalsa Class by Raul Santiago @9pm\nMama Juana Project Orchestra @9:45pm\nDJ Mario @11:30pm
URL:https://golatindance.com/event/mama-juana-nights-studio-city/2027-03-19/
LOCATION:3704 Cahuenga Blvd\, 3704 Cahuenga Blvd\, Studio City\, CA\, 91604\, United States
CATEGORIES:Los Angeles
ATTACH;FMTTYPE=image/jpeg:https://golatindance.com/wp-content/uploads/2025/12/470174331_122122776752571595_3628749059414569209_n.jpg
END:VEVENT
BEGIN:VEVENT
DTSTART;TZID=America/Los_Angeles:20270326T200000
DTEND;TZID=America/Los_Angeles:20270327T020000
DTSTAMP:20260425T000423
CREATED:20251202T210241Z
LAST-MODIFIED:20260113T170043Z
UID:10418383-1806091200-1806112800@golatindance.com
SUMMARY:Mama Juana Nights Studio City
DESCRIPTION:Every Friday Night!\nDoors Open @8pm\nSalsa Class by Raul Santiago @9pm\nMama Juana Project Orchestra @9:45pm\nDJ Mario @11:30pm
URL:https://golatindance.com/event/mama-juana-nights-studio-city/2027-03-26/
LOCATION:3704 Cahuenga Blvd\, 3704 Cahuenga Blvd\, Studio City\, CA\, 91604\, United States
CATEGORIES:Los Angeles
ATTACH;FMTTYPE=image/jpeg:https://golatindance.com/wp-content/uploads/2025/12/470174331_122122776752571595_3628749059414569209_n.jpg
END:VEVENT
BEGIN:VEVENT
DTSTART;TZID=America/Los_Angeles:20270402T200000
DTEND;TZID=America/Los_Angeles:20270403T020000
DTSTAMP:20260425T000423
CREATED:20251202T210241Z
LAST-MODIFIED:20260113T170043Z
UID:10418384-1806696000-1806717600@golatindance.com
SUMMARY:Mama Juana Nights Studio City
DESCRIPTION:Every Friday Night!\nDoors Open @8pm\nSalsa Class by Raul Santiago @9pm\nMama Juana Project Orchestra @9:45pm\nDJ Mario @11:30pm
URL:https://golatindance.com/event/mama-juana-nights-studio-city/2027-04-02/
LOCATION:3704 Cahuenga Blvd\, 3704 Cahuenga Blvd\, Studio City\, CA\, 91604\, United States
CATEGORIES:Los Angeles
ATTACH;FMTTYPE=image/jpeg:https://golatindance.com/wp-content/uploads/2025/12/470174331_122122776752571595_3628749059414569209_n.jpg
END:VEVENT
END:VCALENDAR