BEGIN:VCALENDAR
VERSION:2.0
PRODID:-//GO Latin Dance - ECPv6.15.18//NONSGML v1.0//EN
CALSCALE:GREGORIAN
METHOD:PUBLISH
X-ORIGINAL-URL:https://golatindance.com
X-WR-CALDESC:Events for GO Latin Dance
REFRESH-INTERVAL;VALUE=DURATION:PT1H
X-Robots-Tag:noindex
X-PUBLISHED-TTL:PT1H
BEGIN:VTIMEZONE
TZID:America/Chicago
BEGIN:DAYLIGHT
TZOFFSETFROM:-0600
TZOFFSETTO:-0500
TZNAME:CDT
DTSTART:20250309T080000
END:DAYLIGHT
BEGIN:STANDARD
TZOFFSETFROM:-0500
TZOFFSETTO:-0600
TZNAME:CST
DTSTART:20251102T070000
END:STANDARD
BEGIN:DAYLIGHT
TZOFFSETFROM:-0600
TZOFFSETTO:-0500
TZNAME:CDT
DTSTART:20260308T080000
END:DAYLIGHT
BEGIN:STANDARD
TZOFFSETFROM:-0500
TZOFFSETTO:-0600
TZNAME:CST
DTSTART:20261101T070000
END:STANDARD
BEGIN:DAYLIGHT
TZOFFSETFROM:-0600
TZOFFSETTO:-0500
TZNAME:CDT
DTSTART:20270314T080000
END:DAYLIGHT
BEGIN:STANDARD
TZOFFSETFROM:-0500
TZOFFSETTO:-0600
TZNAME:CST
DTSTART:20271107T070000
END:STANDARD
BEGIN:DAYLIGHT
TZOFFSETFROM:-0600
TZOFFSETTO:-0500
TZNAME:CDT
DTSTART:20280312T080000
END:DAYLIGHT
BEGIN:STANDARD
TZOFFSETFROM:-0500
TZOFFSETTO:-0600
TZNAME:CST
DTSTART:20281105T070000
END:STANDARD
END:VTIMEZONE
BEGIN:VEVENT
DTSTART;TZID=America/Chicago:20260707T200000
DTEND;TZID=America/Chicago:20260708T013000
DTSTAMP:20260424T083257
CREATED:20260222T202441Z
LAST-MODIFIED:20260222T202513Z
UID:10447570-1783454400-1783474200@golatindance.com
SUMMARY:Salsa and Bachata Tuesdays at Alhambra
DESCRIPTION:Cover $10 before 9pm\nSalsa and Bachata Class
URL:https://golatindance.com/event/salsa-and-bachata-tuesdays-at-alhambra/2026-07-07/
LOCATION:Alhambra Palace\, 1240 W Randolph St\, Chicago\, IL\, 60607\, United States
CATEGORIES:Chicago
END:VEVENT
BEGIN:VEVENT
DTSTART;TZID=America/Chicago:20260714T200000
DTEND;TZID=America/Chicago:20260715T013000
DTSTAMP:20260424T083257
CREATED:20260222T202441Z
LAST-MODIFIED:20260222T202513Z
UID:10447571-1784059200-1784079000@golatindance.com
SUMMARY:Salsa and Bachata Tuesdays at Alhambra
DESCRIPTION:Cover $10 before 9pm\nSalsa and Bachata Class
URL:https://golatindance.com/event/salsa-and-bachata-tuesdays-at-alhambra/2026-07-14/
LOCATION:Alhambra Palace\, 1240 W Randolph St\, Chicago\, IL\, 60607\, United States
CATEGORIES:Chicago
END:VEVENT
BEGIN:VEVENT
DTSTART;TZID=America/Chicago:20260721T200000
DTEND;TZID=America/Chicago:20260722T013000
DTSTAMP:20260424T083257
CREATED:20260222T202441Z
LAST-MODIFIED:20260222T202513Z
UID:10447572-1784664000-1784683800@golatindance.com
SUMMARY:Salsa and Bachata Tuesdays at Alhambra
DESCRIPTION:Cover $10 before 9pm\nSalsa and Bachata Class
URL:https://golatindance.com/event/salsa-and-bachata-tuesdays-at-alhambra/2026-07-21/
LOCATION:Alhambra Palace\, 1240 W Randolph St\, Chicago\, IL\, 60607\, United States
CATEGORIES:Chicago
END:VEVENT
BEGIN:VEVENT
DTSTART;TZID=America/Chicago:20260728T200000
DTEND;TZID=America/Chicago:20260729T013000
DTSTAMP:20260424T083257
CREATED:20260222T202441Z
LAST-MODIFIED:20260222T202513Z
UID:10447573-1785268800-1785288600@golatindance.com
SUMMARY:Salsa and Bachata Tuesdays at Alhambra
DESCRIPTION:Cover $10 before 9pm\nSalsa and Bachata Class
URL:https://golatindance.com/event/salsa-and-bachata-tuesdays-at-alhambra/2026-07-28/
LOCATION:Alhambra Palace\, 1240 W Randolph St\, Chicago\, IL\, 60607\, United States
CATEGORIES:Chicago
END:VEVENT
BEGIN:VEVENT
DTSTART;TZID=America/Chicago:20260804T200000
DTEND;TZID=America/Chicago:20260805T013000
DTSTAMP:20260424T083257
CREATED:20260222T202441Z
LAST-MODIFIED:20260222T202513Z
UID:10447574-1785873600-1785893400@golatindance.com
SUMMARY:Salsa and Bachata Tuesdays at Alhambra
DESCRIPTION:Cover $10 before 9pm\nSalsa and Bachata Class
URL:https://golatindance.com/event/salsa-and-bachata-tuesdays-at-alhambra/2026-08-04/
LOCATION:Alhambra Palace\, 1240 W Randolph St\, Chicago\, IL\, 60607\, United States
CATEGORIES:Chicago
END:VEVENT
BEGIN:VEVENT
DTSTART;TZID=America/Chicago:20260811T200000
DTEND;TZID=America/Chicago:20260812T013000
DTSTAMP:20260424T083257
CREATED:20260222T202441Z
LAST-MODIFIED:20260222T202513Z
UID:10447575-1786478400-1786498200@golatindance.com
SUMMARY:Salsa and Bachata Tuesdays at Alhambra
DESCRIPTION:Cover $10 before 9pm\nSalsa and Bachata Class
URL:https://golatindance.com/event/salsa-and-bachata-tuesdays-at-alhambra/2026-08-11/
LOCATION:Alhambra Palace\, 1240 W Randolph St\, Chicago\, IL\, 60607\, United States
CATEGORIES:Chicago
END:VEVENT
BEGIN:VEVENT
DTSTART;TZID=America/Chicago:20260818T200000
DTEND;TZID=America/Chicago:20260819T013000
DTSTAMP:20260424T083257
CREATED:20260222T202441Z
LAST-MODIFIED:20260222T202513Z
UID:10447576-1787083200-1787103000@golatindance.com
SUMMARY:Salsa and Bachata Tuesdays at Alhambra
DESCRIPTION:Cover $10 before 9pm\nSalsa and Bachata Class
URL:https://golatindance.com/event/salsa-and-bachata-tuesdays-at-alhambra/2026-08-18/
LOCATION:Alhambra Palace\, 1240 W Randolph St\, Chicago\, IL\, 60607\, United States
CATEGORIES:Chicago
END:VEVENT
BEGIN:VEVENT
DTSTART;TZID=America/Chicago:20260825T200000
DTEND;TZID=America/Chicago:20260826T013000
DTSTAMP:20260424T083257
CREATED:20260222T202441Z
LAST-MODIFIED:20260222T202513Z
UID:10447577-1787688000-1787707800@golatindance.com
SUMMARY:Salsa and Bachata Tuesdays at Alhambra
DESCRIPTION:Cover $10 before 9pm\nSalsa and Bachata Class
URL:https://golatindance.com/event/salsa-and-bachata-tuesdays-at-alhambra/2026-08-25/
LOCATION:Alhambra Palace\, 1240 W Randolph St\, Chicago\, IL\, 60607\, United States
CATEGORIES:Chicago
END:VEVENT
BEGIN:VEVENT
DTSTART;TZID=America/Chicago:20260901T200000
DTEND;TZID=America/Chicago:20260902T013000
DTSTAMP:20260424T083257
CREATED:20260222T202441Z
LAST-MODIFIED:20260222T202513Z
UID:10447578-1788292800-1788312600@golatindance.com
SUMMARY:Salsa and Bachata Tuesdays at Alhambra
DESCRIPTION:Cover $10 before 9pm\nSalsa and Bachata Class
URL:https://golatindance.com/event/salsa-and-bachata-tuesdays-at-alhambra/2026-09-01/
LOCATION:Alhambra Palace\, 1240 W Randolph St\, Chicago\, IL\, 60607\, United States
CATEGORIES:Chicago
END:VEVENT
BEGIN:VEVENT
DTSTART;TZID=America/Chicago:20260908T200000
DTEND;TZID=America/Chicago:20260909T013000
DTSTAMP:20260424T083257
CREATED:20260222T202441Z
LAST-MODIFIED:20260222T202513Z
UID:10447579-1788897600-1788917400@golatindance.com
SUMMARY:Salsa and Bachata Tuesdays at Alhambra
DESCRIPTION:Cover $10 before 9pm\nSalsa and Bachata Class
URL:https://golatindance.com/event/salsa-and-bachata-tuesdays-at-alhambra/2026-09-08/
LOCATION:Alhambra Palace\, 1240 W Randolph St\, Chicago\, IL\, 60607\, United States
CATEGORIES:Chicago
END:VEVENT
BEGIN:VEVENT
DTSTART;TZID=America/Chicago:20260915T200000
DTEND;TZID=America/Chicago:20260916T013000
DTSTAMP:20260424T083257
CREATED:20260222T202441Z
LAST-MODIFIED:20260222T202513Z
UID:10447580-1789502400-1789522200@golatindance.com
SUMMARY:Salsa and Bachata Tuesdays at Alhambra
DESCRIPTION:Cover $10 before 9pm\nSalsa and Bachata Class
URL:https://golatindance.com/event/salsa-and-bachata-tuesdays-at-alhambra/2026-09-15/
LOCATION:Alhambra Palace\, 1240 W Randolph St\, Chicago\, IL\, 60607\, United States
CATEGORIES:Chicago
END:VEVENT
BEGIN:VEVENT
DTSTART;TZID=America/Chicago:20260922T200000
DTEND;TZID=America/Chicago:20260923T013000
DTSTAMP:20260424T083257
CREATED:20260222T202441Z
LAST-MODIFIED:20260222T202513Z
UID:10447581-1790107200-1790127000@golatindance.com
SUMMARY:Salsa and Bachata Tuesdays at Alhambra
DESCRIPTION:Cover $10 before 9pm\nSalsa and Bachata Class
URL:https://golatindance.com/event/salsa-and-bachata-tuesdays-at-alhambra/2026-09-22/
LOCATION:Alhambra Palace\, 1240 W Randolph St\, Chicago\, IL\, 60607\, United States
CATEGORIES:Chicago
END:VEVENT
BEGIN:VEVENT
DTSTART;TZID=America/Chicago:20260929T200000
DTEND;TZID=America/Chicago:20260930T013000
DTSTAMP:20260424T083257
CREATED:20260222T202441Z
LAST-MODIFIED:20260222T202513Z
UID:10447582-1790712000-1790731800@golatindance.com
SUMMARY:Salsa and Bachata Tuesdays at Alhambra
DESCRIPTION:Cover $10 before 9pm\nSalsa and Bachata Class
URL:https://golatindance.com/event/salsa-and-bachata-tuesdays-at-alhambra/2026-09-29/
LOCATION:Alhambra Palace\, 1240 W Randolph St\, Chicago\, IL\, 60607\, United States
CATEGORIES:Chicago
END:VEVENT
BEGIN:VEVENT
DTSTART;TZID=America/Chicago:20261006T200000
DTEND;TZID=America/Chicago:20261007T013000
DTSTAMP:20260424T083257
CREATED:20260222T202441Z
LAST-MODIFIED:20260222T202513Z
UID:10447583-1791316800-1791336600@golatindance.com
SUMMARY:Salsa and Bachata Tuesdays at Alhambra
DESCRIPTION:Cover $10 before 9pm\nSalsa and Bachata Class
URL:https://golatindance.com/event/salsa-and-bachata-tuesdays-at-alhambra/2026-10-06/
LOCATION:Alhambra Palace\, 1240 W Randolph St\, Chicago\, IL\, 60607\, United States
CATEGORIES:Chicago
END:VEVENT
BEGIN:VEVENT
DTSTART;TZID=America/Chicago:20261013T200000
DTEND;TZID=America/Chicago:20261014T013000
DTSTAMP:20260424T083257
CREATED:20260222T202441Z
LAST-MODIFIED:20260222T202513Z
UID:10447584-1791921600-1791941400@golatindance.com
SUMMARY:Salsa and Bachata Tuesdays at Alhambra
DESCRIPTION:Cover $10 before 9pm\nSalsa and Bachata Class
URL:https://golatindance.com/event/salsa-and-bachata-tuesdays-at-alhambra/2026-10-13/
LOCATION:Alhambra Palace\, 1240 W Randolph St\, Chicago\, IL\, 60607\, United States
CATEGORIES:Chicago
END:VEVENT
BEGIN:VEVENT
DTSTART;TZID=America/Chicago:20261020T200000
DTEND;TZID=America/Chicago:20261021T013000
DTSTAMP:20260424T083257
CREATED:20260222T202441Z
LAST-MODIFIED:20260222T202513Z
UID:10447585-1792526400-1792546200@golatindance.com
SUMMARY:Salsa and Bachata Tuesdays at Alhambra
DESCRIPTION:Cover $10 before 9pm\nSalsa and Bachata Class
URL:https://golatindance.com/event/salsa-and-bachata-tuesdays-at-alhambra/2026-10-20/
LOCATION:Alhambra Palace\, 1240 W Randolph St\, Chicago\, IL\, 60607\, United States
CATEGORIES:Chicago
END:VEVENT
BEGIN:VEVENT
DTSTART;TZID=America/Chicago:20261027T200000
DTEND;TZID=America/Chicago:20261028T013000
DTSTAMP:20260424T083257
CREATED:20260222T202441Z
LAST-MODIFIED:20260222T202513Z
UID:10447586-1793131200-1793151000@golatindance.com
SUMMARY:Salsa and Bachata Tuesdays at Alhambra
DESCRIPTION:Cover $10 before 9pm\nSalsa and Bachata Class
URL:https://golatindance.com/event/salsa-and-bachata-tuesdays-at-alhambra/2026-10-27/
LOCATION:Alhambra Palace\, 1240 W Randolph St\, Chicago\, IL\, 60607\, United States
CATEGORIES:Chicago
END:VEVENT
BEGIN:VEVENT
DTSTART;TZID=America/Chicago:20261103T200000
DTEND;TZID=America/Chicago:20261104T013000
DTSTAMP:20260424T083257
CREATED:20260222T202441Z
LAST-MODIFIED:20260222T202513Z
UID:10447587-1793736000-1793755800@golatindance.com
SUMMARY:Salsa and Bachata Tuesdays at Alhambra
DESCRIPTION:Cover $10 before 9pm\nSalsa and Bachata Class
URL:https://golatindance.com/event/salsa-and-bachata-tuesdays-at-alhambra/2026-11-03/
LOCATION:Alhambra Palace\, 1240 W Randolph St\, Chicago\, IL\, 60607\, United States
CATEGORIES:Chicago
END:VEVENT
BEGIN:VEVENT
DTSTART;TZID=America/Chicago:20261110T200000
DTEND;TZID=America/Chicago:20261111T013000
DTSTAMP:20260424T083257
CREATED:20260222T202441Z
LAST-MODIFIED:20260222T202513Z
UID:10447588-1794340800-1794360600@golatindance.com
SUMMARY:Salsa and Bachata Tuesdays at Alhambra
DESCRIPTION:Cover $10 before 9pm\nSalsa and Bachata Class
URL:https://golatindance.com/event/salsa-and-bachata-tuesdays-at-alhambra/2026-11-10/
LOCATION:Alhambra Palace\, 1240 W Randolph St\, Chicago\, IL\, 60607\, United States
CATEGORIES:Chicago
END:VEVENT
BEGIN:VEVENT
DTSTART;TZID=America/Chicago:20261117T200000
DTEND;TZID=America/Chicago:20261118T013000
DTSTAMP:20260424T083257
CREATED:20260222T202441Z
LAST-MODIFIED:20260222T202513Z
UID:10447589-1794945600-1794965400@golatindance.com
SUMMARY:Salsa and Bachata Tuesdays at Alhambra
DESCRIPTION:Cover $10 before 9pm\nSalsa and Bachata Class
URL:https://golatindance.com/event/salsa-and-bachata-tuesdays-at-alhambra/2026-11-17/
LOCATION:Alhambra Palace\, 1240 W Randolph St\, Chicago\, IL\, 60607\, United States
CATEGORIES:Chicago
END:VEVENT
BEGIN:VEVENT
DTSTART;TZID=America/Chicago:20261124T200000
DTEND;TZID=America/Chicago:20261125T013000
DTSTAMP:20260424T083257
CREATED:20260222T202441Z
LAST-MODIFIED:20260222T202513Z
UID:10447590-1795550400-1795570200@golatindance.com
SUMMARY:Salsa and Bachata Tuesdays at Alhambra
DESCRIPTION:Cover $10 before 9pm\nSalsa and Bachata Class
URL:https://golatindance.com/event/salsa-and-bachata-tuesdays-at-alhambra/2026-11-24/
LOCATION:Alhambra Palace\, 1240 W Randolph St\, Chicago\, IL\, 60607\, United States
CATEGORIES:Chicago
END:VEVENT
BEGIN:VEVENT
DTSTART;TZID=America/Chicago:20261201T200000
DTEND;TZID=America/Chicago:20261202T013000
DTSTAMP:20260424T083257
CREATED:20260222T202441Z
LAST-MODIFIED:20260222T202513Z
UID:10447591-1796155200-1796175000@golatindance.com
SUMMARY:Salsa and Bachata Tuesdays at Alhambra
DESCRIPTION:Cover $10 before 9pm\nSalsa and Bachata Class
URL:https://golatindance.com/event/salsa-and-bachata-tuesdays-at-alhambra/2026-12-01/
LOCATION:Alhambra Palace\, 1240 W Randolph St\, Chicago\, IL\, 60607\, United States
CATEGORIES:Chicago
END:VEVENT
BEGIN:VEVENT
DTSTART;TZID=America/Chicago:20261208T200000
DTEND;TZID=America/Chicago:20261209T013000
DTSTAMP:20260424T083257
CREATED:20260222T202441Z
LAST-MODIFIED:20260222T202513Z
UID:10447592-1796760000-1796779800@golatindance.com
SUMMARY:Salsa and Bachata Tuesdays at Alhambra
DESCRIPTION:Cover $10 before 9pm\nSalsa and Bachata Class
URL:https://golatindance.com/event/salsa-and-bachata-tuesdays-at-alhambra/2026-12-08/
LOCATION:Alhambra Palace\, 1240 W Randolph St\, Chicago\, IL\, 60607\, United States
CATEGORIES:Chicago
END:VEVENT
BEGIN:VEVENT
DTSTART;TZID=America/Chicago:20261215T200000
DTEND;TZID=America/Chicago:20261216T013000
DTSTAMP:20260424T083257
CREATED:20260222T202441Z
LAST-MODIFIED:20260222T202513Z
UID:10447593-1797364800-1797384600@golatindance.com
SUMMARY:Salsa and Bachata Tuesdays at Alhambra
DESCRIPTION:Cover $10 before 9pm\nSalsa and Bachata Class
URL:https://golatindance.com/event/salsa-and-bachata-tuesdays-at-alhambra/2026-12-15/
LOCATION:Alhambra Palace\, 1240 W Randolph St\, Chicago\, IL\, 60607\, United States
CATEGORIES:Chicago
END:VEVENT
BEGIN:VEVENT
DTSTART;TZID=America/Chicago:20261222T200000
DTEND;TZID=America/Chicago:20261223T013000
DTSTAMP:20260424T083257
CREATED:20260222T202441Z
LAST-MODIFIED:20260222T202513Z
UID:10447594-1797969600-1797989400@golatindance.com
SUMMARY:Salsa and Bachata Tuesdays at Alhambra
DESCRIPTION:Cover $10 before 9pm\nSalsa and Bachata Class
URL:https://golatindance.com/event/salsa-and-bachata-tuesdays-at-alhambra/2026-12-22/
LOCATION:Alhambra Palace\, 1240 W Randolph St\, Chicago\, IL\, 60607\, United States
CATEGORIES:Chicago
END:VEVENT
BEGIN:VEVENT
DTSTART;TZID=America/Chicago:20261229T200000
DTEND;TZID=America/Chicago:20261230T013000
DTSTAMP:20260424T083257
CREATED:20260222T202441Z
LAST-MODIFIED:20260222T202513Z
UID:10447595-1798574400-1798594200@golatindance.com
SUMMARY:Salsa and Bachata Tuesdays at Alhambra
DESCRIPTION:Cover $10 before 9pm\nSalsa and Bachata Class
URL:https://golatindance.com/event/salsa-and-bachata-tuesdays-at-alhambra/2026-12-29/
LOCATION:Alhambra Palace\, 1240 W Randolph St\, Chicago\, IL\, 60607\, United States
CATEGORIES:Chicago
END:VEVENT
BEGIN:VEVENT
DTSTART;TZID=America/Chicago:20270105T200000
DTEND;TZID=America/Chicago:20270106T013000
DTSTAMP:20260424T083257
CREATED:20260222T202441Z
LAST-MODIFIED:20260222T202513Z
UID:10447596-1799179200-1799199000@golatindance.com
SUMMARY:Salsa and Bachata Tuesdays at Alhambra
DESCRIPTION:Cover $10 before 9pm\nSalsa and Bachata Class
URL:https://golatindance.com/event/salsa-and-bachata-tuesdays-at-alhambra/2027-01-05/
LOCATION:Alhambra Palace\, 1240 W Randolph St\, Chicago\, IL\, 60607\, United States
CATEGORIES:Chicago
END:VEVENT
BEGIN:VEVENT
DTSTART;TZID=America/Chicago:20270112T200000
DTEND;TZID=America/Chicago:20270113T013000
DTSTAMP:20260424T083257
CREATED:20260222T202441Z
LAST-MODIFIED:20260222T202513Z
UID:10447597-1799784000-1799803800@golatindance.com
SUMMARY:Salsa and Bachata Tuesdays at Alhambra
DESCRIPTION:Cover $10 before 9pm\nSalsa and Bachata Class
URL:https://golatindance.com/event/salsa-and-bachata-tuesdays-at-alhambra/2027-01-12/
LOCATION:Alhambra Palace\, 1240 W Randolph St\, Chicago\, IL\, 60607\, United States
CATEGORIES:Chicago
END:VEVENT
BEGIN:VEVENT
DTSTART;TZID=America/Chicago:20270119T200000
DTEND;TZID=America/Chicago:20270120T013000
DTSTAMP:20260424T083257
CREATED:20260222T202441Z
LAST-MODIFIED:20260222T202513Z
UID:10447598-1800388800-1800408600@golatindance.com
SUMMARY:Salsa and Bachata Tuesdays at Alhambra
DESCRIPTION:Cover $10 before 9pm\nSalsa and Bachata Class
URL:https://golatindance.com/event/salsa-and-bachata-tuesdays-at-alhambra/2027-01-19/
LOCATION:Alhambra Palace\, 1240 W Randolph St\, Chicago\, IL\, 60607\, United States
CATEGORIES:Chicago
END:VEVENT
BEGIN:VEVENT
DTSTART;TZID=America/Chicago:20270126T200000
DTEND;TZID=America/Chicago:20270127T013000
DTSTAMP:20260424T083257
CREATED:20260222T202441Z
LAST-MODIFIED:20260222T202513Z
UID:10447599-1800993600-1801013400@golatindance.com
SUMMARY:Salsa and Bachata Tuesdays at Alhambra
DESCRIPTION:Cover $10 before 9pm\nSalsa and Bachata Class
URL:https://golatindance.com/event/salsa-and-bachata-tuesdays-at-alhambra/2027-01-26/
LOCATION:Alhambra Palace\, 1240 W Randolph St\, Chicago\, IL\, 60607\, United States
CATEGORIES:Chicago
END:VEVENT
END:VCALENDAR