BEGIN:VCALENDAR
VERSION:2.0
PRODID:-//GO Latin Dance - ECPv6.15.18//NONSGML v1.0//EN
CALSCALE:GREGORIAN
METHOD:PUBLISH
X-ORIGINAL-URL:https://golatindance.com
X-WR-CALDESC:Events for GO Latin Dance
REFRESH-INTERVAL;VALUE=DURATION:PT1H
X-Robots-Tag:noindex
X-PUBLISHED-TTL:PT1H
BEGIN:VTIMEZONE
TZID:America/Chicago
BEGIN:DAYLIGHT
TZOFFSETFROM:-0600
TZOFFSETTO:-0500
TZNAME:CDT
DTSTART:20280312T080000
END:DAYLIGHT
BEGIN:STANDARD
TZOFFSETFROM:-0500
TZOFFSETTO:-0600
TZNAME:CST
DTSTART:20281105T070000
END:STANDARD
BEGIN:DAYLIGHT
TZOFFSETFROM:-0600
TZOFFSETTO:-0500
TZNAME:CDT
DTSTART:20290311T080000
END:DAYLIGHT
BEGIN:STANDARD
TZOFFSETFROM:-0500
TZOFFSETTO:-0600
TZNAME:CST
DTSTART:20291104T070000
END:STANDARD
BEGIN:DAYLIGHT
TZOFFSETFROM:-0600
TZOFFSETTO:-0500
TZNAME:CDT
DTSTART:20300310T080000
END:DAYLIGHT
BEGIN:STANDARD
TZOFFSETFROM:-0500
TZOFFSETTO:-0600
TZNAME:CST
DTSTART:20301103T070000
END:STANDARD
BEGIN:DAYLIGHT
TZOFFSETFROM:-0600
TZOFFSETTO:-0500
TZNAME:CDT
DTSTART:20310309T080000
END:DAYLIGHT
BEGIN:STANDARD
TZOFFSETFROM:-0500
TZOFFSETTO:-0600
TZNAME:CST
DTSTART:20311102T070000
END:STANDARD
END:VTIMEZONE
BEGIN:VEVENT
DTSTART;TZID=America/Chicago:20291218T200000
DTEND;TZID=America/Chicago:20291219T013000
DTSTAMP:20260425T080759
CREATED:20260222T202441Z
LAST-MODIFIED:20260222T202513Z
UID:10447750-1892318400-1892338200@golatindance.com
SUMMARY:Salsa and Bachata Tuesdays at Alhambra
DESCRIPTION:Cover $10 before 9pm\nSalsa and Bachata Class
URL:https://golatindance.com/event/salsa-and-bachata-tuesdays-at-alhambra/2029-12-18/
LOCATION:Alhambra Palace\, 1240 W Randolph St\, Chicago\, IL\, 60607\, United States
CATEGORIES:Chicago
END:VEVENT
BEGIN:VEVENT
DTSTART;TZID=America/Chicago:20291225T200000
DTEND;TZID=America/Chicago:20291226T013000
DTSTAMP:20260425T080759
CREATED:20260222T202441Z
LAST-MODIFIED:20260222T202513Z
UID:10447751-1892923200-1892943000@golatindance.com
SUMMARY:Salsa and Bachata Tuesdays at Alhambra
DESCRIPTION:Cover $10 before 9pm\nSalsa and Bachata Class
URL:https://golatindance.com/event/salsa-and-bachata-tuesdays-at-alhambra/2029-12-25/
LOCATION:Alhambra Palace\, 1240 W Randolph St\, Chicago\, IL\, 60607\, United States
CATEGORIES:Chicago
END:VEVENT
BEGIN:VEVENT
DTSTART;TZID=America/Chicago:20300101T200000
DTEND;TZID=America/Chicago:20300102T013000
DTSTAMP:20260425T080759
CREATED:20260222T202441Z
LAST-MODIFIED:20260222T202513Z
UID:10447752-1893528000-1893547800@golatindance.com
SUMMARY:Salsa and Bachata Tuesdays at Alhambra
DESCRIPTION:Cover $10 before 9pm\nSalsa and Bachata Class
URL:https://golatindance.com/event/salsa-and-bachata-tuesdays-at-alhambra/2030-01-01/
LOCATION:Alhambra Palace\, 1240 W Randolph St\, Chicago\, IL\, 60607\, United States
CATEGORIES:Chicago
END:VEVENT
BEGIN:VEVENT
DTSTART;TZID=America/Chicago:20300108T200000
DTEND;TZID=America/Chicago:20300109T013000
DTSTAMP:20260425T080759
CREATED:20260222T202441Z
LAST-MODIFIED:20260222T202513Z
UID:10447753-1894132800-1894152600@golatindance.com
SUMMARY:Salsa and Bachata Tuesdays at Alhambra
DESCRIPTION:Cover $10 before 9pm\nSalsa and Bachata Class
URL:https://golatindance.com/event/salsa-and-bachata-tuesdays-at-alhambra/2030-01-08/
LOCATION:Alhambra Palace\, 1240 W Randolph St\, Chicago\, IL\, 60607\, United States
CATEGORIES:Chicago
END:VEVENT
BEGIN:VEVENT
DTSTART;TZID=America/Chicago:20300115T200000
DTEND;TZID=America/Chicago:20300116T013000
DTSTAMP:20260425T080759
CREATED:20260222T202441Z
LAST-MODIFIED:20260222T202513Z
UID:10447754-1894737600-1894757400@golatindance.com
SUMMARY:Salsa and Bachata Tuesdays at Alhambra
DESCRIPTION:Cover $10 before 9pm\nSalsa and Bachata Class
URL:https://golatindance.com/event/salsa-and-bachata-tuesdays-at-alhambra/2030-01-15/
LOCATION:Alhambra Palace\, 1240 W Randolph St\, Chicago\, IL\, 60607\, United States
CATEGORIES:Chicago
END:VEVENT
BEGIN:VEVENT
DTSTART;TZID=America/Chicago:20300122T200000
DTEND;TZID=America/Chicago:20300123T013000
DTSTAMP:20260425T080800
CREATED:20260222T202441Z
LAST-MODIFIED:20260222T202513Z
UID:10447755-1895342400-1895362200@golatindance.com
SUMMARY:Salsa and Bachata Tuesdays at Alhambra
DESCRIPTION:Cover $10 before 9pm\nSalsa and Bachata Class
URL:https://golatindance.com/event/salsa-and-bachata-tuesdays-at-alhambra/2030-01-22/
LOCATION:Alhambra Palace\, 1240 W Randolph St\, Chicago\, IL\, 60607\, United States
CATEGORIES:Chicago
END:VEVENT
BEGIN:VEVENT
DTSTART;TZID=America/Chicago:20300129T200000
DTEND;TZID=America/Chicago:20300130T013000
DTSTAMP:20260425T080800
CREATED:20260222T202441Z
LAST-MODIFIED:20260222T202513Z
UID:10447756-1895947200-1895967000@golatindance.com
SUMMARY:Salsa and Bachata Tuesdays at Alhambra
DESCRIPTION:Cover $10 before 9pm\nSalsa and Bachata Class
URL:https://golatindance.com/event/salsa-and-bachata-tuesdays-at-alhambra/2030-01-29/
LOCATION:Alhambra Palace\, 1240 W Randolph St\, Chicago\, IL\, 60607\, United States
CATEGORIES:Chicago
END:VEVENT
BEGIN:VEVENT
DTSTART;TZID=America/Chicago:20300205T200000
DTEND;TZID=America/Chicago:20300206T013000
DTSTAMP:20260425T080800
CREATED:20260222T202441Z
LAST-MODIFIED:20260222T202513Z
UID:10447757-1896552000-1896571800@golatindance.com
SUMMARY:Salsa and Bachata Tuesdays at Alhambra
DESCRIPTION:Cover $10 before 9pm\nSalsa and Bachata Class
URL:https://golatindance.com/event/salsa-and-bachata-tuesdays-at-alhambra/2030-02-05/
LOCATION:Alhambra Palace\, 1240 W Randolph St\, Chicago\, IL\, 60607\, United States
CATEGORIES:Chicago
END:VEVENT
BEGIN:VEVENT
DTSTART;TZID=America/Chicago:20300212T200000
DTEND;TZID=America/Chicago:20300213T013000
DTSTAMP:20260425T080800
CREATED:20260222T202441Z
LAST-MODIFIED:20260222T202513Z
UID:10447758-1897156800-1897176600@golatindance.com
SUMMARY:Salsa and Bachata Tuesdays at Alhambra
DESCRIPTION:Cover $10 before 9pm\nSalsa and Bachata Class
URL:https://golatindance.com/event/salsa-and-bachata-tuesdays-at-alhambra/2030-02-12/
LOCATION:Alhambra Palace\, 1240 W Randolph St\, Chicago\, IL\, 60607\, United States
CATEGORIES:Chicago
END:VEVENT
BEGIN:VEVENT
DTSTART;TZID=America/Chicago:20300219T200000
DTEND;TZID=America/Chicago:20300220T013000
DTSTAMP:20260425T080800
CREATED:20260222T202441Z
LAST-MODIFIED:20260222T202513Z
UID:10447759-1897761600-1897781400@golatindance.com
SUMMARY:Salsa and Bachata Tuesdays at Alhambra
DESCRIPTION:Cover $10 before 9pm\nSalsa and Bachata Class
URL:https://golatindance.com/event/salsa-and-bachata-tuesdays-at-alhambra/2030-02-19/
LOCATION:Alhambra Palace\, 1240 W Randolph St\, Chicago\, IL\, 60607\, United States
CATEGORIES:Chicago
END:VEVENT
BEGIN:VEVENT
DTSTART;TZID=America/Chicago:20300226T200000
DTEND;TZID=America/Chicago:20300227T013000
DTSTAMP:20260425T080800
CREATED:20260222T202441Z
LAST-MODIFIED:20260222T202513Z
UID:10447760-1898366400-1898386200@golatindance.com
SUMMARY:Salsa and Bachata Tuesdays at Alhambra
DESCRIPTION:Cover $10 before 9pm\nSalsa and Bachata Class
URL:https://golatindance.com/event/salsa-and-bachata-tuesdays-at-alhambra/2030-02-26/
LOCATION:Alhambra Palace\, 1240 W Randolph St\, Chicago\, IL\, 60607\, United States
CATEGORIES:Chicago
END:VEVENT
BEGIN:VEVENT
DTSTART;TZID=America/Chicago:20300305T200000
DTEND;TZID=America/Chicago:20300306T013000
DTSTAMP:20260425T080800
CREATED:20260222T202441Z
LAST-MODIFIED:20260222T202513Z
UID:10447761-1898971200-1898991000@golatindance.com
SUMMARY:Salsa and Bachata Tuesdays at Alhambra
DESCRIPTION:Cover $10 before 9pm\nSalsa and Bachata Class
URL:https://golatindance.com/event/salsa-and-bachata-tuesdays-at-alhambra/2030-03-05/
LOCATION:Alhambra Palace\, 1240 W Randolph St\, Chicago\, IL\, 60607\, United States
CATEGORIES:Chicago
END:VEVENT
BEGIN:VEVENT
DTSTART;TZID=America/Chicago:20300312T200000
DTEND;TZID=America/Chicago:20300313T013000
DTSTAMP:20260425T080800
CREATED:20260222T202441Z
LAST-MODIFIED:20260222T202513Z
UID:10447762-1899576000-1899595800@golatindance.com
SUMMARY:Salsa and Bachata Tuesdays at Alhambra
DESCRIPTION:Cover $10 before 9pm\nSalsa and Bachata Class
URL:https://golatindance.com/event/salsa-and-bachata-tuesdays-at-alhambra/2030-03-12/
LOCATION:Alhambra Palace\, 1240 W Randolph St\, Chicago\, IL\, 60607\, United States
CATEGORIES:Chicago
END:VEVENT
BEGIN:VEVENT
DTSTART;TZID=America/Chicago:20300319T200000
DTEND;TZID=America/Chicago:20300320T013000
DTSTAMP:20260425T080800
CREATED:20260222T202441Z
LAST-MODIFIED:20260222T202513Z
UID:10447763-1900180800-1900200600@golatindance.com
SUMMARY:Salsa and Bachata Tuesdays at Alhambra
DESCRIPTION:Cover $10 before 9pm\nSalsa and Bachata Class
URL:https://golatindance.com/event/salsa-and-bachata-tuesdays-at-alhambra/2030-03-19/
LOCATION:Alhambra Palace\, 1240 W Randolph St\, Chicago\, IL\, 60607\, United States
CATEGORIES:Chicago
END:VEVENT
BEGIN:VEVENT
DTSTART;TZID=America/Chicago:20300326T200000
DTEND;TZID=America/Chicago:20300327T013000
DTSTAMP:20260425T080800
CREATED:20260222T202441Z
LAST-MODIFIED:20260222T202513Z
UID:10447764-1900785600-1900805400@golatindance.com
SUMMARY:Salsa and Bachata Tuesdays at Alhambra
DESCRIPTION:Cover $10 before 9pm\nSalsa and Bachata Class
URL:https://golatindance.com/event/salsa-and-bachata-tuesdays-at-alhambra/2030-03-26/
LOCATION:Alhambra Palace\, 1240 W Randolph St\, Chicago\, IL\, 60607\, United States
CATEGORIES:Chicago
END:VEVENT
BEGIN:VEVENT
DTSTART;TZID=America/Chicago:20300402T200000
DTEND;TZID=America/Chicago:20300403T013000
DTSTAMP:20260425T080800
CREATED:20260222T202441Z
LAST-MODIFIED:20260222T202513Z
UID:10447765-1901390400-1901410200@golatindance.com
SUMMARY:Salsa and Bachata Tuesdays at Alhambra
DESCRIPTION:Cover $10 before 9pm\nSalsa and Bachata Class
URL:https://golatindance.com/event/salsa-and-bachata-tuesdays-at-alhambra/2030-04-02/
LOCATION:Alhambra Palace\, 1240 W Randolph St\, Chicago\, IL\, 60607\, United States
CATEGORIES:Chicago
END:VEVENT
BEGIN:VEVENT
DTSTART;TZID=America/Chicago:20300409T200000
DTEND;TZID=America/Chicago:20300410T013000
DTSTAMP:20260425T080800
CREATED:20260222T202441Z
LAST-MODIFIED:20260222T202513Z
UID:10447766-1901995200-1902015000@golatindance.com
SUMMARY:Salsa and Bachata Tuesdays at Alhambra
DESCRIPTION:Cover $10 before 9pm\nSalsa and Bachata Class
URL:https://golatindance.com/event/salsa-and-bachata-tuesdays-at-alhambra/2030-04-09/
LOCATION:Alhambra Palace\, 1240 W Randolph St\, Chicago\, IL\, 60607\, United States
CATEGORIES:Chicago
END:VEVENT
BEGIN:VEVENT
DTSTART;TZID=America/Chicago:20300416T200000
DTEND;TZID=America/Chicago:20300417T013000
DTSTAMP:20260425T080800
CREATED:20260222T202441Z
LAST-MODIFIED:20260222T202513Z
UID:10447767-1902600000-1902619800@golatindance.com
SUMMARY:Salsa and Bachata Tuesdays at Alhambra
DESCRIPTION:Cover $10 before 9pm\nSalsa and Bachata Class
URL:https://golatindance.com/event/salsa-and-bachata-tuesdays-at-alhambra/2030-04-16/
LOCATION:Alhambra Palace\, 1240 W Randolph St\, Chicago\, IL\, 60607\, United States
CATEGORIES:Chicago
END:VEVENT
BEGIN:VEVENT
DTSTART;TZID=America/Chicago:20300423T200000
DTEND;TZID=America/Chicago:20300424T013000
DTSTAMP:20260425T080800
CREATED:20260222T202441Z
LAST-MODIFIED:20260222T202513Z
UID:10447768-1903204800-1903224600@golatindance.com
SUMMARY:Salsa and Bachata Tuesdays at Alhambra
DESCRIPTION:Cover $10 before 9pm\nSalsa and Bachata Class
URL:https://golatindance.com/event/salsa-and-bachata-tuesdays-at-alhambra/2030-04-23/
LOCATION:Alhambra Palace\, 1240 W Randolph St\, Chicago\, IL\, 60607\, United States
CATEGORIES:Chicago
END:VEVENT
BEGIN:VEVENT
DTSTART;TZID=America/Chicago:20300430T200000
DTEND;TZID=America/Chicago:20300501T013000
DTSTAMP:20260425T080800
CREATED:20260222T202441Z
LAST-MODIFIED:20260222T202513Z
UID:10447769-1903809600-1903829400@golatindance.com
SUMMARY:Salsa and Bachata Tuesdays at Alhambra
DESCRIPTION:Cover $10 before 9pm\nSalsa and Bachata Class
URL:https://golatindance.com/event/salsa-and-bachata-tuesdays-at-alhambra/2030-04-30/
LOCATION:Alhambra Palace\, 1240 W Randolph St\, Chicago\, IL\, 60607\, United States
CATEGORIES:Chicago
END:VEVENT
BEGIN:VEVENT
DTSTART;TZID=America/Chicago:20300507T200000
DTEND;TZID=America/Chicago:20300508T013000
DTSTAMP:20260425T080800
CREATED:20260222T202441Z
LAST-MODIFIED:20260222T202513Z
UID:10447770-1904414400-1904434200@golatindance.com
SUMMARY:Salsa and Bachata Tuesdays at Alhambra
DESCRIPTION:Cover $10 before 9pm\nSalsa and Bachata Class
URL:https://golatindance.com/event/salsa-and-bachata-tuesdays-at-alhambra/2030-05-07/
LOCATION:Alhambra Palace\, 1240 W Randolph St\, Chicago\, IL\, 60607\, United States
CATEGORIES:Chicago
END:VEVENT
BEGIN:VEVENT
DTSTART;TZID=America/Chicago:20300514T200000
DTEND;TZID=America/Chicago:20300515T013000
DTSTAMP:20260425T080800
CREATED:20260222T202441Z
LAST-MODIFIED:20260222T202513Z
UID:10447771-1905019200-1905039000@golatindance.com
SUMMARY:Salsa and Bachata Tuesdays at Alhambra
DESCRIPTION:Cover $10 before 9pm\nSalsa and Bachata Class
URL:https://golatindance.com/event/salsa-and-bachata-tuesdays-at-alhambra/2030-05-14/
LOCATION:Alhambra Palace\, 1240 W Randolph St\, Chicago\, IL\, 60607\, United States
CATEGORIES:Chicago
END:VEVENT
BEGIN:VEVENT
DTSTART;TZID=America/Chicago:20300521T200000
DTEND;TZID=America/Chicago:20300522T013000
DTSTAMP:20260425T080800
CREATED:20260222T202441Z
LAST-MODIFIED:20260222T202513Z
UID:10447772-1905624000-1905643800@golatindance.com
SUMMARY:Salsa and Bachata Tuesdays at Alhambra
DESCRIPTION:Cover $10 before 9pm\nSalsa and Bachata Class
URL:https://golatindance.com/event/salsa-and-bachata-tuesdays-at-alhambra/2030-05-21/
LOCATION:Alhambra Palace\, 1240 W Randolph St\, Chicago\, IL\, 60607\, United States
CATEGORIES:Chicago
END:VEVENT
BEGIN:VEVENT
DTSTART;TZID=America/Chicago:20300528T200000
DTEND;TZID=America/Chicago:20300529T013000
DTSTAMP:20260425T080800
CREATED:20260222T202441Z
LAST-MODIFIED:20260222T202513Z
UID:10447773-1906228800-1906248600@golatindance.com
SUMMARY:Salsa and Bachata Tuesdays at Alhambra
DESCRIPTION:Cover $10 before 9pm\nSalsa and Bachata Class
URL:https://golatindance.com/event/salsa-and-bachata-tuesdays-at-alhambra/2030-05-28/
LOCATION:Alhambra Palace\, 1240 W Randolph St\, Chicago\, IL\, 60607\, United States
CATEGORIES:Chicago
END:VEVENT
BEGIN:VEVENT
DTSTART;TZID=America/Chicago:20300604T200000
DTEND;TZID=America/Chicago:20300605T013000
DTSTAMP:20260425T080800
CREATED:20260222T202441Z
LAST-MODIFIED:20260222T202513Z
UID:10447774-1906833600-1906853400@golatindance.com
SUMMARY:Salsa and Bachata Tuesdays at Alhambra
DESCRIPTION:Cover $10 before 9pm\nSalsa and Bachata Class
URL:https://golatindance.com/event/salsa-and-bachata-tuesdays-at-alhambra/2030-06-04/
LOCATION:Alhambra Palace\, 1240 W Randolph St\, Chicago\, IL\, 60607\, United States
CATEGORIES:Chicago
END:VEVENT
BEGIN:VEVENT
DTSTART;TZID=America/Chicago:20300611T200000
DTEND;TZID=America/Chicago:20300612T013000
DTSTAMP:20260425T080800
CREATED:20260222T202441Z
LAST-MODIFIED:20260222T202513Z
UID:10447775-1907438400-1907458200@golatindance.com
SUMMARY:Salsa and Bachata Tuesdays at Alhambra
DESCRIPTION:Cover $10 before 9pm\nSalsa and Bachata Class
URL:https://golatindance.com/event/salsa-and-bachata-tuesdays-at-alhambra/2030-06-11/
LOCATION:Alhambra Palace\, 1240 W Randolph St\, Chicago\, IL\, 60607\, United States
CATEGORIES:Chicago
END:VEVENT
BEGIN:VEVENT
DTSTART;TZID=America/Chicago:20300618T200000
DTEND;TZID=America/Chicago:20300619T013000
DTSTAMP:20260425T080800
CREATED:20260222T202441Z
LAST-MODIFIED:20260222T202513Z
UID:10447776-1908043200-1908063000@golatindance.com
SUMMARY:Salsa and Bachata Tuesdays at Alhambra
DESCRIPTION:Cover $10 before 9pm\nSalsa and Bachata Class
URL:https://golatindance.com/event/salsa-and-bachata-tuesdays-at-alhambra/2030-06-18/
LOCATION:Alhambra Palace\, 1240 W Randolph St\, Chicago\, IL\, 60607\, United States
CATEGORIES:Chicago
END:VEVENT
BEGIN:VEVENT
DTSTART;TZID=America/Chicago:20300625T200000
DTEND;TZID=America/Chicago:20300626T013000
DTSTAMP:20260425T080800
CREATED:20260222T202441Z
LAST-MODIFIED:20260222T202513Z
UID:10447777-1908648000-1908667800@golatindance.com
SUMMARY:Salsa and Bachata Tuesdays at Alhambra
DESCRIPTION:Cover $10 before 9pm\nSalsa and Bachata Class
URL:https://golatindance.com/event/salsa-and-bachata-tuesdays-at-alhambra/2030-06-25/
LOCATION:Alhambra Palace\, 1240 W Randolph St\, Chicago\, IL\, 60607\, United States
CATEGORIES:Chicago
END:VEVENT
BEGIN:VEVENT
DTSTART;TZID=America/Chicago:20300702T200000
DTEND;TZID=America/Chicago:20300703T013000
DTSTAMP:20260425T080800
CREATED:20260222T202441Z
LAST-MODIFIED:20260222T202513Z
UID:10447778-1909252800-1909272600@golatindance.com
SUMMARY:Salsa and Bachata Tuesdays at Alhambra
DESCRIPTION:Cover $10 before 9pm\nSalsa and Bachata Class
URL:https://golatindance.com/event/salsa-and-bachata-tuesdays-at-alhambra/2030-07-02/
LOCATION:Alhambra Palace\, 1240 W Randolph St\, Chicago\, IL\, 60607\, United States
CATEGORIES:Chicago
END:VEVENT
BEGIN:VEVENT
DTSTART;TZID=America/Chicago:20300709T200000
DTEND;TZID=America/Chicago:20300710T013000
DTSTAMP:20260425T080800
CREATED:20260222T202441Z
LAST-MODIFIED:20260222T202513Z
UID:10447779-1909857600-1909877400@golatindance.com
SUMMARY:Salsa and Bachata Tuesdays at Alhambra
DESCRIPTION:Cover $10 before 9pm\nSalsa and Bachata Class
URL:https://golatindance.com/event/salsa-and-bachata-tuesdays-at-alhambra/2030-07-09/
LOCATION:Alhambra Palace\, 1240 W Randolph St\, Chicago\, IL\, 60607\, United States
CATEGORIES:Chicago
END:VEVENT
END:VCALENDAR