BEGIN:VCALENDAR
VERSION:2.0
PRODID:-//GO Latin Dance - ECPv6.15.18//NONSGML v1.0//EN
CALSCALE:GREGORIAN
METHOD:PUBLISH
X-ORIGINAL-URL:https://golatindance.com
X-WR-CALDESC:Events for GO Latin Dance
REFRESH-INTERVAL;VALUE=DURATION:PT1H
X-Robots-Tag:noindex
X-PUBLISHED-TTL:PT1H
BEGIN:VTIMEZONE
TZID:America/Chicago
BEGIN:DAYLIGHT
TZOFFSETFROM:-0600
TZOFFSETTO:-0500
TZNAME:CDT
DTSTART:20290311T080000
END:DAYLIGHT
BEGIN:STANDARD
TZOFFSETFROM:-0500
TZOFFSETTO:-0600
TZNAME:CST
DTSTART:20291104T070000
END:STANDARD
BEGIN:DAYLIGHT
TZOFFSETFROM:-0600
TZOFFSETTO:-0500
TZNAME:CDT
DTSTART:20300310T080000
END:DAYLIGHT
BEGIN:STANDARD
TZOFFSETFROM:-0500
TZOFFSETTO:-0600
TZNAME:CST
DTSTART:20301103T070000
END:STANDARD
BEGIN:DAYLIGHT
TZOFFSETFROM:-0600
TZOFFSETTO:-0500
TZNAME:CDT
DTSTART:20310309T080000
END:DAYLIGHT
BEGIN:STANDARD
TZOFFSETFROM:-0500
TZOFFSETTO:-0600
TZNAME:CST
DTSTART:20311102T070000
END:STANDARD
BEGIN:DAYLIGHT
TZOFFSETFROM:-0600
TZOFFSETTO:-0500
TZNAME:CDT
DTSTART:20320314T080000
END:DAYLIGHT
BEGIN:STANDARD
TZOFFSETFROM:-0500
TZOFFSETTO:-0600
TZNAME:CST
DTSTART:20321107T070000
END:STANDARD
END:VTIMEZONE
BEGIN:VEVENT
DTSTART;TZID=America/Chicago:20300716T200000
DTEND;TZID=America/Chicago:20300717T013000
DTSTAMP:20260425T113906
CREATED:20260222T202441Z
LAST-MODIFIED:20260222T202513Z
UID:10447780-1910462400-1910482200@golatindance.com
SUMMARY:Salsa and Bachata Tuesdays at Alhambra
DESCRIPTION:Cover $10 before 9pm\nSalsa and Bachata Class
URL:https://golatindance.com/event/salsa-and-bachata-tuesdays-at-alhambra/2030-07-16/
LOCATION:Alhambra Palace\, 1240 W Randolph St\, Chicago\, IL\, 60607\, United States
CATEGORIES:Chicago
END:VEVENT
BEGIN:VEVENT
DTSTART;TZID=America/Chicago:20300723T200000
DTEND;TZID=America/Chicago:20300724T013000
DTSTAMP:20260425T113906
CREATED:20260222T202441Z
LAST-MODIFIED:20260222T202513Z
UID:10447781-1911067200-1911087000@golatindance.com
SUMMARY:Salsa and Bachata Tuesdays at Alhambra
DESCRIPTION:Cover $10 before 9pm\nSalsa and Bachata Class
URL:https://golatindance.com/event/salsa-and-bachata-tuesdays-at-alhambra/2030-07-23/
LOCATION:Alhambra Palace\, 1240 W Randolph St\, Chicago\, IL\, 60607\, United States
CATEGORIES:Chicago
END:VEVENT
BEGIN:VEVENT
DTSTART;TZID=America/Chicago:20300730T200000
DTEND;TZID=America/Chicago:20300731T013000
DTSTAMP:20260425T113906
CREATED:20260222T202441Z
LAST-MODIFIED:20260222T202513Z
UID:10447782-1911672000-1911691800@golatindance.com
SUMMARY:Salsa and Bachata Tuesdays at Alhambra
DESCRIPTION:Cover $10 before 9pm\nSalsa and Bachata Class
URL:https://golatindance.com/event/salsa-and-bachata-tuesdays-at-alhambra/2030-07-30/
LOCATION:Alhambra Palace\, 1240 W Randolph St\, Chicago\, IL\, 60607\, United States
CATEGORIES:Chicago
END:VEVENT
BEGIN:VEVENT
DTSTART;TZID=America/Chicago:20300806T200000
DTEND;TZID=America/Chicago:20300807T013000
DTSTAMP:20260425T113906
CREATED:20260222T202441Z
LAST-MODIFIED:20260222T202513Z
UID:10447783-1912276800-1912296600@golatindance.com
SUMMARY:Salsa and Bachata Tuesdays at Alhambra
DESCRIPTION:Cover $10 before 9pm\nSalsa and Bachata Class
URL:https://golatindance.com/event/salsa-and-bachata-tuesdays-at-alhambra/2030-08-06/
LOCATION:Alhambra Palace\, 1240 W Randolph St\, Chicago\, IL\, 60607\, United States
CATEGORIES:Chicago
END:VEVENT
BEGIN:VEVENT
DTSTART;TZID=America/Chicago:20300813T200000
DTEND;TZID=America/Chicago:20300814T013000
DTSTAMP:20260425T113906
CREATED:20260222T202441Z
LAST-MODIFIED:20260222T202513Z
UID:10447784-1912881600-1912901400@golatindance.com
SUMMARY:Salsa and Bachata Tuesdays at Alhambra
DESCRIPTION:Cover $10 before 9pm\nSalsa and Bachata Class
URL:https://golatindance.com/event/salsa-and-bachata-tuesdays-at-alhambra/2030-08-13/
LOCATION:Alhambra Palace\, 1240 W Randolph St\, Chicago\, IL\, 60607\, United States
CATEGORIES:Chicago
END:VEVENT
BEGIN:VEVENT
DTSTART;TZID=America/Chicago:20300820T200000
DTEND;TZID=America/Chicago:20300821T013000
DTSTAMP:20260425T113906
CREATED:20260222T202441Z
LAST-MODIFIED:20260222T202513Z
UID:10447785-1913486400-1913506200@golatindance.com
SUMMARY:Salsa and Bachata Tuesdays at Alhambra
DESCRIPTION:Cover $10 before 9pm\nSalsa and Bachata Class
URL:https://golatindance.com/event/salsa-and-bachata-tuesdays-at-alhambra/2030-08-20/
LOCATION:Alhambra Palace\, 1240 W Randolph St\, Chicago\, IL\, 60607\, United States
CATEGORIES:Chicago
END:VEVENT
BEGIN:VEVENT
DTSTART;TZID=America/Chicago:20300827T200000
DTEND;TZID=America/Chicago:20300828T013000
DTSTAMP:20260425T113906
CREATED:20260222T202441Z
LAST-MODIFIED:20260222T202513Z
UID:10447786-1914091200-1914111000@golatindance.com
SUMMARY:Salsa and Bachata Tuesdays at Alhambra
DESCRIPTION:Cover $10 before 9pm\nSalsa and Bachata Class
URL:https://golatindance.com/event/salsa-and-bachata-tuesdays-at-alhambra/2030-08-27/
LOCATION:Alhambra Palace\, 1240 W Randolph St\, Chicago\, IL\, 60607\, United States
CATEGORIES:Chicago
END:VEVENT
BEGIN:VEVENT
DTSTART;TZID=America/Chicago:20300903T200000
DTEND;TZID=America/Chicago:20300904T013000
DTSTAMP:20260425T113906
CREATED:20260222T202441Z
LAST-MODIFIED:20260222T202513Z
UID:10447787-1914696000-1914715800@golatindance.com
SUMMARY:Salsa and Bachata Tuesdays at Alhambra
DESCRIPTION:Cover $10 before 9pm\nSalsa and Bachata Class
URL:https://golatindance.com/event/salsa-and-bachata-tuesdays-at-alhambra/2030-09-03/
LOCATION:Alhambra Palace\, 1240 W Randolph St\, Chicago\, IL\, 60607\, United States
CATEGORIES:Chicago
END:VEVENT
BEGIN:VEVENT
DTSTART;TZID=America/Chicago:20300910T200000
DTEND;TZID=America/Chicago:20300911T013000
DTSTAMP:20260425T113906
CREATED:20260222T202441Z
LAST-MODIFIED:20260222T202513Z
UID:10447788-1915300800-1915320600@golatindance.com
SUMMARY:Salsa and Bachata Tuesdays at Alhambra
DESCRIPTION:Cover $10 before 9pm\nSalsa and Bachata Class
URL:https://golatindance.com/event/salsa-and-bachata-tuesdays-at-alhambra/2030-09-10/
LOCATION:Alhambra Palace\, 1240 W Randolph St\, Chicago\, IL\, 60607\, United States
CATEGORIES:Chicago
END:VEVENT
BEGIN:VEVENT
DTSTART;TZID=America/Chicago:20300917T200000
DTEND;TZID=America/Chicago:20300918T013000
DTSTAMP:20260425T113906
CREATED:20260222T202441Z
LAST-MODIFIED:20260222T202513Z
UID:10447789-1915905600-1915925400@golatindance.com
SUMMARY:Salsa and Bachata Tuesdays at Alhambra
DESCRIPTION:Cover $10 before 9pm\nSalsa and Bachata Class
URL:https://golatindance.com/event/salsa-and-bachata-tuesdays-at-alhambra/2030-09-17/
LOCATION:Alhambra Palace\, 1240 W Randolph St\, Chicago\, IL\, 60607\, United States
CATEGORIES:Chicago
END:VEVENT
BEGIN:VEVENT
DTSTART;TZID=America/Chicago:20300924T200000
DTEND;TZID=America/Chicago:20300925T013000
DTSTAMP:20260425T113906
CREATED:20260222T202441Z
LAST-MODIFIED:20260222T202513Z
UID:10447790-1916510400-1916530200@golatindance.com
SUMMARY:Salsa and Bachata Tuesdays at Alhambra
DESCRIPTION:Cover $10 before 9pm\nSalsa and Bachata Class
URL:https://golatindance.com/event/salsa-and-bachata-tuesdays-at-alhambra/2030-09-24/
LOCATION:Alhambra Palace\, 1240 W Randolph St\, Chicago\, IL\, 60607\, United States
CATEGORIES:Chicago
END:VEVENT
BEGIN:VEVENT
DTSTART;TZID=America/Chicago:20301001T200000
DTEND;TZID=America/Chicago:20301002T013000
DTSTAMP:20260425T113906
CREATED:20260222T202441Z
LAST-MODIFIED:20260222T202513Z
UID:10447791-1917115200-1917135000@golatindance.com
SUMMARY:Salsa and Bachata Tuesdays at Alhambra
DESCRIPTION:Cover $10 before 9pm\nSalsa and Bachata Class
URL:https://golatindance.com/event/salsa-and-bachata-tuesdays-at-alhambra/2030-10-01/
LOCATION:Alhambra Palace\, 1240 W Randolph St\, Chicago\, IL\, 60607\, United States
CATEGORIES:Chicago
END:VEVENT
BEGIN:VEVENT
DTSTART;TZID=America/Chicago:20301008T200000
DTEND;TZID=America/Chicago:20301009T013000
DTSTAMP:20260425T113906
CREATED:20260222T202441Z
LAST-MODIFIED:20260222T202513Z
UID:10447792-1917720000-1917739800@golatindance.com
SUMMARY:Salsa and Bachata Tuesdays at Alhambra
DESCRIPTION:Cover $10 before 9pm\nSalsa and Bachata Class
URL:https://golatindance.com/event/salsa-and-bachata-tuesdays-at-alhambra/2030-10-08/
LOCATION:Alhambra Palace\, 1240 W Randolph St\, Chicago\, IL\, 60607\, United States
CATEGORIES:Chicago
END:VEVENT
BEGIN:VEVENT
DTSTART;TZID=America/Chicago:20301015T200000
DTEND;TZID=America/Chicago:20301016T013000
DTSTAMP:20260425T113906
CREATED:20260222T202441Z
LAST-MODIFIED:20260222T202513Z
UID:10447793-1918324800-1918344600@golatindance.com
SUMMARY:Salsa and Bachata Tuesdays at Alhambra
DESCRIPTION:Cover $10 before 9pm\nSalsa and Bachata Class
URL:https://golatindance.com/event/salsa-and-bachata-tuesdays-at-alhambra/2030-10-15/
LOCATION:Alhambra Palace\, 1240 W Randolph St\, Chicago\, IL\, 60607\, United States
CATEGORIES:Chicago
END:VEVENT
BEGIN:VEVENT
DTSTART;TZID=America/Chicago:20301022T200000
DTEND;TZID=America/Chicago:20301023T013000
DTSTAMP:20260425T113906
CREATED:20260222T202441Z
LAST-MODIFIED:20260222T202513Z
UID:10447794-1918929600-1918949400@golatindance.com
SUMMARY:Salsa and Bachata Tuesdays at Alhambra
DESCRIPTION:Cover $10 before 9pm\nSalsa and Bachata Class
URL:https://golatindance.com/event/salsa-and-bachata-tuesdays-at-alhambra/2030-10-22/
LOCATION:Alhambra Palace\, 1240 W Randolph St\, Chicago\, IL\, 60607\, United States
CATEGORIES:Chicago
END:VEVENT
BEGIN:VEVENT
DTSTART;TZID=America/Chicago:20301029T200000
DTEND;TZID=America/Chicago:20301030T013000
DTSTAMP:20260425T113906
CREATED:20260222T202441Z
LAST-MODIFIED:20260222T202513Z
UID:10447795-1919534400-1919554200@golatindance.com
SUMMARY:Salsa and Bachata Tuesdays at Alhambra
DESCRIPTION:Cover $10 before 9pm\nSalsa and Bachata Class
URL:https://golatindance.com/event/salsa-and-bachata-tuesdays-at-alhambra/2030-10-29/
LOCATION:Alhambra Palace\, 1240 W Randolph St\, Chicago\, IL\, 60607\, United States
CATEGORIES:Chicago
END:VEVENT
BEGIN:VEVENT
DTSTART;TZID=America/Chicago:20301105T200000
DTEND;TZID=America/Chicago:20301106T013000
DTSTAMP:20260425T113906
CREATED:20260222T202441Z
LAST-MODIFIED:20260222T202513Z
UID:10447796-1920139200-1920159000@golatindance.com
SUMMARY:Salsa and Bachata Tuesdays at Alhambra
DESCRIPTION:Cover $10 before 9pm\nSalsa and Bachata Class
URL:https://golatindance.com/event/salsa-and-bachata-tuesdays-at-alhambra/2030-11-05/
LOCATION:Alhambra Palace\, 1240 W Randolph St\, Chicago\, IL\, 60607\, United States
CATEGORIES:Chicago
END:VEVENT
BEGIN:VEVENT
DTSTART;TZID=America/Chicago:20301112T200000
DTEND;TZID=America/Chicago:20301113T013000
DTSTAMP:20260425T113906
CREATED:20260222T202441Z
LAST-MODIFIED:20260222T202513Z
UID:10447797-1920744000-1920763800@golatindance.com
SUMMARY:Salsa and Bachata Tuesdays at Alhambra
DESCRIPTION:Cover $10 before 9pm\nSalsa and Bachata Class
URL:https://golatindance.com/event/salsa-and-bachata-tuesdays-at-alhambra/2030-11-12/
LOCATION:Alhambra Palace\, 1240 W Randolph St\, Chicago\, IL\, 60607\, United States
CATEGORIES:Chicago
END:VEVENT
BEGIN:VEVENT
DTSTART;TZID=America/Chicago:20301119T200000
DTEND;TZID=America/Chicago:20301120T013000
DTSTAMP:20260425T113906
CREATED:20260222T202441Z
LAST-MODIFIED:20260222T202513Z
UID:10447798-1921348800-1921368600@golatindance.com
SUMMARY:Salsa and Bachata Tuesdays at Alhambra
DESCRIPTION:Cover $10 before 9pm\nSalsa and Bachata Class
URL:https://golatindance.com/event/salsa-and-bachata-tuesdays-at-alhambra/2030-11-19/
LOCATION:Alhambra Palace\, 1240 W Randolph St\, Chicago\, IL\, 60607\, United States
CATEGORIES:Chicago
END:VEVENT
BEGIN:VEVENT
DTSTART;TZID=America/Chicago:20301126T200000
DTEND;TZID=America/Chicago:20301127T013000
DTSTAMP:20260425T113906
CREATED:20260222T202441Z
LAST-MODIFIED:20260222T202513Z
UID:10447799-1921953600-1921973400@golatindance.com
SUMMARY:Salsa and Bachata Tuesdays at Alhambra
DESCRIPTION:Cover $10 before 9pm\nSalsa and Bachata Class
URL:https://golatindance.com/event/salsa-and-bachata-tuesdays-at-alhambra/2030-11-26/
LOCATION:Alhambra Palace\, 1240 W Randolph St\, Chicago\, IL\, 60607\, United States
CATEGORIES:Chicago
END:VEVENT
BEGIN:VEVENT
DTSTART;TZID=America/Chicago:20301203T200000
DTEND;TZID=America/Chicago:20301204T013000
DTSTAMP:20260425T113906
CREATED:20260222T202441Z
LAST-MODIFIED:20260222T202513Z
UID:10447800-1922558400-1922578200@golatindance.com
SUMMARY:Salsa and Bachata Tuesdays at Alhambra
DESCRIPTION:Cover $10 before 9pm\nSalsa and Bachata Class
URL:https://golatindance.com/event/salsa-and-bachata-tuesdays-at-alhambra/2030-12-03/
LOCATION:Alhambra Palace\, 1240 W Randolph St\, Chicago\, IL\, 60607\, United States
CATEGORIES:Chicago
END:VEVENT
BEGIN:VEVENT
DTSTART;TZID=America/Chicago:20301210T200000
DTEND;TZID=America/Chicago:20301211T013000
DTSTAMP:20260425T113906
CREATED:20260222T202441Z
LAST-MODIFIED:20260222T202513Z
UID:10447801-1923163200-1923183000@golatindance.com
SUMMARY:Salsa and Bachata Tuesdays at Alhambra
DESCRIPTION:Cover $10 before 9pm\nSalsa and Bachata Class
URL:https://golatindance.com/event/salsa-and-bachata-tuesdays-at-alhambra/2030-12-10/
LOCATION:Alhambra Palace\, 1240 W Randolph St\, Chicago\, IL\, 60607\, United States
CATEGORIES:Chicago
END:VEVENT
BEGIN:VEVENT
DTSTART;TZID=America/Chicago:20301217T200000
DTEND;TZID=America/Chicago:20301218T013000
DTSTAMP:20260425T113906
CREATED:20260222T202441Z
LAST-MODIFIED:20260222T202513Z
UID:10447802-1923768000-1923787800@golatindance.com
SUMMARY:Salsa and Bachata Tuesdays at Alhambra
DESCRIPTION:Cover $10 before 9pm\nSalsa and Bachata Class
URL:https://golatindance.com/event/salsa-and-bachata-tuesdays-at-alhambra/2030-12-17/
LOCATION:Alhambra Palace\, 1240 W Randolph St\, Chicago\, IL\, 60607\, United States
CATEGORIES:Chicago
END:VEVENT
BEGIN:VEVENT
DTSTART;TZID=America/Chicago:20301224T200000
DTEND;TZID=America/Chicago:20301225T013000
DTSTAMP:20260425T113906
CREATED:20260222T202441Z
LAST-MODIFIED:20260222T202513Z
UID:10447803-1924372800-1924392600@golatindance.com
SUMMARY:Salsa and Bachata Tuesdays at Alhambra
DESCRIPTION:Cover $10 before 9pm\nSalsa and Bachata Class
URL:https://golatindance.com/event/salsa-and-bachata-tuesdays-at-alhambra/2030-12-24/
LOCATION:Alhambra Palace\, 1240 W Randolph St\, Chicago\, IL\, 60607\, United States
CATEGORIES:Chicago
END:VEVENT
BEGIN:VEVENT
DTSTART;TZID=America/Chicago:20301231T200000
DTEND;TZID=America/Chicago:20310101T013000
DTSTAMP:20260425T113906
CREATED:20260222T202441Z
LAST-MODIFIED:20260222T202513Z
UID:10447804-1924977600-1924997400@golatindance.com
SUMMARY:Salsa and Bachata Tuesdays at Alhambra
DESCRIPTION:Cover $10 before 9pm\nSalsa and Bachata Class
URL:https://golatindance.com/event/salsa-and-bachata-tuesdays-at-alhambra/2030-12-31/
LOCATION:Alhambra Palace\, 1240 W Randolph St\, Chicago\, IL\, 60607\, United States
CATEGORIES:Chicago
END:VEVENT
BEGIN:VEVENT
DTSTART;TZID=America/Chicago:20310107T200000
DTEND;TZID=America/Chicago:20310108T013000
DTSTAMP:20260425T113906
CREATED:20260222T202441Z
LAST-MODIFIED:20260222T202513Z
UID:10447805-1925582400-1925602200@golatindance.com
SUMMARY:Salsa and Bachata Tuesdays at Alhambra
DESCRIPTION:Cover $10 before 9pm\nSalsa and Bachata Class
URL:https://golatindance.com/event/salsa-and-bachata-tuesdays-at-alhambra/2031-01-07/
LOCATION:Alhambra Palace\, 1240 W Randolph St\, Chicago\, IL\, 60607\, United States
CATEGORIES:Chicago
END:VEVENT
BEGIN:VEVENT
DTSTART;TZID=America/Chicago:20310114T200000
DTEND;TZID=America/Chicago:20310115T013000
DTSTAMP:20260425T113906
CREATED:20260222T202441Z
LAST-MODIFIED:20260222T202513Z
UID:10447806-1926187200-1926207000@golatindance.com
SUMMARY:Salsa and Bachata Tuesdays at Alhambra
DESCRIPTION:Cover $10 before 9pm\nSalsa and Bachata Class
URL:https://golatindance.com/event/salsa-and-bachata-tuesdays-at-alhambra/2031-01-14/
LOCATION:Alhambra Palace\, 1240 W Randolph St\, Chicago\, IL\, 60607\, United States
CATEGORIES:Chicago
END:VEVENT
BEGIN:VEVENT
DTSTART;TZID=America/Chicago:20310121T200000
DTEND;TZID=America/Chicago:20310122T013000
DTSTAMP:20260425T113906
CREATED:20260222T202441Z
LAST-MODIFIED:20260222T202513Z
UID:10447807-1926792000-1926811800@golatindance.com
SUMMARY:Salsa and Bachata Tuesdays at Alhambra
DESCRIPTION:Cover $10 before 9pm\nSalsa and Bachata Class
URL:https://golatindance.com/event/salsa-and-bachata-tuesdays-at-alhambra/2031-01-21/
LOCATION:Alhambra Palace\, 1240 W Randolph St\, Chicago\, IL\, 60607\, United States
CATEGORIES:Chicago
END:VEVENT
BEGIN:VEVENT
DTSTART;TZID=America/Chicago:20310128T200000
DTEND;TZID=America/Chicago:20310129T013000
DTSTAMP:20260425T113906
CREATED:20260222T202441Z
LAST-MODIFIED:20260222T202513Z
UID:10447808-1927396800-1927416600@golatindance.com
SUMMARY:Salsa and Bachata Tuesdays at Alhambra
DESCRIPTION:Cover $10 before 9pm\nSalsa and Bachata Class
URL:https://golatindance.com/event/salsa-and-bachata-tuesdays-at-alhambra/2031-01-28/
LOCATION:Alhambra Palace\, 1240 W Randolph St\, Chicago\, IL\, 60607\, United States
CATEGORIES:Chicago
END:VEVENT
BEGIN:VEVENT
DTSTART;TZID=America/Chicago:20310204T200000
DTEND;TZID=America/Chicago:20310205T013000
DTSTAMP:20260425T113906
CREATED:20260222T202441Z
LAST-MODIFIED:20260222T202513Z
UID:10447809-1928001600-1928021400@golatindance.com
SUMMARY:Salsa and Bachata Tuesdays at Alhambra
DESCRIPTION:Cover $10 before 9pm\nSalsa and Bachata Class
URL:https://golatindance.com/event/salsa-and-bachata-tuesdays-at-alhambra/2031-02-04/
LOCATION:Alhambra Palace\, 1240 W Randolph St\, Chicago\, IL\, 60607\, United States
CATEGORIES:Chicago
END:VEVENT
END:VCALENDAR