BEGIN:VCALENDAR
VERSION:2.0
PRODID:-//GO Latin Dance - ECPv6.15.18//NONSGML v1.0//EN
CALSCALE:GREGORIAN
METHOD:PUBLISH
X-ORIGINAL-URL:https://golatindance.com
X-WR-CALDESC:Events for GO Latin Dance
REFRESH-INTERVAL;VALUE=DURATION:PT1H
X-Robots-Tag:noindex
X-PUBLISHED-TTL:PT1H
BEGIN:VTIMEZONE
TZID:America/Chicago
BEGIN:DAYLIGHT
TZOFFSETFROM:-0600
TZOFFSETTO:-0500
TZNAME:CDT
DTSTART:20300310T080000
END:DAYLIGHT
BEGIN:STANDARD
TZOFFSETFROM:-0500
TZOFFSETTO:-0600
TZNAME:CST
DTSTART:20301103T070000
END:STANDARD
BEGIN:DAYLIGHT
TZOFFSETFROM:-0600
TZOFFSETTO:-0500
TZNAME:CDT
DTSTART:20310309T080000
END:DAYLIGHT
BEGIN:STANDARD
TZOFFSETFROM:-0500
TZOFFSETTO:-0600
TZNAME:CST
DTSTART:20311102T070000
END:STANDARD
BEGIN:DAYLIGHT
TZOFFSETFROM:-0600
TZOFFSETTO:-0500
TZNAME:CDT
DTSTART:20320314T080000
END:DAYLIGHT
BEGIN:STANDARD
TZOFFSETFROM:-0500
TZOFFSETTO:-0600
TZNAME:CST
DTSTART:20321107T070000
END:STANDARD
END:VTIMEZONE
BEGIN:VEVENT
DTSTART;TZID=America/Chicago:20310211T200000
DTEND;TZID=America/Chicago:20310212T013000
DTSTAMP:20260425T145937
CREATED:20260222T202441Z
LAST-MODIFIED:20260222T202513Z
UID:10447810-1928606400-1928626200@golatindance.com
SUMMARY:Salsa and Bachata Tuesdays at Alhambra
DESCRIPTION:Cover $10 before 9pm\nSalsa and Bachata Class
URL:https://golatindance.com/event/salsa-and-bachata-tuesdays-at-alhambra/2031-02-11/
LOCATION:Alhambra Palace\, 1240 W Randolph St\, Chicago\, IL\, 60607\, United States
CATEGORIES:Chicago
END:VEVENT
BEGIN:VEVENT
DTSTART;TZID=America/Chicago:20310218T200000
DTEND;TZID=America/Chicago:20310219T013000
DTSTAMP:20260425T145937
CREATED:20260222T202441Z
LAST-MODIFIED:20260222T202513Z
UID:10447811-1929211200-1929231000@golatindance.com
SUMMARY:Salsa and Bachata Tuesdays at Alhambra
DESCRIPTION:Cover $10 before 9pm\nSalsa and Bachata Class
URL:https://golatindance.com/event/salsa-and-bachata-tuesdays-at-alhambra/2031-02-18/
LOCATION:Alhambra Palace\, 1240 W Randolph St\, Chicago\, IL\, 60607\, United States
CATEGORIES:Chicago
END:VEVENT
END:VCALENDAR