BEGIN:VCALENDAR
VERSION:2.0
PRODID:-//GO Latin Dance - ECPv6.15.18//NONSGML v1.0//EN
CALSCALE:GREGORIAN
METHOD:PUBLISH
X-ORIGINAL-URL:https://golatindance.com
X-WR-CALDESC:Events for GO Latin Dance
REFRESH-INTERVAL;VALUE=DURATION:PT1H
X-Robots-Tag:noindex
X-PUBLISHED-TTL:PT1H
BEGIN:VTIMEZONE
TZID:America/Chicago
BEGIN:DAYLIGHT
TZOFFSETFROM:-0600
TZOFFSETTO:-0500
TZNAME:CDT
DTSTART:20240310T080000
END:DAYLIGHT
BEGIN:STANDARD
TZOFFSETFROM:-0500
TZOFFSETTO:-0600
TZNAME:CST
DTSTART:20241103T070000
END:STANDARD
BEGIN:DAYLIGHT
TZOFFSETFROM:-0600
TZOFFSETTO:-0500
TZNAME:CDT
DTSTART:20250309T080000
END:DAYLIGHT
BEGIN:STANDARD
TZOFFSETFROM:-0500
TZOFFSETTO:-0600
TZNAME:CST
DTSTART:20251102T070000
END:STANDARD
BEGIN:DAYLIGHT
TZOFFSETFROM:-0600
TZOFFSETTO:-0500
TZNAME:CDT
DTSTART:20260308T080000
END:DAYLIGHT
BEGIN:STANDARD
TZOFFSETFROM:-0500
TZOFFSETTO:-0600
TZNAME:CST
DTSTART:20261101T070000
END:STANDARD
BEGIN:DAYLIGHT
TZOFFSETFROM:-0600
TZOFFSETTO:-0500
TZNAME:CDT
DTSTART:20270314T080000
END:DAYLIGHT
BEGIN:STANDARD
TZOFFSETFROM:-0500
TZOFFSETTO:-0600
TZNAME:CST
DTSTART:20271107T070000
END:STANDARD
END:VTIMEZONE
BEGIN:VEVENT
DTSTART;TZID=America/Chicago:20260421T200000
DTEND;TZID=America/Chicago:20260422T000000
DTSTAMP:20260424T180026
CREATED:20221105T041544Z
LAST-MODIFIED:20250630T151131Z
UID:10067084-1776801600-1776816000@golatindance.com
SUMMARY:Sensual Tuesdays
DESCRIPTION:Carlos Guate DJ will be hosting Sensual Tuesday. Come dance to the best Bachata \, Salsa \, Cha Cha Cha Cumbia and more.\nFree Parking.\nDance Lessons.\n$10 Cover
URL:https://golatindance.com/event/sensual-tuesdays-2/2026-04-21/
LOCATION:Balkanika\, 1414 E Oakton St\, Des Plaines\, 60018\, United States
CATEGORIES:Chicago
END:VEVENT
BEGIN:VEVENT
DTSTART;TZID=America/Chicago:20260414T200000
DTEND;TZID=America/Chicago:20260415T000000
DTSTAMP:20260424T180026
CREATED:20221105T041544Z
LAST-MODIFIED:20250630T151131Z
UID:10067083-1776196800-1776211200@golatindance.com
SUMMARY:Sensual Tuesdays
DESCRIPTION:Carlos Guate DJ will be hosting Sensual Tuesday. Come dance to the best Bachata \, Salsa \, Cha Cha Cha Cumbia and more.\nFree Parking.\nDance Lessons.\n$10 Cover
URL:https://golatindance.com/event/sensual-tuesdays-2/2026-04-14/
LOCATION:Balkanika\, 1414 E Oakton St\, Des Plaines\, 60018\, United States
CATEGORIES:Chicago
END:VEVENT
BEGIN:VEVENT
DTSTART;TZID=America/Chicago:20260407T200000
DTEND;TZID=America/Chicago:20260408T000000
DTSTAMP:20260424T180026
CREATED:20221105T041544Z
LAST-MODIFIED:20250630T151131Z
UID:10067082-1775592000-1775606400@golatindance.com
SUMMARY:Sensual Tuesdays
DESCRIPTION:Carlos Guate DJ will be hosting Sensual Tuesday. Come dance to the best Bachata \, Salsa \, Cha Cha Cha Cumbia and more.\nFree Parking.\nDance Lessons.\n$10 Cover
URL:https://golatindance.com/event/sensual-tuesdays-2/2026-04-07/
LOCATION:Balkanika\, 1414 E Oakton St\, Des Plaines\, 60018\, United States
CATEGORIES:Chicago
END:VEVENT
BEGIN:VEVENT
DTSTART;TZID=America/Chicago:20260331T200000
DTEND;TZID=America/Chicago:20260401T000000
DTSTAMP:20260424T180026
CREATED:20221105T041544Z
LAST-MODIFIED:20250630T151131Z
UID:10067081-1774987200-1775001600@golatindance.com
SUMMARY:Sensual Tuesdays
DESCRIPTION:Carlos Guate DJ will be hosting Sensual Tuesday. Come dance to the best Bachata \, Salsa \, Cha Cha Cha Cumbia and more.\nFree Parking.\nDance Lessons.\n$10 Cover
URL:https://golatindance.com/event/sensual-tuesdays-2/2026-03-31/
LOCATION:Balkanika\, 1414 E Oakton St\, Des Plaines\, 60018\, United States
CATEGORIES:Chicago
END:VEVENT
BEGIN:VEVENT
DTSTART;TZID=America/Chicago:20260324T200000
DTEND;TZID=America/Chicago:20260325T000000
DTSTAMP:20260424T180026
CREATED:20221105T041544Z
LAST-MODIFIED:20250630T151131Z
UID:10067080-1774382400-1774396800@golatindance.com
SUMMARY:Sensual Tuesdays
DESCRIPTION:Carlos Guate DJ will be hosting Sensual Tuesday. Come dance to the best Bachata \, Salsa \, Cha Cha Cha Cumbia and more.\nFree Parking.\nDance Lessons.\n$10 Cover
URL:https://golatindance.com/event/sensual-tuesdays-2/2026-03-24/
LOCATION:Balkanika\, 1414 E Oakton St\, Des Plaines\, 60018\, United States
CATEGORIES:Chicago
END:VEVENT
BEGIN:VEVENT
DTSTART;TZID=America/Chicago:20260317T200000
DTEND;TZID=America/Chicago:20260318T000000
DTSTAMP:20260424T180026
CREATED:20221105T041544Z
LAST-MODIFIED:20250630T151131Z
UID:10067079-1773777600-1773792000@golatindance.com
SUMMARY:Sensual Tuesdays
DESCRIPTION:Carlos Guate DJ will be hosting Sensual Tuesday. Come dance to the best Bachata \, Salsa \, Cha Cha Cha Cumbia and more.\nFree Parking.\nDance Lessons.\n$10 Cover
URL:https://golatindance.com/event/sensual-tuesdays-2/2026-03-17/
LOCATION:Balkanika\, 1414 E Oakton St\, Des Plaines\, 60018\, United States
CATEGORIES:Chicago
END:VEVENT
BEGIN:VEVENT
DTSTART;TZID=America/Chicago:20260310T200000
DTEND;TZID=America/Chicago:20260311T000000
DTSTAMP:20260424T180026
CREATED:20221105T041544Z
LAST-MODIFIED:20250630T151131Z
UID:10067078-1773172800-1773187200@golatindance.com
SUMMARY:Sensual Tuesdays
DESCRIPTION:Carlos Guate DJ will be hosting Sensual Tuesday. Come dance to the best Bachata \, Salsa \, Cha Cha Cha Cumbia and more.\nFree Parking.\nDance Lessons.\n$10 Cover
URL:https://golatindance.com/event/sensual-tuesdays-2/2026-03-10/
LOCATION:Balkanika\, 1414 E Oakton St\, Des Plaines\, 60018\, United States
CATEGORIES:Chicago
END:VEVENT
BEGIN:VEVENT
DTSTART;TZID=America/Chicago:20260303T200000
DTEND;TZID=America/Chicago:20260304T000000
DTSTAMP:20260424T180026
CREATED:20221105T041544Z
LAST-MODIFIED:20250630T151131Z
UID:10067077-1772568000-1772582400@golatindance.com
SUMMARY:Sensual Tuesdays
DESCRIPTION:Carlos Guate DJ will be hosting Sensual Tuesday. Come dance to the best Bachata \, Salsa \, Cha Cha Cha Cumbia and more.\nFree Parking.\nDance Lessons.\n$10 Cover
URL:https://golatindance.com/event/sensual-tuesdays-2/2026-03-03/
LOCATION:Balkanika\, 1414 E Oakton St\, Des Plaines\, 60018\, United States
CATEGORIES:Chicago
END:VEVENT
BEGIN:VEVENT
DTSTART;TZID=America/Chicago:20260224T200000
DTEND;TZID=America/Chicago:20260225T000000
DTSTAMP:20260424T180026
CREATED:20221105T041544Z
LAST-MODIFIED:20250630T151131Z
UID:10067076-1771963200-1771977600@golatindance.com
SUMMARY:Sensual Tuesdays
DESCRIPTION:Carlos Guate DJ will be hosting Sensual Tuesday. Come dance to the best Bachata \, Salsa \, Cha Cha Cha Cumbia and more.\nFree Parking.\nDance Lessons.\n$10 Cover
URL:https://golatindance.com/event/sensual-tuesdays-2/2026-02-24/
LOCATION:Balkanika\, 1414 E Oakton St\, Des Plaines\, 60018\, United States
CATEGORIES:Chicago
END:VEVENT
BEGIN:VEVENT
DTSTART;TZID=America/Chicago:20260217T200000
DTEND;TZID=America/Chicago:20260218T000000
DTSTAMP:20260424T180026
CREATED:20221105T041544Z
LAST-MODIFIED:20250630T151131Z
UID:10067075-1771358400-1771372800@golatindance.com
SUMMARY:Sensual Tuesdays
DESCRIPTION:Carlos Guate DJ will be hosting Sensual Tuesday. Come dance to the best Bachata \, Salsa \, Cha Cha Cha Cumbia and more.\nFree Parking.\nDance Lessons.\n$10 Cover
URL:https://golatindance.com/event/sensual-tuesdays-2/2026-02-17/
LOCATION:Balkanika\, 1414 E Oakton St\, Des Plaines\, 60018\, United States
CATEGORIES:Chicago
END:VEVENT
BEGIN:VEVENT
DTSTART;TZID=America/Chicago:20260210T200000
DTEND;TZID=America/Chicago:20260211T000000
DTSTAMP:20260424T180026
CREATED:20221105T041544Z
LAST-MODIFIED:20250630T151131Z
UID:10067074-1770753600-1770768000@golatindance.com
SUMMARY:Sensual Tuesdays
DESCRIPTION:Carlos Guate DJ will be hosting Sensual Tuesday. Come dance to the best Bachata \, Salsa \, Cha Cha Cha Cumbia and more.\nFree Parking.\nDance Lessons.\n$10 Cover
URL:https://golatindance.com/event/sensual-tuesdays-2/2026-02-10/
LOCATION:Balkanika\, 1414 E Oakton St\, Des Plaines\, 60018\, United States
CATEGORIES:Chicago
END:VEVENT
BEGIN:VEVENT
DTSTART;TZID=America/Chicago:20260203T200000
DTEND;TZID=America/Chicago:20260204T000000
DTSTAMP:20260424T180026
CREATED:20221105T041544Z
LAST-MODIFIED:20250630T151131Z
UID:10067073-1770148800-1770163200@golatindance.com
SUMMARY:Sensual Tuesdays
DESCRIPTION:Carlos Guate DJ will be hosting Sensual Tuesday. Come dance to the best Bachata \, Salsa \, Cha Cha Cha Cumbia and more.\nFree Parking.\nDance Lessons.\n$10 Cover
URL:https://golatindance.com/event/sensual-tuesdays-2/2026-02-03/
LOCATION:Balkanika\, 1414 E Oakton St\, Des Plaines\, 60018\, United States
CATEGORIES:Chicago
END:VEVENT
BEGIN:VEVENT
DTSTART;TZID=America/Chicago:20260127T200000
DTEND;TZID=America/Chicago:20260128T000000
DTSTAMP:20260424T180026
CREATED:20221105T041544Z
LAST-MODIFIED:20250630T151131Z
UID:10067072-1769544000-1769558400@golatindance.com
SUMMARY:Sensual Tuesdays
DESCRIPTION:Carlos Guate DJ will be hosting Sensual Tuesday. Come dance to the best Bachata \, Salsa \, Cha Cha Cha Cumbia and more.\nFree Parking.\nDance Lessons.\n$10 Cover
URL:https://golatindance.com/event/sensual-tuesdays-2/2026-01-27/
LOCATION:Balkanika\, 1414 E Oakton St\, Des Plaines\, 60018\, United States
CATEGORIES:Chicago
END:VEVENT
BEGIN:VEVENT
DTSTART;TZID=America/Chicago:20260120T200000
DTEND;TZID=America/Chicago:20260121T000000
DTSTAMP:20260424T180026
CREATED:20221105T041544Z
LAST-MODIFIED:20250630T151131Z
UID:10067071-1768939200-1768953600@golatindance.com
SUMMARY:Sensual Tuesdays
DESCRIPTION:Carlos Guate DJ will be hosting Sensual Tuesday. Come dance to the best Bachata \, Salsa \, Cha Cha Cha Cumbia and more.\nFree Parking.\nDance Lessons.\n$10 Cover
URL:https://golatindance.com/event/sensual-tuesdays-2/2026-01-20/
LOCATION:Balkanika\, 1414 E Oakton St\, Des Plaines\, 60018\, United States
CATEGORIES:Chicago
END:VEVENT
BEGIN:VEVENT
DTSTART;TZID=America/Chicago:20260113T200000
DTEND;TZID=America/Chicago:20260114T000000
DTSTAMP:20260424T180026
CREATED:20221105T041544Z
LAST-MODIFIED:20250630T151131Z
UID:10067070-1768334400-1768348800@golatindance.com
SUMMARY:Sensual Tuesdays
DESCRIPTION:Carlos Guate DJ will be hosting Sensual Tuesday. Come dance to the best Bachata \, Salsa \, Cha Cha Cha Cumbia and more.\nFree Parking.\nDance Lessons.\n$10 Cover
URL:https://golatindance.com/event/sensual-tuesdays-2/2026-01-13/
LOCATION:Balkanika\, 1414 E Oakton St\, Des Plaines\, 60018\, United States
CATEGORIES:Chicago
END:VEVENT
BEGIN:VEVENT
DTSTART;TZID=America/Chicago:20260106T200000
DTEND;TZID=America/Chicago:20260107T000000
DTSTAMP:20260424T180026
CREATED:20221105T041544Z
LAST-MODIFIED:20250630T151131Z
UID:10067069-1767729600-1767744000@golatindance.com
SUMMARY:Sensual Tuesdays
DESCRIPTION:Carlos Guate DJ will be hosting Sensual Tuesday. Come dance to the best Bachata \, Salsa \, Cha Cha Cha Cumbia and more.\nFree Parking.\nDance Lessons.\n$10 Cover
URL:https://golatindance.com/event/sensual-tuesdays-2/2026-01-06/
LOCATION:Balkanika\, 1414 E Oakton St\, Des Plaines\, 60018\, United States
CATEGORIES:Chicago
END:VEVENT
BEGIN:VEVENT
DTSTART;TZID=America/Chicago:20251230T200000
DTEND;TZID=America/Chicago:20251231T000000
DTSTAMP:20260424T180026
CREATED:20221105T041544Z
LAST-MODIFIED:20250630T151131Z
UID:10067068-1767124800-1767139200@golatindance.com
SUMMARY:Sensual Tuesdays
DESCRIPTION:Carlos Guate DJ will be hosting Sensual Tuesday. Come dance to the best Bachata \, Salsa \, Cha Cha Cha Cumbia and more.\nFree Parking.\nDance Lessons.\n$10 Cover
URL:https://golatindance.com/event/sensual-tuesdays-2/2025-12-30/
LOCATION:Balkanika\, 1414 E Oakton St\, Des Plaines\, 60018\, United States
CATEGORIES:Chicago
END:VEVENT
BEGIN:VEVENT
DTSTART;TZID=America/Chicago:20251223T200000
DTEND;TZID=America/Chicago:20251224T000000
DTSTAMP:20260424T180026
CREATED:20221105T041544Z
LAST-MODIFIED:20250630T151131Z
UID:10067067-1766520000-1766534400@golatindance.com
SUMMARY:Sensual Tuesdays
DESCRIPTION:Carlos Guate DJ will be hosting Sensual Tuesday. Come dance to the best Bachata \, Salsa \, Cha Cha Cha Cumbia and more.\nFree Parking.\nDance Lessons.\n$10 Cover
URL:https://golatindance.com/event/sensual-tuesdays-2/2025-12-23/
LOCATION:Balkanika\, 1414 E Oakton St\, Des Plaines\, 60018\, United States
CATEGORIES:Chicago
END:VEVENT
BEGIN:VEVENT
DTSTART;TZID=America/Chicago:20251216T200000
DTEND;TZID=America/Chicago:20251217T000000
DTSTAMP:20260424T180026
CREATED:20221105T041544Z
LAST-MODIFIED:20250630T151131Z
UID:10067066-1765915200-1765929600@golatindance.com
SUMMARY:Sensual Tuesdays
DESCRIPTION:Carlos Guate DJ will be hosting Sensual Tuesday. Come dance to the best Bachata \, Salsa \, Cha Cha Cha Cumbia and more.\nFree Parking.\nDance Lessons.\n$10 Cover
URL:https://golatindance.com/event/sensual-tuesdays-2/2025-12-16/
LOCATION:Balkanika\, 1414 E Oakton St\, Des Plaines\, 60018\, United States
CATEGORIES:Chicago
END:VEVENT
BEGIN:VEVENT
DTSTART;TZID=America/Chicago:20251209T200000
DTEND;TZID=America/Chicago:20251210T000000
DTSTAMP:20260424T180026
CREATED:20221105T041544Z
LAST-MODIFIED:20250630T151131Z
UID:10067065-1765310400-1765324800@golatindance.com
SUMMARY:Sensual Tuesdays
DESCRIPTION:Carlos Guate DJ will be hosting Sensual Tuesday. Come dance to the best Bachata \, Salsa \, Cha Cha Cha Cumbia and more.\nFree Parking.\nDance Lessons.\n$10 Cover
URL:https://golatindance.com/event/sensual-tuesdays-2/2025-12-09/
LOCATION:Balkanika\, 1414 E Oakton St\, Des Plaines\, 60018\, United States
CATEGORIES:Chicago
END:VEVENT
BEGIN:VEVENT
DTSTART;TZID=America/Chicago:20251202T200000
DTEND;TZID=America/Chicago:20251203T000000
DTSTAMP:20260424T180026
CREATED:20221105T041544Z
LAST-MODIFIED:20250630T151131Z
UID:10067064-1764705600-1764720000@golatindance.com
SUMMARY:Sensual Tuesdays
DESCRIPTION:Carlos Guate DJ will be hosting Sensual Tuesday. Come dance to the best Bachata \, Salsa \, Cha Cha Cha Cumbia and more.\nFree Parking.\nDance Lessons.\n$10 Cover
URL:https://golatindance.com/event/sensual-tuesdays-2/2025-12-02/
LOCATION:Balkanika\, 1414 E Oakton St\, Des Plaines\, 60018\, United States
CATEGORIES:Chicago
END:VEVENT
BEGIN:VEVENT
DTSTART;TZID=America/Chicago:20251125T200000
DTEND;TZID=America/Chicago:20251126T000000
DTSTAMP:20260424T180026
CREATED:20221105T041544Z
LAST-MODIFIED:20250630T151131Z
UID:10067063-1764100800-1764115200@golatindance.com
SUMMARY:Sensual Tuesdays
DESCRIPTION:Carlos Guate DJ will be hosting Sensual Tuesday. Come dance to the best Bachata \, Salsa \, Cha Cha Cha Cumbia and more.\nFree Parking.\nDance Lessons.\n$10 Cover
URL:https://golatindance.com/event/sensual-tuesdays-2/2025-11-25/
LOCATION:Balkanika\, 1414 E Oakton St\, Des Plaines\, 60018\, United States
CATEGORIES:Chicago
END:VEVENT
BEGIN:VEVENT
DTSTART;TZID=America/Chicago:20251118T200000
DTEND;TZID=America/Chicago:20251119T000000
DTSTAMP:20260424T180026
CREATED:20221105T041544Z
LAST-MODIFIED:20250630T151131Z
UID:10067062-1763496000-1763510400@golatindance.com
SUMMARY:Sensual Tuesdays
DESCRIPTION:Carlos Guate DJ will be hosting Sensual Tuesday. Come dance to the best Bachata \, Salsa \, Cha Cha Cha Cumbia and more.\nFree Parking.\nDance Lessons.\n$10 Cover
URL:https://golatindance.com/event/sensual-tuesdays-2/2025-11-18/
LOCATION:Balkanika\, 1414 E Oakton St\, Des Plaines\, 60018\, United States
CATEGORIES:Chicago
END:VEVENT
BEGIN:VEVENT
DTSTART;TZID=America/Chicago:20251111T200000
DTEND;TZID=America/Chicago:20251112T000000
DTSTAMP:20260424T180026
CREATED:20221105T041544Z
LAST-MODIFIED:20250630T151131Z
UID:10067061-1762891200-1762905600@golatindance.com
SUMMARY:Sensual Tuesdays
DESCRIPTION:Carlos Guate DJ will be hosting Sensual Tuesday. Come dance to the best Bachata \, Salsa \, Cha Cha Cha Cumbia and more.\nFree Parking.\nDance Lessons.\n$10 Cover
URL:https://golatindance.com/event/sensual-tuesdays-2/2025-11-11/
LOCATION:Balkanika\, 1414 E Oakton St\, Des Plaines\, 60018\, United States
CATEGORIES:Chicago
END:VEVENT
BEGIN:VEVENT
DTSTART;TZID=America/Chicago:20251104T200000
DTEND;TZID=America/Chicago:20251105T000000
DTSTAMP:20260424T180026
CREATED:20221105T041544Z
LAST-MODIFIED:20250630T151131Z
UID:10067060-1762286400-1762300800@golatindance.com
SUMMARY:Sensual Tuesdays
DESCRIPTION:Carlos Guate DJ will be hosting Sensual Tuesday. Come dance to the best Bachata \, Salsa \, Cha Cha Cha Cumbia and more.\nFree Parking.\nDance Lessons.\n$10 Cover
URL:https://golatindance.com/event/sensual-tuesdays-2/2025-11-04/
LOCATION:Balkanika\, 1414 E Oakton St\, Des Plaines\, 60018\, United States
CATEGORIES:Chicago
END:VEVENT
BEGIN:VEVENT
DTSTART;TZID=America/Chicago:20251028T200000
DTEND;TZID=America/Chicago:20251029T000000
DTSTAMP:20260424T180026
CREATED:20221105T041544Z
LAST-MODIFIED:20250630T151131Z
UID:10067059-1761681600-1761696000@golatindance.com
SUMMARY:Sensual Tuesdays
DESCRIPTION:Carlos Guate DJ will be hosting Sensual Tuesday. Come dance to the best Bachata \, Salsa \, Cha Cha Cha Cumbia and more.\nFree Parking.\nDance Lessons.\n$10 Cover
URL:https://golatindance.com/event/sensual-tuesdays-2/2025-10-28/
LOCATION:Balkanika\, 1414 E Oakton St\, Des Plaines\, 60018\, United States
CATEGORIES:Chicago
END:VEVENT
BEGIN:VEVENT
DTSTART;TZID=America/Chicago:20251021T200000
DTEND;TZID=America/Chicago:20251022T000000
DTSTAMP:20260424T180026
CREATED:20221105T041544Z
LAST-MODIFIED:20250630T151131Z
UID:10067058-1761076800-1761091200@golatindance.com
SUMMARY:Sensual Tuesdays
DESCRIPTION:Carlos Guate DJ will be hosting Sensual Tuesday. Come dance to the best Bachata \, Salsa \, Cha Cha Cha Cumbia and more.\nFree Parking.\nDance Lessons.\n$10 Cover
URL:https://golatindance.com/event/sensual-tuesdays-2/2025-10-21/
LOCATION:Balkanika\, 1414 E Oakton St\, Des Plaines\, 60018\, United States
CATEGORIES:Chicago
END:VEVENT
BEGIN:VEVENT
DTSTART;TZID=America/Chicago:20251014T200000
DTEND;TZID=America/Chicago:20251015T000000
DTSTAMP:20260424T180026
CREATED:20221105T041544Z
LAST-MODIFIED:20250630T151131Z
UID:10067057-1760472000-1760486400@golatindance.com
SUMMARY:Sensual Tuesdays
DESCRIPTION:Carlos Guate DJ will be hosting Sensual Tuesday. Come dance to the best Bachata \, Salsa \, Cha Cha Cha Cumbia and more.\nFree Parking.\nDance Lessons.\n$10 Cover
URL:https://golatindance.com/event/sensual-tuesdays-2/2025-10-14/
LOCATION:Balkanika\, 1414 E Oakton St\, Des Plaines\, 60018\, United States
CATEGORIES:Chicago
END:VEVENT
BEGIN:VEVENT
DTSTART;TZID=America/Chicago:20251007T200000
DTEND;TZID=America/Chicago:20251008T000000
DTSTAMP:20260424T180026
CREATED:20221105T041544Z
LAST-MODIFIED:20250630T151131Z
UID:10067056-1759867200-1759881600@golatindance.com
SUMMARY:Sensual Tuesdays
DESCRIPTION:Carlos Guate DJ will be hosting Sensual Tuesday. Come dance to the best Bachata \, Salsa \, Cha Cha Cha Cumbia and more.\nFree Parking.\nDance Lessons.\n$10 Cover
URL:https://golatindance.com/event/sensual-tuesdays-2/2025-10-07/
LOCATION:Balkanika\, 1414 E Oakton St\, Des Plaines\, 60018\, United States
CATEGORIES:Chicago
END:VEVENT
BEGIN:VEVENT
DTSTART;TZID=America/Chicago:20250930T200000
DTEND;TZID=America/Chicago:20251001T000000
DTSTAMP:20260424T180026
CREATED:20221105T041544Z
LAST-MODIFIED:20250630T151131Z
UID:10067055-1759262400-1759276800@golatindance.com
SUMMARY:Sensual Tuesdays
DESCRIPTION:Carlos Guate DJ will be hosting Sensual Tuesday. Come dance to the best Bachata \, Salsa \, Cha Cha Cha Cumbia and more.\nFree Parking.\nDance Lessons.\n$10 Cover
URL:https://golatindance.com/event/sensual-tuesdays-2/2025-09-30/
LOCATION:Balkanika\, 1414 E Oakton St\, Des Plaines\, 60018\, United States
CATEGORIES:Chicago
END:VEVENT
END:VCALENDAR