BEGIN:VCALENDAR
VERSION:2.0
PRODID:-//GO Latin Dance - ECPv6.15.18//NONSGML v1.0//EN
CALSCALE:GREGORIAN
METHOD:PUBLISH
X-ORIGINAL-URL:https://golatindance.com
X-WR-CALDESC:Events for GO Latin Dance
REFRESH-INTERVAL;VALUE=DURATION:PT1H
X-Robots-Tag:noindex
X-PUBLISHED-TTL:PT1H
BEGIN:VTIMEZONE
TZID:America/Chicago
BEGIN:DAYLIGHT
TZOFFSETFROM:-0600
TZOFFSETTO:-0500
TZNAME:CDT
DTSTART:20270314T080000
END:DAYLIGHT
BEGIN:STANDARD
TZOFFSETFROM:-0500
TZOFFSETTO:-0600
TZNAME:CST
DTSTART:20271107T070000
END:STANDARD
BEGIN:DAYLIGHT
TZOFFSETFROM:-0600
TZOFFSETTO:-0500
TZNAME:CDT
DTSTART:20280312T080000
END:DAYLIGHT
BEGIN:STANDARD
TZOFFSETFROM:-0500
TZOFFSETTO:-0600
TZNAME:CST
DTSTART:20281105T070000
END:STANDARD
BEGIN:DAYLIGHT
TZOFFSETFROM:-0600
TZOFFSETTO:-0500
TZNAME:CDT
DTSTART:20290311T080000
END:DAYLIGHT
BEGIN:STANDARD
TZOFFSETFROM:-0500
TZOFFSETTO:-0600
TZNAME:CST
DTSTART:20291104T070000
END:STANDARD
BEGIN:DAYLIGHT
TZOFFSETFROM:-0600
TZOFFSETTO:-0500
TZNAME:CDT
DTSTART:20300310T080000
END:DAYLIGHT
BEGIN:STANDARD
TZOFFSETFROM:-0500
TZOFFSETTO:-0600
TZNAME:CST
DTSTART:20301103T070000
END:STANDARD
END:VTIMEZONE
BEGIN:VEVENT
DTSTART;TZID=America/Chicago:20280815T200000
DTEND;TZID=America/Chicago:20280816T000000
DTSTAMP:20260425T081028
CREATED:20221105T041544Z
LAST-MODIFIED:20250630T151131Z
UID:10321522-1849982400-1849996800@golatindance.com
SUMMARY:Sensual Tuesdays
DESCRIPTION:Carlos Guate DJ will be hosting Sensual Tuesday. Come dance to the best Bachata \, Salsa \, Cha Cha Cha Cumbia and more.\nFree Parking.\nDance Lessons.\n$10 Cover
URL:https://golatindance.com/event/sensual-tuesdays-2/2028-08-15/
LOCATION:Balkanika\, 1414 E Oakton St\, Des Plaines\, 60018\, United States
CATEGORIES:Chicago
END:VEVENT
BEGIN:VEVENT
DTSTART;TZID=America/Chicago:20280822T200000
DTEND;TZID=America/Chicago:20280823T000000
DTSTAMP:20260425T081028
CREATED:20221105T041544Z
LAST-MODIFIED:20250630T151131Z
UID:10321523-1850587200-1850601600@golatindance.com
SUMMARY:Sensual Tuesdays
DESCRIPTION:Carlos Guate DJ will be hosting Sensual Tuesday. Come dance to the best Bachata \, Salsa \, Cha Cha Cha Cumbia and more.\nFree Parking.\nDance Lessons.\n$10 Cover
URL:https://golatindance.com/event/sensual-tuesdays-2/2028-08-22/
LOCATION:Balkanika\, 1414 E Oakton St\, Des Plaines\, 60018\, United States
CATEGORIES:Chicago
END:VEVENT
BEGIN:VEVENT
DTSTART;TZID=America/Chicago:20280829T200000
DTEND;TZID=America/Chicago:20280830T000000
DTSTAMP:20260425T081028
CREATED:20221105T041544Z
LAST-MODIFIED:20250630T151131Z
UID:10321524-1851192000-1851206400@golatindance.com
SUMMARY:Sensual Tuesdays
DESCRIPTION:Carlos Guate DJ will be hosting Sensual Tuesday. Come dance to the best Bachata \, Salsa \, Cha Cha Cha Cumbia and more.\nFree Parking.\nDance Lessons.\n$10 Cover
URL:https://golatindance.com/event/sensual-tuesdays-2/2028-08-29/
LOCATION:Balkanika\, 1414 E Oakton St\, Des Plaines\, 60018\, United States
CATEGORIES:Chicago
END:VEVENT
BEGIN:VEVENT
DTSTART;TZID=America/Chicago:20280905T200000
DTEND;TZID=America/Chicago:20280906T000000
DTSTAMP:20260425T081028
CREATED:20221105T041544Z
LAST-MODIFIED:20250630T151131Z
UID:10321525-1851796800-1851811200@golatindance.com
SUMMARY:Sensual Tuesdays
DESCRIPTION:Carlos Guate DJ will be hosting Sensual Tuesday. Come dance to the best Bachata \, Salsa \, Cha Cha Cha Cumbia and more.\nFree Parking.\nDance Lessons.\n$10 Cover
URL:https://golatindance.com/event/sensual-tuesdays-2/2028-09-05/
LOCATION:Balkanika\, 1414 E Oakton St\, Des Plaines\, 60018\, United States
CATEGORIES:Chicago
END:VEVENT
BEGIN:VEVENT
DTSTART;TZID=America/Chicago:20280912T200000
DTEND;TZID=America/Chicago:20280913T000000
DTSTAMP:20260425T081028
CREATED:20221105T041544Z
LAST-MODIFIED:20250630T151131Z
UID:10321526-1852401600-1852416000@golatindance.com
SUMMARY:Sensual Tuesdays
DESCRIPTION:Carlos Guate DJ will be hosting Sensual Tuesday. Come dance to the best Bachata \, Salsa \, Cha Cha Cha Cumbia and more.\nFree Parking.\nDance Lessons.\n$10 Cover
URL:https://golatindance.com/event/sensual-tuesdays-2/2028-09-12/
LOCATION:Balkanika\, 1414 E Oakton St\, Des Plaines\, 60018\, United States
CATEGORIES:Chicago
END:VEVENT
BEGIN:VEVENT
DTSTART;TZID=America/Chicago:20280919T200000
DTEND;TZID=America/Chicago:20280920T000000
DTSTAMP:20260425T081028
CREATED:20221105T041544Z
LAST-MODIFIED:20250630T151131Z
UID:10321527-1853006400-1853020800@golatindance.com
SUMMARY:Sensual Tuesdays
DESCRIPTION:Carlos Guate DJ will be hosting Sensual Tuesday. Come dance to the best Bachata \, Salsa \, Cha Cha Cha Cumbia and more.\nFree Parking.\nDance Lessons.\n$10 Cover
URL:https://golatindance.com/event/sensual-tuesdays-2/2028-09-19/
LOCATION:Balkanika\, 1414 E Oakton St\, Des Plaines\, 60018\, United States
CATEGORIES:Chicago
END:VEVENT
BEGIN:VEVENT
DTSTART;TZID=America/Chicago:20280926T200000
DTEND;TZID=America/Chicago:20280927T000000
DTSTAMP:20260425T081028
CREATED:20221105T041544Z
LAST-MODIFIED:20250630T151131Z
UID:10321528-1853611200-1853625600@golatindance.com
SUMMARY:Sensual Tuesdays
DESCRIPTION:Carlos Guate DJ will be hosting Sensual Tuesday. Come dance to the best Bachata \, Salsa \, Cha Cha Cha Cumbia and more.\nFree Parking.\nDance Lessons.\n$10 Cover
URL:https://golatindance.com/event/sensual-tuesdays-2/2028-09-26/
LOCATION:Balkanika\, 1414 E Oakton St\, Des Plaines\, 60018\, United States
CATEGORIES:Chicago
END:VEVENT
BEGIN:VEVENT
DTSTART;TZID=America/Chicago:20281003T200000
DTEND;TZID=America/Chicago:20281004T000000
DTSTAMP:20260425T081028
CREATED:20221105T041544Z
LAST-MODIFIED:20250630T151131Z
UID:10321529-1854216000-1854230400@golatindance.com
SUMMARY:Sensual Tuesdays
DESCRIPTION:Carlos Guate DJ will be hosting Sensual Tuesday. Come dance to the best Bachata \, Salsa \, Cha Cha Cha Cumbia and more.\nFree Parking.\nDance Lessons.\n$10 Cover
URL:https://golatindance.com/event/sensual-tuesdays-2/2028-10-03/
LOCATION:Balkanika\, 1414 E Oakton St\, Des Plaines\, 60018\, United States
CATEGORIES:Chicago
END:VEVENT
BEGIN:VEVENT
DTSTART;TZID=America/Chicago:20281010T200000
DTEND;TZID=America/Chicago:20281011T000000
DTSTAMP:20260425T081028
CREATED:20221105T041544Z
LAST-MODIFIED:20250630T151131Z
UID:10321530-1854820800-1854835200@golatindance.com
SUMMARY:Sensual Tuesdays
DESCRIPTION:Carlos Guate DJ will be hosting Sensual Tuesday. Come dance to the best Bachata \, Salsa \, Cha Cha Cha Cumbia and more.\nFree Parking.\nDance Lessons.\n$10 Cover
URL:https://golatindance.com/event/sensual-tuesdays-2/2028-10-10/
LOCATION:Balkanika\, 1414 E Oakton St\, Des Plaines\, 60018\, United States
CATEGORIES:Chicago
END:VEVENT
BEGIN:VEVENT
DTSTART;TZID=America/Chicago:20281017T200000
DTEND;TZID=America/Chicago:20281018T000000
DTSTAMP:20260425T081028
CREATED:20221105T041544Z
LAST-MODIFIED:20250630T151131Z
UID:10321531-1855425600-1855440000@golatindance.com
SUMMARY:Sensual Tuesdays
DESCRIPTION:Carlos Guate DJ will be hosting Sensual Tuesday. Come dance to the best Bachata \, Salsa \, Cha Cha Cha Cumbia and more.\nFree Parking.\nDance Lessons.\n$10 Cover
URL:https://golatindance.com/event/sensual-tuesdays-2/2028-10-17/
LOCATION:Balkanika\, 1414 E Oakton St\, Des Plaines\, 60018\, United States
CATEGORIES:Chicago
END:VEVENT
BEGIN:VEVENT
DTSTART;TZID=America/Chicago:20281024T200000
DTEND;TZID=America/Chicago:20281025T000000
DTSTAMP:20260425T081028
CREATED:20221105T041544Z
LAST-MODIFIED:20250630T151131Z
UID:10321532-1856030400-1856044800@golatindance.com
SUMMARY:Sensual Tuesdays
DESCRIPTION:Carlos Guate DJ will be hosting Sensual Tuesday. Come dance to the best Bachata \, Salsa \, Cha Cha Cha Cumbia and more.\nFree Parking.\nDance Lessons.\n$10 Cover
URL:https://golatindance.com/event/sensual-tuesdays-2/2028-10-24/
LOCATION:Balkanika\, 1414 E Oakton St\, Des Plaines\, 60018\, United States
CATEGORIES:Chicago
END:VEVENT
BEGIN:VEVENT
DTSTART;TZID=America/Chicago:20281031T200000
DTEND;TZID=America/Chicago:20281101T000000
DTSTAMP:20260425T081028
CREATED:20221105T041544Z
LAST-MODIFIED:20250630T151131Z
UID:10321533-1856635200-1856649600@golatindance.com
SUMMARY:Sensual Tuesdays
DESCRIPTION:Carlos Guate DJ will be hosting Sensual Tuesday. Come dance to the best Bachata \, Salsa \, Cha Cha Cha Cumbia and more.\nFree Parking.\nDance Lessons.\n$10 Cover
URL:https://golatindance.com/event/sensual-tuesdays-2/2028-10-31/
LOCATION:Balkanika\, 1414 E Oakton St\, Des Plaines\, 60018\, United States
CATEGORIES:Chicago
END:VEVENT
BEGIN:VEVENT
DTSTART;TZID=America/Chicago:20281107T200000
DTEND;TZID=America/Chicago:20281108T000000
DTSTAMP:20260425T081028
CREATED:20221105T041544Z
LAST-MODIFIED:20250630T151131Z
UID:10321534-1857240000-1857254400@golatindance.com
SUMMARY:Sensual Tuesdays
DESCRIPTION:Carlos Guate DJ will be hosting Sensual Tuesday. Come dance to the best Bachata \, Salsa \, Cha Cha Cha Cumbia and more.\nFree Parking.\nDance Lessons.\n$10 Cover
URL:https://golatindance.com/event/sensual-tuesdays-2/2028-11-07/
LOCATION:Balkanika\, 1414 E Oakton St\, Des Plaines\, 60018\, United States
CATEGORIES:Chicago
END:VEVENT
BEGIN:VEVENT
DTSTART;TZID=America/Chicago:20281114T200000
DTEND;TZID=America/Chicago:20281115T000000
DTSTAMP:20260425T081028
CREATED:20221105T041544Z
LAST-MODIFIED:20250630T151131Z
UID:10321535-1857844800-1857859200@golatindance.com
SUMMARY:Sensual Tuesdays
DESCRIPTION:Carlos Guate DJ will be hosting Sensual Tuesday. Come dance to the best Bachata \, Salsa \, Cha Cha Cha Cumbia and more.\nFree Parking.\nDance Lessons.\n$10 Cover
URL:https://golatindance.com/event/sensual-tuesdays-2/2028-11-14/
LOCATION:Balkanika\, 1414 E Oakton St\, Des Plaines\, 60018\, United States
CATEGORIES:Chicago
END:VEVENT
BEGIN:VEVENT
DTSTART;TZID=America/Chicago:20281121T200000
DTEND;TZID=America/Chicago:20281122T000000
DTSTAMP:20260425T081028
CREATED:20221105T041544Z
LAST-MODIFIED:20250630T151131Z
UID:10321536-1858449600-1858464000@golatindance.com
SUMMARY:Sensual Tuesdays
DESCRIPTION:Carlos Guate DJ will be hosting Sensual Tuesday. Come dance to the best Bachata \, Salsa \, Cha Cha Cha Cumbia and more.\nFree Parking.\nDance Lessons.\n$10 Cover
URL:https://golatindance.com/event/sensual-tuesdays-2/2028-11-21/
LOCATION:Balkanika\, 1414 E Oakton St\, Des Plaines\, 60018\, United States
CATEGORIES:Chicago
END:VEVENT
BEGIN:VEVENT
DTSTART;TZID=America/Chicago:20281128T200000
DTEND;TZID=America/Chicago:20281129T000000
DTSTAMP:20260425T081028
CREATED:20221105T041544Z
LAST-MODIFIED:20250630T151131Z
UID:10321537-1859054400-1859068800@golatindance.com
SUMMARY:Sensual Tuesdays
DESCRIPTION:Carlos Guate DJ will be hosting Sensual Tuesday. Come dance to the best Bachata \, Salsa \, Cha Cha Cha Cumbia and more.\nFree Parking.\nDance Lessons.\n$10 Cover
URL:https://golatindance.com/event/sensual-tuesdays-2/2028-11-28/
LOCATION:Balkanika\, 1414 E Oakton St\, Des Plaines\, 60018\, United States
CATEGORIES:Chicago
END:VEVENT
BEGIN:VEVENT
DTSTART;TZID=America/Chicago:20281205T200000
DTEND;TZID=America/Chicago:20281206T000000
DTSTAMP:20260425T081028
CREATED:20221105T041544Z
LAST-MODIFIED:20250630T151131Z
UID:10321538-1859659200-1859673600@golatindance.com
SUMMARY:Sensual Tuesdays
DESCRIPTION:Carlos Guate DJ will be hosting Sensual Tuesday. Come dance to the best Bachata \, Salsa \, Cha Cha Cha Cumbia and more.\nFree Parking.\nDance Lessons.\n$10 Cover
URL:https://golatindance.com/event/sensual-tuesdays-2/2028-12-05/
LOCATION:Balkanika\, 1414 E Oakton St\, Des Plaines\, 60018\, United States
CATEGORIES:Chicago
END:VEVENT
BEGIN:VEVENT
DTSTART;TZID=America/Chicago:20281212T200000
DTEND;TZID=America/Chicago:20281213T000000
DTSTAMP:20260425T081028
CREATED:20221105T041544Z
LAST-MODIFIED:20250630T151131Z
UID:10321539-1860264000-1860278400@golatindance.com
SUMMARY:Sensual Tuesdays
DESCRIPTION:Carlos Guate DJ will be hosting Sensual Tuesday. Come dance to the best Bachata \, Salsa \, Cha Cha Cha Cumbia and more.\nFree Parking.\nDance Lessons.\n$10 Cover
URL:https://golatindance.com/event/sensual-tuesdays-2/2028-12-12/
LOCATION:Balkanika\, 1414 E Oakton St\, Des Plaines\, 60018\, United States
CATEGORIES:Chicago
END:VEVENT
BEGIN:VEVENT
DTSTART;TZID=America/Chicago:20281219T200000
DTEND;TZID=America/Chicago:20281220T000000
DTSTAMP:20260425T081028
CREATED:20221105T041544Z
LAST-MODIFIED:20250630T151131Z
UID:10321540-1860868800-1860883200@golatindance.com
SUMMARY:Sensual Tuesdays
DESCRIPTION:Carlos Guate DJ will be hosting Sensual Tuesday. Come dance to the best Bachata \, Salsa \, Cha Cha Cha Cumbia and more.\nFree Parking.\nDance Lessons.\n$10 Cover
URL:https://golatindance.com/event/sensual-tuesdays-2/2028-12-19/
LOCATION:Balkanika\, 1414 E Oakton St\, Des Plaines\, 60018\, United States
CATEGORIES:Chicago
END:VEVENT
BEGIN:VEVENT
DTSTART;TZID=America/Chicago:20281226T200000
DTEND;TZID=America/Chicago:20281227T000000
DTSTAMP:20260425T081028
CREATED:20221105T041544Z
LAST-MODIFIED:20250630T151131Z
UID:10321541-1861473600-1861488000@golatindance.com
SUMMARY:Sensual Tuesdays
DESCRIPTION:Carlos Guate DJ will be hosting Sensual Tuesday. Come dance to the best Bachata \, Salsa \, Cha Cha Cha Cumbia and more.\nFree Parking.\nDance Lessons.\n$10 Cover
URL:https://golatindance.com/event/sensual-tuesdays-2/2028-12-26/
LOCATION:Balkanika\, 1414 E Oakton St\, Des Plaines\, 60018\, United States
CATEGORIES:Chicago
END:VEVENT
BEGIN:VEVENT
DTSTART;TZID=America/Chicago:20290102T200000
DTEND;TZID=America/Chicago:20290103T000000
DTSTAMP:20260425T081028
CREATED:20221105T041544Z
LAST-MODIFIED:20250630T151131Z
UID:10321542-1862078400-1862092800@golatindance.com
SUMMARY:Sensual Tuesdays
DESCRIPTION:Carlos Guate DJ will be hosting Sensual Tuesday. Come dance to the best Bachata \, Salsa \, Cha Cha Cha Cumbia and more.\nFree Parking.\nDance Lessons.\n$10 Cover
URL:https://golatindance.com/event/sensual-tuesdays-2/2029-01-02/
LOCATION:Balkanika\, 1414 E Oakton St\, Des Plaines\, 60018\, United States
CATEGORIES:Chicago
END:VEVENT
BEGIN:VEVENT
DTSTART;TZID=America/Chicago:20290109T200000
DTEND;TZID=America/Chicago:20290110T000000
DTSTAMP:20260425T081028
CREATED:20221105T041544Z
LAST-MODIFIED:20250630T151131Z
UID:10321543-1862683200-1862697600@golatindance.com
SUMMARY:Sensual Tuesdays
DESCRIPTION:Carlos Guate DJ will be hosting Sensual Tuesday. Come dance to the best Bachata \, Salsa \, Cha Cha Cha Cumbia and more.\nFree Parking.\nDance Lessons.\n$10 Cover
URL:https://golatindance.com/event/sensual-tuesdays-2/2029-01-09/
LOCATION:Balkanika\, 1414 E Oakton St\, Des Plaines\, 60018\, United States
CATEGORIES:Chicago
END:VEVENT
BEGIN:VEVENT
DTSTART;TZID=America/Chicago:20290116T200000
DTEND;TZID=America/Chicago:20290117T000000
DTSTAMP:20260425T081028
CREATED:20221105T041544Z
LAST-MODIFIED:20250630T151131Z
UID:10321544-1863288000-1863302400@golatindance.com
SUMMARY:Sensual Tuesdays
DESCRIPTION:Carlos Guate DJ will be hosting Sensual Tuesday. Come dance to the best Bachata \, Salsa \, Cha Cha Cha Cumbia and more.\nFree Parking.\nDance Lessons.\n$10 Cover
URL:https://golatindance.com/event/sensual-tuesdays-2/2029-01-16/
LOCATION:Balkanika\, 1414 E Oakton St\, Des Plaines\, 60018\, United States
CATEGORIES:Chicago
END:VEVENT
BEGIN:VEVENT
DTSTART;TZID=America/Chicago:20290123T200000
DTEND;TZID=America/Chicago:20290124T000000
DTSTAMP:20260425T081028
CREATED:20221105T041544Z
LAST-MODIFIED:20250630T151131Z
UID:10321545-1863892800-1863907200@golatindance.com
SUMMARY:Sensual Tuesdays
DESCRIPTION:Carlos Guate DJ will be hosting Sensual Tuesday. Come dance to the best Bachata \, Salsa \, Cha Cha Cha Cumbia and more.\nFree Parking.\nDance Lessons.\n$10 Cover
URL:https://golatindance.com/event/sensual-tuesdays-2/2029-01-23/
LOCATION:Balkanika\, 1414 E Oakton St\, Des Plaines\, 60018\, United States
CATEGORIES:Chicago
END:VEVENT
BEGIN:VEVENT
DTSTART;TZID=America/Chicago:20290130T200000
DTEND;TZID=America/Chicago:20290131T000000
DTSTAMP:20260425T081028
CREATED:20221105T041544Z
LAST-MODIFIED:20250630T151131Z
UID:10321546-1864497600-1864512000@golatindance.com
SUMMARY:Sensual Tuesdays
DESCRIPTION:Carlos Guate DJ will be hosting Sensual Tuesday. Come dance to the best Bachata \, Salsa \, Cha Cha Cha Cumbia and more.\nFree Parking.\nDance Lessons.\n$10 Cover
URL:https://golatindance.com/event/sensual-tuesdays-2/2029-01-30/
LOCATION:Balkanika\, 1414 E Oakton St\, Des Plaines\, 60018\, United States
CATEGORIES:Chicago
END:VEVENT
BEGIN:VEVENT
DTSTART;TZID=America/Chicago:20290206T200000
DTEND;TZID=America/Chicago:20290207T000000
DTSTAMP:20260425T081028
CREATED:20221105T041544Z
LAST-MODIFIED:20250630T151131Z
UID:10321547-1865102400-1865116800@golatindance.com
SUMMARY:Sensual Tuesdays
DESCRIPTION:Carlos Guate DJ will be hosting Sensual Tuesday. Come dance to the best Bachata \, Salsa \, Cha Cha Cha Cumbia and more.\nFree Parking.\nDance Lessons.\n$10 Cover
URL:https://golatindance.com/event/sensual-tuesdays-2/2029-02-06/
LOCATION:Balkanika\, 1414 E Oakton St\, Des Plaines\, 60018\, United States
CATEGORIES:Chicago
END:VEVENT
BEGIN:VEVENT
DTSTART;TZID=America/Chicago:20290213T200000
DTEND;TZID=America/Chicago:20290214T000000
DTSTAMP:20260425T081028
CREATED:20221105T041544Z
LAST-MODIFIED:20250630T151131Z
UID:10321548-1865707200-1865721600@golatindance.com
SUMMARY:Sensual Tuesdays
DESCRIPTION:Carlos Guate DJ will be hosting Sensual Tuesday. Come dance to the best Bachata \, Salsa \, Cha Cha Cha Cumbia and more.\nFree Parking.\nDance Lessons.\n$10 Cover
URL:https://golatindance.com/event/sensual-tuesdays-2/2029-02-13/
LOCATION:Balkanika\, 1414 E Oakton St\, Des Plaines\, 60018\, United States
CATEGORIES:Chicago
END:VEVENT
BEGIN:VEVENT
DTSTART;TZID=America/Chicago:20290220T200000
DTEND;TZID=America/Chicago:20290221T000000
DTSTAMP:20260425T081028
CREATED:20221105T041544Z
LAST-MODIFIED:20250630T151131Z
UID:10321549-1866312000-1866326400@golatindance.com
SUMMARY:Sensual Tuesdays
DESCRIPTION:Carlos Guate DJ will be hosting Sensual Tuesday. Come dance to the best Bachata \, Salsa \, Cha Cha Cha Cumbia and more.\nFree Parking.\nDance Lessons.\n$10 Cover
URL:https://golatindance.com/event/sensual-tuesdays-2/2029-02-20/
LOCATION:Balkanika\, 1414 E Oakton St\, Des Plaines\, 60018\, United States
CATEGORIES:Chicago
END:VEVENT
BEGIN:VEVENT
DTSTART;TZID=America/Chicago:20290227T200000
DTEND;TZID=America/Chicago:20290228T000000
DTSTAMP:20260425T081028
CREATED:20221105T041544Z
LAST-MODIFIED:20250630T151131Z
UID:10321550-1866916800-1866931200@golatindance.com
SUMMARY:Sensual Tuesdays
DESCRIPTION:Carlos Guate DJ will be hosting Sensual Tuesday. Come dance to the best Bachata \, Salsa \, Cha Cha Cha Cumbia and more.\nFree Parking.\nDance Lessons.\n$10 Cover
URL:https://golatindance.com/event/sensual-tuesdays-2/2029-02-27/
LOCATION:Balkanika\, 1414 E Oakton St\, Des Plaines\, 60018\, United States
CATEGORIES:Chicago
END:VEVENT
BEGIN:VEVENT
DTSTART;TZID=America/Chicago:20290306T200000
DTEND;TZID=America/Chicago:20290307T000000
DTSTAMP:20260425T081028
CREATED:20221105T041544Z
LAST-MODIFIED:20250630T151131Z
UID:10321551-1867521600-1867536000@golatindance.com
SUMMARY:Sensual Tuesdays
DESCRIPTION:Carlos Guate DJ will be hosting Sensual Tuesday. Come dance to the best Bachata \, Salsa \, Cha Cha Cha Cumbia and more.\nFree Parking.\nDance Lessons.\n$10 Cover
URL:https://golatindance.com/event/sensual-tuesdays-2/2029-03-06/
LOCATION:Balkanika\, 1414 E Oakton St\, Des Plaines\, 60018\, United States
CATEGORIES:Chicago
END:VEVENT
END:VCALENDAR