BEGIN:VCALENDAR
VERSION:2.0
PRODID:-//GO Latin Dance - ECPv6.15.18//NONSGML v1.0//EN
CALSCALE:GREGORIAN
METHOD:PUBLISH
X-WR-CALNAME:GO Latin Dance
X-ORIGINAL-URL:https://golatindance.com
X-WR-CALDESC:Events for GO Latin Dance
REFRESH-INTERVAL;VALUE=DURATION:PT1H
X-Robots-Tag:noindex
X-PUBLISHED-TTL:PT1H
BEGIN:VTIMEZONE
TZID:America/Chicago
BEGIN:DAYLIGHT
TZOFFSETFROM:-0600
TZOFFSETTO:-0500
TZNAME:CDT
DTSTART:20280312T080000
END:DAYLIGHT
BEGIN:STANDARD
TZOFFSETFROM:-0500
TZOFFSETTO:-0600
TZNAME:CST
DTSTART:20281105T070000
END:STANDARD
BEGIN:DAYLIGHT
TZOFFSETFROM:-0600
TZOFFSETTO:-0500
TZNAME:CDT
DTSTART:20290311T080000
END:DAYLIGHT
BEGIN:STANDARD
TZOFFSETFROM:-0500
TZOFFSETTO:-0600
TZNAME:CST
DTSTART:20291104T070000
END:STANDARD
BEGIN:DAYLIGHT
TZOFFSETFROM:-0600
TZOFFSETTO:-0500
TZNAME:CDT
DTSTART:20300310T080000
END:DAYLIGHT
BEGIN:STANDARD
TZOFFSETFROM:-0500
TZOFFSETTO:-0600
TZNAME:CST
DTSTART:20301103T070000
END:STANDARD
END:VTIMEZONE
BEGIN:VEVENT
DTSTART;TZID=America/Chicago:20290313T200000
DTEND;TZID=America/Chicago:20290314T000000
DTSTAMP:20260425T120018
CREATED:20221105T041544Z
LAST-MODIFIED:20250630T151131Z
UID:10321552-1868126400-1868140800@golatindance.com
SUMMARY:Sensual Tuesdays
DESCRIPTION:Carlos Guate DJ will be hosting Sensual Tuesday. Come dance to the best Bachata \, Salsa \, Cha Cha Cha Cumbia and more.\nFree Parking.\nDance Lessons.\n$10 Cover
URL:https://golatindance.com/event/sensual-tuesdays-2/2029-03-13/
LOCATION:Balkanika\, 1414 E Oakton St\, Des Plaines\, 60018\, United States
CATEGORIES:Chicago
END:VEVENT
BEGIN:VEVENT
DTSTART;TZID=America/Chicago:20290320T200000
DTEND;TZID=America/Chicago:20290321T000000
DTSTAMP:20260425T120018
CREATED:20221105T041544Z
LAST-MODIFIED:20250630T151131Z
UID:10321553-1868731200-1868745600@golatindance.com
SUMMARY:Sensual Tuesdays
DESCRIPTION:Carlos Guate DJ will be hosting Sensual Tuesday. Come dance to the best Bachata \, Salsa \, Cha Cha Cha Cumbia and more.\nFree Parking.\nDance Lessons.\n$10 Cover
URL:https://golatindance.com/event/sensual-tuesdays-2/2029-03-20/
LOCATION:Balkanika\, 1414 E Oakton St\, Des Plaines\, 60018\, United States
CATEGORIES:Chicago
END:VEVENT
BEGIN:VEVENT
DTSTART;TZID=America/Chicago:20290327T200000
DTEND;TZID=America/Chicago:20290328T000000
DTSTAMP:20260425T120018
CREATED:20221105T041544Z
LAST-MODIFIED:20250630T151131Z
UID:10321554-1869336000-1869350400@golatindance.com
SUMMARY:Sensual Tuesdays
DESCRIPTION:Carlos Guate DJ will be hosting Sensual Tuesday. Come dance to the best Bachata \, Salsa \, Cha Cha Cha Cumbia and more.\nFree Parking.\nDance Lessons.\n$10 Cover
URL:https://golatindance.com/event/sensual-tuesdays-2/2029-03-27/
LOCATION:Balkanika\, 1414 E Oakton St\, Des Plaines\, 60018\, United States
CATEGORIES:Chicago
END:VEVENT
BEGIN:VEVENT
DTSTART;TZID=America/Chicago:20290403T200000
DTEND;TZID=America/Chicago:20290404T000000
DTSTAMP:20260425T120018
CREATED:20221105T041544Z
LAST-MODIFIED:20250630T151131Z
UID:10321555-1869940800-1869955200@golatindance.com
SUMMARY:Sensual Tuesdays
DESCRIPTION:Carlos Guate DJ will be hosting Sensual Tuesday. Come dance to the best Bachata \, Salsa \, Cha Cha Cha Cumbia and more.\nFree Parking.\nDance Lessons.\n$10 Cover
URL:https://golatindance.com/event/sensual-tuesdays-2/2029-04-03/
LOCATION:Balkanika\, 1414 E Oakton St\, Des Plaines\, 60018\, United States
CATEGORIES:Chicago
END:VEVENT
BEGIN:VEVENT
DTSTART;TZID=America/Chicago:20290410T200000
DTEND;TZID=America/Chicago:20290411T000000
DTSTAMP:20260425T120018
CREATED:20221105T041544Z
LAST-MODIFIED:20250630T151131Z
UID:10321556-1870545600-1870560000@golatindance.com
SUMMARY:Sensual Tuesdays
DESCRIPTION:Carlos Guate DJ will be hosting Sensual Tuesday. Come dance to the best Bachata \, Salsa \, Cha Cha Cha Cumbia and more.\nFree Parking.\nDance Lessons.\n$10 Cover
URL:https://golatindance.com/event/sensual-tuesdays-2/2029-04-10/
LOCATION:Balkanika\, 1414 E Oakton St\, Des Plaines\, 60018\, United States
CATEGORIES:Chicago
END:VEVENT
BEGIN:VEVENT
DTSTART;TZID=America/Chicago:20290417T200000
DTEND;TZID=America/Chicago:20290418T000000
DTSTAMP:20260425T120018
CREATED:20221105T041544Z
LAST-MODIFIED:20250630T151131Z
UID:10321557-1871150400-1871164800@golatindance.com
SUMMARY:Sensual Tuesdays
DESCRIPTION:Carlos Guate DJ will be hosting Sensual Tuesday. Come dance to the best Bachata \, Salsa \, Cha Cha Cha Cumbia and more.\nFree Parking.\nDance Lessons.\n$10 Cover
URL:https://golatindance.com/event/sensual-tuesdays-2/2029-04-17/
LOCATION:Balkanika\, 1414 E Oakton St\, Des Plaines\, 60018\, United States
CATEGORIES:Chicago
END:VEVENT
BEGIN:VEVENT
DTSTART;TZID=America/Chicago:20290424T200000
DTEND;TZID=America/Chicago:20290425T000000
DTSTAMP:20260425T120018
CREATED:20221105T041544Z
LAST-MODIFIED:20250630T151131Z
UID:10321558-1871755200-1871769600@golatindance.com
SUMMARY:Sensual Tuesdays
DESCRIPTION:Carlos Guate DJ will be hosting Sensual Tuesday. Come dance to the best Bachata \, Salsa \, Cha Cha Cha Cumbia and more.\nFree Parking.\nDance Lessons.\n$10 Cover
URL:https://golatindance.com/event/sensual-tuesdays-2/2029-04-24/
LOCATION:Balkanika\, 1414 E Oakton St\, Des Plaines\, 60018\, United States
CATEGORIES:Chicago
END:VEVENT
BEGIN:VEVENT
DTSTART;TZID=America/Chicago:20290501T200000
DTEND;TZID=America/Chicago:20290502T000000
DTSTAMP:20260425T120018
CREATED:20221105T041544Z
LAST-MODIFIED:20250630T151131Z
UID:10321559-1872360000-1872374400@golatindance.com
SUMMARY:Sensual Tuesdays
DESCRIPTION:Carlos Guate DJ will be hosting Sensual Tuesday. Come dance to the best Bachata \, Salsa \, Cha Cha Cha Cumbia and more.\nFree Parking.\nDance Lessons.\n$10 Cover
URL:https://golatindance.com/event/sensual-tuesdays-2/2029-05-01/
LOCATION:Balkanika\, 1414 E Oakton St\, Des Plaines\, 60018\, United States
CATEGORIES:Chicago
END:VEVENT
BEGIN:VEVENT
DTSTART;TZID=America/Chicago:20290508T200000
DTEND;TZID=America/Chicago:20290509T000000
DTSTAMP:20260425T120018
CREATED:20221105T041544Z
LAST-MODIFIED:20250630T151131Z
UID:10321560-1872964800-1872979200@golatindance.com
SUMMARY:Sensual Tuesdays
DESCRIPTION:Carlos Guate DJ will be hosting Sensual Tuesday. Come dance to the best Bachata \, Salsa \, Cha Cha Cha Cumbia and more.\nFree Parking.\nDance Lessons.\n$10 Cover
URL:https://golatindance.com/event/sensual-tuesdays-2/2029-05-08/
LOCATION:Balkanika\, 1414 E Oakton St\, Des Plaines\, 60018\, United States
CATEGORIES:Chicago
END:VEVENT
BEGIN:VEVENT
DTSTART;TZID=America/Chicago:20290515T200000
DTEND;TZID=America/Chicago:20290516T000000
DTSTAMP:20260425T120018
CREATED:20221105T041544Z
LAST-MODIFIED:20250630T151131Z
UID:10321561-1873569600-1873584000@golatindance.com
SUMMARY:Sensual Tuesdays
DESCRIPTION:Carlos Guate DJ will be hosting Sensual Tuesday. Come dance to the best Bachata \, Salsa \, Cha Cha Cha Cumbia and more.\nFree Parking.\nDance Lessons.\n$10 Cover
URL:https://golatindance.com/event/sensual-tuesdays-2/2029-05-15/
LOCATION:Balkanika\, 1414 E Oakton St\, Des Plaines\, 60018\, United States
CATEGORIES:Chicago
END:VEVENT
BEGIN:VEVENT
DTSTART;TZID=America/Chicago:20290522T200000
DTEND;TZID=America/Chicago:20290523T000000
DTSTAMP:20260425T120018
CREATED:20221105T041544Z
LAST-MODIFIED:20250630T151131Z
UID:10321562-1874174400-1874188800@golatindance.com
SUMMARY:Sensual Tuesdays
DESCRIPTION:Carlos Guate DJ will be hosting Sensual Tuesday. Come dance to the best Bachata \, Salsa \, Cha Cha Cha Cumbia and more.\nFree Parking.\nDance Lessons.\n$10 Cover
URL:https://golatindance.com/event/sensual-tuesdays-2/2029-05-22/
LOCATION:Balkanika\, 1414 E Oakton St\, Des Plaines\, 60018\, United States
CATEGORIES:Chicago
END:VEVENT
BEGIN:VEVENT
DTSTART;TZID=America/Chicago:20290529T200000
DTEND;TZID=America/Chicago:20290530T000000
DTSTAMP:20260425T120018
CREATED:20221105T041544Z
LAST-MODIFIED:20250630T151131Z
UID:10321563-1874779200-1874793600@golatindance.com
SUMMARY:Sensual Tuesdays
DESCRIPTION:Carlos Guate DJ will be hosting Sensual Tuesday. Come dance to the best Bachata \, Salsa \, Cha Cha Cha Cumbia and more.\nFree Parking.\nDance Lessons.\n$10 Cover
URL:https://golatindance.com/event/sensual-tuesdays-2/2029-05-29/
LOCATION:Balkanika\, 1414 E Oakton St\, Des Plaines\, 60018\, United States
CATEGORIES:Chicago
END:VEVENT
BEGIN:VEVENT
DTSTART;TZID=America/Chicago:20290605T200000
DTEND;TZID=America/Chicago:20290606T000000
DTSTAMP:20260425T120019
CREATED:20221105T041544Z
LAST-MODIFIED:20250630T151131Z
UID:10321564-1875384000-1875398400@golatindance.com
SUMMARY:Sensual Tuesdays
DESCRIPTION:Carlos Guate DJ will be hosting Sensual Tuesday. Come dance to the best Bachata \, Salsa \, Cha Cha Cha Cumbia and more.\nFree Parking.\nDance Lessons.\n$10 Cover
URL:https://golatindance.com/event/sensual-tuesdays-2/2029-06-05/
LOCATION:Balkanika\, 1414 E Oakton St\, Des Plaines\, 60018\, United States
CATEGORIES:Chicago
END:VEVENT
BEGIN:VEVENT
DTSTART;TZID=America/Chicago:20290612T200000
DTEND;TZID=America/Chicago:20290613T000000
DTSTAMP:20260425T120019
CREATED:20221105T041544Z
LAST-MODIFIED:20250630T151131Z
UID:10321565-1875988800-1876003200@golatindance.com
SUMMARY:Sensual Tuesdays
DESCRIPTION:Carlos Guate DJ will be hosting Sensual Tuesday. Come dance to the best Bachata \, Salsa \, Cha Cha Cha Cumbia and more.\nFree Parking.\nDance Lessons.\n$10 Cover
URL:https://golatindance.com/event/sensual-tuesdays-2/2029-06-12/
LOCATION:Balkanika\, 1414 E Oakton St\, Des Plaines\, 60018\, United States
CATEGORIES:Chicago
END:VEVENT
BEGIN:VEVENT
DTSTART;TZID=America/Chicago:20290619T200000
DTEND;TZID=America/Chicago:20290620T000000
DTSTAMP:20260425T120019
CREATED:20221105T041544Z
LAST-MODIFIED:20250630T151131Z
UID:10321566-1876593600-1876608000@golatindance.com
SUMMARY:Sensual Tuesdays
DESCRIPTION:Carlos Guate DJ will be hosting Sensual Tuesday. Come dance to the best Bachata \, Salsa \, Cha Cha Cha Cumbia and more.\nFree Parking.\nDance Lessons.\n$10 Cover
URL:https://golatindance.com/event/sensual-tuesdays-2/2029-06-19/
LOCATION:Balkanika\, 1414 E Oakton St\, Des Plaines\, 60018\, United States
CATEGORIES:Chicago
END:VEVENT
BEGIN:VEVENT
DTSTART;TZID=America/Chicago:20290626T200000
DTEND;TZID=America/Chicago:20290627T000000
DTSTAMP:20260425T120019
CREATED:20221105T041544Z
LAST-MODIFIED:20250630T151131Z
UID:10321567-1877198400-1877212800@golatindance.com
SUMMARY:Sensual Tuesdays
DESCRIPTION:Carlos Guate DJ will be hosting Sensual Tuesday. Come dance to the best Bachata \, Salsa \, Cha Cha Cha Cumbia and more.\nFree Parking.\nDance Lessons.\n$10 Cover
URL:https://golatindance.com/event/sensual-tuesdays-2/2029-06-26/
LOCATION:Balkanika\, 1414 E Oakton St\, Des Plaines\, 60018\, United States
CATEGORIES:Chicago
END:VEVENT
BEGIN:VEVENT
DTSTART;TZID=America/Chicago:20290703T200000
DTEND;TZID=America/Chicago:20290704T000000
DTSTAMP:20260425T120019
CREATED:20221105T041544Z
LAST-MODIFIED:20250630T151131Z
UID:10321568-1877803200-1877817600@golatindance.com
SUMMARY:Sensual Tuesdays
DESCRIPTION:Carlos Guate DJ will be hosting Sensual Tuesday. Come dance to the best Bachata \, Salsa \, Cha Cha Cha Cumbia and more.\nFree Parking.\nDance Lessons.\n$10 Cover
URL:https://golatindance.com/event/sensual-tuesdays-2/2029-07-03/
LOCATION:Balkanika\, 1414 E Oakton St\, Des Plaines\, 60018\, United States
CATEGORIES:Chicago
END:VEVENT
BEGIN:VEVENT
DTSTART;TZID=America/Chicago:20290710T200000
DTEND;TZID=America/Chicago:20290711T000000
DTSTAMP:20260425T120019
CREATED:20221105T041544Z
LAST-MODIFIED:20250630T151131Z
UID:10321569-1878408000-1878422400@golatindance.com
SUMMARY:Sensual Tuesdays
DESCRIPTION:Carlos Guate DJ will be hosting Sensual Tuesday. Come dance to the best Bachata \, Salsa \, Cha Cha Cha Cumbia and more.\nFree Parking.\nDance Lessons.\n$10 Cover
URL:https://golatindance.com/event/sensual-tuesdays-2/2029-07-10/
LOCATION:Balkanika\, 1414 E Oakton St\, Des Plaines\, 60018\, United States
CATEGORIES:Chicago
END:VEVENT
BEGIN:VEVENT
DTSTART;TZID=America/Chicago:20290717T200000
DTEND;TZID=America/Chicago:20290718T000000
DTSTAMP:20260425T120019
CREATED:20221105T041544Z
LAST-MODIFIED:20250630T151131Z
UID:10321570-1879012800-1879027200@golatindance.com
SUMMARY:Sensual Tuesdays
DESCRIPTION:Carlos Guate DJ will be hosting Sensual Tuesday. Come dance to the best Bachata \, Salsa \, Cha Cha Cha Cumbia and more.\nFree Parking.\nDance Lessons.\n$10 Cover
URL:https://golatindance.com/event/sensual-tuesdays-2/2029-07-17/
LOCATION:Balkanika\, 1414 E Oakton St\, Des Plaines\, 60018\, United States
CATEGORIES:Chicago
END:VEVENT
BEGIN:VEVENT
DTSTART;TZID=America/Chicago:20290724T200000
DTEND;TZID=America/Chicago:20290725T000000
DTSTAMP:20260425T120019
CREATED:20221105T041544Z
LAST-MODIFIED:20250630T151131Z
UID:10321571-1879617600-1879632000@golatindance.com
SUMMARY:Sensual Tuesdays
DESCRIPTION:Carlos Guate DJ will be hosting Sensual Tuesday. Come dance to the best Bachata \, Salsa \, Cha Cha Cha Cumbia and more.\nFree Parking.\nDance Lessons.\n$10 Cover
URL:https://golatindance.com/event/sensual-tuesdays-2/2029-07-24/
LOCATION:Balkanika\, 1414 E Oakton St\, Des Plaines\, 60018\, United States
CATEGORIES:Chicago
END:VEVENT
BEGIN:VEVENT
DTSTART;TZID=America/Chicago:20290731T200000
DTEND;TZID=America/Chicago:20290801T000000
DTSTAMP:20260425T120019
CREATED:20221105T041544Z
LAST-MODIFIED:20250630T151131Z
UID:10321572-1880222400-1880236800@golatindance.com
SUMMARY:Sensual Tuesdays
DESCRIPTION:Carlos Guate DJ will be hosting Sensual Tuesday. Come dance to the best Bachata \, Salsa \, Cha Cha Cha Cumbia and more.\nFree Parking.\nDance Lessons.\n$10 Cover
URL:https://golatindance.com/event/sensual-tuesdays-2/2029-07-31/
LOCATION:Balkanika\, 1414 E Oakton St\, Des Plaines\, 60018\, United States
CATEGORIES:Chicago
END:VEVENT
BEGIN:VEVENT
DTSTART;TZID=America/Chicago:20290807T200000
DTEND;TZID=America/Chicago:20290808T000000
DTSTAMP:20260425T120019
CREATED:20221105T041544Z
LAST-MODIFIED:20250630T151131Z
UID:10321573-1880827200-1880841600@golatindance.com
SUMMARY:Sensual Tuesdays
DESCRIPTION:Carlos Guate DJ will be hosting Sensual Tuesday. Come dance to the best Bachata \, Salsa \, Cha Cha Cha Cumbia and more.\nFree Parking.\nDance Lessons.\n$10 Cover
URL:https://golatindance.com/event/sensual-tuesdays-2/2029-08-07/
LOCATION:Balkanika\, 1414 E Oakton St\, Des Plaines\, 60018\, United States
CATEGORIES:Chicago
END:VEVENT
BEGIN:VEVENT
DTSTART;TZID=America/Chicago:20290814T200000
DTEND;TZID=America/Chicago:20290815T000000
DTSTAMP:20260425T120019
CREATED:20221105T041544Z
LAST-MODIFIED:20250630T151131Z
UID:10321574-1881432000-1881446400@golatindance.com
SUMMARY:Sensual Tuesdays
DESCRIPTION:Carlos Guate DJ will be hosting Sensual Tuesday. Come dance to the best Bachata \, Salsa \, Cha Cha Cha Cumbia and more.\nFree Parking.\nDance Lessons.\n$10 Cover
URL:https://golatindance.com/event/sensual-tuesdays-2/2029-08-14/
LOCATION:Balkanika\, 1414 E Oakton St\, Des Plaines\, 60018\, United States
CATEGORIES:Chicago
END:VEVENT
BEGIN:VEVENT
DTSTART;TZID=America/Chicago:20290821T200000
DTEND;TZID=America/Chicago:20290822T000000
DTSTAMP:20260425T120019
CREATED:20221105T041544Z
LAST-MODIFIED:20250630T151131Z
UID:10321575-1882036800-1882051200@golatindance.com
SUMMARY:Sensual Tuesdays
DESCRIPTION:Carlos Guate DJ will be hosting Sensual Tuesday. Come dance to the best Bachata \, Salsa \, Cha Cha Cha Cumbia and more.\nFree Parking.\nDance Lessons.\n$10 Cover
URL:https://golatindance.com/event/sensual-tuesdays-2/2029-08-21/
LOCATION:Balkanika\, 1414 E Oakton St\, Des Plaines\, 60018\, United States
CATEGORIES:Chicago
END:VEVENT
BEGIN:VEVENT
DTSTART;TZID=America/Chicago:20290828T200000
DTEND;TZID=America/Chicago:20290829T000000
DTSTAMP:20260425T120019
CREATED:20221105T041544Z
LAST-MODIFIED:20250630T151131Z
UID:10321576-1882641600-1882656000@golatindance.com
SUMMARY:Sensual Tuesdays
DESCRIPTION:Carlos Guate DJ will be hosting Sensual Tuesday. Come dance to the best Bachata \, Salsa \, Cha Cha Cha Cumbia and more.\nFree Parking.\nDance Lessons.\n$10 Cover
URL:https://golatindance.com/event/sensual-tuesdays-2/2029-08-28/
LOCATION:Balkanika\, 1414 E Oakton St\, Des Plaines\, 60018\, United States
CATEGORIES:Chicago
END:VEVENT
BEGIN:VEVENT
DTSTART;TZID=America/Chicago:20290904T200000
DTEND;TZID=America/Chicago:20290905T000000
DTSTAMP:20260425T120019
CREATED:20221105T041544Z
LAST-MODIFIED:20250630T151131Z
UID:10321577-1883246400-1883260800@golatindance.com
SUMMARY:Sensual Tuesdays
DESCRIPTION:Carlos Guate DJ will be hosting Sensual Tuesday. Come dance to the best Bachata \, Salsa \, Cha Cha Cha Cumbia and more.\nFree Parking.\nDance Lessons.\n$10 Cover
URL:https://golatindance.com/event/sensual-tuesdays-2/2029-09-04/
LOCATION:Balkanika\, 1414 E Oakton St\, Des Plaines\, 60018\, United States
CATEGORIES:Chicago
END:VEVENT
BEGIN:VEVENT
DTSTART;TZID=America/Chicago:20290911T200000
DTEND;TZID=America/Chicago:20290912T000000
DTSTAMP:20260425T120019
CREATED:20221105T041544Z
LAST-MODIFIED:20250630T151131Z
UID:10321578-1883851200-1883865600@golatindance.com
SUMMARY:Sensual Tuesdays
DESCRIPTION:Carlos Guate DJ will be hosting Sensual Tuesday. Come dance to the best Bachata \, Salsa \, Cha Cha Cha Cumbia and more.\nFree Parking.\nDance Lessons.\n$10 Cover
URL:https://golatindance.com/event/sensual-tuesdays-2/2029-09-11/
LOCATION:Balkanika\, 1414 E Oakton St\, Des Plaines\, 60018\, United States
CATEGORIES:Chicago
END:VEVENT
BEGIN:VEVENT
DTSTART;TZID=America/Chicago:20290918T200000
DTEND;TZID=America/Chicago:20290919T000000
DTSTAMP:20260425T120019
CREATED:20221105T041544Z
LAST-MODIFIED:20250630T151131Z
UID:10321579-1884456000-1884470400@golatindance.com
SUMMARY:Sensual Tuesdays
DESCRIPTION:Carlos Guate DJ will be hosting Sensual Tuesday. Come dance to the best Bachata \, Salsa \, Cha Cha Cha Cumbia and more.\nFree Parking.\nDance Lessons.\n$10 Cover
URL:https://golatindance.com/event/sensual-tuesdays-2/2029-09-18/
LOCATION:Balkanika\, 1414 E Oakton St\, Des Plaines\, 60018\, United States
CATEGORIES:Chicago
END:VEVENT
BEGIN:VEVENT
DTSTART;TZID=America/Chicago:20290925T200000
DTEND;TZID=America/Chicago:20290926T000000
DTSTAMP:20260425T120019
CREATED:20221105T041544Z
LAST-MODIFIED:20250630T151131Z
UID:10321580-1885060800-1885075200@golatindance.com
SUMMARY:Sensual Tuesdays
DESCRIPTION:Carlos Guate DJ will be hosting Sensual Tuesday. Come dance to the best Bachata \, Salsa \, Cha Cha Cha Cumbia and more.\nFree Parking.\nDance Lessons.\n$10 Cover
URL:https://golatindance.com/event/sensual-tuesdays-2/2029-09-25/
LOCATION:Balkanika\, 1414 E Oakton St\, Des Plaines\, 60018\, United States
CATEGORIES:Chicago
END:VEVENT
BEGIN:VEVENT
DTSTART;TZID=America/Chicago:20291002T200000
DTEND;TZID=America/Chicago:20291003T000000
DTSTAMP:20260425T120019
CREATED:20221105T041544Z
LAST-MODIFIED:20250630T151131Z
UID:10321581-1885665600-1885680000@golatindance.com
SUMMARY:Sensual Tuesdays
DESCRIPTION:Carlos Guate DJ will be hosting Sensual Tuesday. Come dance to the best Bachata \, Salsa \, Cha Cha Cha Cumbia and more.\nFree Parking.\nDance Lessons.\n$10 Cover
URL:https://golatindance.com/event/sensual-tuesdays-2/2029-10-02/
LOCATION:Balkanika\, 1414 E Oakton St\, Des Plaines\, 60018\, United States
CATEGORIES:Chicago
END:VEVENT
END:VCALENDAR