BEGIN:VCALENDAR
VERSION:2.0
PRODID:-//GO Latin Dance - ECPv6.15.18//NONSGML v1.0//EN
CALSCALE:GREGORIAN
METHOD:PUBLISH
X-WR-CALNAME:GO Latin Dance
X-ORIGINAL-URL:https://golatindance.com
X-WR-CALDESC:Events for GO Latin Dance
REFRESH-INTERVAL;VALUE=DURATION:PT1H
X-Robots-Tag:noindex
X-PUBLISHED-TTL:PT1H
BEGIN:VTIMEZONE
TZID:America/Chicago
BEGIN:DAYLIGHT
TZOFFSETFROM:-0600
TZOFFSETTO:-0500
TZNAME:CDT
DTSTART:20290311T080000
END:DAYLIGHT
BEGIN:STANDARD
TZOFFSETFROM:-0500
TZOFFSETTO:-0600
TZNAME:CST
DTSTART:20291104T070000
END:STANDARD
BEGIN:DAYLIGHT
TZOFFSETFROM:-0600
TZOFFSETTO:-0500
TZNAME:CDT
DTSTART:20300310T080000
END:DAYLIGHT
BEGIN:STANDARD
TZOFFSETFROM:-0500
TZOFFSETTO:-0600
TZNAME:CST
DTSTART:20301103T070000
END:STANDARD
BEGIN:DAYLIGHT
TZOFFSETFROM:-0600
TZOFFSETTO:-0500
TZNAME:CDT
DTSTART:20310309T080000
END:DAYLIGHT
BEGIN:STANDARD
TZOFFSETFROM:-0500
TZOFFSETTO:-0600
TZNAME:CST
DTSTART:20311102T070000
END:STANDARD
END:VTIMEZONE
BEGIN:VEVENT
DTSTART;TZID=America/Chicago:20300507T200000
DTEND;TZID=America/Chicago:20300508T000000
DTSTAMP:20260425T190300
CREATED:20221105T041544Z
LAST-MODIFIED:20250630T151131Z
UID:10375217-1904414400-1904428800@golatindance.com
SUMMARY:Sensual Tuesdays
DESCRIPTION:Carlos Guate DJ will be hosting Sensual Tuesday. Come dance to the best Bachata \, Salsa \, Cha Cha Cha Cumbia and more.\nFree Parking.\nDance Lessons.\n$10 Cover
URL:https://golatindance.com/event/sensual-tuesdays-2/2030-05-07/
LOCATION:Balkanika\, 1414 E Oakton St\, Des Plaines\, 60018\, United States
CATEGORIES:Chicago
END:VEVENT
BEGIN:VEVENT
DTSTART;TZID=America/Chicago:20300514T200000
DTEND;TZID=America/Chicago:20300515T000000
DTSTAMP:20260425T190300
CREATED:20221105T041544Z
LAST-MODIFIED:20250630T151131Z
UID:10375218-1905019200-1905033600@golatindance.com
SUMMARY:Sensual Tuesdays
DESCRIPTION:Carlos Guate DJ will be hosting Sensual Tuesday. Come dance to the best Bachata \, Salsa \, Cha Cha Cha Cumbia and more.\nFree Parking.\nDance Lessons.\n$10 Cover
URL:https://golatindance.com/event/sensual-tuesdays-2/2030-05-14/
LOCATION:Balkanika\, 1414 E Oakton St\, Des Plaines\, 60018\, United States
CATEGORIES:Chicago
END:VEVENT
BEGIN:VEVENT
DTSTART;TZID=America/Chicago:20300521T200000
DTEND;TZID=America/Chicago:20300522T000000
DTSTAMP:20260425T190300
CREATED:20221105T041544Z
LAST-MODIFIED:20250630T151131Z
UID:10375219-1905624000-1905638400@golatindance.com
SUMMARY:Sensual Tuesdays
DESCRIPTION:Carlos Guate DJ will be hosting Sensual Tuesday. Come dance to the best Bachata \, Salsa \, Cha Cha Cha Cumbia and more.\nFree Parking.\nDance Lessons.\n$10 Cover
URL:https://golatindance.com/event/sensual-tuesdays-2/2030-05-21/
LOCATION:Balkanika\, 1414 E Oakton St\, Des Plaines\, 60018\, United States
CATEGORIES:Chicago
END:VEVENT
BEGIN:VEVENT
DTSTART;TZID=America/Chicago:20300528T200000
DTEND;TZID=America/Chicago:20300529T000000
DTSTAMP:20260425T190300
CREATED:20221105T041544Z
LAST-MODIFIED:20250630T151131Z
UID:10375220-1906228800-1906243200@golatindance.com
SUMMARY:Sensual Tuesdays
DESCRIPTION:Carlos Guate DJ will be hosting Sensual Tuesday. Come dance to the best Bachata \, Salsa \, Cha Cha Cha Cumbia and more.\nFree Parking.\nDance Lessons.\n$10 Cover
URL:https://golatindance.com/event/sensual-tuesdays-2/2030-05-28/
LOCATION:Balkanika\, 1414 E Oakton St\, Des Plaines\, 60018\, United States
CATEGORIES:Chicago
END:VEVENT
BEGIN:VEVENT
DTSTART;TZID=America/Chicago:20300604T200000
DTEND;TZID=America/Chicago:20300605T000000
DTSTAMP:20260425T190300
CREATED:20221105T041544Z
LAST-MODIFIED:20250630T151131Z
UID:10375221-1906833600-1906848000@golatindance.com
SUMMARY:Sensual Tuesdays
DESCRIPTION:Carlos Guate DJ will be hosting Sensual Tuesday. Come dance to the best Bachata \, Salsa \, Cha Cha Cha Cumbia and more.\nFree Parking.\nDance Lessons.\n$10 Cover
URL:https://golatindance.com/event/sensual-tuesdays-2/2030-06-04/
LOCATION:Balkanika\, 1414 E Oakton St\, Des Plaines\, 60018\, United States
CATEGORIES:Chicago
END:VEVENT
BEGIN:VEVENT
DTSTART;TZID=America/Chicago:20300611T200000
DTEND;TZID=America/Chicago:20300612T000000
DTSTAMP:20260425T190300
CREATED:20221105T041544Z
LAST-MODIFIED:20250630T151131Z
UID:10375222-1907438400-1907452800@golatindance.com
SUMMARY:Sensual Tuesdays
DESCRIPTION:Carlos Guate DJ will be hosting Sensual Tuesday. Come dance to the best Bachata \, Salsa \, Cha Cha Cha Cumbia and more.\nFree Parking.\nDance Lessons.\n$10 Cover
URL:https://golatindance.com/event/sensual-tuesdays-2/2030-06-11/
LOCATION:Balkanika\, 1414 E Oakton St\, Des Plaines\, 60018\, United States
CATEGORIES:Chicago
END:VEVENT
BEGIN:VEVENT
DTSTART;TZID=America/Chicago:20300618T200000
DTEND;TZID=America/Chicago:20300619T000000
DTSTAMP:20260425T190300
CREATED:20221105T041544Z
LAST-MODIFIED:20250630T151131Z
UID:10375223-1908043200-1908057600@golatindance.com
SUMMARY:Sensual Tuesdays
DESCRIPTION:Carlos Guate DJ will be hosting Sensual Tuesday. Come dance to the best Bachata \, Salsa \, Cha Cha Cha Cumbia and more.\nFree Parking.\nDance Lessons.\n$10 Cover
URL:https://golatindance.com/event/sensual-tuesdays-2/2030-06-18/
LOCATION:Balkanika\, 1414 E Oakton St\, Des Plaines\, 60018\, United States
CATEGORIES:Chicago
END:VEVENT
BEGIN:VEVENT
DTSTART;TZID=America/Chicago:20300625T200000
DTEND;TZID=America/Chicago:20300626T000000
DTSTAMP:20260425T190300
CREATED:20221105T041544Z
LAST-MODIFIED:20250630T151131Z
UID:10375224-1908648000-1908662400@golatindance.com
SUMMARY:Sensual Tuesdays
DESCRIPTION:Carlos Guate DJ will be hosting Sensual Tuesday. Come dance to the best Bachata \, Salsa \, Cha Cha Cha Cumbia and more.\nFree Parking.\nDance Lessons.\n$10 Cover
URL:https://golatindance.com/event/sensual-tuesdays-2/2030-06-25/
LOCATION:Balkanika\, 1414 E Oakton St\, Des Plaines\, 60018\, United States
CATEGORIES:Chicago
END:VEVENT
END:VCALENDAR