BEGIN:VCALENDAR
VERSION:2.0
PRODID:-//GO Latin Dance - ECPv6.15.18//NONSGML v1.0//EN
CALSCALE:GREGORIAN
METHOD:PUBLISH
X-WR-CALNAME:GO Latin Dance
X-ORIGINAL-URL:https://golatindance.com
X-WR-CALDESC:Events for GO Latin Dance
REFRESH-INTERVAL;VALUE=DURATION:PT1H
X-Robots-Tag:noindex
X-PUBLISHED-TTL:PT1H
BEGIN:VTIMEZONE
TZID:America/Chicago
BEGIN:DAYLIGHT
TZOFFSETFROM:-0600
TZOFFSETTO:-0500
TZNAME:CDT
DTSTART:20250309T080000
END:DAYLIGHT
BEGIN:STANDARD
TZOFFSETFROM:-0500
TZOFFSETTO:-0600
TZNAME:CST
DTSTART:20251102T070000
END:STANDARD
BEGIN:DAYLIGHT
TZOFFSETFROM:-0600
TZOFFSETTO:-0500
TZNAME:CDT
DTSTART:20260308T080000
END:DAYLIGHT
BEGIN:STANDARD
TZOFFSETFROM:-0500
TZOFFSETTO:-0600
TZNAME:CST
DTSTART:20261101T070000
END:STANDARD
BEGIN:DAYLIGHT
TZOFFSETFROM:-0600
TZOFFSETTO:-0500
TZNAME:CDT
DTSTART:20270314T080000
END:DAYLIGHT
BEGIN:STANDARD
TZOFFSETFROM:-0500
TZOFFSETTO:-0600
TZNAME:CST
DTSTART:20271107T070000
END:STANDARD
BEGIN:DAYLIGHT
TZOFFSETFROM:-0600
TZOFFSETTO:-0500
TZNAME:CDT
DTSTART:20280312T080000
END:DAYLIGHT
BEGIN:STANDARD
TZOFFSETFROM:-0500
TZOFFSETTO:-0600
TZNAME:CST
DTSTART:20281105T070000
END:STANDARD
END:VTIMEZONE
BEGIN:VEVENT
DTSTART;TZID=America/Chicago:20261124T200000
DTEND;TZID=America/Chicago:20261125T000000
DTSTAMP:20260424T203833
CREATED:20221105T041544Z
LAST-MODIFIED:20250630T151131Z
UID:10067115-1795550400-1795564800@golatindance.com
SUMMARY:Sensual Tuesdays
DESCRIPTION:Carlos Guate DJ will be hosting Sensual Tuesday. Come dance to the best Bachata \, Salsa \, Cha Cha Cha Cumbia and more.\nFree Parking.\nDance Lessons.\n$10 Cover
URL:https://golatindance.com/event/sensual-tuesdays-2/2026-11-24/
LOCATION:Balkanika\, 1414 E Oakton St\, Des Plaines\, 60018\, United States
CATEGORIES:Chicago
END:VEVENT
BEGIN:VEVENT
DTSTART;TZID=America/Chicago:20261201T200000
DTEND;TZID=America/Chicago:20261202T000000
DTSTAMP:20260424T203833
CREATED:20221105T041544Z
LAST-MODIFIED:20250630T151131Z
UID:10067116-1796155200-1796169600@golatindance.com
SUMMARY:Sensual Tuesdays
DESCRIPTION:Carlos Guate DJ will be hosting Sensual Tuesday. Come dance to the best Bachata \, Salsa \, Cha Cha Cha Cumbia and more.\nFree Parking.\nDance Lessons.\n$10 Cover
URL:https://golatindance.com/event/sensual-tuesdays-2/2026-12-01/
LOCATION:Balkanika\, 1414 E Oakton St\, Des Plaines\, 60018\, United States
CATEGORIES:Chicago
END:VEVENT
BEGIN:VEVENT
DTSTART;TZID=America/Chicago:20261208T200000
DTEND;TZID=America/Chicago:20261209T000000
DTSTAMP:20260424T203833
CREATED:20221105T041544Z
LAST-MODIFIED:20250630T151131Z
UID:10067117-1796760000-1796774400@golatindance.com
SUMMARY:Sensual Tuesdays
DESCRIPTION:Carlos Guate DJ will be hosting Sensual Tuesday. Come dance to the best Bachata \, Salsa \, Cha Cha Cha Cumbia and more.\nFree Parking.\nDance Lessons.\n$10 Cover
URL:https://golatindance.com/event/sensual-tuesdays-2/2026-12-08/
LOCATION:Balkanika\, 1414 E Oakton St\, Des Plaines\, 60018\, United States
CATEGORIES:Chicago
END:VEVENT
BEGIN:VEVENT
DTSTART;TZID=America/Chicago:20261215T200000
DTEND;TZID=America/Chicago:20261216T000000
DTSTAMP:20260424T203833
CREATED:20221105T041544Z
LAST-MODIFIED:20250630T151131Z
UID:10067118-1797364800-1797379200@golatindance.com
SUMMARY:Sensual Tuesdays
DESCRIPTION:Carlos Guate DJ will be hosting Sensual Tuesday. Come dance to the best Bachata \, Salsa \, Cha Cha Cha Cumbia and more.\nFree Parking.\nDance Lessons.\n$10 Cover
URL:https://golatindance.com/event/sensual-tuesdays-2/2026-12-15/
LOCATION:Balkanika\, 1414 E Oakton St\, Des Plaines\, 60018\, United States
CATEGORIES:Chicago
END:VEVENT
BEGIN:VEVENT
DTSTART;TZID=America/Chicago:20261222T200000
DTEND;TZID=America/Chicago:20261223T000000
DTSTAMP:20260424T203833
CREATED:20221105T041544Z
LAST-MODIFIED:20250630T151131Z
UID:10067119-1797969600-1797984000@golatindance.com
SUMMARY:Sensual Tuesdays
DESCRIPTION:Carlos Guate DJ will be hosting Sensual Tuesday. Come dance to the best Bachata \, Salsa \, Cha Cha Cha Cumbia and more.\nFree Parking.\nDance Lessons.\n$10 Cover
URL:https://golatindance.com/event/sensual-tuesdays-2/2026-12-22/
LOCATION:Balkanika\, 1414 E Oakton St\, Des Plaines\, 60018\, United States
CATEGORIES:Chicago
END:VEVENT
BEGIN:VEVENT
DTSTART;TZID=America/Chicago:20261229T200000
DTEND;TZID=America/Chicago:20261230T000000
DTSTAMP:20260424T203833
CREATED:20221105T041544Z
LAST-MODIFIED:20250630T151131Z
UID:10067120-1798574400-1798588800@golatindance.com
SUMMARY:Sensual Tuesdays
DESCRIPTION:Carlos Guate DJ will be hosting Sensual Tuesday. Come dance to the best Bachata \, Salsa \, Cha Cha Cha Cumbia and more.\nFree Parking.\nDance Lessons.\n$10 Cover
URL:https://golatindance.com/event/sensual-tuesdays-2/2026-12-29/
LOCATION:Balkanika\, 1414 E Oakton St\, Des Plaines\, 60018\, United States
CATEGORIES:Chicago
END:VEVENT
BEGIN:VEVENT
DTSTART;TZID=America/Chicago:20270105T200000
DTEND;TZID=America/Chicago:20270106T000000
DTSTAMP:20260424T203833
CREATED:20221105T041544Z
LAST-MODIFIED:20250630T151131Z
UID:10067121-1799179200-1799193600@golatindance.com
SUMMARY:Sensual Tuesdays
DESCRIPTION:Carlos Guate DJ will be hosting Sensual Tuesday. Come dance to the best Bachata \, Salsa \, Cha Cha Cha Cumbia and more.\nFree Parking.\nDance Lessons.\n$10 Cover
URL:https://golatindance.com/event/sensual-tuesdays-2/2027-01-05/
LOCATION:Balkanika\, 1414 E Oakton St\, Des Plaines\, 60018\, United States
CATEGORIES:Chicago
END:VEVENT
BEGIN:VEVENT
DTSTART;TZID=America/Chicago:20270112T200000
DTEND;TZID=America/Chicago:20270113T000000
DTSTAMP:20260424T203833
CREATED:20221105T041544Z
LAST-MODIFIED:20250630T151131Z
UID:10067122-1799784000-1799798400@golatindance.com
SUMMARY:Sensual Tuesdays
DESCRIPTION:Carlos Guate DJ will be hosting Sensual Tuesday. Come dance to the best Bachata \, Salsa \, Cha Cha Cha Cumbia and more.\nFree Parking.\nDance Lessons.\n$10 Cover
URL:https://golatindance.com/event/sensual-tuesdays-2/2027-01-12/
LOCATION:Balkanika\, 1414 E Oakton St\, Des Plaines\, 60018\, United States
CATEGORIES:Chicago
END:VEVENT
BEGIN:VEVENT
DTSTART;TZID=America/Chicago:20270119T200000
DTEND;TZID=America/Chicago:20270120T000000
DTSTAMP:20260424T203833
CREATED:20221105T041544Z
LAST-MODIFIED:20250630T151131Z
UID:10067123-1800388800-1800403200@golatindance.com
SUMMARY:Sensual Tuesdays
DESCRIPTION:Carlos Guate DJ will be hosting Sensual Tuesday. Come dance to the best Bachata \, Salsa \, Cha Cha Cha Cumbia and more.\nFree Parking.\nDance Lessons.\n$10 Cover
URL:https://golatindance.com/event/sensual-tuesdays-2/2027-01-19/
LOCATION:Balkanika\, 1414 E Oakton St\, Des Plaines\, 60018\, United States
CATEGORIES:Chicago
END:VEVENT
BEGIN:VEVENT
DTSTART;TZID=America/Chicago:20270126T200000
DTEND;TZID=America/Chicago:20270127T000000
DTSTAMP:20260424T203833
CREATED:20221105T041544Z
LAST-MODIFIED:20250630T151131Z
UID:10067124-1800993600-1801008000@golatindance.com
SUMMARY:Sensual Tuesdays
DESCRIPTION:Carlos Guate DJ will be hosting Sensual Tuesday. Come dance to the best Bachata \, Salsa \, Cha Cha Cha Cumbia and more.\nFree Parking.\nDance Lessons.\n$10 Cover
URL:https://golatindance.com/event/sensual-tuesdays-2/2027-01-26/
LOCATION:Balkanika\, 1414 E Oakton St\, Des Plaines\, 60018\, United States
CATEGORIES:Chicago
END:VEVENT
BEGIN:VEVENT
DTSTART;TZID=America/Chicago:20270202T200000
DTEND;TZID=America/Chicago:20270203T000000
DTSTAMP:20260424T203833
CREATED:20221105T041544Z
LAST-MODIFIED:20250630T151131Z
UID:10067125-1801598400-1801612800@golatindance.com
SUMMARY:Sensual Tuesdays
DESCRIPTION:Carlos Guate DJ will be hosting Sensual Tuesday. Come dance to the best Bachata \, Salsa \, Cha Cha Cha Cumbia and more.\nFree Parking.\nDance Lessons.\n$10 Cover
URL:https://golatindance.com/event/sensual-tuesdays-2/2027-02-02/
LOCATION:Balkanika\, 1414 E Oakton St\, Des Plaines\, 60018\, United States
CATEGORIES:Chicago
END:VEVENT
BEGIN:VEVENT
DTSTART;TZID=America/Chicago:20270209T200000
DTEND;TZID=America/Chicago:20270210T000000
DTSTAMP:20260424T203833
CREATED:20221105T041544Z
LAST-MODIFIED:20250630T151131Z
UID:10067126-1802203200-1802217600@golatindance.com
SUMMARY:Sensual Tuesdays
DESCRIPTION:Carlos Guate DJ will be hosting Sensual Tuesday. Come dance to the best Bachata \, Salsa \, Cha Cha Cha Cumbia and more.\nFree Parking.\nDance Lessons.\n$10 Cover
URL:https://golatindance.com/event/sensual-tuesdays-2/2027-02-09/
LOCATION:Balkanika\, 1414 E Oakton St\, Des Plaines\, 60018\, United States
CATEGORIES:Chicago
END:VEVENT
BEGIN:VEVENT
DTSTART;TZID=America/Chicago:20270216T200000
DTEND;TZID=America/Chicago:20270217T000000
DTSTAMP:20260424T203833
CREATED:20221105T041544Z
LAST-MODIFIED:20250630T151131Z
UID:10067127-1802808000-1802822400@golatindance.com
SUMMARY:Sensual Tuesdays
DESCRIPTION:Carlos Guate DJ will be hosting Sensual Tuesday. Come dance to the best Bachata \, Salsa \, Cha Cha Cha Cumbia and more.\nFree Parking.\nDance Lessons.\n$10 Cover
URL:https://golatindance.com/event/sensual-tuesdays-2/2027-02-16/
LOCATION:Balkanika\, 1414 E Oakton St\, Des Plaines\, 60018\, United States
CATEGORIES:Chicago
END:VEVENT
BEGIN:VEVENT
DTSTART;TZID=America/Chicago:20270223T200000
DTEND;TZID=America/Chicago:20270224T000000
DTSTAMP:20260424T203833
CREATED:20221105T041544Z
LAST-MODIFIED:20250630T151131Z
UID:10067128-1803412800-1803427200@golatindance.com
SUMMARY:Sensual Tuesdays
DESCRIPTION:Carlos Guate DJ will be hosting Sensual Tuesday. Come dance to the best Bachata \, Salsa \, Cha Cha Cha Cumbia and more.\nFree Parking.\nDance Lessons.\n$10 Cover
URL:https://golatindance.com/event/sensual-tuesdays-2/2027-02-23/
LOCATION:Balkanika\, 1414 E Oakton St\, Des Plaines\, 60018\, United States
CATEGORIES:Chicago
END:VEVENT
BEGIN:VEVENT
DTSTART;TZID=America/Chicago:20270302T200000
DTEND;TZID=America/Chicago:20270303T000000
DTSTAMP:20260424T203833
CREATED:20221105T041544Z
LAST-MODIFIED:20250630T151131Z
UID:10067129-1804017600-1804032000@golatindance.com
SUMMARY:Sensual Tuesdays
DESCRIPTION:Carlos Guate DJ will be hosting Sensual Tuesday. Come dance to the best Bachata \, Salsa \, Cha Cha Cha Cumbia and more.\nFree Parking.\nDance Lessons.\n$10 Cover
URL:https://golatindance.com/event/sensual-tuesdays-2/2027-03-02/
LOCATION:Balkanika\, 1414 E Oakton St\, Des Plaines\, 60018\, United States
CATEGORIES:Chicago
END:VEVENT
BEGIN:VEVENT
DTSTART;TZID=America/Chicago:20270309T200000
DTEND;TZID=America/Chicago:20270310T000000
DTSTAMP:20260424T203833
CREATED:20221105T041544Z
LAST-MODIFIED:20250630T151131Z
UID:10067130-1804622400-1804636800@golatindance.com
SUMMARY:Sensual Tuesdays
DESCRIPTION:Carlos Guate DJ will be hosting Sensual Tuesday. Come dance to the best Bachata \, Salsa \, Cha Cha Cha Cumbia and more.\nFree Parking.\nDance Lessons.\n$10 Cover
URL:https://golatindance.com/event/sensual-tuesdays-2/2027-03-09/
LOCATION:Balkanika\, 1414 E Oakton St\, Des Plaines\, 60018\, United States
CATEGORIES:Chicago
END:VEVENT
BEGIN:VEVENT
DTSTART;TZID=America/Chicago:20270316T200000
DTEND;TZID=America/Chicago:20270317T000000
DTSTAMP:20260424T203834
CREATED:20221105T041544Z
LAST-MODIFIED:20250630T151131Z
UID:10067131-1805227200-1805241600@golatindance.com
SUMMARY:Sensual Tuesdays
DESCRIPTION:Carlos Guate DJ will be hosting Sensual Tuesday. Come dance to the best Bachata \, Salsa \, Cha Cha Cha Cumbia and more.\nFree Parking.\nDance Lessons.\n$10 Cover
URL:https://golatindance.com/event/sensual-tuesdays-2/2027-03-16/
LOCATION:Balkanika\, 1414 E Oakton St\, Des Plaines\, 60018\, United States
CATEGORIES:Chicago
END:VEVENT
BEGIN:VEVENT
DTSTART;TZID=America/Chicago:20270323T200000
DTEND;TZID=America/Chicago:20270324T000000
DTSTAMP:20260424T203834
CREATED:20221105T041544Z
LAST-MODIFIED:20250630T151131Z
UID:10067132-1805832000-1805846400@golatindance.com
SUMMARY:Sensual Tuesdays
DESCRIPTION:Carlos Guate DJ will be hosting Sensual Tuesday. Come dance to the best Bachata \, Salsa \, Cha Cha Cha Cumbia and more.\nFree Parking.\nDance Lessons.\n$10 Cover
URL:https://golatindance.com/event/sensual-tuesdays-2/2027-03-23/
LOCATION:Balkanika\, 1414 E Oakton St\, Des Plaines\, 60018\, United States
CATEGORIES:Chicago
END:VEVENT
BEGIN:VEVENT
DTSTART;TZID=America/Chicago:20270330T200000
DTEND;TZID=America/Chicago:20270331T000000
DTSTAMP:20260424T203834
CREATED:20221105T041544Z
LAST-MODIFIED:20250630T151131Z
UID:10067133-1806436800-1806451200@golatindance.com
SUMMARY:Sensual Tuesdays
DESCRIPTION:Carlos Guate DJ will be hosting Sensual Tuesday. Come dance to the best Bachata \, Salsa \, Cha Cha Cha Cumbia and more.\nFree Parking.\nDance Lessons.\n$10 Cover
URL:https://golatindance.com/event/sensual-tuesdays-2/2027-03-30/
LOCATION:Balkanika\, 1414 E Oakton St\, Des Plaines\, 60018\, United States
CATEGORIES:Chicago
END:VEVENT
BEGIN:VEVENT
DTSTART;TZID=America/Chicago:20270406T200000
DTEND;TZID=America/Chicago:20270407T000000
DTSTAMP:20260424T203834
CREATED:20221105T041544Z
LAST-MODIFIED:20250630T151131Z
UID:10067134-1807041600-1807056000@golatindance.com
SUMMARY:Sensual Tuesdays
DESCRIPTION:Carlos Guate DJ will be hosting Sensual Tuesday. Come dance to the best Bachata \, Salsa \, Cha Cha Cha Cumbia and more.\nFree Parking.\nDance Lessons.\n$10 Cover
URL:https://golatindance.com/event/sensual-tuesdays-2/2027-04-06/
LOCATION:Balkanika\, 1414 E Oakton St\, Des Plaines\, 60018\, United States
CATEGORIES:Chicago
END:VEVENT
BEGIN:VEVENT
DTSTART;TZID=America/Chicago:20270413T200000
DTEND;TZID=America/Chicago:20270414T000000
DTSTAMP:20260424T203834
CREATED:20221105T041544Z
LAST-MODIFIED:20250630T151131Z
UID:10067135-1807646400-1807660800@golatindance.com
SUMMARY:Sensual Tuesdays
DESCRIPTION:Carlos Guate DJ will be hosting Sensual Tuesday. Come dance to the best Bachata \, Salsa \, Cha Cha Cha Cumbia and more.\nFree Parking.\nDance Lessons.\n$10 Cover
URL:https://golatindance.com/event/sensual-tuesdays-2/2027-04-13/
LOCATION:Balkanika\, 1414 E Oakton St\, Des Plaines\, 60018\, United States
CATEGORIES:Chicago
END:VEVENT
BEGIN:VEVENT
DTSTART;TZID=America/Chicago:20270420T200000
DTEND;TZID=America/Chicago:20270421T000000
DTSTAMP:20260424T203834
CREATED:20221105T041544Z
LAST-MODIFIED:20250630T151131Z
UID:10067136-1808251200-1808265600@golatindance.com
SUMMARY:Sensual Tuesdays
DESCRIPTION:Carlos Guate DJ will be hosting Sensual Tuesday. Come dance to the best Bachata \, Salsa \, Cha Cha Cha Cumbia and more.\nFree Parking.\nDance Lessons.\n$10 Cover
URL:https://golatindance.com/event/sensual-tuesdays-2/2027-04-20/
LOCATION:Balkanika\, 1414 E Oakton St\, Des Plaines\, 60018\, United States
CATEGORIES:Chicago
END:VEVENT
BEGIN:VEVENT
DTSTART;TZID=America/Chicago:20270427T200000
DTEND;TZID=America/Chicago:20270428T000000
DTSTAMP:20260424T203834
CREATED:20221105T041544Z
LAST-MODIFIED:20250630T151131Z
UID:10067137-1808856000-1808870400@golatindance.com
SUMMARY:Sensual Tuesdays
DESCRIPTION:Carlos Guate DJ will be hosting Sensual Tuesday. Come dance to the best Bachata \, Salsa \, Cha Cha Cha Cumbia and more.\nFree Parking.\nDance Lessons.\n$10 Cover
URL:https://golatindance.com/event/sensual-tuesdays-2/2027-04-27/
LOCATION:Balkanika\, 1414 E Oakton St\, Des Plaines\, 60018\, United States
CATEGORIES:Chicago
END:VEVENT
BEGIN:VEVENT
DTSTART;TZID=America/Chicago:20270504T200000
DTEND;TZID=America/Chicago:20270505T000000
DTSTAMP:20260424T203834
CREATED:20221105T041544Z
LAST-MODIFIED:20250630T151131Z
UID:10067138-1809460800-1809475200@golatindance.com
SUMMARY:Sensual Tuesdays
DESCRIPTION:Carlos Guate DJ will be hosting Sensual Tuesday. Come dance to the best Bachata \, Salsa \, Cha Cha Cha Cumbia and more.\nFree Parking.\nDance Lessons.\n$10 Cover
URL:https://golatindance.com/event/sensual-tuesdays-2/2027-05-04/
LOCATION:Balkanika\, 1414 E Oakton St\, Des Plaines\, 60018\, United States
CATEGORIES:Chicago
END:VEVENT
BEGIN:VEVENT
DTSTART;TZID=America/Chicago:20270511T200000
DTEND;TZID=America/Chicago:20270512T000000
DTSTAMP:20260424T203834
CREATED:20221105T041544Z
LAST-MODIFIED:20250630T151131Z
UID:10067139-1810065600-1810080000@golatindance.com
SUMMARY:Sensual Tuesdays
DESCRIPTION:Carlos Guate DJ will be hosting Sensual Tuesday. Come dance to the best Bachata \, Salsa \, Cha Cha Cha Cumbia and more.\nFree Parking.\nDance Lessons.\n$10 Cover
URL:https://golatindance.com/event/sensual-tuesdays-2/2027-05-11/
LOCATION:Balkanika\, 1414 E Oakton St\, Des Plaines\, 60018\, United States
CATEGORIES:Chicago
END:VEVENT
BEGIN:VEVENT
DTSTART;TZID=America/Chicago:20270518T200000
DTEND;TZID=America/Chicago:20270519T000000
DTSTAMP:20260424T203834
CREATED:20221105T041544Z
LAST-MODIFIED:20250630T151131Z
UID:10067140-1810670400-1810684800@golatindance.com
SUMMARY:Sensual Tuesdays
DESCRIPTION:Carlos Guate DJ will be hosting Sensual Tuesday. Come dance to the best Bachata \, Salsa \, Cha Cha Cha Cumbia and more.\nFree Parking.\nDance Lessons.\n$10 Cover
URL:https://golatindance.com/event/sensual-tuesdays-2/2027-05-18/
LOCATION:Balkanika\, 1414 E Oakton St\, Des Plaines\, 60018\, United States
CATEGORIES:Chicago
END:VEVENT
BEGIN:VEVENT
DTSTART;TZID=America/Chicago:20270525T200000
DTEND;TZID=America/Chicago:20270526T000000
DTSTAMP:20260424T203834
CREATED:20221105T041544Z
LAST-MODIFIED:20250630T151131Z
UID:10067141-1811275200-1811289600@golatindance.com
SUMMARY:Sensual Tuesdays
DESCRIPTION:Carlos Guate DJ will be hosting Sensual Tuesday. Come dance to the best Bachata \, Salsa \, Cha Cha Cha Cumbia and more.\nFree Parking.\nDance Lessons.\n$10 Cover
URL:https://golatindance.com/event/sensual-tuesdays-2/2027-05-25/
LOCATION:Balkanika\, 1414 E Oakton St\, Des Plaines\, 60018\, United States
CATEGORIES:Chicago
END:VEVENT
BEGIN:VEVENT
DTSTART;TZID=America/Chicago:20270601T200000
DTEND;TZID=America/Chicago:20270602T000000
DTSTAMP:20260424T203834
CREATED:20221105T041544Z
LAST-MODIFIED:20250630T151131Z
UID:10067142-1811880000-1811894400@golatindance.com
SUMMARY:Sensual Tuesdays
DESCRIPTION:Carlos Guate DJ will be hosting Sensual Tuesday. Come dance to the best Bachata \, Salsa \, Cha Cha Cha Cumbia and more.\nFree Parking.\nDance Lessons.\n$10 Cover
URL:https://golatindance.com/event/sensual-tuesdays-2/2027-06-01/
LOCATION:Balkanika\, 1414 E Oakton St\, Des Plaines\, 60018\, United States
CATEGORIES:Chicago
END:VEVENT
BEGIN:VEVENT
DTSTART;TZID=America/Chicago:20270608T200000
DTEND;TZID=America/Chicago:20270609T000000
DTSTAMP:20260424T203834
CREATED:20221105T041544Z
LAST-MODIFIED:20250630T151131Z
UID:10067143-1812484800-1812499200@golatindance.com
SUMMARY:Sensual Tuesdays
DESCRIPTION:Carlos Guate DJ will be hosting Sensual Tuesday. Come dance to the best Bachata \, Salsa \, Cha Cha Cha Cumbia and more.\nFree Parking.\nDance Lessons.\n$10 Cover
URL:https://golatindance.com/event/sensual-tuesdays-2/2027-06-08/
LOCATION:Balkanika\, 1414 E Oakton St\, Des Plaines\, 60018\, United States
CATEGORIES:Chicago
END:VEVENT
BEGIN:VEVENT
DTSTART;TZID=America/Chicago:20270615T200000
DTEND;TZID=America/Chicago:20270616T000000
DTSTAMP:20260424T203834
CREATED:20221105T041544Z
LAST-MODIFIED:20250630T151131Z
UID:10067144-1813089600-1813104000@golatindance.com
SUMMARY:Sensual Tuesdays
DESCRIPTION:Carlos Guate DJ will be hosting Sensual Tuesday. Come dance to the best Bachata \, Salsa \, Cha Cha Cha Cumbia and more.\nFree Parking.\nDance Lessons.\n$10 Cover
URL:https://golatindance.com/event/sensual-tuesdays-2/2027-06-15/
LOCATION:Balkanika\, 1414 E Oakton St\, Des Plaines\, 60018\, United States
CATEGORIES:Chicago
END:VEVENT
END:VCALENDAR