BEGIN:VCALENDAR
VERSION:2.0
PRODID:-//GO Latin Dance - ECPv6.15.18//NONSGML v1.0//EN
CALSCALE:GREGORIAN
METHOD:PUBLISH
X-ORIGINAL-URL:https://golatindance.com
X-WR-CALDESC:Events for GO Latin Dance
REFRESH-INTERVAL;VALUE=DURATION:PT1H
X-Robots-Tag:noindex
X-PUBLISHED-TTL:PT1H
BEGIN:VTIMEZONE
TZID:America/Chicago
BEGIN:DAYLIGHT
TZOFFSETFROM:-0600
TZOFFSETTO:-0500
TZNAME:CDT
DTSTART:20250309T080000
END:DAYLIGHT
BEGIN:STANDARD
TZOFFSETFROM:-0500
TZOFFSETTO:-0600
TZNAME:CST
DTSTART:20251102T070000
END:STANDARD
BEGIN:DAYLIGHT
TZOFFSETFROM:-0600
TZOFFSETTO:-0500
TZNAME:CDT
DTSTART:20260308T080000
END:DAYLIGHT
BEGIN:STANDARD
TZOFFSETFROM:-0500
TZOFFSETTO:-0600
TZNAME:CST
DTSTART:20261101T070000
END:STANDARD
BEGIN:DAYLIGHT
TZOFFSETFROM:-0600
TZOFFSETTO:-0500
TZNAME:CDT
DTSTART:20270314T080000
END:DAYLIGHT
BEGIN:STANDARD
TZOFFSETFROM:-0500
TZOFFSETTO:-0600
TZNAME:CST
DTSTART:20271107T070000
END:STANDARD
BEGIN:DAYLIGHT
TZOFFSETFROM:-0600
TZOFFSETTO:-0500
TZNAME:CDT
DTSTART:20280312T080000
END:DAYLIGHT
BEGIN:STANDARD
TZOFFSETFROM:-0500
TZOFFSETTO:-0600
TZNAME:CST
DTSTART:20281105T070000
END:STANDARD
END:VTIMEZONE
BEGIN:VEVENT
DTSTART;TZID=America/Chicago:20260909T193000
DTEND;TZID=America/Chicago:20260910T020000
DTSTAMP:20260420T054444
CREATED:20260107T195234Z
LAST-MODIFIED:20260128T171316Z
UID:10430591-1788982200-1789005600@golatindance.com
SUMMARY:Latin Nights
DESCRIPTION:Wednesday @ Blue Agave Cantina*\n​(I 10 & HWY 6: Energy Corridor Area)\n14555 GRISBY RD\nHOUSTON TX 77079\n7:30pm: Bachata – All Levels\n8:30pm: Salsa – All Levels\n10pm – 2am: Social Dancing with Live Music!
URL:https://golatindance.com/event/latin-nights/2026-09-09/
LOCATION:Blue Agave Cantina\, 14555 Grisby Rd\, Houston\, TX\, 77079\, United States
CATEGORIES:Houston
ATTACH;FMTTYPE=image/jpeg:https://golatindance.com/wp-content/uploads/2026/01/623130700_122118357507132164_2482773891243133089_n.jpg
END:VEVENT
BEGIN:VEVENT
DTSTART;TZID=America/Chicago:20260916T193000
DTEND;TZID=America/Chicago:20260917T020000
DTSTAMP:20260420T054444
CREATED:20260107T195234Z
LAST-MODIFIED:20260128T171316Z
UID:10430592-1789587000-1789610400@golatindance.com
SUMMARY:Latin Nights
DESCRIPTION:Wednesday @ Blue Agave Cantina*\n​(I 10 & HWY 6: Energy Corridor Area)\n14555 GRISBY RD\nHOUSTON TX 77079\n7:30pm: Bachata – All Levels\n8:30pm: Salsa – All Levels\n10pm – 2am: Social Dancing with Live Music!
URL:https://golatindance.com/event/latin-nights/2026-09-16/
LOCATION:Blue Agave Cantina\, 14555 Grisby Rd\, Houston\, TX\, 77079\, United States
CATEGORIES:Houston
ATTACH;FMTTYPE=image/jpeg:https://golatindance.com/wp-content/uploads/2026/01/623130700_122118357507132164_2482773891243133089_n.jpg
END:VEVENT
BEGIN:VEVENT
DTSTART;TZID=America/Chicago:20260923T193000
DTEND;TZID=America/Chicago:20260924T020000
DTSTAMP:20260420T054444
CREATED:20260107T195234Z
LAST-MODIFIED:20260128T171316Z
UID:10430593-1790191800-1790215200@golatindance.com
SUMMARY:Latin Nights
DESCRIPTION:Wednesday @ Blue Agave Cantina*\n​(I 10 & HWY 6: Energy Corridor Area)\n14555 GRISBY RD\nHOUSTON TX 77079\n7:30pm: Bachata – All Levels\n8:30pm: Salsa – All Levels\n10pm – 2am: Social Dancing with Live Music!
URL:https://golatindance.com/event/latin-nights/2026-09-23/
LOCATION:Blue Agave Cantina\, 14555 Grisby Rd\, Houston\, TX\, 77079\, United States
CATEGORIES:Houston
ATTACH;FMTTYPE=image/jpeg:https://golatindance.com/wp-content/uploads/2026/01/623130700_122118357507132164_2482773891243133089_n.jpg
END:VEVENT
BEGIN:VEVENT
DTSTART;TZID=America/Chicago:20260930T193000
DTEND;TZID=America/Chicago:20261001T020000
DTSTAMP:20260420T054444
CREATED:20260107T195234Z
LAST-MODIFIED:20260128T171316Z
UID:10430594-1790796600-1790820000@golatindance.com
SUMMARY:Latin Nights
DESCRIPTION:Wednesday @ Blue Agave Cantina*\n​(I 10 & HWY 6: Energy Corridor Area)\n14555 GRISBY RD\nHOUSTON TX 77079\n7:30pm: Bachata – All Levels\n8:30pm: Salsa – All Levels\n10pm – 2am: Social Dancing with Live Music!
URL:https://golatindance.com/event/latin-nights/2026-09-30/
LOCATION:Blue Agave Cantina\, 14555 Grisby Rd\, Houston\, TX\, 77079\, United States
CATEGORIES:Houston
ATTACH;FMTTYPE=image/jpeg:https://golatindance.com/wp-content/uploads/2026/01/623130700_122118357507132164_2482773891243133089_n.jpg
END:VEVENT
BEGIN:VEVENT
DTSTART;TZID=America/Chicago:20261007T193000
DTEND;TZID=America/Chicago:20261008T020000
DTSTAMP:20260420T054444
CREATED:20260107T195234Z
LAST-MODIFIED:20260128T171316Z
UID:10430595-1791401400-1791424800@golatindance.com
SUMMARY:Latin Nights
DESCRIPTION:Wednesday @ Blue Agave Cantina*\n​(I 10 & HWY 6: Energy Corridor Area)\n14555 GRISBY RD\nHOUSTON TX 77079\n7:30pm: Bachata – All Levels\n8:30pm: Salsa – All Levels\n10pm – 2am: Social Dancing with Live Music!
URL:https://golatindance.com/event/latin-nights/2026-10-07/
LOCATION:Blue Agave Cantina\, 14555 Grisby Rd\, Houston\, TX\, 77079\, United States
CATEGORIES:Houston
ATTACH;FMTTYPE=image/jpeg:https://golatindance.com/wp-content/uploads/2026/01/623130700_122118357507132164_2482773891243133089_n.jpg
END:VEVENT
BEGIN:VEVENT
DTSTART;TZID=America/Chicago:20261014T193000
DTEND;TZID=America/Chicago:20261015T020000
DTSTAMP:20260420T054444
CREATED:20260107T195234Z
LAST-MODIFIED:20260128T171316Z
UID:10430596-1792006200-1792029600@golatindance.com
SUMMARY:Latin Nights
DESCRIPTION:Wednesday @ Blue Agave Cantina*\n​(I 10 & HWY 6: Energy Corridor Area)\n14555 GRISBY RD\nHOUSTON TX 77079\n7:30pm: Bachata – All Levels\n8:30pm: Salsa – All Levels\n10pm – 2am: Social Dancing with Live Music!
URL:https://golatindance.com/event/latin-nights/2026-10-14/
LOCATION:Blue Agave Cantina\, 14555 Grisby Rd\, Houston\, TX\, 77079\, United States
CATEGORIES:Houston
ATTACH;FMTTYPE=image/jpeg:https://golatindance.com/wp-content/uploads/2026/01/623130700_122118357507132164_2482773891243133089_n.jpg
END:VEVENT
BEGIN:VEVENT
DTSTART;TZID=America/Chicago:20261021T193000
DTEND;TZID=America/Chicago:20261022T020000
DTSTAMP:20260420T054444
CREATED:20260107T195234Z
LAST-MODIFIED:20260128T171316Z
UID:10430597-1792611000-1792634400@golatindance.com
SUMMARY:Latin Nights
DESCRIPTION:Wednesday @ Blue Agave Cantina*\n​(I 10 & HWY 6: Energy Corridor Area)\n14555 GRISBY RD\nHOUSTON TX 77079\n7:30pm: Bachata – All Levels\n8:30pm: Salsa – All Levels\n10pm – 2am: Social Dancing with Live Music!
URL:https://golatindance.com/event/latin-nights/2026-10-21/
LOCATION:Blue Agave Cantina\, 14555 Grisby Rd\, Houston\, TX\, 77079\, United States
CATEGORIES:Houston
ATTACH;FMTTYPE=image/jpeg:https://golatindance.com/wp-content/uploads/2026/01/623130700_122118357507132164_2482773891243133089_n.jpg
END:VEVENT
BEGIN:VEVENT
DTSTART;TZID=America/Chicago:20261028T193000
DTEND;TZID=America/Chicago:20261029T020000
DTSTAMP:20260420T054444
CREATED:20260107T195234Z
LAST-MODIFIED:20260128T171316Z
UID:10430598-1793215800-1793239200@golatindance.com
SUMMARY:Latin Nights
DESCRIPTION:Wednesday @ Blue Agave Cantina*\n​(I 10 & HWY 6: Energy Corridor Area)\n14555 GRISBY RD\nHOUSTON TX 77079\n7:30pm: Bachata – All Levels\n8:30pm: Salsa – All Levels\n10pm – 2am: Social Dancing with Live Music!
URL:https://golatindance.com/event/latin-nights/2026-10-28/
LOCATION:Blue Agave Cantina\, 14555 Grisby Rd\, Houston\, TX\, 77079\, United States
CATEGORIES:Houston
ATTACH;FMTTYPE=image/jpeg:https://golatindance.com/wp-content/uploads/2026/01/623130700_122118357507132164_2482773891243133089_n.jpg
END:VEVENT
BEGIN:VEVENT
DTSTART;TZID=America/Chicago:20261104T193000
DTEND;TZID=America/Chicago:20261105T020000
DTSTAMP:20260420T054444
CREATED:20260107T195234Z
LAST-MODIFIED:20260128T171316Z
UID:10430599-1793820600-1793844000@golatindance.com
SUMMARY:Latin Nights
DESCRIPTION:Wednesday @ Blue Agave Cantina*\n​(I 10 & HWY 6: Energy Corridor Area)\n14555 GRISBY RD\nHOUSTON TX 77079\n7:30pm: Bachata – All Levels\n8:30pm: Salsa – All Levels\n10pm – 2am: Social Dancing with Live Music!
URL:https://golatindance.com/event/latin-nights/2026-11-04/
LOCATION:Blue Agave Cantina\, 14555 Grisby Rd\, Houston\, TX\, 77079\, United States
CATEGORIES:Houston
ATTACH;FMTTYPE=image/jpeg:https://golatindance.com/wp-content/uploads/2026/01/623130700_122118357507132164_2482773891243133089_n.jpg
END:VEVENT
BEGIN:VEVENT
DTSTART;TZID=America/Chicago:20261111T193000
DTEND;TZID=America/Chicago:20261112T020000
DTSTAMP:20260420T054444
CREATED:20260107T195234Z
LAST-MODIFIED:20260128T171316Z
UID:10430600-1794425400-1794448800@golatindance.com
SUMMARY:Latin Nights
DESCRIPTION:Wednesday @ Blue Agave Cantina*\n​(I 10 & HWY 6: Energy Corridor Area)\n14555 GRISBY RD\nHOUSTON TX 77079\n7:30pm: Bachata – All Levels\n8:30pm: Salsa – All Levels\n10pm – 2am: Social Dancing with Live Music!
URL:https://golatindance.com/event/latin-nights/2026-11-11/
LOCATION:Blue Agave Cantina\, 14555 Grisby Rd\, Houston\, TX\, 77079\, United States
CATEGORIES:Houston
ATTACH;FMTTYPE=image/jpeg:https://golatindance.com/wp-content/uploads/2026/01/623130700_122118357507132164_2482773891243133089_n.jpg
END:VEVENT
BEGIN:VEVENT
DTSTART;TZID=America/Chicago:20261118T193000
DTEND;TZID=America/Chicago:20261119T020000
DTSTAMP:20260420T054444
CREATED:20260107T195234Z
LAST-MODIFIED:20260128T171316Z
UID:10430601-1795030200-1795053600@golatindance.com
SUMMARY:Latin Nights
DESCRIPTION:Wednesday @ Blue Agave Cantina*\n​(I 10 & HWY 6: Energy Corridor Area)\n14555 GRISBY RD\nHOUSTON TX 77079\n7:30pm: Bachata – All Levels\n8:30pm: Salsa – All Levels\n10pm – 2am: Social Dancing with Live Music!
URL:https://golatindance.com/event/latin-nights/2026-11-18/
LOCATION:Blue Agave Cantina\, 14555 Grisby Rd\, Houston\, TX\, 77079\, United States
CATEGORIES:Houston
ATTACH;FMTTYPE=image/jpeg:https://golatindance.com/wp-content/uploads/2026/01/623130700_122118357507132164_2482773891243133089_n.jpg
END:VEVENT
BEGIN:VEVENT
DTSTART;TZID=America/Chicago:20261125T193000
DTEND;TZID=America/Chicago:20261126T020000
DTSTAMP:20260420T054444
CREATED:20260107T195234Z
LAST-MODIFIED:20260128T171316Z
UID:10430602-1795635000-1795658400@golatindance.com
SUMMARY:Latin Nights
DESCRIPTION:Wednesday @ Blue Agave Cantina*\n​(I 10 & HWY 6: Energy Corridor Area)\n14555 GRISBY RD\nHOUSTON TX 77079\n7:30pm: Bachata – All Levels\n8:30pm: Salsa – All Levels\n10pm – 2am: Social Dancing with Live Music!
URL:https://golatindance.com/event/latin-nights/2026-11-25/
LOCATION:Blue Agave Cantina\, 14555 Grisby Rd\, Houston\, TX\, 77079\, United States
CATEGORIES:Houston
ATTACH;FMTTYPE=image/jpeg:https://golatindance.com/wp-content/uploads/2026/01/623130700_122118357507132164_2482773891243133089_n.jpg
END:VEVENT
BEGIN:VEVENT
DTSTART;TZID=America/Chicago:20261202T193000
DTEND;TZID=America/Chicago:20261203T020000
DTSTAMP:20260420T054444
CREATED:20260107T195234Z
LAST-MODIFIED:20260128T171316Z
UID:10430603-1796239800-1796263200@golatindance.com
SUMMARY:Latin Nights
DESCRIPTION:Wednesday @ Blue Agave Cantina*\n​(I 10 & HWY 6: Energy Corridor Area)\n14555 GRISBY RD\nHOUSTON TX 77079\n7:30pm: Bachata – All Levels\n8:30pm: Salsa – All Levels\n10pm – 2am: Social Dancing with Live Music!
URL:https://golatindance.com/event/latin-nights/2026-12-02/
LOCATION:Blue Agave Cantina\, 14555 Grisby Rd\, Houston\, TX\, 77079\, United States
CATEGORIES:Houston
ATTACH;FMTTYPE=image/jpeg:https://golatindance.com/wp-content/uploads/2026/01/623130700_122118357507132164_2482773891243133089_n.jpg
END:VEVENT
BEGIN:VEVENT
DTSTART;TZID=America/Chicago:20261209T193000
DTEND;TZID=America/Chicago:20261210T020000
DTSTAMP:20260420T054444
CREATED:20260107T195234Z
LAST-MODIFIED:20260128T171316Z
UID:10430604-1796844600-1796868000@golatindance.com
SUMMARY:Latin Nights
DESCRIPTION:Wednesday @ Blue Agave Cantina*\n​(I 10 & HWY 6: Energy Corridor Area)\n14555 GRISBY RD\nHOUSTON TX 77079\n7:30pm: Bachata – All Levels\n8:30pm: Salsa – All Levels\n10pm – 2am: Social Dancing with Live Music!
URL:https://golatindance.com/event/latin-nights/2026-12-09/
LOCATION:Blue Agave Cantina\, 14555 Grisby Rd\, Houston\, TX\, 77079\, United States
CATEGORIES:Houston
ATTACH;FMTTYPE=image/jpeg:https://golatindance.com/wp-content/uploads/2026/01/623130700_122118357507132164_2482773891243133089_n.jpg
END:VEVENT
BEGIN:VEVENT
DTSTART;TZID=America/Chicago:20261216T193000
DTEND;TZID=America/Chicago:20261217T020000
DTSTAMP:20260420T054444
CREATED:20260107T195234Z
LAST-MODIFIED:20260128T171316Z
UID:10430605-1797449400-1797472800@golatindance.com
SUMMARY:Latin Nights
DESCRIPTION:Wednesday @ Blue Agave Cantina*\n​(I 10 & HWY 6: Energy Corridor Area)\n14555 GRISBY RD\nHOUSTON TX 77079\n7:30pm: Bachata – All Levels\n8:30pm: Salsa – All Levels\n10pm – 2am: Social Dancing with Live Music!
URL:https://golatindance.com/event/latin-nights/2026-12-16/
LOCATION:Blue Agave Cantina\, 14555 Grisby Rd\, Houston\, TX\, 77079\, United States
CATEGORIES:Houston
ATTACH;FMTTYPE=image/jpeg:https://golatindance.com/wp-content/uploads/2026/01/623130700_122118357507132164_2482773891243133089_n.jpg
END:VEVENT
BEGIN:VEVENT
DTSTART;TZID=America/Chicago:20261223T193000
DTEND;TZID=America/Chicago:20261224T020000
DTSTAMP:20260420T054444
CREATED:20260107T195234Z
LAST-MODIFIED:20260128T171316Z
UID:10430606-1798054200-1798077600@golatindance.com
SUMMARY:Latin Nights
DESCRIPTION:Wednesday @ Blue Agave Cantina*\n​(I 10 & HWY 6: Energy Corridor Area)\n14555 GRISBY RD\nHOUSTON TX 77079\n7:30pm: Bachata – All Levels\n8:30pm: Salsa – All Levels\n10pm – 2am: Social Dancing with Live Music!
URL:https://golatindance.com/event/latin-nights/2026-12-23/
LOCATION:Blue Agave Cantina\, 14555 Grisby Rd\, Houston\, TX\, 77079\, United States
CATEGORIES:Houston
ATTACH;FMTTYPE=image/jpeg:https://golatindance.com/wp-content/uploads/2026/01/623130700_122118357507132164_2482773891243133089_n.jpg
END:VEVENT
BEGIN:VEVENT
DTSTART;TZID=America/Chicago:20261230T193000
DTEND;TZID=America/Chicago:20261231T020000
DTSTAMP:20260420T054444
CREATED:20260107T195234Z
LAST-MODIFIED:20260128T171316Z
UID:10430607-1798659000-1798682400@golatindance.com
SUMMARY:Latin Nights
DESCRIPTION:Wednesday @ Blue Agave Cantina*\n​(I 10 & HWY 6: Energy Corridor Area)\n14555 GRISBY RD\nHOUSTON TX 77079\n7:30pm: Bachata – All Levels\n8:30pm: Salsa – All Levels\n10pm – 2am: Social Dancing with Live Music!
URL:https://golatindance.com/event/latin-nights/2026-12-30/
LOCATION:Blue Agave Cantina\, 14555 Grisby Rd\, Houston\, TX\, 77079\, United States
CATEGORIES:Houston
ATTACH;FMTTYPE=image/jpeg:https://golatindance.com/wp-content/uploads/2026/01/623130700_122118357507132164_2482773891243133089_n.jpg
END:VEVENT
BEGIN:VEVENT
DTSTART;TZID=America/Chicago:20270106T193000
DTEND;TZID=America/Chicago:20270107T020000
DTSTAMP:20260420T054444
CREATED:20260107T195234Z
LAST-MODIFIED:20260128T171316Z
UID:10430608-1799263800-1799287200@golatindance.com
SUMMARY:Latin Nights
DESCRIPTION:Wednesday @ Blue Agave Cantina*\n​(I 10 & HWY 6: Energy Corridor Area)\n14555 GRISBY RD\nHOUSTON TX 77079\n7:30pm: Bachata – All Levels\n8:30pm: Salsa – All Levels\n10pm – 2am: Social Dancing with Live Music!
URL:https://golatindance.com/event/latin-nights/2027-01-06/
LOCATION:Blue Agave Cantina\, 14555 Grisby Rd\, Houston\, TX\, 77079\, United States
CATEGORIES:Houston
ATTACH;FMTTYPE=image/jpeg:https://golatindance.com/wp-content/uploads/2026/01/623130700_122118357507132164_2482773891243133089_n.jpg
END:VEVENT
BEGIN:VEVENT
DTSTART;TZID=America/Chicago:20270113T193000
DTEND;TZID=America/Chicago:20270114T020000
DTSTAMP:20260420T054444
CREATED:20260107T195234Z
LAST-MODIFIED:20260128T171316Z
UID:10430609-1799868600-1799892000@golatindance.com
SUMMARY:Latin Nights
DESCRIPTION:Wednesday @ Blue Agave Cantina*\n​(I 10 & HWY 6: Energy Corridor Area)\n14555 GRISBY RD\nHOUSTON TX 77079\n7:30pm: Bachata – All Levels\n8:30pm: Salsa – All Levels\n10pm – 2am: Social Dancing with Live Music!
URL:https://golatindance.com/event/latin-nights/2027-01-13/
LOCATION:Blue Agave Cantina\, 14555 Grisby Rd\, Houston\, TX\, 77079\, United States
CATEGORIES:Houston
ATTACH;FMTTYPE=image/jpeg:https://golatindance.com/wp-content/uploads/2026/01/623130700_122118357507132164_2482773891243133089_n.jpg
END:VEVENT
BEGIN:VEVENT
DTSTART;TZID=America/Chicago:20270120T193000
DTEND;TZID=America/Chicago:20270121T020000
DTSTAMP:20260420T054444
CREATED:20260107T195234Z
LAST-MODIFIED:20260128T171316Z
UID:10430610-1800473400-1800496800@golatindance.com
SUMMARY:Latin Nights
DESCRIPTION:Wednesday @ Blue Agave Cantina*\n​(I 10 & HWY 6: Energy Corridor Area)\n14555 GRISBY RD\nHOUSTON TX 77079\n7:30pm: Bachata – All Levels\n8:30pm: Salsa – All Levels\n10pm – 2am: Social Dancing with Live Music!
URL:https://golatindance.com/event/latin-nights/2027-01-20/
LOCATION:Blue Agave Cantina\, 14555 Grisby Rd\, Houston\, TX\, 77079\, United States
CATEGORIES:Houston
ATTACH;FMTTYPE=image/jpeg:https://golatindance.com/wp-content/uploads/2026/01/623130700_122118357507132164_2482773891243133089_n.jpg
END:VEVENT
BEGIN:VEVENT
DTSTART;TZID=America/Chicago:20270127T193000
DTEND;TZID=America/Chicago:20270128T020000
DTSTAMP:20260420T054444
CREATED:20260107T195234Z
LAST-MODIFIED:20260128T171316Z
UID:10430611-1801078200-1801101600@golatindance.com
SUMMARY:Latin Nights
DESCRIPTION:Wednesday @ Blue Agave Cantina*\n​(I 10 & HWY 6: Energy Corridor Area)\n14555 GRISBY RD\nHOUSTON TX 77079\n7:30pm: Bachata – All Levels\n8:30pm: Salsa – All Levels\n10pm – 2am: Social Dancing with Live Music!
URL:https://golatindance.com/event/latin-nights/2027-01-27/
LOCATION:Blue Agave Cantina\, 14555 Grisby Rd\, Houston\, TX\, 77079\, United States
CATEGORIES:Houston
ATTACH;FMTTYPE=image/jpeg:https://golatindance.com/wp-content/uploads/2026/01/623130700_122118357507132164_2482773891243133089_n.jpg
END:VEVENT
BEGIN:VEVENT
DTSTART;TZID=America/Chicago:20270203T193000
DTEND;TZID=America/Chicago:20270204T020000
DTSTAMP:20260420T054444
CREATED:20260107T195234Z
LAST-MODIFIED:20260128T171316Z
UID:10430612-1801683000-1801706400@golatindance.com
SUMMARY:Latin Nights
DESCRIPTION:Wednesday @ Blue Agave Cantina*\n​(I 10 & HWY 6: Energy Corridor Area)\n14555 GRISBY RD\nHOUSTON TX 77079\n7:30pm: Bachata – All Levels\n8:30pm: Salsa – All Levels\n10pm – 2am: Social Dancing with Live Music!
URL:https://golatindance.com/event/latin-nights/2027-02-03/
LOCATION:Blue Agave Cantina\, 14555 Grisby Rd\, Houston\, TX\, 77079\, United States
CATEGORIES:Houston
ATTACH;FMTTYPE=image/jpeg:https://golatindance.com/wp-content/uploads/2026/01/623130700_122118357507132164_2482773891243133089_n.jpg
END:VEVENT
BEGIN:VEVENT
DTSTART;TZID=America/Chicago:20270210T193000
DTEND;TZID=America/Chicago:20270211T020000
DTSTAMP:20260420T054444
CREATED:20260107T195234Z
LAST-MODIFIED:20260128T171316Z
UID:10430613-1802287800-1802311200@golatindance.com
SUMMARY:Latin Nights
DESCRIPTION:Wednesday @ Blue Agave Cantina*\n​(I 10 & HWY 6: Energy Corridor Area)\n14555 GRISBY RD\nHOUSTON TX 77079\n7:30pm: Bachata – All Levels\n8:30pm: Salsa – All Levels\n10pm – 2am: Social Dancing with Live Music!
URL:https://golatindance.com/event/latin-nights/2027-02-10/
LOCATION:Blue Agave Cantina\, 14555 Grisby Rd\, Houston\, TX\, 77079\, United States
CATEGORIES:Houston
ATTACH;FMTTYPE=image/jpeg:https://golatindance.com/wp-content/uploads/2026/01/623130700_122118357507132164_2482773891243133089_n.jpg
END:VEVENT
BEGIN:VEVENT
DTSTART;TZID=America/Chicago:20270217T193000
DTEND;TZID=America/Chicago:20270218T020000
DTSTAMP:20260420T054444
CREATED:20260107T195234Z
LAST-MODIFIED:20260128T171316Z
UID:10430614-1802892600-1802916000@golatindance.com
SUMMARY:Latin Nights
DESCRIPTION:Wednesday @ Blue Agave Cantina*\n​(I 10 & HWY 6: Energy Corridor Area)\n14555 GRISBY RD\nHOUSTON TX 77079\n7:30pm: Bachata – All Levels\n8:30pm: Salsa – All Levels\n10pm – 2am: Social Dancing with Live Music!
URL:https://golatindance.com/event/latin-nights/2027-02-17/
LOCATION:Blue Agave Cantina\, 14555 Grisby Rd\, Houston\, TX\, 77079\, United States
CATEGORIES:Houston
ATTACH;FMTTYPE=image/jpeg:https://golatindance.com/wp-content/uploads/2026/01/623130700_122118357507132164_2482773891243133089_n.jpg
END:VEVENT
BEGIN:VEVENT
DTSTART;TZID=America/Chicago:20270224T193000
DTEND;TZID=America/Chicago:20270225T020000
DTSTAMP:20260420T054444
CREATED:20260107T195234Z
LAST-MODIFIED:20260128T171316Z
UID:10430615-1803497400-1803520800@golatindance.com
SUMMARY:Latin Nights
DESCRIPTION:Wednesday @ Blue Agave Cantina*\n​(I 10 & HWY 6: Energy Corridor Area)\n14555 GRISBY RD\nHOUSTON TX 77079\n7:30pm: Bachata – All Levels\n8:30pm: Salsa – All Levels\n10pm – 2am: Social Dancing with Live Music!
URL:https://golatindance.com/event/latin-nights/2027-02-24/
LOCATION:Blue Agave Cantina\, 14555 Grisby Rd\, Houston\, TX\, 77079\, United States
CATEGORIES:Houston
ATTACH;FMTTYPE=image/jpeg:https://golatindance.com/wp-content/uploads/2026/01/623130700_122118357507132164_2482773891243133089_n.jpg
END:VEVENT
BEGIN:VEVENT
DTSTART;TZID=America/Chicago:20270303T193000
DTEND;TZID=America/Chicago:20270304T020000
DTSTAMP:20260420T054444
CREATED:20260107T195234Z
LAST-MODIFIED:20260128T171316Z
UID:10430616-1804102200-1804125600@golatindance.com
SUMMARY:Latin Nights
DESCRIPTION:Wednesday @ Blue Agave Cantina*\n​(I 10 & HWY 6: Energy Corridor Area)\n14555 GRISBY RD\nHOUSTON TX 77079\n7:30pm: Bachata – All Levels\n8:30pm: Salsa – All Levels\n10pm – 2am: Social Dancing with Live Music!
URL:https://golatindance.com/event/latin-nights/2027-03-03/
LOCATION:Blue Agave Cantina\, 14555 Grisby Rd\, Houston\, TX\, 77079\, United States
CATEGORIES:Houston
ATTACH;FMTTYPE=image/jpeg:https://golatindance.com/wp-content/uploads/2026/01/623130700_122118357507132164_2482773891243133089_n.jpg
END:VEVENT
BEGIN:VEVENT
DTSTART;TZID=America/Chicago:20270310T193000
DTEND;TZID=America/Chicago:20270311T020000
DTSTAMP:20260420T054444
CREATED:20260107T195234Z
LAST-MODIFIED:20260128T171316Z
UID:10430617-1804707000-1804730400@golatindance.com
SUMMARY:Latin Nights
DESCRIPTION:Wednesday @ Blue Agave Cantina*\n​(I 10 & HWY 6: Energy Corridor Area)\n14555 GRISBY RD\nHOUSTON TX 77079\n7:30pm: Bachata – All Levels\n8:30pm: Salsa – All Levels\n10pm – 2am: Social Dancing with Live Music!
URL:https://golatindance.com/event/latin-nights/2027-03-10/
LOCATION:Blue Agave Cantina\, 14555 Grisby Rd\, Houston\, TX\, 77079\, United States
CATEGORIES:Houston
ATTACH;FMTTYPE=image/jpeg:https://golatindance.com/wp-content/uploads/2026/01/623130700_122118357507132164_2482773891243133089_n.jpg
END:VEVENT
BEGIN:VEVENT
DTSTART;TZID=America/Chicago:20270317T193000
DTEND;TZID=America/Chicago:20270318T020000
DTSTAMP:20260420T054444
CREATED:20260107T195234Z
LAST-MODIFIED:20260128T171316Z
UID:10430618-1805311800-1805335200@golatindance.com
SUMMARY:Latin Nights
DESCRIPTION:Wednesday @ Blue Agave Cantina*\n​(I 10 & HWY 6: Energy Corridor Area)\n14555 GRISBY RD\nHOUSTON TX 77079\n7:30pm: Bachata – All Levels\n8:30pm: Salsa – All Levels\n10pm – 2am: Social Dancing with Live Music!
URL:https://golatindance.com/event/latin-nights/2027-03-17/
LOCATION:Blue Agave Cantina\, 14555 Grisby Rd\, Houston\, TX\, 77079\, United States
CATEGORIES:Houston
ATTACH;FMTTYPE=image/jpeg:https://golatindance.com/wp-content/uploads/2026/01/623130700_122118357507132164_2482773891243133089_n.jpg
END:VEVENT
BEGIN:VEVENT
DTSTART;TZID=America/Chicago:20270324T193000
DTEND;TZID=America/Chicago:20270325T020000
DTSTAMP:20260420T054444
CREATED:20260107T195234Z
LAST-MODIFIED:20260128T171316Z
UID:10430619-1805916600-1805940000@golatindance.com
SUMMARY:Latin Nights
DESCRIPTION:Wednesday @ Blue Agave Cantina*\n​(I 10 & HWY 6: Energy Corridor Area)\n14555 GRISBY RD\nHOUSTON TX 77079\n7:30pm: Bachata – All Levels\n8:30pm: Salsa – All Levels\n10pm – 2am: Social Dancing with Live Music!
URL:https://golatindance.com/event/latin-nights/2027-03-24/
LOCATION:Blue Agave Cantina\, 14555 Grisby Rd\, Houston\, TX\, 77079\, United States
CATEGORIES:Houston
ATTACH;FMTTYPE=image/jpeg:https://golatindance.com/wp-content/uploads/2026/01/623130700_122118357507132164_2482773891243133089_n.jpg
END:VEVENT
BEGIN:VEVENT
DTSTART;TZID=America/Chicago:20270331T193000
DTEND;TZID=America/Chicago:20270401T020000
DTSTAMP:20260420T054444
CREATED:20260107T195234Z
LAST-MODIFIED:20260128T171316Z
UID:10430620-1806521400-1806544800@golatindance.com
SUMMARY:Latin Nights
DESCRIPTION:Wednesday @ Blue Agave Cantina*\n​(I 10 & HWY 6: Energy Corridor Area)\n14555 GRISBY RD\nHOUSTON TX 77079\n7:30pm: Bachata – All Levels\n8:30pm: Salsa – All Levels\n10pm – 2am: Social Dancing with Live Music!
URL:https://golatindance.com/event/latin-nights/2027-03-31/
LOCATION:Blue Agave Cantina\, 14555 Grisby Rd\, Houston\, TX\, 77079\, United States
CATEGORIES:Houston
ATTACH;FMTTYPE=image/jpeg:https://golatindance.com/wp-content/uploads/2026/01/623130700_122118357507132164_2482773891243133089_n.jpg
END:VEVENT
END:VCALENDAR