BEGIN:VCALENDAR
VERSION:2.0
PRODID:-//GO Latin Dance - ECPv6.15.18//NONSGML v1.0//EN
CALSCALE:GREGORIAN
METHOD:PUBLISH
X-ORIGINAL-URL:https://golatindance.com
X-WR-CALDESC:Events for GO Latin Dance
REFRESH-INTERVAL;VALUE=DURATION:PT1H
X-Robots-Tag:noindex
X-PUBLISHED-TTL:PT1H
BEGIN:VTIMEZONE
TZID:America/New_York
BEGIN:DAYLIGHT
TZOFFSETFROM:-0500
TZOFFSETTO:-0400
TZNAME:EDT
DTSTART:20270314T070000
END:DAYLIGHT
BEGIN:STANDARD
TZOFFSETFROM:-0400
TZOFFSETTO:-0500
TZNAME:EST
DTSTART:20271107T060000
END:STANDARD
BEGIN:DAYLIGHT
TZOFFSETFROM:-0500
TZOFFSETTO:-0400
TZNAME:EDT
DTSTART:20280312T070000
END:DAYLIGHT
BEGIN:STANDARD
TZOFFSETFROM:-0400
TZOFFSETTO:-0500
TZNAME:EST
DTSTART:20281105T060000
END:STANDARD
BEGIN:DAYLIGHT
TZOFFSETFROM:-0500
TZOFFSETTO:-0400
TZNAME:EDT
DTSTART:20290311T070000
END:DAYLIGHT
BEGIN:STANDARD
TZOFFSETFROM:-0400
TZOFFSETTO:-0500
TZNAME:EST
DTSTART:20291104T060000
END:STANDARD
END:VTIMEZONE
BEGIN:VEVENT
DTSTART;TZID=America/New_York:20280326T180000
DTEND;TZID=America/New_York:20280326T210000
DTSTAMP:20260424T104314
CREATED:20260123T211409Z
LAST-MODIFIED:20260127T152223Z
UID:10434769-1837706400-1837717200@golatindance.com
SUMMARY:Salsa Sundays
DESCRIPTION:Class from 6.15pm – 7pm\nTeachers: Johnny and Celi\nWalnut Creek\nAlternating between Salsa and Bachata with an Beginner and Intermediate/Advanced Class
URL:https://golatindance.com/event/salsa-sundays-2-2/2028-03-26/
LOCATION:Bourbon Highway\, 1677 N Main St\, Walnut Creek\, CA\, 94596\, United States
CATEGORIES:San Francisco
ATTACH;FMTTYPE=image/jpeg:https://golatindance.com/wp-content/uploads/2026/01/Screenshot_20251128_232011_Instagram.jpg
ORGANIZER;CN="@johnnyandceli":MAILTO:johnnyandceli.dance@gmail.com
END:VEVENT
BEGIN:VEVENT
DTSTART;TZID=America/New_York:20280402T180000
DTEND;TZID=America/New_York:20280402T210000
DTSTAMP:20260424T104314
CREATED:20260123T211409Z
LAST-MODIFIED:20260127T152223Z
UID:10434770-1838311200-1838322000@golatindance.com
SUMMARY:Salsa Sundays
DESCRIPTION:Class from 6.15pm – 7pm\nTeachers: Johnny and Celi\nWalnut Creek\nAlternating between Salsa and Bachata with an Beginner and Intermediate/Advanced Class
URL:https://golatindance.com/event/salsa-sundays-2-2/2028-04-02/
LOCATION:Bourbon Highway\, 1677 N Main St\, Walnut Creek\, CA\, 94596\, United States
CATEGORIES:San Francisco
ATTACH;FMTTYPE=image/jpeg:https://golatindance.com/wp-content/uploads/2026/01/Screenshot_20251128_232011_Instagram.jpg
ORGANIZER;CN="@johnnyandceli":MAILTO:johnnyandceli.dance@gmail.com
END:VEVENT
BEGIN:VEVENT
DTSTART;TZID=America/New_York:20280409T180000
DTEND;TZID=America/New_York:20280409T210000
DTSTAMP:20260424T104314
CREATED:20260123T211409Z
LAST-MODIFIED:20260127T152223Z
UID:10434771-1838916000-1838926800@golatindance.com
SUMMARY:Salsa Sundays
DESCRIPTION:Class from 6.15pm – 7pm\nTeachers: Johnny and Celi\nWalnut Creek\nAlternating between Salsa and Bachata with an Beginner and Intermediate/Advanced Class
URL:https://golatindance.com/event/salsa-sundays-2-2/2028-04-09/
LOCATION:Bourbon Highway\, 1677 N Main St\, Walnut Creek\, CA\, 94596\, United States
CATEGORIES:San Francisco
ATTACH;FMTTYPE=image/jpeg:https://golatindance.com/wp-content/uploads/2026/01/Screenshot_20251128_232011_Instagram.jpg
ORGANIZER;CN="@johnnyandceli":MAILTO:johnnyandceli.dance@gmail.com
END:VEVENT
BEGIN:VEVENT
DTSTART;TZID=America/New_York:20280416T180000
DTEND;TZID=America/New_York:20280416T210000
DTSTAMP:20260424T104314
CREATED:20260123T211409Z
LAST-MODIFIED:20260127T152223Z
UID:10434772-1839520800-1839531600@golatindance.com
SUMMARY:Salsa Sundays
DESCRIPTION:Class from 6.15pm – 7pm\nTeachers: Johnny and Celi\nWalnut Creek\nAlternating between Salsa and Bachata with an Beginner and Intermediate/Advanced Class
URL:https://golatindance.com/event/salsa-sundays-2-2/2028-04-16/
LOCATION:Bourbon Highway\, 1677 N Main St\, Walnut Creek\, CA\, 94596\, United States
CATEGORIES:San Francisco
ATTACH;FMTTYPE=image/jpeg:https://golatindance.com/wp-content/uploads/2026/01/Screenshot_20251128_232011_Instagram.jpg
ORGANIZER;CN="@johnnyandceli":MAILTO:johnnyandceli.dance@gmail.com
END:VEVENT
BEGIN:VEVENT
DTSTART;TZID=America/New_York:20280423T180000
DTEND;TZID=America/New_York:20280423T210000
DTSTAMP:20260424T104314
CREATED:20260123T211409Z
LAST-MODIFIED:20260127T152223Z
UID:10434773-1840125600-1840136400@golatindance.com
SUMMARY:Salsa Sundays
DESCRIPTION:Class from 6.15pm – 7pm\nTeachers: Johnny and Celi\nWalnut Creek\nAlternating between Salsa and Bachata with an Beginner and Intermediate/Advanced Class
URL:https://golatindance.com/event/salsa-sundays-2-2/2028-04-23/
LOCATION:Bourbon Highway\, 1677 N Main St\, Walnut Creek\, CA\, 94596\, United States
CATEGORIES:San Francisco
ATTACH;FMTTYPE=image/jpeg:https://golatindance.com/wp-content/uploads/2026/01/Screenshot_20251128_232011_Instagram.jpg
ORGANIZER;CN="@johnnyandceli":MAILTO:johnnyandceli.dance@gmail.com
END:VEVENT
BEGIN:VEVENT
DTSTART;TZID=America/New_York:20280430T180000
DTEND;TZID=America/New_York:20280430T210000
DTSTAMP:20260424T104314
CREATED:20260123T211409Z
LAST-MODIFIED:20260127T152223Z
UID:10434774-1840730400-1840741200@golatindance.com
SUMMARY:Salsa Sundays
DESCRIPTION:Class from 6.15pm – 7pm\nTeachers: Johnny and Celi\nWalnut Creek\nAlternating between Salsa and Bachata with an Beginner and Intermediate/Advanced Class
URL:https://golatindance.com/event/salsa-sundays-2-2/2028-04-30/
LOCATION:Bourbon Highway\, 1677 N Main St\, Walnut Creek\, CA\, 94596\, United States
CATEGORIES:San Francisco
ATTACH;FMTTYPE=image/jpeg:https://golatindance.com/wp-content/uploads/2026/01/Screenshot_20251128_232011_Instagram.jpg
ORGANIZER;CN="@johnnyandceli":MAILTO:johnnyandceli.dance@gmail.com
END:VEVENT
BEGIN:VEVENT
DTSTART;TZID=America/New_York:20280507T180000
DTEND;TZID=America/New_York:20280507T210000
DTSTAMP:20260424T104314
CREATED:20260123T211409Z
LAST-MODIFIED:20260127T152223Z
UID:10434775-1841335200-1841346000@golatindance.com
SUMMARY:Salsa Sundays
DESCRIPTION:Class from 6.15pm – 7pm\nTeachers: Johnny and Celi\nWalnut Creek\nAlternating between Salsa and Bachata with an Beginner and Intermediate/Advanced Class
URL:https://golatindance.com/event/salsa-sundays-2-2/2028-05-07/
LOCATION:Bourbon Highway\, 1677 N Main St\, Walnut Creek\, CA\, 94596\, United States
CATEGORIES:San Francisco
ATTACH;FMTTYPE=image/jpeg:https://golatindance.com/wp-content/uploads/2026/01/Screenshot_20251128_232011_Instagram.jpg
ORGANIZER;CN="@johnnyandceli":MAILTO:johnnyandceli.dance@gmail.com
END:VEVENT
BEGIN:VEVENT
DTSTART;TZID=America/New_York:20280514T180000
DTEND;TZID=America/New_York:20280514T210000
DTSTAMP:20260424T104314
CREATED:20260123T211409Z
LAST-MODIFIED:20260127T152223Z
UID:10434776-1841940000-1841950800@golatindance.com
SUMMARY:Salsa Sundays
DESCRIPTION:Class from 6.15pm – 7pm\nTeachers: Johnny and Celi\nWalnut Creek\nAlternating between Salsa and Bachata with an Beginner and Intermediate/Advanced Class
URL:https://golatindance.com/event/salsa-sundays-2-2/2028-05-14/
LOCATION:Bourbon Highway\, 1677 N Main St\, Walnut Creek\, CA\, 94596\, United States
CATEGORIES:San Francisco
ATTACH;FMTTYPE=image/jpeg:https://golatindance.com/wp-content/uploads/2026/01/Screenshot_20251128_232011_Instagram.jpg
ORGANIZER;CN="@johnnyandceli":MAILTO:johnnyandceli.dance@gmail.com
END:VEVENT
BEGIN:VEVENT
DTSTART;TZID=America/New_York:20280521T180000
DTEND;TZID=America/New_York:20280521T210000
DTSTAMP:20260424T104314
CREATED:20260123T211409Z
LAST-MODIFIED:20260127T152223Z
UID:10434777-1842544800-1842555600@golatindance.com
SUMMARY:Salsa Sundays
DESCRIPTION:Class from 6.15pm – 7pm\nTeachers: Johnny and Celi\nWalnut Creek\nAlternating between Salsa and Bachata with an Beginner and Intermediate/Advanced Class
URL:https://golatindance.com/event/salsa-sundays-2-2/2028-05-21/
LOCATION:Bourbon Highway\, 1677 N Main St\, Walnut Creek\, CA\, 94596\, United States
CATEGORIES:San Francisco
ATTACH;FMTTYPE=image/jpeg:https://golatindance.com/wp-content/uploads/2026/01/Screenshot_20251128_232011_Instagram.jpg
ORGANIZER;CN="@johnnyandceli":MAILTO:johnnyandceli.dance@gmail.com
END:VEVENT
BEGIN:VEVENT
DTSTART;TZID=America/New_York:20280528T180000
DTEND;TZID=America/New_York:20280528T210000
DTSTAMP:20260424T104314
CREATED:20260123T211409Z
LAST-MODIFIED:20260127T152223Z
UID:10434778-1843149600-1843160400@golatindance.com
SUMMARY:Salsa Sundays
DESCRIPTION:Class from 6.15pm – 7pm\nTeachers: Johnny and Celi\nWalnut Creek\nAlternating between Salsa and Bachata with an Beginner and Intermediate/Advanced Class
URL:https://golatindance.com/event/salsa-sundays-2-2/2028-05-28/
LOCATION:Bourbon Highway\, 1677 N Main St\, Walnut Creek\, CA\, 94596\, United States
CATEGORIES:San Francisco
ATTACH;FMTTYPE=image/jpeg:https://golatindance.com/wp-content/uploads/2026/01/Screenshot_20251128_232011_Instagram.jpg
ORGANIZER;CN="@johnnyandceli":MAILTO:johnnyandceli.dance@gmail.com
END:VEVENT
BEGIN:VEVENT
DTSTART;TZID=America/New_York:20280604T180000
DTEND;TZID=America/New_York:20280604T210000
DTSTAMP:20260424T104314
CREATED:20260123T211409Z
LAST-MODIFIED:20260127T152223Z
UID:10434779-1843754400-1843765200@golatindance.com
SUMMARY:Salsa Sundays
DESCRIPTION:Class from 6.15pm – 7pm\nTeachers: Johnny and Celi\nWalnut Creek\nAlternating between Salsa and Bachata with an Beginner and Intermediate/Advanced Class
URL:https://golatindance.com/event/salsa-sundays-2-2/2028-06-04/
LOCATION:Bourbon Highway\, 1677 N Main St\, Walnut Creek\, CA\, 94596\, United States
CATEGORIES:San Francisco
ATTACH;FMTTYPE=image/jpeg:https://golatindance.com/wp-content/uploads/2026/01/Screenshot_20251128_232011_Instagram.jpg
ORGANIZER;CN="@johnnyandceli":MAILTO:johnnyandceli.dance@gmail.com
END:VEVENT
BEGIN:VEVENT
DTSTART;TZID=America/New_York:20280611T180000
DTEND;TZID=America/New_York:20280611T210000
DTSTAMP:20260424T104314
CREATED:20260123T211409Z
LAST-MODIFIED:20260127T152223Z
UID:10434780-1844359200-1844370000@golatindance.com
SUMMARY:Salsa Sundays
DESCRIPTION:Class from 6.15pm – 7pm\nTeachers: Johnny and Celi\nWalnut Creek\nAlternating between Salsa and Bachata with an Beginner and Intermediate/Advanced Class
URL:https://golatindance.com/event/salsa-sundays-2-2/2028-06-11/
LOCATION:Bourbon Highway\, 1677 N Main St\, Walnut Creek\, CA\, 94596\, United States
CATEGORIES:San Francisco
ATTACH;FMTTYPE=image/jpeg:https://golatindance.com/wp-content/uploads/2026/01/Screenshot_20251128_232011_Instagram.jpg
ORGANIZER;CN="@johnnyandceli":MAILTO:johnnyandceli.dance@gmail.com
END:VEVENT
BEGIN:VEVENT
DTSTART;TZID=America/New_York:20280618T180000
DTEND;TZID=America/New_York:20280618T210000
DTSTAMP:20260424T104314
CREATED:20260123T211409Z
LAST-MODIFIED:20260127T152223Z
UID:10434781-1844964000-1844974800@golatindance.com
SUMMARY:Salsa Sundays
DESCRIPTION:Class from 6.15pm – 7pm\nTeachers: Johnny and Celi\nWalnut Creek\nAlternating between Salsa and Bachata with an Beginner and Intermediate/Advanced Class
URL:https://golatindance.com/event/salsa-sundays-2-2/2028-06-18/
LOCATION:Bourbon Highway\, 1677 N Main St\, Walnut Creek\, CA\, 94596\, United States
CATEGORIES:San Francisco
ATTACH;FMTTYPE=image/jpeg:https://golatindance.com/wp-content/uploads/2026/01/Screenshot_20251128_232011_Instagram.jpg
ORGANIZER;CN="@johnnyandceli":MAILTO:johnnyandceli.dance@gmail.com
END:VEVENT
BEGIN:VEVENT
DTSTART;TZID=America/New_York:20280625T180000
DTEND;TZID=America/New_York:20280625T210000
DTSTAMP:20260424T104314
CREATED:20260123T211409Z
LAST-MODIFIED:20260127T152223Z
UID:10434782-1845568800-1845579600@golatindance.com
SUMMARY:Salsa Sundays
DESCRIPTION:Class from 6.15pm – 7pm\nTeachers: Johnny and Celi\nWalnut Creek\nAlternating between Salsa and Bachata with an Beginner and Intermediate/Advanced Class
URL:https://golatindance.com/event/salsa-sundays-2-2/2028-06-25/
LOCATION:Bourbon Highway\, 1677 N Main St\, Walnut Creek\, CA\, 94596\, United States
CATEGORIES:San Francisco
ATTACH;FMTTYPE=image/jpeg:https://golatindance.com/wp-content/uploads/2026/01/Screenshot_20251128_232011_Instagram.jpg
ORGANIZER;CN="@johnnyandceli":MAILTO:johnnyandceli.dance@gmail.com
END:VEVENT
BEGIN:VEVENT
DTSTART;TZID=America/New_York:20280702T180000
DTEND;TZID=America/New_York:20280702T210000
DTSTAMP:20260424T104314
CREATED:20260123T211409Z
LAST-MODIFIED:20260127T152223Z
UID:10434783-1846173600-1846184400@golatindance.com
SUMMARY:Salsa Sundays
DESCRIPTION:Class from 6.15pm – 7pm\nTeachers: Johnny and Celi\nWalnut Creek\nAlternating between Salsa and Bachata with an Beginner and Intermediate/Advanced Class
URL:https://golatindance.com/event/salsa-sundays-2-2/2028-07-02/
LOCATION:Bourbon Highway\, 1677 N Main St\, Walnut Creek\, CA\, 94596\, United States
CATEGORIES:San Francisco
ATTACH;FMTTYPE=image/jpeg:https://golatindance.com/wp-content/uploads/2026/01/Screenshot_20251128_232011_Instagram.jpg
ORGANIZER;CN="@johnnyandceli":MAILTO:johnnyandceli.dance@gmail.com
END:VEVENT
BEGIN:VEVENT
DTSTART;TZID=America/New_York:20280709T180000
DTEND;TZID=America/New_York:20280709T210000
DTSTAMP:20260424T104314
CREATED:20260123T211409Z
LAST-MODIFIED:20260127T152223Z
UID:10434784-1846778400-1846789200@golatindance.com
SUMMARY:Salsa Sundays
DESCRIPTION:Class from 6.15pm – 7pm\nTeachers: Johnny and Celi\nWalnut Creek\nAlternating between Salsa and Bachata with an Beginner and Intermediate/Advanced Class
URL:https://golatindance.com/event/salsa-sundays-2-2/2028-07-09/
LOCATION:Bourbon Highway\, 1677 N Main St\, Walnut Creek\, CA\, 94596\, United States
CATEGORIES:San Francisco
ATTACH;FMTTYPE=image/jpeg:https://golatindance.com/wp-content/uploads/2026/01/Screenshot_20251128_232011_Instagram.jpg
ORGANIZER;CN="@johnnyandceli":MAILTO:johnnyandceli.dance@gmail.com
END:VEVENT
BEGIN:VEVENT
DTSTART;TZID=America/New_York:20280716T180000
DTEND;TZID=America/New_York:20280716T210000
DTSTAMP:20260424T104314
CREATED:20260123T211409Z
LAST-MODIFIED:20260127T152223Z
UID:10434785-1847383200-1847394000@golatindance.com
SUMMARY:Salsa Sundays
DESCRIPTION:Class from 6.15pm – 7pm\nTeachers: Johnny and Celi\nWalnut Creek\nAlternating between Salsa and Bachata with an Beginner and Intermediate/Advanced Class
URL:https://golatindance.com/event/salsa-sundays-2-2/2028-07-16/
LOCATION:Bourbon Highway\, 1677 N Main St\, Walnut Creek\, CA\, 94596\, United States
CATEGORIES:San Francisco
ATTACH;FMTTYPE=image/jpeg:https://golatindance.com/wp-content/uploads/2026/01/Screenshot_20251128_232011_Instagram.jpg
ORGANIZER;CN="@johnnyandceli":MAILTO:johnnyandceli.dance@gmail.com
END:VEVENT
BEGIN:VEVENT
DTSTART;TZID=America/New_York:20280723T180000
DTEND;TZID=America/New_York:20280723T210000
DTSTAMP:20260424T104314
CREATED:20260123T211409Z
LAST-MODIFIED:20260127T152223Z
UID:10434786-1847988000-1847998800@golatindance.com
SUMMARY:Salsa Sundays
DESCRIPTION:Class from 6.15pm – 7pm\nTeachers: Johnny and Celi\nWalnut Creek\nAlternating between Salsa and Bachata with an Beginner and Intermediate/Advanced Class
URL:https://golatindance.com/event/salsa-sundays-2-2/2028-07-23/
LOCATION:Bourbon Highway\, 1677 N Main St\, Walnut Creek\, CA\, 94596\, United States
CATEGORIES:San Francisco
ATTACH;FMTTYPE=image/jpeg:https://golatindance.com/wp-content/uploads/2026/01/Screenshot_20251128_232011_Instagram.jpg
ORGANIZER;CN="@johnnyandceli":MAILTO:johnnyandceli.dance@gmail.com
END:VEVENT
BEGIN:VEVENT
DTSTART;TZID=America/New_York:20280730T180000
DTEND;TZID=America/New_York:20280730T210000
DTSTAMP:20260424T104314
CREATED:20260123T211409Z
LAST-MODIFIED:20260127T152223Z
UID:10434787-1848592800-1848603600@golatindance.com
SUMMARY:Salsa Sundays
DESCRIPTION:Class from 6.15pm – 7pm\nTeachers: Johnny and Celi\nWalnut Creek\nAlternating between Salsa and Bachata with an Beginner and Intermediate/Advanced Class
URL:https://golatindance.com/event/salsa-sundays-2-2/2028-07-30/
LOCATION:Bourbon Highway\, 1677 N Main St\, Walnut Creek\, CA\, 94596\, United States
CATEGORIES:San Francisco
ATTACH;FMTTYPE=image/jpeg:https://golatindance.com/wp-content/uploads/2026/01/Screenshot_20251128_232011_Instagram.jpg
ORGANIZER;CN="@johnnyandceli":MAILTO:johnnyandceli.dance@gmail.com
END:VEVENT
BEGIN:VEVENT
DTSTART;TZID=America/New_York:20280806T180000
DTEND;TZID=America/New_York:20280806T210000
DTSTAMP:20260424T104314
CREATED:20260123T211409Z
LAST-MODIFIED:20260127T152223Z
UID:10434788-1849197600-1849208400@golatindance.com
SUMMARY:Salsa Sundays
DESCRIPTION:Class from 6.15pm – 7pm\nTeachers: Johnny and Celi\nWalnut Creek\nAlternating between Salsa and Bachata with an Beginner and Intermediate/Advanced Class
URL:https://golatindance.com/event/salsa-sundays-2-2/2028-08-06/
LOCATION:Bourbon Highway\, 1677 N Main St\, Walnut Creek\, CA\, 94596\, United States
CATEGORIES:San Francisco
ATTACH;FMTTYPE=image/jpeg:https://golatindance.com/wp-content/uploads/2026/01/Screenshot_20251128_232011_Instagram.jpg
ORGANIZER;CN="@johnnyandceli":MAILTO:johnnyandceli.dance@gmail.com
END:VEVENT
BEGIN:VEVENT
DTSTART;TZID=America/New_York:20280813T180000
DTEND;TZID=America/New_York:20280813T210000
DTSTAMP:20260424T104314
CREATED:20260123T211409Z
LAST-MODIFIED:20260127T152223Z
UID:10434789-1849802400-1849813200@golatindance.com
SUMMARY:Salsa Sundays
DESCRIPTION:Class from 6.15pm – 7pm\nTeachers: Johnny and Celi\nWalnut Creek\nAlternating between Salsa and Bachata with an Beginner and Intermediate/Advanced Class
URL:https://golatindance.com/event/salsa-sundays-2-2/2028-08-13/
LOCATION:Bourbon Highway\, 1677 N Main St\, Walnut Creek\, CA\, 94596\, United States
CATEGORIES:San Francisco
ATTACH;FMTTYPE=image/jpeg:https://golatindance.com/wp-content/uploads/2026/01/Screenshot_20251128_232011_Instagram.jpg
ORGANIZER;CN="@johnnyandceli":MAILTO:johnnyandceli.dance@gmail.com
END:VEVENT
BEGIN:VEVENT
DTSTART;TZID=America/New_York:20280820T180000
DTEND;TZID=America/New_York:20280820T210000
DTSTAMP:20260424T104314
CREATED:20260123T211409Z
LAST-MODIFIED:20260127T152223Z
UID:10434790-1850407200-1850418000@golatindance.com
SUMMARY:Salsa Sundays
DESCRIPTION:Class from 6.15pm – 7pm\nTeachers: Johnny and Celi\nWalnut Creek\nAlternating between Salsa and Bachata with an Beginner and Intermediate/Advanced Class
URL:https://golatindance.com/event/salsa-sundays-2-2/2028-08-20/
LOCATION:Bourbon Highway\, 1677 N Main St\, Walnut Creek\, CA\, 94596\, United States
CATEGORIES:San Francisco
ATTACH;FMTTYPE=image/jpeg:https://golatindance.com/wp-content/uploads/2026/01/Screenshot_20251128_232011_Instagram.jpg
ORGANIZER;CN="@johnnyandceli":MAILTO:johnnyandceli.dance@gmail.com
END:VEVENT
BEGIN:VEVENT
DTSTART;TZID=America/New_York:20280827T180000
DTEND;TZID=America/New_York:20280827T210000
DTSTAMP:20260424T104314
CREATED:20260123T211409Z
LAST-MODIFIED:20260127T152223Z
UID:10434791-1851012000-1851022800@golatindance.com
SUMMARY:Salsa Sundays
DESCRIPTION:Class from 6.15pm – 7pm\nTeachers: Johnny and Celi\nWalnut Creek\nAlternating between Salsa and Bachata with an Beginner and Intermediate/Advanced Class
URL:https://golatindance.com/event/salsa-sundays-2-2/2028-08-27/
LOCATION:Bourbon Highway\, 1677 N Main St\, Walnut Creek\, CA\, 94596\, United States
CATEGORIES:San Francisco
ATTACH;FMTTYPE=image/jpeg:https://golatindance.com/wp-content/uploads/2026/01/Screenshot_20251128_232011_Instagram.jpg
ORGANIZER;CN="@johnnyandceli":MAILTO:johnnyandceli.dance@gmail.com
END:VEVENT
BEGIN:VEVENT
DTSTART;TZID=America/New_York:20280903T180000
DTEND;TZID=America/New_York:20280903T210000
DTSTAMP:20260424T104314
CREATED:20260123T211409Z
LAST-MODIFIED:20260127T152223Z
UID:10434792-1851616800-1851627600@golatindance.com
SUMMARY:Salsa Sundays
DESCRIPTION:Class from 6.15pm – 7pm\nTeachers: Johnny and Celi\nWalnut Creek\nAlternating between Salsa and Bachata with an Beginner and Intermediate/Advanced Class
URL:https://golatindance.com/event/salsa-sundays-2-2/2028-09-03/
LOCATION:Bourbon Highway\, 1677 N Main St\, Walnut Creek\, CA\, 94596\, United States
CATEGORIES:San Francisco
ATTACH;FMTTYPE=image/jpeg:https://golatindance.com/wp-content/uploads/2026/01/Screenshot_20251128_232011_Instagram.jpg
ORGANIZER;CN="@johnnyandceli":MAILTO:johnnyandceli.dance@gmail.com
END:VEVENT
BEGIN:VEVENT
DTSTART;TZID=America/New_York:20280910T180000
DTEND;TZID=America/New_York:20280910T210000
DTSTAMP:20260424T104314
CREATED:20260123T211409Z
LAST-MODIFIED:20260127T152223Z
UID:10434793-1852221600-1852232400@golatindance.com
SUMMARY:Salsa Sundays
DESCRIPTION:Class from 6.15pm – 7pm\nTeachers: Johnny and Celi\nWalnut Creek\nAlternating between Salsa and Bachata with an Beginner and Intermediate/Advanced Class
URL:https://golatindance.com/event/salsa-sundays-2-2/2028-09-10/
LOCATION:Bourbon Highway\, 1677 N Main St\, Walnut Creek\, CA\, 94596\, United States
CATEGORIES:San Francisco
ATTACH;FMTTYPE=image/jpeg:https://golatindance.com/wp-content/uploads/2026/01/Screenshot_20251128_232011_Instagram.jpg
ORGANIZER;CN="@johnnyandceli":MAILTO:johnnyandceli.dance@gmail.com
END:VEVENT
BEGIN:VEVENT
DTSTART;TZID=America/New_York:20280917T180000
DTEND;TZID=America/New_York:20280917T210000
DTSTAMP:20260424T104314
CREATED:20260123T211409Z
LAST-MODIFIED:20260127T152223Z
UID:10434794-1852826400-1852837200@golatindance.com
SUMMARY:Salsa Sundays
DESCRIPTION:Class from 6.15pm – 7pm\nTeachers: Johnny and Celi\nWalnut Creek\nAlternating between Salsa and Bachata with an Beginner and Intermediate/Advanced Class
URL:https://golatindance.com/event/salsa-sundays-2-2/2028-09-17/
LOCATION:Bourbon Highway\, 1677 N Main St\, Walnut Creek\, CA\, 94596\, United States
CATEGORIES:San Francisco
ATTACH;FMTTYPE=image/jpeg:https://golatindance.com/wp-content/uploads/2026/01/Screenshot_20251128_232011_Instagram.jpg
ORGANIZER;CN="@johnnyandceli":MAILTO:johnnyandceli.dance@gmail.com
END:VEVENT
BEGIN:VEVENT
DTSTART;TZID=America/New_York:20280924T180000
DTEND;TZID=America/New_York:20280924T210000
DTSTAMP:20260424T104314
CREATED:20260123T211409Z
LAST-MODIFIED:20260127T152223Z
UID:10434795-1853431200-1853442000@golatindance.com
SUMMARY:Salsa Sundays
DESCRIPTION:Class from 6.15pm – 7pm\nTeachers: Johnny and Celi\nWalnut Creek\nAlternating between Salsa and Bachata with an Beginner and Intermediate/Advanced Class
URL:https://golatindance.com/event/salsa-sundays-2-2/2028-09-24/
LOCATION:Bourbon Highway\, 1677 N Main St\, Walnut Creek\, CA\, 94596\, United States
CATEGORIES:San Francisco
ATTACH;FMTTYPE=image/jpeg:https://golatindance.com/wp-content/uploads/2026/01/Screenshot_20251128_232011_Instagram.jpg
ORGANIZER;CN="@johnnyandceli":MAILTO:johnnyandceli.dance@gmail.com
END:VEVENT
BEGIN:VEVENT
DTSTART;TZID=America/New_York:20281001T180000
DTEND;TZID=America/New_York:20281001T210000
DTSTAMP:20260424T104314
CREATED:20260123T211409Z
LAST-MODIFIED:20260127T152223Z
UID:10434796-1854036000-1854046800@golatindance.com
SUMMARY:Salsa Sundays
DESCRIPTION:Class from 6.15pm – 7pm\nTeachers: Johnny and Celi\nWalnut Creek\nAlternating between Salsa and Bachata with an Beginner and Intermediate/Advanced Class
URL:https://golatindance.com/event/salsa-sundays-2-2/2028-10-01/
LOCATION:Bourbon Highway\, 1677 N Main St\, Walnut Creek\, CA\, 94596\, United States
CATEGORIES:San Francisco
ATTACH;FMTTYPE=image/jpeg:https://golatindance.com/wp-content/uploads/2026/01/Screenshot_20251128_232011_Instagram.jpg
ORGANIZER;CN="@johnnyandceli":MAILTO:johnnyandceli.dance@gmail.com
END:VEVENT
BEGIN:VEVENT
DTSTART;TZID=America/New_York:20281008T180000
DTEND;TZID=America/New_York:20281008T210000
DTSTAMP:20260424T104314
CREATED:20260123T211409Z
LAST-MODIFIED:20260127T152223Z
UID:10434797-1854640800-1854651600@golatindance.com
SUMMARY:Salsa Sundays
DESCRIPTION:Class from 6.15pm – 7pm\nTeachers: Johnny and Celi\nWalnut Creek\nAlternating between Salsa and Bachata with an Beginner and Intermediate/Advanced Class
URL:https://golatindance.com/event/salsa-sundays-2-2/2028-10-08/
LOCATION:Bourbon Highway\, 1677 N Main St\, Walnut Creek\, CA\, 94596\, United States
CATEGORIES:San Francisco
ATTACH;FMTTYPE=image/jpeg:https://golatindance.com/wp-content/uploads/2026/01/Screenshot_20251128_232011_Instagram.jpg
ORGANIZER;CN="@johnnyandceli":MAILTO:johnnyandceli.dance@gmail.com
END:VEVENT
BEGIN:VEVENT
DTSTART;TZID=America/New_York:20281015T180000
DTEND;TZID=America/New_York:20281015T210000
DTSTAMP:20260424T104314
CREATED:20260123T211409Z
LAST-MODIFIED:20260127T152223Z
UID:10434798-1855245600-1855256400@golatindance.com
SUMMARY:Salsa Sundays
DESCRIPTION:Class from 6.15pm – 7pm\nTeachers: Johnny and Celi\nWalnut Creek\nAlternating between Salsa and Bachata with an Beginner and Intermediate/Advanced Class
URL:https://golatindance.com/event/salsa-sundays-2-2/2028-10-15/
LOCATION:Bourbon Highway\, 1677 N Main St\, Walnut Creek\, CA\, 94596\, United States
CATEGORIES:San Francisco
ATTACH;FMTTYPE=image/jpeg:https://golatindance.com/wp-content/uploads/2026/01/Screenshot_20251128_232011_Instagram.jpg
ORGANIZER;CN="@johnnyandceli":MAILTO:johnnyandceli.dance@gmail.com
END:VEVENT
END:VCALENDAR