BEGIN:VCALENDAR
VERSION:2.0
PRODID:-//GO Latin Dance - ECPv6.15.18//NONSGML v1.0//EN
CALSCALE:GREGORIAN
METHOD:PUBLISH
X-WR-CALNAME:GO Latin Dance
X-ORIGINAL-URL:https://golatindance.com
X-WR-CALDESC:Events for GO Latin Dance
REFRESH-INTERVAL;VALUE=DURATION:PT1H
X-Robots-Tag:noindex
X-PUBLISHED-TTL:PT1H
BEGIN:VTIMEZONE
TZID:America/New_York
BEGIN:DAYLIGHT
TZOFFSETFROM:-0500
TZOFFSETTO:-0400
TZNAME:EDT
DTSTART:20280312T070000
END:DAYLIGHT
BEGIN:STANDARD
TZOFFSETFROM:-0400
TZOFFSETTO:-0500
TZNAME:EST
DTSTART:20281105T060000
END:STANDARD
BEGIN:DAYLIGHT
TZOFFSETFROM:-0500
TZOFFSETTO:-0400
TZNAME:EDT
DTSTART:20290311T070000
END:DAYLIGHT
BEGIN:STANDARD
TZOFFSETFROM:-0400
TZOFFSETTO:-0500
TZNAME:EST
DTSTART:20291104T060000
END:STANDARD
BEGIN:DAYLIGHT
TZOFFSETFROM:-0500
TZOFFSETTO:-0400
TZNAME:EDT
DTSTART:20300310T070000
END:DAYLIGHT
BEGIN:STANDARD
TZOFFSETFROM:-0400
TZOFFSETTO:-0500
TZNAME:EST
DTSTART:20301103T060000
END:STANDARD
END:VTIMEZONE
BEGIN:VEVENT
DTSTART;TZID=America/New_York:20290311T180000
DTEND;TZID=America/New_York:20290311T210000
DTSTAMP:20260424T172002
CREATED:20260123T211409Z
LAST-MODIFIED:20260127T152223Z
UID:10434819-1867946400-1867957200@golatindance.com
SUMMARY:Salsa Sundays
DESCRIPTION:Class from 6.15pm – 7pm\nTeachers: Johnny and Celi\nWalnut Creek\nAlternating between Salsa and Bachata with an Beginner and Intermediate/Advanced Class
URL:https://golatindance.com/event/salsa-sundays-2-2/2029-03-11/
LOCATION:Bourbon Highway\, 1677 N Main St\, Walnut Creek\, CA\, 94596\, United States
CATEGORIES:San Francisco
ATTACH;FMTTYPE=image/jpeg:https://golatindance.com/wp-content/uploads/2026/01/Screenshot_20251128_232011_Instagram.jpg
ORGANIZER;CN="@johnnyandceli":MAILTO:johnnyandceli.dance@gmail.com
END:VEVENT
BEGIN:VEVENT
DTSTART;TZID=America/New_York:20290318T180000
DTEND;TZID=America/New_York:20290318T210000
DTSTAMP:20260424T172002
CREATED:20260123T211409Z
LAST-MODIFIED:20260127T152223Z
UID:10434820-1868551200-1868562000@golatindance.com
SUMMARY:Salsa Sundays
DESCRIPTION:Class from 6.15pm – 7pm\nTeachers: Johnny and Celi\nWalnut Creek\nAlternating between Salsa and Bachata with an Beginner and Intermediate/Advanced Class
URL:https://golatindance.com/event/salsa-sundays-2-2/2029-03-18/
LOCATION:Bourbon Highway\, 1677 N Main St\, Walnut Creek\, CA\, 94596\, United States
CATEGORIES:San Francisco
ATTACH;FMTTYPE=image/jpeg:https://golatindance.com/wp-content/uploads/2026/01/Screenshot_20251128_232011_Instagram.jpg
ORGANIZER;CN="@johnnyandceli":MAILTO:johnnyandceli.dance@gmail.com
END:VEVENT
BEGIN:VEVENT
DTSTART;TZID=America/New_York:20290325T180000
DTEND;TZID=America/New_York:20290325T210000
DTSTAMP:20260424T172002
CREATED:20260123T211409Z
LAST-MODIFIED:20260127T152223Z
UID:10434821-1869156000-1869166800@golatindance.com
SUMMARY:Salsa Sundays
DESCRIPTION:Class from 6.15pm – 7pm\nTeachers: Johnny and Celi\nWalnut Creek\nAlternating between Salsa and Bachata with an Beginner and Intermediate/Advanced Class
URL:https://golatindance.com/event/salsa-sundays-2-2/2029-03-25/
LOCATION:Bourbon Highway\, 1677 N Main St\, Walnut Creek\, CA\, 94596\, United States
CATEGORIES:San Francisco
ATTACH;FMTTYPE=image/jpeg:https://golatindance.com/wp-content/uploads/2026/01/Screenshot_20251128_232011_Instagram.jpg
ORGANIZER;CN="@johnnyandceli":MAILTO:johnnyandceli.dance@gmail.com
END:VEVENT
BEGIN:VEVENT
DTSTART;TZID=America/New_York:20290401T180000
DTEND;TZID=America/New_York:20290401T210000
DTSTAMP:20260424T172002
CREATED:20260123T211409Z
LAST-MODIFIED:20260127T152223Z
UID:10434822-1869760800-1869771600@golatindance.com
SUMMARY:Salsa Sundays
DESCRIPTION:Class from 6.15pm – 7pm\nTeachers: Johnny and Celi\nWalnut Creek\nAlternating between Salsa and Bachata with an Beginner and Intermediate/Advanced Class
URL:https://golatindance.com/event/salsa-sundays-2-2/2029-04-01/
LOCATION:Bourbon Highway\, 1677 N Main St\, Walnut Creek\, CA\, 94596\, United States
CATEGORIES:San Francisco
ATTACH;FMTTYPE=image/jpeg:https://golatindance.com/wp-content/uploads/2026/01/Screenshot_20251128_232011_Instagram.jpg
ORGANIZER;CN="@johnnyandceli":MAILTO:johnnyandceli.dance@gmail.com
END:VEVENT
BEGIN:VEVENT
DTSTART;TZID=America/New_York:20290408T180000
DTEND;TZID=America/New_York:20290408T210000
DTSTAMP:20260424T172002
CREATED:20260123T211409Z
LAST-MODIFIED:20260127T152223Z
UID:10434823-1870365600-1870376400@golatindance.com
SUMMARY:Salsa Sundays
DESCRIPTION:Class from 6.15pm – 7pm\nTeachers: Johnny and Celi\nWalnut Creek\nAlternating between Salsa and Bachata with an Beginner and Intermediate/Advanced Class
URL:https://golatindance.com/event/salsa-sundays-2-2/2029-04-08/
LOCATION:Bourbon Highway\, 1677 N Main St\, Walnut Creek\, CA\, 94596\, United States
CATEGORIES:San Francisco
ATTACH;FMTTYPE=image/jpeg:https://golatindance.com/wp-content/uploads/2026/01/Screenshot_20251128_232011_Instagram.jpg
ORGANIZER;CN="@johnnyandceli":MAILTO:johnnyandceli.dance@gmail.com
END:VEVENT
BEGIN:VEVENT
DTSTART;TZID=America/New_York:20290415T180000
DTEND;TZID=America/New_York:20290415T210000
DTSTAMP:20260424T172002
CREATED:20260123T211409Z
LAST-MODIFIED:20260127T152223Z
UID:10434824-1870970400-1870981200@golatindance.com
SUMMARY:Salsa Sundays
DESCRIPTION:Class from 6.15pm – 7pm\nTeachers: Johnny and Celi\nWalnut Creek\nAlternating between Salsa and Bachata with an Beginner and Intermediate/Advanced Class
URL:https://golatindance.com/event/salsa-sundays-2-2/2029-04-15/
LOCATION:Bourbon Highway\, 1677 N Main St\, Walnut Creek\, CA\, 94596\, United States
CATEGORIES:San Francisco
ATTACH;FMTTYPE=image/jpeg:https://golatindance.com/wp-content/uploads/2026/01/Screenshot_20251128_232011_Instagram.jpg
ORGANIZER;CN="@johnnyandceli":MAILTO:johnnyandceli.dance@gmail.com
END:VEVENT
BEGIN:VEVENT
DTSTART;TZID=America/New_York:20290422T180000
DTEND;TZID=America/New_York:20290422T210000
DTSTAMP:20260424T172002
CREATED:20260123T211409Z
LAST-MODIFIED:20260127T152223Z
UID:10434825-1871575200-1871586000@golatindance.com
SUMMARY:Salsa Sundays
DESCRIPTION:Class from 6.15pm – 7pm\nTeachers: Johnny and Celi\nWalnut Creek\nAlternating between Salsa and Bachata with an Beginner and Intermediate/Advanced Class
URL:https://golatindance.com/event/salsa-sundays-2-2/2029-04-22/
LOCATION:Bourbon Highway\, 1677 N Main St\, Walnut Creek\, CA\, 94596\, United States
CATEGORIES:San Francisco
ATTACH;FMTTYPE=image/jpeg:https://golatindance.com/wp-content/uploads/2026/01/Screenshot_20251128_232011_Instagram.jpg
ORGANIZER;CN="@johnnyandceli":MAILTO:johnnyandceli.dance@gmail.com
END:VEVENT
BEGIN:VEVENT
DTSTART;TZID=America/New_York:20290429T180000
DTEND;TZID=America/New_York:20290429T210000
DTSTAMP:20260424T172002
CREATED:20260123T211409Z
LAST-MODIFIED:20260127T152223Z
UID:10434826-1872180000-1872190800@golatindance.com
SUMMARY:Salsa Sundays
DESCRIPTION:Class from 6.15pm – 7pm\nTeachers: Johnny and Celi\nWalnut Creek\nAlternating between Salsa and Bachata with an Beginner and Intermediate/Advanced Class
URL:https://golatindance.com/event/salsa-sundays-2-2/2029-04-29/
LOCATION:Bourbon Highway\, 1677 N Main St\, Walnut Creek\, CA\, 94596\, United States
CATEGORIES:San Francisco
ATTACH;FMTTYPE=image/jpeg:https://golatindance.com/wp-content/uploads/2026/01/Screenshot_20251128_232011_Instagram.jpg
ORGANIZER;CN="@johnnyandceli":MAILTO:johnnyandceli.dance@gmail.com
END:VEVENT
BEGIN:VEVENT
DTSTART;TZID=America/New_York:20290506T180000
DTEND;TZID=America/New_York:20290506T210000
DTSTAMP:20260424T172002
CREATED:20260123T211409Z
LAST-MODIFIED:20260127T152223Z
UID:10434827-1872784800-1872795600@golatindance.com
SUMMARY:Salsa Sundays
DESCRIPTION:Class from 6.15pm – 7pm\nTeachers: Johnny and Celi\nWalnut Creek\nAlternating between Salsa and Bachata with an Beginner and Intermediate/Advanced Class
URL:https://golatindance.com/event/salsa-sundays-2-2/2029-05-06/
LOCATION:Bourbon Highway\, 1677 N Main St\, Walnut Creek\, CA\, 94596\, United States
CATEGORIES:San Francisco
ATTACH;FMTTYPE=image/jpeg:https://golatindance.com/wp-content/uploads/2026/01/Screenshot_20251128_232011_Instagram.jpg
ORGANIZER;CN="@johnnyandceli":MAILTO:johnnyandceli.dance@gmail.com
END:VEVENT
BEGIN:VEVENT
DTSTART;TZID=America/New_York:20290513T180000
DTEND;TZID=America/New_York:20290513T210000
DTSTAMP:20260424T172002
CREATED:20260123T211409Z
LAST-MODIFIED:20260127T152223Z
UID:10434828-1873389600-1873400400@golatindance.com
SUMMARY:Salsa Sundays
DESCRIPTION:Class from 6.15pm – 7pm\nTeachers: Johnny and Celi\nWalnut Creek\nAlternating between Salsa and Bachata with an Beginner and Intermediate/Advanced Class
URL:https://golatindance.com/event/salsa-sundays-2-2/2029-05-13/
LOCATION:Bourbon Highway\, 1677 N Main St\, Walnut Creek\, CA\, 94596\, United States
CATEGORIES:San Francisco
ATTACH;FMTTYPE=image/jpeg:https://golatindance.com/wp-content/uploads/2026/01/Screenshot_20251128_232011_Instagram.jpg
ORGANIZER;CN="@johnnyandceli":MAILTO:johnnyandceli.dance@gmail.com
END:VEVENT
BEGIN:VEVENT
DTSTART;TZID=America/New_York:20290520T180000
DTEND;TZID=America/New_York:20290520T210000
DTSTAMP:20260424T172002
CREATED:20260123T211409Z
LAST-MODIFIED:20260127T152223Z
UID:10434829-1873994400-1874005200@golatindance.com
SUMMARY:Salsa Sundays
DESCRIPTION:Class from 6.15pm – 7pm\nTeachers: Johnny and Celi\nWalnut Creek\nAlternating between Salsa and Bachata with an Beginner and Intermediate/Advanced Class
URL:https://golatindance.com/event/salsa-sundays-2-2/2029-05-20/
LOCATION:Bourbon Highway\, 1677 N Main St\, Walnut Creek\, CA\, 94596\, United States
CATEGORIES:San Francisco
ATTACH;FMTTYPE=image/jpeg:https://golatindance.com/wp-content/uploads/2026/01/Screenshot_20251128_232011_Instagram.jpg
ORGANIZER;CN="@johnnyandceli":MAILTO:johnnyandceli.dance@gmail.com
END:VEVENT
BEGIN:VEVENT
DTSTART;TZID=America/New_York:20290527T180000
DTEND;TZID=America/New_York:20290527T210000
DTSTAMP:20260424T172002
CREATED:20260123T211409Z
LAST-MODIFIED:20260127T152223Z
UID:10434830-1874599200-1874610000@golatindance.com
SUMMARY:Salsa Sundays
DESCRIPTION:Class from 6.15pm – 7pm\nTeachers: Johnny and Celi\nWalnut Creek\nAlternating between Salsa and Bachata with an Beginner and Intermediate/Advanced Class
URL:https://golatindance.com/event/salsa-sundays-2-2/2029-05-27/
LOCATION:Bourbon Highway\, 1677 N Main St\, Walnut Creek\, CA\, 94596\, United States
CATEGORIES:San Francisco
ATTACH;FMTTYPE=image/jpeg:https://golatindance.com/wp-content/uploads/2026/01/Screenshot_20251128_232011_Instagram.jpg
ORGANIZER;CN="@johnnyandceli":MAILTO:johnnyandceli.dance@gmail.com
END:VEVENT
BEGIN:VEVENT
DTSTART;TZID=America/New_York:20290603T180000
DTEND;TZID=America/New_York:20290603T210000
DTSTAMP:20260424T172002
CREATED:20260123T211409Z
LAST-MODIFIED:20260127T152223Z
UID:10434831-1875204000-1875214800@golatindance.com
SUMMARY:Salsa Sundays
DESCRIPTION:Class from 6.15pm – 7pm\nTeachers: Johnny and Celi\nWalnut Creek\nAlternating between Salsa and Bachata with an Beginner and Intermediate/Advanced Class
URL:https://golatindance.com/event/salsa-sundays-2-2/2029-06-03/
LOCATION:Bourbon Highway\, 1677 N Main St\, Walnut Creek\, CA\, 94596\, United States
CATEGORIES:San Francisco
ATTACH;FMTTYPE=image/jpeg:https://golatindance.com/wp-content/uploads/2026/01/Screenshot_20251128_232011_Instagram.jpg
ORGANIZER;CN="@johnnyandceli":MAILTO:johnnyandceli.dance@gmail.com
END:VEVENT
BEGIN:VEVENT
DTSTART;TZID=America/New_York:20290610T180000
DTEND;TZID=America/New_York:20290610T210000
DTSTAMP:20260424T172002
CREATED:20260123T211409Z
LAST-MODIFIED:20260127T152223Z
UID:10434832-1875808800-1875819600@golatindance.com
SUMMARY:Salsa Sundays
DESCRIPTION:Class from 6.15pm – 7pm\nTeachers: Johnny and Celi\nWalnut Creek\nAlternating between Salsa and Bachata with an Beginner and Intermediate/Advanced Class
URL:https://golatindance.com/event/salsa-sundays-2-2/2029-06-10/
LOCATION:Bourbon Highway\, 1677 N Main St\, Walnut Creek\, CA\, 94596\, United States
CATEGORIES:San Francisco
ATTACH;FMTTYPE=image/jpeg:https://golatindance.com/wp-content/uploads/2026/01/Screenshot_20251128_232011_Instagram.jpg
ORGANIZER;CN="@johnnyandceli":MAILTO:johnnyandceli.dance@gmail.com
END:VEVENT
BEGIN:VEVENT
DTSTART;TZID=America/New_York:20290617T180000
DTEND;TZID=America/New_York:20290617T210000
DTSTAMP:20260424T172002
CREATED:20260123T211409Z
LAST-MODIFIED:20260127T152223Z
UID:10434833-1876413600-1876424400@golatindance.com
SUMMARY:Salsa Sundays
DESCRIPTION:Class from 6.15pm – 7pm\nTeachers: Johnny and Celi\nWalnut Creek\nAlternating between Salsa and Bachata with an Beginner and Intermediate/Advanced Class
URL:https://golatindance.com/event/salsa-sundays-2-2/2029-06-17/
LOCATION:Bourbon Highway\, 1677 N Main St\, Walnut Creek\, CA\, 94596\, United States
CATEGORIES:San Francisco
ATTACH;FMTTYPE=image/jpeg:https://golatindance.com/wp-content/uploads/2026/01/Screenshot_20251128_232011_Instagram.jpg
ORGANIZER;CN="@johnnyandceli":MAILTO:johnnyandceli.dance@gmail.com
END:VEVENT
BEGIN:VEVENT
DTSTART;TZID=America/New_York:20290624T180000
DTEND;TZID=America/New_York:20290624T210000
DTSTAMP:20260424T172002
CREATED:20260123T211409Z
LAST-MODIFIED:20260127T152223Z
UID:10434834-1877018400-1877029200@golatindance.com
SUMMARY:Salsa Sundays
DESCRIPTION:Class from 6.15pm – 7pm\nTeachers: Johnny and Celi\nWalnut Creek\nAlternating between Salsa and Bachata with an Beginner and Intermediate/Advanced Class
URL:https://golatindance.com/event/salsa-sundays-2-2/2029-06-24/
LOCATION:Bourbon Highway\, 1677 N Main St\, Walnut Creek\, CA\, 94596\, United States
CATEGORIES:San Francisco
ATTACH;FMTTYPE=image/jpeg:https://golatindance.com/wp-content/uploads/2026/01/Screenshot_20251128_232011_Instagram.jpg
ORGANIZER;CN="@johnnyandceli":MAILTO:johnnyandceli.dance@gmail.com
END:VEVENT
BEGIN:VEVENT
DTSTART;TZID=America/New_York:20290701T180000
DTEND;TZID=America/New_York:20290701T210000
DTSTAMP:20260424T172002
CREATED:20260123T211409Z
LAST-MODIFIED:20260127T152223Z
UID:10434835-1877623200-1877634000@golatindance.com
SUMMARY:Salsa Sundays
DESCRIPTION:Class from 6.15pm – 7pm\nTeachers: Johnny and Celi\nWalnut Creek\nAlternating between Salsa and Bachata with an Beginner and Intermediate/Advanced Class
URL:https://golatindance.com/event/salsa-sundays-2-2/2029-07-01/
LOCATION:Bourbon Highway\, 1677 N Main St\, Walnut Creek\, CA\, 94596\, United States
CATEGORIES:San Francisco
ATTACH;FMTTYPE=image/jpeg:https://golatindance.com/wp-content/uploads/2026/01/Screenshot_20251128_232011_Instagram.jpg
ORGANIZER;CN="@johnnyandceli":MAILTO:johnnyandceli.dance@gmail.com
END:VEVENT
BEGIN:VEVENT
DTSTART;TZID=America/New_York:20290708T180000
DTEND;TZID=America/New_York:20290708T210000
DTSTAMP:20260424T172002
CREATED:20260123T211409Z
LAST-MODIFIED:20260127T152223Z
UID:10434836-1878228000-1878238800@golatindance.com
SUMMARY:Salsa Sundays
DESCRIPTION:Class from 6.15pm – 7pm\nTeachers: Johnny and Celi\nWalnut Creek\nAlternating between Salsa and Bachata with an Beginner and Intermediate/Advanced Class
URL:https://golatindance.com/event/salsa-sundays-2-2/2029-07-08/
LOCATION:Bourbon Highway\, 1677 N Main St\, Walnut Creek\, CA\, 94596\, United States
CATEGORIES:San Francisco
ATTACH;FMTTYPE=image/jpeg:https://golatindance.com/wp-content/uploads/2026/01/Screenshot_20251128_232011_Instagram.jpg
ORGANIZER;CN="@johnnyandceli":MAILTO:johnnyandceli.dance@gmail.com
END:VEVENT
BEGIN:VEVENT
DTSTART;TZID=America/New_York:20290715T180000
DTEND;TZID=America/New_York:20290715T210000
DTSTAMP:20260424T172002
CREATED:20260123T211409Z
LAST-MODIFIED:20260127T152223Z
UID:10434837-1878832800-1878843600@golatindance.com
SUMMARY:Salsa Sundays
DESCRIPTION:Class from 6.15pm – 7pm\nTeachers: Johnny and Celi\nWalnut Creek\nAlternating between Salsa and Bachata with an Beginner and Intermediate/Advanced Class
URL:https://golatindance.com/event/salsa-sundays-2-2/2029-07-15/
LOCATION:Bourbon Highway\, 1677 N Main St\, Walnut Creek\, CA\, 94596\, United States
CATEGORIES:San Francisco
ATTACH;FMTTYPE=image/jpeg:https://golatindance.com/wp-content/uploads/2026/01/Screenshot_20251128_232011_Instagram.jpg
ORGANIZER;CN="@johnnyandceli":MAILTO:johnnyandceli.dance@gmail.com
END:VEVENT
BEGIN:VEVENT
DTSTART;TZID=America/New_York:20290722T180000
DTEND;TZID=America/New_York:20290722T210000
DTSTAMP:20260424T172002
CREATED:20260123T211409Z
LAST-MODIFIED:20260127T152223Z
UID:10434838-1879437600-1879448400@golatindance.com
SUMMARY:Salsa Sundays
DESCRIPTION:Class from 6.15pm – 7pm\nTeachers: Johnny and Celi\nWalnut Creek\nAlternating between Salsa and Bachata with an Beginner and Intermediate/Advanced Class
URL:https://golatindance.com/event/salsa-sundays-2-2/2029-07-22/
LOCATION:Bourbon Highway\, 1677 N Main St\, Walnut Creek\, CA\, 94596\, United States
CATEGORIES:San Francisco
ATTACH;FMTTYPE=image/jpeg:https://golatindance.com/wp-content/uploads/2026/01/Screenshot_20251128_232011_Instagram.jpg
ORGANIZER;CN="@johnnyandceli":MAILTO:johnnyandceli.dance@gmail.com
END:VEVENT
BEGIN:VEVENT
DTSTART;TZID=America/New_York:20290729T180000
DTEND;TZID=America/New_York:20290729T210000
DTSTAMP:20260424T172002
CREATED:20260123T211409Z
LAST-MODIFIED:20260127T152223Z
UID:10434839-1880042400-1880053200@golatindance.com
SUMMARY:Salsa Sundays
DESCRIPTION:Class from 6.15pm – 7pm\nTeachers: Johnny and Celi\nWalnut Creek\nAlternating between Salsa and Bachata with an Beginner and Intermediate/Advanced Class
URL:https://golatindance.com/event/salsa-sundays-2-2/2029-07-29/
LOCATION:Bourbon Highway\, 1677 N Main St\, Walnut Creek\, CA\, 94596\, United States
CATEGORIES:San Francisco
ATTACH;FMTTYPE=image/jpeg:https://golatindance.com/wp-content/uploads/2026/01/Screenshot_20251128_232011_Instagram.jpg
ORGANIZER;CN="@johnnyandceli":MAILTO:johnnyandceli.dance@gmail.com
END:VEVENT
BEGIN:VEVENT
DTSTART;TZID=America/New_York:20290805T180000
DTEND;TZID=America/New_York:20290805T210000
DTSTAMP:20260424T172002
CREATED:20260123T211409Z
LAST-MODIFIED:20260127T152223Z
UID:10434840-1880647200-1880658000@golatindance.com
SUMMARY:Salsa Sundays
DESCRIPTION:Class from 6.15pm – 7pm\nTeachers: Johnny and Celi\nWalnut Creek\nAlternating between Salsa and Bachata with an Beginner and Intermediate/Advanced Class
URL:https://golatindance.com/event/salsa-sundays-2-2/2029-08-05/
LOCATION:Bourbon Highway\, 1677 N Main St\, Walnut Creek\, CA\, 94596\, United States
CATEGORIES:San Francisco
ATTACH;FMTTYPE=image/jpeg:https://golatindance.com/wp-content/uploads/2026/01/Screenshot_20251128_232011_Instagram.jpg
ORGANIZER;CN="@johnnyandceli":MAILTO:johnnyandceli.dance@gmail.com
END:VEVENT
BEGIN:VEVENT
DTSTART;TZID=America/New_York:20290812T180000
DTEND;TZID=America/New_York:20290812T210000
DTSTAMP:20260424T172002
CREATED:20260123T211409Z
LAST-MODIFIED:20260127T152223Z
UID:10434841-1881252000-1881262800@golatindance.com
SUMMARY:Salsa Sundays
DESCRIPTION:Class from 6.15pm – 7pm\nTeachers: Johnny and Celi\nWalnut Creek\nAlternating between Salsa and Bachata with an Beginner and Intermediate/Advanced Class
URL:https://golatindance.com/event/salsa-sundays-2-2/2029-08-12/
LOCATION:Bourbon Highway\, 1677 N Main St\, Walnut Creek\, CA\, 94596\, United States
CATEGORIES:San Francisco
ATTACH;FMTTYPE=image/jpeg:https://golatindance.com/wp-content/uploads/2026/01/Screenshot_20251128_232011_Instagram.jpg
ORGANIZER;CN="@johnnyandceli":MAILTO:johnnyandceli.dance@gmail.com
END:VEVENT
BEGIN:VEVENT
DTSTART;TZID=America/New_York:20290819T180000
DTEND;TZID=America/New_York:20290819T210000
DTSTAMP:20260424T172002
CREATED:20260123T211409Z
LAST-MODIFIED:20260127T152223Z
UID:10434842-1881856800-1881867600@golatindance.com
SUMMARY:Salsa Sundays
DESCRIPTION:Class from 6.15pm – 7pm\nTeachers: Johnny and Celi\nWalnut Creek\nAlternating between Salsa and Bachata with an Beginner and Intermediate/Advanced Class
URL:https://golatindance.com/event/salsa-sundays-2-2/2029-08-19/
LOCATION:Bourbon Highway\, 1677 N Main St\, Walnut Creek\, CA\, 94596\, United States
CATEGORIES:San Francisco
ATTACH;FMTTYPE=image/jpeg:https://golatindance.com/wp-content/uploads/2026/01/Screenshot_20251128_232011_Instagram.jpg
ORGANIZER;CN="@johnnyandceli":MAILTO:johnnyandceli.dance@gmail.com
END:VEVENT
BEGIN:VEVENT
DTSTART;TZID=America/New_York:20290826T180000
DTEND;TZID=America/New_York:20290826T210000
DTSTAMP:20260424T172002
CREATED:20260123T211409Z
LAST-MODIFIED:20260127T152223Z
UID:10434843-1882461600-1882472400@golatindance.com
SUMMARY:Salsa Sundays
DESCRIPTION:Class from 6.15pm – 7pm\nTeachers: Johnny and Celi\nWalnut Creek\nAlternating between Salsa and Bachata with an Beginner and Intermediate/Advanced Class
URL:https://golatindance.com/event/salsa-sundays-2-2/2029-08-26/
LOCATION:Bourbon Highway\, 1677 N Main St\, Walnut Creek\, CA\, 94596\, United States
CATEGORIES:San Francisco
ATTACH;FMTTYPE=image/jpeg:https://golatindance.com/wp-content/uploads/2026/01/Screenshot_20251128_232011_Instagram.jpg
ORGANIZER;CN="@johnnyandceli":MAILTO:johnnyandceli.dance@gmail.com
END:VEVENT
BEGIN:VEVENT
DTSTART;TZID=America/New_York:20290902T180000
DTEND;TZID=America/New_York:20290902T210000
DTSTAMP:20260424T172002
CREATED:20260123T211409Z
LAST-MODIFIED:20260127T152223Z
UID:10434844-1883066400-1883077200@golatindance.com
SUMMARY:Salsa Sundays
DESCRIPTION:Class from 6.15pm – 7pm\nTeachers: Johnny and Celi\nWalnut Creek\nAlternating between Salsa and Bachata with an Beginner and Intermediate/Advanced Class
URL:https://golatindance.com/event/salsa-sundays-2-2/2029-09-02/
LOCATION:Bourbon Highway\, 1677 N Main St\, Walnut Creek\, CA\, 94596\, United States
CATEGORIES:San Francisco
ATTACH;FMTTYPE=image/jpeg:https://golatindance.com/wp-content/uploads/2026/01/Screenshot_20251128_232011_Instagram.jpg
ORGANIZER;CN="@johnnyandceli":MAILTO:johnnyandceli.dance@gmail.com
END:VEVENT
BEGIN:VEVENT
DTSTART;TZID=America/New_York:20290909T180000
DTEND;TZID=America/New_York:20290909T210000
DTSTAMP:20260424T172002
CREATED:20260123T211409Z
LAST-MODIFIED:20260127T152223Z
UID:10434845-1883671200-1883682000@golatindance.com
SUMMARY:Salsa Sundays
DESCRIPTION:Class from 6.15pm – 7pm\nTeachers: Johnny and Celi\nWalnut Creek\nAlternating between Salsa and Bachata with an Beginner and Intermediate/Advanced Class
URL:https://golatindance.com/event/salsa-sundays-2-2/2029-09-09/
LOCATION:Bourbon Highway\, 1677 N Main St\, Walnut Creek\, CA\, 94596\, United States
CATEGORIES:San Francisco
ATTACH;FMTTYPE=image/jpeg:https://golatindance.com/wp-content/uploads/2026/01/Screenshot_20251128_232011_Instagram.jpg
ORGANIZER;CN="@johnnyandceli":MAILTO:johnnyandceli.dance@gmail.com
END:VEVENT
BEGIN:VEVENT
DTSTART;TZID=America/New_York:20290916T180000
DTEND;TZID=America/New_York:20290916T210000
DTSTAMP:20260424T172002
CREATED:20260123T211409Z
LAST-MODIFIED:20260127T152223Z
UID:10434846-1884276000-1884286800@golatindance.com
SUMMARY:Salsa Sundays
DESCRIPTION:Class from 6.15pm – 7pm\nTeachers: Johnny and Celi\nWalnut Creek\nAlternating between Salsa and Bachata with an Beginner and Intermediate/Advanced Class
URL:https://golatindance.com/event/salsa-sundays-2-2/2029-09-16/
LOCATION:Bourbon Highway\, 1677 N Main St\, Walnut Creek\, CA\, 94596\, United States
CATEGORIES:San Francisco
ATTACH;FMTTYPE=image/jpeg:https://golatindance.com/wp-content/uploads/2026/01/Screenshot_20251128_232011_Instagram.jpg
ORGANIZER;CN="@johnnyandceli":MAILTO:johnnyandceli.dance@gmail.com
END:VEVENT
BEGIN:VEVENT
DTSTART;TZID=America/New_York:20290923T180000
DTEND;TZID=America/New_York:20290923T210000
DTSTAMP:20260424T172002
CREATED:20260123T211409Z
LAST-MODIFIED:20260127T152223Z
UID:10434847-1884880800-1884891600@golatindance.com
SUMMARY:Salsa Sundays
DESCRIPTION:Class from 6.15pm – 7pm\nTeachers: Johnny and Celi\nWalnut Creek\nAlternating between Salsa and Bachata with an Beginner and Intermediate/Advanced Class
URL:https://golatindance.com/event/salsa-sundays-2-2/2029-09-23/
LOCATION:Bourbon Highway\, 1677 N Main St\, Walnut Creek\, CA\, 94596\, United States
CATEGORIES:San Francisco
ATTACH;FMTTYPE=image/jpeg:https://golatindance.com/wp-content/uploads/2026/01/Screenshot_20251128_232011_Instagram.jpg
ORGANIZER;CN="@johnnyandceli":MAILTO:johnnyandceli.dance@gmail.com
END:VEVENT
BEGIN:VEVENT
DTSTART;TZID=America/New_York:20290930T180000
DTEND;TZID=America/New_York:20290930T210000
DTSTAMP:20260424T172002
CREATED:20260123T211409Z
LAST-MODIFIED:20260127T152223Z
UID:10434848-1885485600-1885496400@golatindance.com
SUMMARY:Salsa Sundays
DESCRIPTION:Class from 6.15pm – 7pm\nTeachers: Johnny and Celi\nWalnut Creek\nAlternating between Salsa and Bachata with an Beginner and Intermediate/Advanced Class
URL:https://golatindance.com/event/salsa-sundays-2-2/2029-09-30/
LOCATION:Bourbon Highway\, 1677 N Main St\, Walnut Creek\, CA\, 94596\, United States
CATEGORIES:San Francisco
ATTACH;FMTTYPE=image/jpeg:https://golatindance.com/wp-content/uploads/2026/01/Screenshot_20251128_232011_Instagram.jpg
ORGANIZER;CN="@johnnyandceli":MAILTO:johnnyandceli.dance@gmail.com
END:VEVENT
END:VCALENDAR