BEGIN:VCALENDAR
VERSION:2.0
PRODID:-//GO Latin Dance - ECPv6.15.18//NONSGML v1.0//EN
CALSCALE:GREGORIAN
METHOD:PUBLISH
X-WR-CALNAME:GO Latin Dance
X-ORIGINAL-URL:https://golatindance.com
X-WR-CALDESC:Events for GO Latin Dance
REFRESH-INTERVAL;VALUE=DURATION:PT1H
X-Robots-Tag:noindex
X-PUBLISHED-TTL:PT1H
BEGIN:VTIMEZONE
TZID:America/Los_Angeles
BEGIN:DAYLIGHT
TZOFFSETFROM:-0800
TZOFFSETTO:-0700
TZNAME:PDT
DTSTART:20250309T100000
END:DAYLIGHT
BEGIN:STANDARD
TZOFFSETFROM:-0700
TZOFFSETTO:-0800
TZNAME:PST
DTSTART:20251102T090000
END:STANDARD
BEGIN:DAYLIGHT
TZOFFSETFROM:-0800
TZOFFSETTO:-0700
TZNAME:PDT
DTSTART:20260308T100000
END:DAYLIGHT
BEGIN:STANDARD
TZOFFSETFROM:-0700
TZOFFSETTO:-0800
TZNAME:PST
DTSTART:20261101T090000
END:STANDARD
BEGIN:DAYLIGHT
TZOFFSETFROM:-0800
TZOFFSETTO:-0700
TZNAME:PDT
DTSTART:20270314T100000
END:DAYLIGHT
BEGIN:STANDARD
TZOFFSETFROM:-0700
TZOFFSETTO:-0800
TZNAME:PST
DTSTART:20271107T090000
END:STANDARD
END:VTIMEZONE
BEGIN:VEVENT
DTSTART;TZID=America/Los_Angeles:20260425T200000
DTEND;TZID=America/Los_Angeles:20260426T010000
DTSTAMP:20260424T200153
CREATED:20250701T152310Z
LAST-MODIFIED:20250701T152310Z
UID:10377055-1777147200-1777165200@golatindance.com
SUMMARY:Tropical Saturdays at Caribe
DESCRIPTION:Tropical Saturdays at Caribe\nTwo rooms of music.\nFree Bachata Salsa classes 8-9p
URL:https://golatindance.com/event/tropical-saturdays-at-caribe/2026-04-25/
LOCATION:Caribe Restaurant and Bar\, 5080 Bonita Rd\, Bonita\, CA\, 91902\, United States
CATEGORIES:San Diego
END:VEVENT
BEGIN:VEVENT
DTSTART;TZID=America/Los_Angeles:20260502T200000
DTEND;TZID=America/Los_Angeles:20260503T010000
DTSTAMP:20260424T200153
CREATED:20250701T152310Z
LAST-MODIFIED:20250701T152310Z
UID:10377056-1777752000-1777770000@golatindance.com
SUMMARY:Tropical Saturdays at Caribe
DESCRIPTION:Tropical Saturdays at Caribe\nTwo rooms of music.\nFree Bachata Salsa classes 8-9p
URL:https://golatindance.com/event/tropical-saturdays-at-caribe/2026-05-02/
LOCATION:Caribe Restaurant and Bar\, 5080 Bonita Rd\, Bonita\, CA\, 91902\, United States
CATEGORIES:San Diego
END:VEVENT
BEGIN:VEVENT
DTSTART;TZID=America/Los_Angeles:20260509T200000
DTEND;TZID=America/Los_Angeles:20260510T010000
DTSTAMP:20260424T200153
CREATED:20250701T152310Z
LAST-MODIFIED:20250701T152310Z
UID:10377057-1778356800-1778374800@golatindance.com
SUMMARY:Tropical Saturdays at Caribe
DESCRIPTION:Tropical Saturdays at Caribe\nTwo rooms of music.\nFree Bachata Salsa classes 8-9p
URL:https://golatindance.com/event/tropical-saturdays-at-caribe/2026-05-09/
LOCATION:Caribe Restaurant and Bar\, 5080 Bonita Rd\, Bonita\, CA\, 91902\, United States
CATEGORIES:San Diego
END:VEVENT
BEGIN:VEVENT
DTSTART;TZID=America/Los_Angeles:20260516T200000
DTEND;TZID=America/Los_Angeles:20260517T010000
DTSTAMP:20260424T200153
CREATED:20250701T152310Z
LAST-MODIFIED:20250701T152310Z
UID:10377058-1778961600-1778979600@golatindance.com
SUMMARY:Tropical Saturdays at Caribe
DESCRIPTION:Tropical Saturdays at Caribe\nTwo rooms of music.\nFree Bachata Salsa classes 8-9p
URL:https://golatindance.com/event/tropical-saturdays-at-caribe/2026-05-16/
LOCATION:Caribe Restaurant and Bar\, 5080 Bonita Rd\, Bonita\, CA\, 91902\, United States
CATEGORIES:San Diego
END:VEVENT
BEGIN:VEVENT
DTSTART;TZID=America/Los_Angeles:20260523T200000
DTEND;TZID=America/Los_Angeles:20260524T010000
DTSTAMP:20260424T200153
CREATED:20250701T152310Z
LAST-MODIFIED:20250701T152310Z
UID:10377059-1779566400-1779584400@golatindance.com
SUMMARY:Tropical Saturdays at Caribe
DESCRIPTION:Tropical Saturdays at Caribe\nTwo rooms of music.\nFree Bachata Salsa classes 8-9p
URL:https://golatindance.com/event/tropical-saturdays-at-caribe/2026-05-23/
LOCATION:Caribe Restaurant and Bar\, 5080 Bonita Rd\, Bonita\, CA\, 91902\, United States
CATEGORIES:San Diego
END:VEVENT
BEGIN:VEVENT
DTSTART;TZID=America/Los_Angeles:20260530T200000
DTEND;TZID=America/Los_Angeles:20260531T010000
DTSTAMP:20260424T200153
CREATED:20250701T152310Z
LAST-MODIFIED:20250701T152310Z
UID:10377060-1780171200-1780189200@golatindance.com
SUMMARY:Tropical Saturdays at Caribe
DESCRIPTION:Tropical Saturdays at Caribe\nTwo rooms of music.\nFree Bachata Salsa classes 8-9p
URL:https://golatindance.com/event/tropical-saturdays-at-caribe/2026-05-30/
LOCATION:Caribe Restaurant and Bar\, 5080 Bonita Rd\, Bonita\, CA\, 91902\, United States
CATEGORIES:San Diego
END:VEVENT
BEGIN:VEVENT
DTSTART;TZID=America/Los_Angeles:20260606T200000
DTEND;TZID=America/Los_Angeles:20260607T010000
DTSTAMP:20260424T200153
CREATED:20250701T152310Z
LAST-MODIFIED:20250701T152310Z
UID:10377061-1780776000-1780794000@golatindance.com
SUMMARY:Tropical Saturdays at Caribe
DESCRIPTION:Tropical Saturdays at Caribe\nTwo rooms of music.\nFree Bachata Salsa classes 8-9p
URL:https://golatindance.com/event/tropical-saturdays-at-caribe/2026-06-06/
LOCATION:Caribe Restaurant and Bar\, 5080 Bonita Rd\, Bonita\, CA\, 91902\, United States
CATEGORIES:San Diego
END:VEVENT
BEGIN:VEVENT
DTSTART;TZID=America/Los_Angeles:20260613T200000
DTEND;TZID=America/Los_Angeles:20260614T010000
DTSTAMP:20260424T200153
CREATED:20250701T152310Z
LAST-MODIFIED:20250701T152310Z
UID:10377062-1781380800-1781398800@golatindance.com
SUMMARY:Tropical Saturdays at Caribe
DESCRIPTION:Tropical Saturdays at Caribe\nTwo rooms of music.\nFree Bachata Salsa classes 8-9p
URL:https://golatindance.com/event/tropical-saturdays-at-caribe/2026-06-13/
LOCATION:Caribe Restaurant and Bar\, 5080 Bonita Rd\, Bonita\, CA\, 91902\, United States
CATEGORIES:San Diego
END:VEVENT
BEGIN:VEVENT
DTSTART;TZID=America/Los_Angeles:20260620T200000
DTEND;TZID=America/Los_Angeles:20260621T010000
DTSTAMP:20260424T200153
CREATED:20250701T152310Z
LAST-MODIFIED:20250701T152310Z
UID:10377063-1781985600-1782003600@golatindance.com
SUMMARY:Tropical Saturdays at Caribe
DESCRIPTION:Tropical Saturdays at Caribe\nTwo rooms of music.\nFree Bachata Salsa classes 8-9p
URL:https://golatindance.com/event/tropical-saturdays-at-caribe/2026-06-20/
LOCATION:Caribe Restaurant and Bar\, 5080 Bonita Rd\, Bonita\, CA\, 91902\, United States
CATEGORIES:San Diego
END:VEVENT
BEGIN:VEVENT
DTSTART;TZID=America/Los_Angeles:20260627T200000
DTEND;TZID=America/Los_Angeles:20260628T010000
DTSTAMP:20260424T200153
CREATED:20250701T152310Z
LAST-MODIFIED:20250701T152310Z
UID:10377064-1782590400-1782608400@golatindance.com
SUMMARY:Tropical Saturdays at Caribe
DESCRIPTION:Tropical Saturdays at Caribe\nTwo rooms of music.\nFree Bachata Salsa classes 8-9p
URL:https://golatindance.com/event/tropical-saturdays-at-caribe/2026-06-27/
LOCATION:Caribe Restaurant and Bar\, 5080 Bonita Rd\, Bonita\, CA\, 91902\, United States
CATEGORIES:San Diego
END:VEVENT
BEGIN:VEVENT
DTSTART;TZID=America/Los_Angeles:20260704T200000
DTEND;TZID=America/Los_Angeles:20260705T010000
DTSTAMP:20260424T200153
CREATED:20250701T152310Z
LAST-MODIFIED:20250701T152310Z
UID:10377065-1783195200-1783213200@golatindance.com
SUMMARY:Tropical Saturdays at Caribe
DESCRIPTION:Tropical Saturdays at Caribe\nTwo rooms of music.\nFree Bachata Salsa classes 8-9p
URL:https://golatindance.com/event/tropical-saturdays-at-caribe/2026-07-04/
LOCATION:Caribe Restaurant and Bar\, 5080 Bonita Rd\, Bonita\, CA\, 91902\, United States
CATEGORIES:San Diego
END:VEVENT
BEGIN:VEVENT
DTSTART;TZID=America/Los_Angeles:20260711T200000
DTEND;TZID=America/Los_Angeles:20260712T010000
DTSTAMP:20260424T200153
CREATED:20250701T152310Z
LAST-MODIFIED:20250701T152310Z
UID:10377066-1783800000-1783818000@golatindance.com
SUMMARY:Tropical Saturdays at Caribe
DESCRIPTION:Tropical Saturdays at Caribe\nTwo rooms of music.\nFree Bachata Salsa classes 8-9p
URL:https://golatindance.com/event/tropical-saturdays-at-caribe/2026-07-11/
LOCATION:Caribe Restaurant and Bar\, 5080 Bonita Rd\, Bonita\, CA\, 91902\, United States
CATEGORIES:San Diego
END:VEVENT
BEGIN:VEVENT
DTSTART;TZID=America/Los_Angeles:20260718T200000
DTEND;TZID=America/Los_Angeles:20260719T010000
DTSTAMP:20260424T200153
CREATED:20250701T152310Z
LAST-MODIFIED:20250701T152310Z
UID:10377067-1784404800-1784422800@golatindance.com
SUMMARY:Tropical Saturdays at Caribe
DESCRIPTION:Tropical Saturdays at Caribe\nTwo rooms of music.\nFree Bachata Salsa classes 8-9p
URL:https://golatindance.com/event/tropical-saturdays-at-caribe/2026-07-18/
LOCATION:Caribe Restaurant and Bar\, 5080 Bonita Rd\, Bonita\, CA\, 91902\, United States
CATEGORIES:San Diego
END:VEVENT
BEGIN:VEVENT
DTSTART;TZID=America/Los_Angeles:20260725T200000
DTEND;TZID=America/Los_Angeles:20260726T010000
DTSTAMP:20260424T200153
CREATED:20250701T152310Z
LAST-MODIFIED:20250701T152310Z
UID:10377068-1785009600-1785027600@golatindance.com
SUMMARY:Tropical Saturdays at Caribe
DESCRIPTION:Tropical Saturdays at Caribe\nTwo rooms of music.\nFree Bachata Salsa classes 8-9p
URL:https://golatindance.com/event/tropical-saturdays-at-caribe/2026-07-25/
LOCATION:Caribe Restaurant and Bar\, 5080 Bonita Rd\, Bonita\, CA\, 91902\, United States
CATEGORIES:San Diego
END:VEVENT
BEGIN:VEVENT
DTSTART;TZID=America/Los_Angeles:20260801T200000
DTEND;TZID=America/Los_Angeles:20260802T010000
DTSTAMP:20260424T200153
CREATED:20250701T152310Z
LAST-MODIFIED:20250701T152310Z
UID:10377069-1785614400-1785632400@golatindance.com
SUMMARY:Tropical Saturdays at Caribe
DESCRIPTION:Tropical Saturdays at Caribe\nTwo rooms of music.\nFree Bachata Salsa classes 8-9p
URL:https://golatindance.com/event/tropical-saturdays-at-caribe/2026-08-01/
LOCATION:Caribe Restaurant and Bar\, 5080 Bonita Rd\, Bonita\, CA\, 91902\, United States
CATEGORIES:San Diego
END:VEVENT
BEGIN:VEVENT
DTSTART;TZID=America/Los_Angeles:20260808T200000
DTEND;TZID=America/Los_Angeles:20260809T010000
DTSTAMP:20260424T200153
CREATED:20250701T152310Z
LAST-MODIFIED:20250701T152310Z
UID:10377070-1786219200-1786237200@golatindance.com
SUMMARY:Tropical Saturdays at Caribe
DESCRIPTION:Tropical Saturdays at Caribe\nTwo rooms of music.\nFree Bachata Salsa classes 8-9p
URL:https://golatindance.com/event/tropical-saturdays-at-caribe/2026-08-08/
LOCATION:Caribe Restaurant and Bar\, 5080 Bonita Rd\, Bonita\, CA\, 91902\, United States
CATEGORIES:San Diego
END:VEVENT
BEGIN:VEVENT
DTSTART;TZID=America/Los_Angeles:20260815T200000
DTEND;TZID=America/Los_Angeles:20260816T010000
DTSTAMP:20260424T200153
CREATED:20250701T152310Z
LAST-MODIFIED:20250701T152310Z
UID:10377071-1786824000-1786842000@golatindance.com
SUMMARY:Tropical Saturdays at Caribe
DESCRIPTION:Tropical Saturdays at Caribe\nTwo rooms of music.\nFree Bachata Salsa classes 8-9p
URL:https://golatindance.com/event/tropical-saturdays-at-caribe/2026-08-15/
LOCATION:Caribe Restaurant and Bar\, 5080 Bonita Rd\, Bonita\, CA\, 91902\, United States
CATEGORIES:San Diego
END:VEVENT
BEGIN:VEVENT
DTSTART;TZID=America/Los_Angeles:20260822T200000
DTEND;TZID=America/Los_Angeles:20260823T010000
DTSTAMP:20260424T200153
CREATED:20250701T152310Z
LAST-MODIFIED:20250701T152310Z
UID:10377072-1787428800-1787446800@golatindance.com
SUMMARY:Tropical Saturdays at Caribe
DESCRIPTION:Tropical Saturdays at Caribe\nTwo rooms of music.\nFree Bachata Salsa classes 8-9p
URL:https://golatindance.com/event/tropical-saturdays-at-caribe/2026-08-22/
LOCATION:Caribe Restaurant and Bar\, 5080 Bonita Rd\, Bonita\, CA\, 91902\, United States
CATEGORIES:San Diego
END:VEVENT
BEGIN:VEVENT
DTSTART;TZID=America/Los_Angeles:20260829T200000
DTEND;TZID=America/Los_Angeles:20260830T010000
DTSTAMP:20260424T200153
CREATED:20250701T152310Z
LAST-MODIFIED:20250701T152310Z
UID:10377073-1788033600-1788051600@golatindance.com
SUMMARY:Tropical Saturdays at Caribe
DESCRIPTION:Tropical Saturdays at Caribe\nTwo rooms of music.\nFree Bachata Salsa classes 8-9p
URL:https://golatindance.com/event/tropical-saturdays-at-caribe/2026-08-29/
LOCATION:Caribe Restaurant and Bar\, 5080 Bonita Rd\, Bonita\, CA\, 91902\, United States
CATEGORIES:San Diego
END:VEVENT
BEGIN:VEVENT
DTSTART;TZID=America/Los_Angeles:20260905T200000
DTEND;TZID=America/Los_Angeles:20260906T010000
DTSTAMP:20260424T200153
CREATED:20250701T152310Z
LAST-MODIFIED:20250701T152310Z
UID:10377074-1788638400-1788656400@golatindance.com
SUMMARY:Tropical Saturdays at Caribe
DESCRIPTION:Tropical Saturdays at Caribe\nTwo rooms of music.\nFree Bachata Salsa classes 8-9p
URL:https://golatindance.com/event/tropical-saturdays-at-caribe/2026-09-05/
LOCATION:Caribe Restaurant and Bar\, 5080 Bonita Rd\, Bonita\, CA\, 91902\, United States
CATEGORIES:San Diego
END:VEVENT
BEGIN:VEVENT
DTSTART;TZID=America/Los_Angeles:20260912T200000
DTEND;TZID=America/Los_Angeles:20260913T010000
DTSTAMP:20260424T200153
CREATED:20250701T152310Z
LAST-MODIFIED:20250701T152310Z
UID:10377075-1789243200-1789261200@golatindance.com
SUMMARY:Tropical Saturdays at Caribe
DESCRIPTION:Tropical Saturdays at Caribe\nTwo rooms of music.\nFree Bachata Salsa classes 8-9p
URL:https://golatindance.com/event/tropical-saturdays-at-caribe/2026-09-12/
LOCATION:Caribe Restaurant and Bar\, 5080 Bonita Rd\, Bonita\, CA\, 91902\, United States
CATEGORIES:San Diego
END:VEVENT
BEGIN:VEVENT
DTSTART;TZID=America/Los_Angeles:20260919T200000
DTEND;TZID=America/Los_Angeles:20260920T010000
DTSTAMP:20260424T200153
CREATED:20250701T152310Z
LAST-MODIFIED:20250701T152310Z
UID:10377076-1789848000-1789866000@golatindance.com
SUMMARY:Tropical Saturdays at Caribe
DESCRIPTION:Tropical Saturdays at Caribe\nTwo rooms of music.\nFree Bachata Salsa classes 8-9p
URL:https://golatindance.com/event/tropical-saturdays-at-caribe/2026-09-19/
LOCATION:Caribe Restaurant and Bar\, 5080 Bonita Rd\, Bonita\, CA\, 91902\, United States
CATEGORIES:San Diego
END:VEVENT
BEGIN:VEVENT
DTSTART;TZID=America/Los_Angeles:20260926T200000
DTEND;TZID=America/Los_Angeles:20260927T010000
DTSTAMP:20260424T200153
CREATED:20250701T152310Z
LAST-MODIFIED:20250701T152310Z
UID:10377077-1790452800-1790470800@golatindance.com
SUMMARY:Tropical Saturdays at Caribe
DESCRIPTION:Tropical Saturdays at Caribe\nTwo rooms of music.\nFree Bachata Salsa classes 8-9p
URL:https://golatindance.com/event/tropical-saturdays-at-caribe/2026-09-26/
LOCATION:Caribe Restaurant and Bar\, 5080 Bonita Rd\, Bonita\, CA\, 91902\, United States
CATEGORIES:San Diego
END:VEVENT
BEGIN:VEVENT
DTSTART;TZID=America/Los_Angeles:20261003T200000
DTEND;TZID=America/Los_Angeles:20261004T010000
DTSTAMP:20260424T200153
CREATED:20250701T152310Z
LAST-MODIFIED:20250701T152310Z
UID:10377078-1791057600-1791075600@golatindance.com
SUMMARY:Tropical Saturdays at Caribe
DESCRIPTION:Tropical Saturdays at Caribe\nTwo rooms of music.\nFree Bachata Salsa classes 8-9p
URL:https://golatindance.com/event/tropical-saturdays-at-caribe/2026-10-03/
LOCATION:Caribe Restaurant and Bar\, 5080 Bonita Rd\, Bonita\, CA\, 91902\, United States
CATEGORIES:San Diego
END:VEVENT
BEGIN:VEVENT
DTSTART;TZID=America/Los_Angeles:20261010T200000
DTEND;TZID=America/Los_Angeles:20261011T010000
DTSTAMP:20260424T200153
CREATED:20250701T152310Z
LAST-MODIFIED:20250701T152310Z
UID:10377079-1791662400-1791680400@golatindance.com
SUMMARY:Tropical Saturdays at Caribe
DESCRIPTION:Tropical Saturdays at Caribe\nTwo rooms of music.\nFree Bachata Salsa classes 8-9p
URL:https://golatindance.com/event/tropical-saturdays-at-caribe/2026-10-10/
LOCATION:Caribe Restaurant and Bar\, 5080 Bonita Rd\, Bonita\, CA\, 91902\, United States
CATEGORIES:San Diego
END:VEVENT
BEGIN:VEVENT
DTSTART;TZID=America/Los_Angeles:20261017T200000
DTEND;TZID=America/Los_Angeles:20261018T010000
DTSTAMP:20260424T200153
CREATED:20250701T152310Z
LAST-MODIFIED:20250701T152310Z
UID:10377080-1792267200-1792285200@golatindance.com
SUMMARY:Tropical Saturdays at Caribe
DESCRIPTION:Tropical Saturdays at Caribe\nTwo rooms of music.\nFree Bachata Salsa classes 8-9p
URL:https://golatindance.com/event/tropical-saturdays-at-caribe/2026-10-17/
LOCATION:Caribe Restaurant and Bar\, 5080 Bonita Rd\, Bonita\, CA\, 91902\, United States
CATEGORIES:San Diego
END:VEVENT
BEGIN:VEVENT
DTSTART;TZID=America/Los_Angeles:20261024T200000
DTEND;TZID=America/Los_Angeles:20261025T010000
DTSTAMP:20260424T200153
CREATED:20250701T152310Z
LAST-MODIFIED:20250701T152310Z
UID:10377081-1792872000-1792890000@golatindance.com
SUMMARY:Tropical Saturdays at Caribe
DESCRIPTION:Tropical Saturdays at Caribe\nTwo rooms of music.\nFree Bachata Salsa classes 8-9p
URL:https://golatindance.com/event/tropical-saturdays-at-caribe/2026-10-24/
LOCATION:Caribe Restaurant and Bar\, 5080 Bonita Rd\, Bonita\, CA\, 91902\, United States
CATEGORIES:San Diego
END:VEVENT
BEGIN:VEVENT
DTSTART;TZID=America/Los_Angeles:20261031T200000
DTEND;TZID=America/Los_Angeles:20261101T010000
DTSTAMP:20260424T200153
CREATED:20250701T152310Z
LAST-MODIFIED:20250701T152310Z
UID:10377082-1793476800-1793494800@golatindance.com
SUMMARY:Tropical Saturdays at Caribe
DESCRIPTION:Tropical Saturdays at Caribe\nTwo rooms of music.\nFree Bachata Salsa classes 8-9p
URL:https://golatindance.com/event/tropical-saturdays-at-caribe/2026-10-31/
LOCATION:Caribe Restaurant and Bar\, 5080 Bonita Rd\, Bonita\, CA\, 91902\, United States
CATEGORIES:San Diego
END:VEVENT
BEGIN:VEVENT
DTSTART;TZID=America/Los_Angeles:20261107T200000
DTEND;TZID=America/Los_Angeles:20261108T010000
DTSTAMP:20260424T200153
CREATED:20250701T152310Z
LAST-MODIFIED:20250701T152310Z
UID:10377083-1794081600-1794099600@golatindance.com
SUMMARY:Tropical Saturdays at Caribe
DESCRIPTION:Tropical Saturdays at Caribe\nTwo rooms of music.\nFree Bachata Salsa classes 8-9p
URL:https://golatindance.com/event/tropical-saturdays-at-caribe/2026-11-07/
LOCATION:Caribe Restaurant and Bar\, 5080 Bonita Rd\, Bonita\, CA\, 91902\, United States
CATEGORIES:San Diego
END:VEVENT
BEGIN:VEVENT
DTSTART;TZID=America/Los_Angeles:20261114T200000
DTEND;TZID=America/Los_Angeles:20261115T010000
DTSTAMP:20260424T200153
CREATED:20250701T152310Z
LAST-MODIFIED:20250701T152310Z
UID:10377084-1794686400-1794704400@golatindance.com
SUMMARY:Tropical Saturdays at Caribe
DESCRIPTION:Tropical Saturdays at Caribe\nTwo rooms of music.\nFree Bachata Salsa classes 8-9p
URL:https://golatindance.com/event/tropical-saturdays-at-caribe/2026-11-14/
LOCATION:Caribe Restaurant and Bar\, 5080 Bonita Rd\, Bonita\, CA\, 91902\, United States
CATEGORIES:San Diego
END:VEVENT
END:VCALENDAR