BEGIN:VCALENDAR
VERSION:2.0
PRODID:-//GO Latin Dance - ECPv6.15.18//NONSGML v1.0//EN
CALSCALE:GREGORIAN
METHOD:PUBLISH
X-ORIGINAL-URL:https://golatindance.com
X-WR-CALDESC:Events for GO Latin Dance
REFRESH-INTERVAL;VALUE=DURATION:PT1H
X-Robots-Tag:noindex
X-PUBLISHED-TTL:PT1H
BEGIN:VTIMEZONE
TZID:America/Los_Angeles
BEGIN:DAYLIGHT
TZOFFSETFROM:-0800
TZOFFSETTO:-0700
TZNAME:PDT
DTSTART:20260308T100000
END:DAYLIGHT
BEGIN:STANDARD
TZOFFSETFROM:-0700
TZOFFSETTO:-0800
TZNAME:PST
DTSTART:20261101T090000
END:STANDARD
BEGIN:DAYLIGHT
TZOFFSETFROM:-0800
TZOFFSETTO:-0700
TZNAME:PDT
DTSTART:20270314T100000
END:DAYLIGHT
BEGIN:STANDARD
TZOFFSETFROM:-0700
TZOFFSETTO:-0800
TZNAME:PST
DTSTART:20271107T090000
END:STANDARD
BEGIN:DAYLIGHT
TZOFFSETFROM:-0800
TZOFFSETTO:-0700
TZNAME:PDT
DTSTART:20280312T100000
END:DAYLIGHT
BEGIN:STANDARD
TZOFFSETFROM:-0700
TZOFFSETTO:-0800
TZNAME:PST
DTSTART:20281105T090000
END:STANDARD
BEGIN:DAYLIGHT
TZOFFSETFROM:-0800
TZOFFSETTO:-0700
TZNAME:PDT
DTSTART:20290311T100000
END:DAYLIGHT
BEGIN:STANDARD
TZOFFSETFROM:-0700
TZOFFSETTO:-0800
TZNAME:PST
DTSTART:20291104T090000
END:STANDARD
END:VTIMEZONE
BEGIN:VEVENT
DTSTART;TZID=America/Los_Angeles:20271106T200000
DTEND;TZID=America/Los_Angeles:20271107T010000
DTSTAMP:20260425T062219
CREATED:20250701T152310Z
LAST-MODIFIED:20250701T152310Z
UID:10377135-1825531200-1825549200@golatindance.com
SUMMARY:Tropical Saturdays at Caribe
DESCRIPTION:Tropical Saturdays at Caribe\nTwo rooms of music.\nFree Bachata Salsa classes 8-9p
URL:https://golatindance.com/event/tropical-saturdays-at-caribe/2027-11-06/
LOCATION:Caribe Restaurant and Bar\, 5080 Bonita Rd\, Bonita\, CA\, 91902\, United States
CATEGORIES:San Diego
END:VEVENT
BEGIN:VEVENT
DTSTART;TZID=America/Los_Angeles:20271113T200000
DTEND;TZID=America/Los_Angeles:20271114T010000
DTSTAMP:20260425T062219
CREATED:20250701T152310Z
LAST-MODIFIED:20250701T152310Z
UID:10377136-1826136000-1826154000@golatindance.com
SUMMARY:Tropical Saturdays at Caribe
DESCRIPTION:Tropical Saturdays at Caribe\nTwo rooms of music.\nFree Bachata Salsa classes 8-9p
URL:https://golatindance.com/event/tropical-saturdays-at-caribe/2027-11-13/
LOCATION:Caribe Restaurant and Bar\, 5080 Bonita Rd\, Bonita\, CA\, 91902\, United States
CATEGORIES:San Diego
END:VEVENT
BEGIN:VEVENT
DTSTART;TZID=America/Los_Angeles:20271120T200000
DTEND;TZID=America/Los_Angeles:20271121T010000
DTSTAMP:20260425T062219
CREATED:20250701T152310Z
LAST-MODIFIED:20250701T152310Z
UID:10377137-1826740800-1826758800@golatindance.com
SUMMARY:Tropical Saturdays at Caribe
DESCRIPTION:Tropical Saturdays at Caribe\nTwo rooms of music.\nFree Bachata Salsa classes 8-9p
URL:https://golatindance.com/event/tropical-saturdays-at-caribe/2027-11-20/
LOCATION:Caribe Restaurant and Bar\, 5080 Bonita Rd\, Bonita\, CA\, 91902\, United States
CATEGORIES:San Diego
END:VEVENT
BEGIN:VEVENT
DTSTART;TZID=America/Los_Angeles:20271127T200000
DTEND;TZID=America/Los_Angeles:20271128T010000
DTSTAMP:20260425T062219
CREATED:20250701T152310Z
LAST-MODIFIED:20250701T152310Z
UID:10377138-1827345600-1827363600@golatindance.com
SUMMARY:Tropical Saturdays at Caribe
DESCRIPTION:Tropical Saturdays at Caribe\nTwo rooms of music.\nFree Bachata Salsa classes 8-9p
URL:https://golatindance.com/event/tropical-saturdays-at-caribe/2027-11-27/
LOCATION:Caribe Restaurant and Bar\, 5080 Bonita Rd\, Bonita\, CA\, 91902\, United States
CATEGORIES:San Diego
END:VEVENT
BEGIN:VEVENT
DTSTART;TZID=America/Los_Angeles:20271204T200000
DTEND;TZID=America/Los_Angeles:20271205T010000
DTSTAMP:20260425T062219
CREATED:20250701T152310Z
LAST-MODIFIED:20250701T152310Z
UID:10377139-1827950400-1827968400@golatindance.com
SUMMARY:Tropical Saturdays at Caribe
DESCRIPTION:Tropical Saturdays at Caribe\nTwo rooms of music.\nFree Bachata Salsa classes 8-9p
URL:https://golatindance.com/event/tropical-saturdays-at-caribe/2027-12-04/
LOCATION:Caribe Restaurant and Bar\, 5080 Bonita Rd\, Bonita\, CA\, 91902\, United States
CATEGORIES:San Diego
END:VEVENT
BEGIN:VEVENT
DTSTART;TZID=America/Los_Angeles:20271211T200000
DTEND;TZID=America/Los_Angeles:20271212T010000
DTSTAMP:20260425T062219
CREATED:20250701T152310Z
LAST-MODIFIED:20250701T152310Z
UID:10377140-1828555200-1828573200@golatindance.com
SUMMARY:Tropical Saturdays at Caribe
DESCRIPTION:Tropical Saturdays at Caribe\nTwo rooms of music.\nFree Bachata Salsa classes 8-9p
URL:https://golatindance.com/event/tropical-saturdays-at-caribe/2027-12-11/
LOCATION:Caribe Restaurant and Bar\, 5080 Bonita Rd\, Bonita\, CA\, 91902\, United States
CATEGORIES:San Diego
END:VEVENT
BEGIN:VEVENT
DTSTART;TZID=America/Los_Angeles:20271218T200000
DTEND;TZID=America/Los_Angeles:20271219T010000
DTSTAMP:20260425T062219
CREATED:20250701T152310Z
LAST-MODIFIED:20250701T152310Z
UID:10377141-1829160000-1829178000@golatindance.com
SUMMARY:Tropical Saturdays at Caribe
DESCRIPTION:Tropical Saturdays at Caribe\nTwo rooms of music.\nFree Bachata Salsa classes 8-9p
URL:https://golatindance.com/event/tropical-saturdays-at-caribe/2027-12-18/
LOCATION:Caribe Restaurant and Bar\, 5080 Bonita Rd\, Bonita\, CA\, 91902\, United States
CATEGORIES:San Diego
END:VEVENT
BEGIN:VEVENT
DTSTART;TZID=America/Los_Angeles:20271225T200000
DTEND;TZID=America/Los_Angeles:20271226T010000
DTSTAMP:20260425T062219
CREATED:20250701T152310Z
LAST-MODIFIED:20250701T152310Z
UID:10377142-1829764800-1829782800@golatindance.com
SUMMARY:Tropical Saturdays at Caribe
DESCRIPTION:Tropical Saturdays at Caribe\nTwo rooms of music.\nFree Bachata Salsa classes 8-9p
URL:https://golatindance.com/event/tropical-saturdays-at-caribe/2027-12-25/
LOCATION:Caribe Restaurant and Bar\, 5080 Bonita Rd\, Bonita\, CA\, 91902\, United States
CATEGORIES:San Diego
END:VEVENT
BEGIN:VEVENT
DTSTART;TZID=America/Los_Angeles:20280101T200000
DTEND;TZID=America/Los_Angeles:20280102T010000
DTSTAMP:20260425T062219
CREATED:20250701T152310Z
LAST-MODIFIED:20250701T152310Z
UID:10377143-1830369600-1830387600@golatindance.com
SUMMARY:Tropical Saturdays at Caribe
DESCRIPTION:Tropical Saturdays at Caribe\nTwo rooms of music.\nFree Bachata Salsa classes 8-9p
URL:https://golatindance.com/event/tropical-saturdays-at-caribe/2028-01-01/
LOCATION:Caribe Restaurant and Bar\, 5080 Bonita Rd\, Bonita\, CA\, 91902\, United States
CATEGORIES:San Diego
END:VEVENT
BEGIN:VEVENT
DTSTART;TZID=America/Los_Angeles:20280108T200000
DTEND;TZID=America/Los_Angeles:20280109T010000
DTSTAMP:20260425T062219
CREATED:20250701T152310Z
LAST-MODIFIED:20250701T152310Z
UID:10377144-1830974400-1830992400@golatindance.com
SUMMARY:Tropical Saturdays at Caribe
DESCRIPTION:Tropical Saturdays at Caribe\nTwo rooms of music.\nFree Bachata Salsa classes 8-9p
URL:https://golatindance.com/event/tropical-saturdays-at-caribe/2028-01-08/
LOCATION:Caribe Restaurant and Bar\, 5080 Bonita Rd\, Bonita\, CA\, 91902\, United States
CATEGORIES:San Diego
END:VEVENT
BEGIN:VEVENT
DTSTART;TZID=America/Los_Angeles:20280115T200000
DTEND;TZID=America/Los_Angeles:20280116T010000
DTSTAMP:20260425T062219
CREATED:20250701T152310Z
LAST-MODIFIED:20250701T152310Z
UID:10377145-1831579200-1831597200@golatindance.com
SUMMARY:Tropical Saturdays at Caribe
DESCRIPTION:Tropical Saturdays at Caribe\nTwo rooms of music.\nFree Bachata Salsa classes 8-9p
URL:https://golatindance.com/event/tropical-saturdays-at-caribe/2028-01-15/
LOCATION:Caribe Restaurant and Bar\, 5080 Bonita Rd\, Bonita\, CA\, 91902\, United States
CATEGORIES:San Diego
END:VEVENT
BEGIN:VEVENT
DTSTART;TZID=America/Los_Angeles:20280122T200000
DTEND;TZID=America/Los_Angeles:20280123T010000
DTSTAMP:20260425T062219
CREATED:20250701T152310Z
LAST-MODIFIED:20250701T152310Z
UID:10377146-1832184000-1832202000@golatindance.com
SUMMARY:Tropical Saturdays at Caribe
DESCRIPTION:Tropical Saturdays at Caribe\nTwo rooms of music.\nFree Bachata Salsa classes 8-9p
URL:https://golatindance.com/event/tropical-saturdays-at-caribe/2028-01-22/
LOCATION:Caribe Restaurant and Bar\, 5080 Bonita Rd\, Bonita\, CA\, 91902\, United States
CATEGORIES:San Diego
END:VEVENT
BEGIN:VEVENT
DTSTART;TZID=America/Los_Angeles:20280129T200000
DTEND;TZID=America/Los_Angeles:20280130T010000
DTSTAMP:20260425T062219
CREATED:20250701T152310Z
LAST-MODIFIED:20250701T152310Z
UID:10377147-1832788800-1832806800@golatindance.com
SUMMARY:Tropical Saturdays at Caribe
DESCRIPTION:Tropical Saturdays at Caribe\nTwo rooms of music.\nFree Bachata Salsa classes 8-9p
URL:https://golatindance.com/event/tropical-saturdays-at-caribe/2028-01-29/
LOCATION:Caribe Restaurant and Bar\, 5080 Bonita Rd\, Bonita\, CA\, 91902\, United States
CATEGORIES:San Diego
END:VEVENT
BEGIN:VEVENT
DTSTART;TZID=America/Los_Angeles:20280205T200000
DTEND;TZID=America/Los_Angeles:20280206T010000
DTSTAMP:20260425T062219
CREATED:20250701T152310Z
LAST-MODIFIED:20250701T152310Z
UID:10377148-1833393600-1833411600@golatindance.com
SUMMARY:Tropical Saturdays at Caribe
DESCRIPTION:Tropical Saturdays at Caribe\nTwo rooms of music.\nFree Bachata Salsa classes 8-9p
URL:https://golatindance.com/event/tropical-saturdays-at-caribe/2028-02-05/
LOCATION:Caribe Restaurant and Bar\, 5080 Bonita Rd\, Bonita\, CA\, 91902\, United States
CATEGORIES:San Diego
END:VEVENT
BEGIN:VEVENT
DTSTART;TZID=America/Los_Angeles:20280212T200000
DTEND;TZID=America/Los_Angeles:20280213T010000
DTSTAMP:20260425T062219
CREATED:20250701T152310Z
LAST-MODIFIED:20250701T152310Z
UID:10377149-1833998400-1834016400@golatindance.com
SUMMARY:Tropical Saturdays at Caribe
DESCRIPTION:Tropical Saturdays at Caribe\nTwo rooms of music.\nFree Bachata Salsa classes 8-9p
URL:https://golatindance.com/event/tropical-saturdays-at-caribe/2028-02-12/
LOCATION:Caribe Restaurant and Bar\, 5080 Bonita Rd\, Bonita\, CA\, 91902\, United States
CATEGORIES:San Diego
END:VEVENT
BEGIN:VEVENT
DTSTART;TZID=America/Los_Angeles:20280219T200000
DTEND;TZID=America/Los_Angeles:20280220T010000
DTSTAMP:20260425T062219
CREATED:20250701T152310Z
LAST-MODIFIED:20250701T152310Z
UID:10377150-1834603200-1834621200@golatindance.com
SUMMARY:Tropical Saturdays at Caribe
DESCRIPTION:Tropical Saturdays at Caribe\nTwo rooms of music.\nFree Bachata Salsa classes 8-9p
URL:https://golatindance.com/event/tropical-saturdays-at-caribe/2028-02-19/
LOCATION:Caribe Restaurant and Bar\, 5080 Bonita Rd\, Bonita\, CA\, 91902\, United States
CATEGORIES:San Diego
END:VEVENT
BEGIN:VEVENT
DTSTART;TZID=America/Los_Angeles:20280226T200000
DTEND;TZID=America/Los_Angeles:20280227T010000
DTSTAMP:20260425T062219
CREATED:20250701T152310Z
LAST-MODIFIED:20250701T152310Z
UID:10377151-1835208000-1835226000@golatindance.com
SUMMARY:Tropical Saturdays at Caribe
DESCRIPTION:Tropical Saturdays at Caribe\nTwo rooms of music.\nFree Bachata Salsa classes 8-9p
URL:https://golatindance.com/event/tropical-saturdays-at-caribe/2028-02-26/
LOCATION:Caribe Restaurant and Bar\, 5080 Bonita Rd\, Bonita\, CA\, 91902\, United States
CATEGORIES:San Diego
END:VEVENT
BEGIN:VEVENT
DTSTART;TZID=America/Los_Angeles:20280304T200000
DTEND;TZID=America/Los_Angeles:20280305T010000
DTSTAMP:20260425T062219
CREATED:20250701T152310Z
LAST-MODIFIED:20250701T152310Z
UID:10377152-1835812800-1835830800@golatindance.com
SUMMARY:Tropical Saturdays at Caribe
DESCRIPTION:Tropical Saturdays at Caribe\nTwo rooms of music.\nFree Bachata Salsa classes 8-9p
URL:https://golatindance.com/event/tropical-saturdays-at-caribe/2028-03-04/
LOCATION:Caribe Restaurant and Bar\, 5080 Bonita Rd\, Bonita\, CA\, 91902\, United States
CATEGORIES:San Diego
END:VEVENT
BEGIN:VEVENT
DTSTART;TZID=America/Los_Angeles:20280311T200000
DTEND;TZID=America/Los_Angeles:20280312T010000
DTSTAMP:20260425T062219
CREATED:20250701T152310Z
LAST-MODIFIED:20250701T152310Z
UID:10377153-1836417600-1836435600@golatindance.com
SUMMARY:Tropical Saturdays at Caribe
DESCRIPTION:Tropical Saturdays at Caribe\nTwo rooms of music.\nFree Bachata Salsa classes 8-9p
URL:https://golatindance.com/event/tropical-saturdays-at-caribe/2028-03-11/
LOCATION:Caribe Restaurant and Bar\, 5080 Bonita Rd\, Bonita\, CA\, 91902\, United States
CATEGORIES:San Diego
END:VEVENT
BEGIN:VEVENT
DTSTART;TZID=America/Los_Angeles:20280318T200000
DTEND;TZID=America/Los_Angeles:20280319T010000
DTSTAMP:20260425T062219
CREATED:20250701T152310Z
LAST-MODIFIED:20250701T152310Z
UID:10377154-1837022400-1837040400@golatindance.com
SUMMARY:Tropical Saturdays at Caribe
DESCRIPTION:Tropical Saturdays at Caribe\nTwo rooms of music.\nFree Bachata Salsa classes 8-9p
URL:https://golatindance.com/event/tropical-saturdays-at-caribe/2028-03-18/
LOCATION:Caribe Restaurant and Bar\, 5080 Bonita Rd\, Bonita\, CA\, 91902\, United States
CATEGORIES:San Diego
END:VEVENT
BEGIN:VEVENT
DTSTART;TZID=America/Los_Angeles:20280325T200000
DTEND;TZID=America/Los_Angeles:20280326T010000
DTSTAMP:20260425T062219
CREATED:20250701T152310Z
LAST-MODIFIED:20250701T152310Z
UID:10377155-1837627200-1837645200@golatindance.com
SUMMARY:Tropical Saturdays at Caribe
DESCRIPTION:Tropical Saturdays at Caribe\nTwo rooms of music.\nFree Bachata Salsa classes 8-9p
URL:https://golatindance.com/event/tropical-saturdays-at-caribe/2028-03-25/
LOCATION:Caribe Restaurant and Bar\, 5080 Bonita Rd\, Bonita\, CA\, 91902\, United States
CATEGORIES:San Diego
END:VEVENT
BEGIN:VEVENT
DTSTART;TZID=America/Los_Angeles:20280401T200000
DTEND;TZID=America/Los_Angeles:20280402T010000
DTSTAMP:20260425T062219
CREATED:20250701T152310Z
LAST-MODIFIED:20250701T152310Z
UID:10377156-1838232000-1838250000@golatindance.com
SUMMARY:Tropical Saturdays at Caribe
DESCRIPTION:Tropical Saturdays at Caribe\nTwo rooms of music.\nFree Bachata Salsa classes 8-9p
URL:https://golatindance.com/event/tropical-saturdays-at-caribe/2028-04-01/
LOCATION:Caribe Restaurant and Bar\, 5080 Bonita Rd\, Bonita\, CA\, 91902\, United States
CATEGORIES:San Diego
END:VEVENT
BEGIN:VEVENT
DTSTART;TZID=America/Los_Angeles:20280408T200000
DTEND;TZID=America/Los_Angeles:20280409T010000
DTSTAMP:20260425T062219
CREATED:20250701T152310Z
LAST-MODIFIED:20250701T152310Z
UID:10377157-1838836800-1838854800@golatindance.com
SUMMARY:Tropical Saturdays at Caribe
DESCRIPTION:Tropical Saturdays at Caribe\nTwo rooms of music.\nFree Bachata Salsa classes 8-9p
URL:https://golatindance.com/event/tropical-saturdays-at-caribe/2028-04-08/
LOCATION:Caribe Restaurant and Bar\, 5080 Bonita Rd\, Bonita\, CA\, 91902\, United States
CATEGORIES:San Diego
END:VEVENT
BEGIN:VEVENT
DTSTART;TZID=America/Los_Angeles:20280415T200000
DTEND;TZID=America/Los_Angeles:20280416T010000
DTSTAMP:20260425T062219
CREATED:20250701T152310Z
LAST-MODIFIED:20250701T152310Z
UID:10377158-1839441600-1839459600@golatindance.com
SUMMARY:Tropical Saturdays at Caribe
DESCRIPTION:Tropical Saturdays at Caribe\nTwo rooms of music.\nFree Bachata Salsa classes 8-9p
URL:https://golatindance.com/event/tropical-saturdays-at-caribe/2028-04-15/
LOCATION:Caribe Restaurant and Bar\, 5080 Bonita Rd\, Bonita\, CA\, 91902\, United States
CATEGORIES:San Diego
END:VEVENT
BEGIN:VEVENT
DTSTART;TZID=America/Los_Angeles:20280422T200000
DTEND;TZID=America/Los_Angeles:20280423T010000
DTSTAMP:20260425T062219
CREATED:20250701T152310Z
LAST-MODIFIED:20250701T152310Z
UID:10377159-1840046400-1840064400@golatindance.com
SUMMARY:Tropical Saturdays at Caribe
DESCRIPTION:Tropical Saturdays at Caribe\nTwo rooms of music.\nFree Bachata Salsa classes 8-9p
URL:https://golatindance.com/event/tropical-saturdays-at-caribe/2028-04-22/
LOCATION:Caribe Restaurant and Bar\, 5080 Bonita Rd\, Bonita\, CA\, 91902\, United States
CATEGORIES:San Diego
END:VEVENT
BEGIN:VEVENT
DTSTART;TZID=America/Los_Angeles:20280429T200000
DTEND;TZID=America/Los_Angeles:20280430T010000
DTSTAMP:20260425T062219
CREATED:20250701T152310Z
LAST-MODIFIED:20250701T152310Z
UID:10377160-1840651200-1840669200@golatindance.com
SUMMARY:Tropical Saturdays at Caribe
DESCRIPTION:Tropical Saturdays at Caribe\nTwo rooms of music.\nFree Bachata Salsa classes 8-9p
URL:https://golatindance.com/event/tropical-saturdays-at-caribe/2028-04-29/
LOCATION:Caribe Restaurant and Bar\, 5080 Bonita Rd\, Bonita\, CA\, 91902\, United States
CATEGORIES:San Diego
END:VEVENT
BEGIN:VEVENT
DTSTART;TZID=America/Los_Angeles:20280506T200000
DTEND;TZID=America/Los_Angeles:20280507T010000
DTSTAMP:20260425T062219
CREATED:20250701T152310Z
LAST-MODIFIED:20250701T152310Z
UID:10377161-1841256000-1841274000@golatindance.com
SUMMARY:Tropical Saturdays at Caribe
DESCRIPTION:Tropical Saturdays at Caribe\nTwo rooms of music.\nFree Bachata Salsa classes 8-9p
URL:https://golatindance.com/event/tropical-saturdays-at-caribe/2028-05-06/
LOCATION:Caribe Restaurant and Bar\, 5080 Bonita Rd\, Bonita\, CA\, 91902\, United States
CATEGORIES:San Diego
END:VEVENT
BEGIN:VEVENT
DTSTART;TZID=America/Los_Angeles:20280513T200000
DTEND;TZID=America/Los_Angeles:20280514T010000
DTSTAMP:20260425T062219
CREATED:20250701T152310Z
LAST-MODIFIED:20250701T152310Z
UID:10377162-1841860800-1841878800@golatindance.com
SUMMARY:Tropical Saturdays at Caribe
DESCRIPTION:Tropical Saturdays at Caribe\nTwo rooms of music.\nFree Bachata Salsa classes 8-9p
URL:https://golatindance.com/event/tropical-saturdays-at-caribe/2028-05-13/
LOCATION:Caribe Restaurant and Bar\, 5080 Bonita Rd\, Bonita\, CA\, 91902\, United States
CATEGORIES:San Diego
END:VEVENT
BEGIN:VEVENT
DTSTART;TZID=America/Los_Angeles:20280520T200000
DTEND;TZID=America/Los_Angeles:20280521T010000
DTSTAMP:20260425T062219
CREATED:20250701T152310Z
LAST-MODIFIED:20250701T152310Z
UID:10377163-1842465600-1842483600@golatindance.com
SUMMARY:Tropical Saturdays at Caribe
DESCRIPTION:Tropical Saturdays at Caribe\nTwo rooms of music.\nFree Bachata Salsa classes 8-9p
URL:https://golatindance.com/event/tropical-saturdays-at-caribe/2028-05-20/
LOCATION:Caribe Restaurant and Bar\, 5080 Bonita Rd\, Bonita\, CA\, 91902\, United States
CATEGORIES:San Diego
END:VEVENT
BEGIN:VEVENT
DTSTART;TZID=America/Los_Angeles:20280527T200000
DTEND;TZID=America/Los_Angeles:20280528T010000
DTSTAMP:20260425T062219
CREATED:20250701T152310Z
LAST-MODIFIED:20250701T152310Z
UID:10377164-1843070400-1843088400@golatindance.com
SUMMARY:Tropical Saturdays at Caribe
DESCRIPTION:Tropical Saturdays at Caribe\nTwo rooms of music.\nFree Bachata Salsa classes 8-9p
URL:https://golatindance.com/event/tropical-saturdays-at-caribe/2028-05-27/
LOCATION:Caribe Restaurant and Bar\, 5080 Bonita Rd\, Bonita\, CA\, 91902\, United States
CATEGORIES:San Diego
END:VEVENT
END:VCALENDAR