BEGIN:VCALENDAR
VERSION:2.0
PRODID:-//GO Latin Dance - ECPv6.15.18//NONSGML v1.0//EN
CALSCALE:GREGORIAN
METHOD:PUBLISH
X-ORIGINAL-URL:https://golatindance.com
X-WR-CALDESC:Events for GO Latin Dance
REFRESH-INTERVAL;VALUE=DURATION:PT1H
X-Robots-Tag:noindex
X-PUBLISHED-TTL:PT1H
BEGIN:VTIMEZONE
TZID:America/New_York
BEGIN:DAYLIGHT
TZOFFSETFROM:-0500
TZOFFSETTO:-0400
TZNAME:EDT
DTSTART:20270314T070000
END:DAYLIGHT
BEGIN:STANDARD
TZOFFSETFROM:-0400
TZOFFSETTO:-0500
TZNAME:EST
DTSTART:20271107T060000
END:STANDARD
BEGIN:DAYLIGHT
TZOFFSETFROM:-0500
TZOFFSETTO:-0400
TZNAME:EDT
DTSTART:20280312T070000
END:DAYLIGHT
BEGIN:STANDARD
TZOFFSETFROM:-0400
TZOFFSETTO:-0500
TZNAME:EST
DTSTART:20281105T060000
END:STANDARD
BEGIN:DAYLIGHT
TZOFFSETFROM:-0500
TZOFFSETTO:-0400
TZNAME:EDT
DTSTART:20290311T070000
END:DAYLIGHT
BEGIN:STANDARD
TZOFFSETFROM:-0400
TZOFFSETTO:-0500
TZNAME:EST
DTSTART:20291104T060000
END:STANDARD
BEGIN:DAYLIGHT
TZOFFSETFROM:-0500
TZOFFSETTO:-0400
TZNAME:EDT
DTSTART:20300310T070000
END:DAYLIGHT
BEGIN:STANDARD
TZOFFSETFROM:-0400
TZOFFSETTO:-0500
TZNAME:EST
DTSTART:20301103T060000
END:STANDARD
END:VTIMEZONE
BEGIN:VEVENT
DTSTART;TZID=America/New_York:20281025T200000
DTEND;TZID=America/New_York:20281026T020000
DTSTAMP:20260425T063937
CREATED:20221108T011836Z
LAST-MODIFIED:20260106T154156Z
UID:10236882-1856116800-1856138400@golatindance.com
SUMMARY:Salsa World Wednesdays
DESCRIPTION:Salsa World Wednesdays 🐫 continues to light up your midweek.\nGet ready for an unforgettable evening filled with rhythm\, energy\, and Latin flavor on a big\, beautiful dance floor!\n🎶 Salsa Class 8PM to 9PM!\n💃 Social Dancing 9PM till close\n🕺 Music all night: Salsa • Bachata • Merengue
URL:https://golatindance.com/event/salsa-world-wednesdays/2028-10-25/
LOCATION:Casa 21 Restaurant Bar &Grill\, 4235 W Waters Ave\, Tampa\, FL\, 33614\, United States
CATEGORIES:Tampa
ATTACH;FMTTYPE=image/jpeg:https://golatindance.com/wp-content/uploads/2022/11/611290769_1486788833454778_3833080762799470349_n.jpg
END:VEVENT
BEGIN:VEVENT
DTSTART;TZID=America/New_York:20281101T200000
DTEND;TZID=America/New_York:20281102T020000
DTSTAMP:20260425T063937
CREATED:20221108T011836Z
LAST-MODIFIED:20260106T154156Z
UID:10236883-1856721600-1856743200@golatindance.com
SUMMARY:Salsa World Wednesdays
DESCRIPTION:Salsa World Wednesdays 🐫 continues to light up your midweek.\nGet ready for an unforgettable evening filled with rhythm\, energy\, and Latin flavor on a big\, beautiful dance floor!\n🎶 Salsa Class 8PM to 9PM!\n💃 Social Dancing 9PM till close\n🕺 Music all night: Salsa • Bachata • Merengue
URL:https://golatindance.com/event/salsa-world-wednesdays/2028-11-01/
LOCATION:Casa 21 Restaurant Bar &Grill\, 4235 W Waters Ave\, Tampa\, FL\, 33614\, United States
CATEGORIES:Tampa
ATTACH;FMTTYPE=image/jpeg:https://golatindance.com/wp-content/uploads/2022/11/611290769_1486788833454778_3833080762799470349_n.jpg
END:VEVENT
BEGIN:VEVENT
DTSTART;TZID=America/New_York:20281108T200000
DTEND;TZID=America/New_York:20281109T020000
DTSTAMP:20260425T063937
CREATED:20221108T011836Z
LAST-MODIFIED:20260106T154156Z
UID:10236884-1857326400-1857348000@golatindance.com
SUMMARY:Salsa World Wednesdays
DESCRIPTION:Salsa World Wednesdays 🐫 continues to light up your midweek.\nGet ready for an unforgettable evening filled with rhythm\, energy\, and Latin flavor on a big\, beautiful dance floor!\n🎶 Salsa Class 8PM to 9PM!\n💃 Social Dancing 9PM till close\n🕺 Music all night: Salsa • Bachata • Merengue
URL:https://golatindance.com/event/salsa-world-wednesdays/2028-11-08/
LOCATION:Casa 21 Restaurant Bar &Grill\, 4235 W Waters Ave\, Tampa\, FL\, 33614\, United States
CATEGORIES:Tampa
ATTACH;FMTTYPE=image/jpeg:https://golatindance.com/wp-content/uploads/2022/11/611290769_1486788833454778_3833080762799470349_n.jpg
END:VEVENT
BEGIN:VEVENT
DTSTART;TZID=America/New_York:20281115T200000
DTEND;TZID=America/New_York:20281116T020000
DTSTAMP:20260425T063937
CREATED:20221108T011836Z
LAST-MODIFIED:20260106T154156Z
UID:10236885-1857931200-1857952800@golatindance.com
SUMMARY:Salsa World Wednesdays
DESCRIPTION:Salsa World Wednesdays 🐫 continues to light up your midweek.\nGet ready for an unforgettable evening filled with rhythm\, energy\, and Latin flavor on a big\, beautiful dance floor!\n🎶 Salsa Class 8PM to 9PM!\n💃 Social Dancing 9PM till close\n🕺 Music all night: Salsa • Bachata • Merengue
URL:https://golatindance.com/event/salsa-world-wednesdays/2028-11-15/
LOCATION:Casa 21 Restaurant Bar &Grill\, 4235 W Waters Ave\, Tampa\, FL\, 33614\, United States
CATEGORIES:Tampa
ATTACH;FMTTYPE=image/jpeg:https://golatindance.com/wp-content/uploads/2022/11/611290769_1486788833454778_3833080762799470349_n.jpg
END:VEVENT
BEGIN:VEVENT
DTSTART;TZID=America/New_York:20281122T200000
DTEND;TZID=America/New_York:20281123T020000
DTSTAMP:20260425T063937
CREATED:20221108T011836Z
LAST-MODIFIED:20260106T154156Z
UID:10236886-1858536000-1858557600@golatindance.com
SUMMARY:Salsa World Wednesdays
DESCRIPTION:Salsa World Wednesdays 🐫 continues to light up your midweek.\nGet ready for an unforgettable evening filled with rhythm\, energy\, and Latin flavor on a big\, beautiful dance floor!\n🎶 Salsa Class 8PM to 9PM!\n💃 Social Dancing 9PM till close\n🕺 Music all night: Salsa • Bachata • Merengue
URL:https://golatindance.com/event/salsa-world-wednesdays/2028-11-22/
LOCATION:Casa 21 Restaurant Bar &Grill\, 4235 W Waters Ave\, Tampa\, FL\, 33614\, United States
CATEGORIES:Tampa
ATTACH;FMTTYPE=image/jpeg:https://golatindance.com/wp-content/uploads/2022/11/611290769_1486788833454778_3833080762799470349_n.jpg
END:VEVENT
BEGIN:VEVENT
DTSTART;TZID=America/New_York:20281129T200000
DTEND;TZID=America/New_York:20281130T020000
DTSTAMP:20260425T063937
CREATED:20221108T011836Z
LAST-MODIFIED:20260106T154156Z
UID:10236887-1859140800-1859162400@golatindance.com
SUMMARY:Salsa World Wednesdays
DESCRIPTION:Salsa World Wednesdays 🐫 continues to light up your midweek.\nGet ready for an unforgettable evening filled with rhythm\, energy\, and Latin flavor on a big\, beautiful dance floor!\n🎶 Salsa Class 8PM to 9PM!\n💃 Social Dancing 9PM till close\n🕺 Music all night: Salsa • Bachata • Merengue
URL:https://golatindance.com/event/salsa-world-wednesdays/2028-11-29/
LOCATION:Casa 21 Restaurant Bar &Grill\, 4235 W Waters Ave\, Tampa\, FL\, 33614\, United States
CATEGORIES:Tampa
ATTACH;FMTTYPE=image/jpeg:https://golatindance.com/wp-content/uploads/2022/11/611290769_1486788833454778_3833080762799470349_n.jpg
END:VEVENT
BEGIN:VEVENT
DTSTART;TZID=America/New_York:20281206T200000
DTEND;TZID=America/New_York:20281207T020000
DTSTAMP:20260425T063937
CREATED:20221108T011836Z
LAST-MODIFIED:20260106T154156Z
UID:10236888-1859745600-1859767200@golatindance.com
SUMMARY:Salsa World Wednesdays
DESCRIPTION:Salsa World Wednesdays 🐫 continues to light up your midweek.\nGet ready for an unforgettable evening filled with rhythm\, energy\, and Latin flavor on a big\, beautiful dance floor!\n🎶 Salsa Class 8PM to 9PM!\n💃 Social Dancing 9PM till close\n🕺 Music all night: Salsa • Bachata • Merengue
URL:https://golatindance.com/event/salsa-world-wednesdays/2028-12-06/
LOCATION:Casa 21 Restaurant Bar &Grill\, 4235 W Waters Ave\, Tampa\, FL\, 33614\, United States
CATEGORIES:Tampa
ATTACH;FMTTYPE=image/jpeg:https://golatindance.com/wp-content/uploads/2022/11/611290769_1486788833454778_3833080762799470349_n.jpg
END:VEVENT
BEGIN:VEVENT
DTSTART;TZID=America/New_York:20281213T200000
DTEND;TZID=America/New_York:20281214T020000
DTSTAMP:20260425T063938
CREATED:20221108T011836Z
LAST-MODIFIED:20260106T154156Z
UID:10236889-1860350400-1860372000@golatindance.com
SUMMARY:Salsa World Wednesdays
DESCRIPTION:Salsa World Wednesdays 🐫 continues to light up your midweek.\nGet ready for an unforgettable evening filled with rhythm\, energy\, and Latin flavor on a big\, beautiful dance floor!\n🎶 Salsa Class 8PM to 9PM!\n💃 Social Dancing 9PM till close\n🕺 Music all night: Salsa • Bachata • Merengue
URL:https://golatindance.com/event/salsa-world-wednesdays/2028-12-13/
LOCATION:Casa 21 Restaurant Bar &Grill\, 4235 W Waters Ave\, Tampa\, FL\, 33614\, United States
CATEGORIES:Tampa
ATTACH;FMTTYPE=image/jpeg:https://golatindance.com/wp-content/uploads/2022/11/611290769_1486788833454778_3833080762799470349_n.jpg
END:VEVENT
BEGIN:VEVENT
DTSTART;TZID=America/New_York:20281220T200000
DTEND;TZID=America/New_York:20281221T020000
DTSTAMP:20260425T063938
CREATED:20221108T011836Z
LAST-MODIFIED:20260106T154156Z
UID:10236890-1860955200-1860976800@golatindance.com
SUMMARY:Salsa World Wednesdays
DESCRIPTION:Salsa World Wednesdays 🐫 continues to light up your midweek.\nGet ready for an unforgettable evening filled with rhythm\, energy\, and Latin flavor on a big\, beautiful dance floor!\n🎶 Salsa Class 8PM to 9PM!\n💃 Social Dancing 9PM till close\n🕺 Music all night: Salsa • Bachata • Merengue
URL:https://golatindance.com/event/salsa-world-wednesdays/2028-12-20/
LOCATION:Casa 21 Restaurant Bar &Grill\, 4235 W Waters Ave\, Tampa\, FL\, 33614\, United States
CATEGORIES:Tampa
ATTACH;FMTTYPE=image/jpeg:https://golatindance.com/wp-content/uploads/2022/11/611290769_1486788833454778_3833080762799470349_n.jpg
END:VEVENT
BEGIN:VEVENT
DTSTART;TZID=America/New_York:20281227T200000
DTEND;TZID=America/New_York:20281228T020000
DTSTAMP:20260425T063938
CREATED:20221108T011836Z
LAST-MODIFIED:20260106T154156Z
UID:10236891-1861560000-1861581600@golatindance.com
SUMMARY:Salsa World Wednesdays
DESCRIPTION:Salsa World Wednesdays 🐫 continues to light up your midweek.\nGet ready for an unforgettable evening filled with rhythm\, energy\, and Latin flavor on a big\, beautiful dance floor!\n🎶 Salsa Class 8PM to 9PM!\n💃 Social Dancing 9PM till close\n🕺 Music all night: Salsa • Bachata • Merengue
URL:https://golatindance.com/event/salsa-world-wednesdays/2028-12-27/
LOCATION:Casa 21 Restaurant Bar &Grill\, 4235 W Waters Ave\, Tampa\, FL\, 33614\, United States
CATEGORIES:Tampa
ATTACH;FMTTYPE=image/jpeg:https://golatindance.com/wp-content/uploads/2022/11/611290769_1486788833454778_3833080762799470349_n.jpg
END:VEVENT
BEGIN:VEVENT
DTSTART;TZID=America/New_York:20290103T200000
DTEND;TZID=America/New_York:20290104T020000
DTSTAMP:20260425T063938
CREATED:20221108T011836Z
LAST-MODIFIED:20260106T154156Z
UID:10236892-1862164800-1862186400@golatindance.com
SUMMARY:Salsa World Wednesdays
DESCRIPTION:Salsa World Wednesdays 🐫 continues to light up your midweek.\nGet ready for an unforgettable evening filled with rhythm\, energy\, and Latin flavor on a big\, beautiful dance floor!\n🎶 Salsa Class 8PM to 9PM!\n💃 Social Dancing 9PM till close\n🕺 Music all night: Salsa • Bachata • Merengue
URL:https://golatindance.com/event/salsa-world-wednesdays/2029-01-03/
LOCATION:Casa 21 Restaurant Bar &Grill\, 4235 W Waters Ave\, Tampa\, FL\, 33614\, United States
CATEGORIES:Tampa
ATTACH;FMTTYPE=image/jpeg:https://golatindance.com/wp-content/uploads/2022/11/611290769_1486788833454778_3833080762799470349_n.jpg
END:VEVENT
BEGIN:VEVENT
DTSTART;TZID=America/New_York:20290110T200000
DTEND;TZID=America/New_York:20290111T020000
DTSTAMP:20260425T063938
CREATED:20221108T011836Z
LAST-MODIFIED:20260106T154156Z
UID:10236893-1862769600-1862791200@golatindance.com
SUMMARY:Salsa World Wednesdays
DESCRIPTION:Salsa World Wednesdays 🐫 continues to light up your midweek.\nGet ready for an unforgettable evening filled with rhythm\, energy\, and Latin flavor on a big\, beautiful dance floor!\n🎶 Salsa Class 8PM to 9PM!\n💃 Social Dancing 9PM till close\n🕺 Music all night: Salsa • Bachata • Merengue
URL:https://golatindance.com/event/salsa-world-wednesdays/2029-01-10/
LOCATION:Casa 21 Restaurant Bar &Grill\, 4235 W Waters Ave\, Tampa\, FL\, 33614\, United States
CATEGORIES:Tampa
ATTACH;FMTTYPE=image/jpeg:https://golatindance.com/wp-content/uploads/2022/11/611290769_1486788833454778_3833080762799470349_n.jpg
END:VEVENT
BEGIN:VEVENT
DTSTART;TZID=America/New_York:20290117T200000
DTEND;TZID=America/New_York:20290118T020000
DTSTAMP:20260425T063938
CREATED:20221108T011836Z
LAST-MODIFIED:20260106T154156Z
UID:10236894-1863374400-1863396000@golatindance.com
SUMMARY:Salsa World Wednesdays
DESCRIPTION:Salsa World Wednesdays 🐫 continues to light up your midweek.\nGet ready for an unforgettable evening filled with rhythm\, energy\, and Latin flavor on a big\, beautiful dance floor!\n🎶 Salsa Class 8PM to 9PM!\n💃 Social Dancing 9PM till close\n🕺 Music all night: Salsa • Bachata • Merengue
URL:https://golatindance.com/event/salsa-world-wednesdays/2029-01-17/
LOCATION:Casa 21 Restaurant Bar &Grill\, 4235 W Waters Ave\, Tampa\, FL\, 33614\, United States
CATEGORIES:Tampa
ATTACH;FMTTYPE=image/jpeg:https://golatindance.com/wp-content/uploads/2022/11/611290769_1486788833454778_3833080762799470349_n.jpg
END:VEVENT
BEGIN:VEVENT
DTSTART;TZID=America/New_York:20290124T200000
DTEND;TZID=America/New_York:20290125T020000
DTSTAMP:20260425T063938
CREATED:20221108T011836Z
LAST-MODIFIED:20260106T154156Z
UID:10236895-1863979200-1864000800@golatindance.com
SUMMARY:Salsa World Wednesdays
DESCRIPTION:Salsa World Wednesdays 🐫 continues to light up your midweek.\nGet ready for an unforgettable evening filled with rhythm\, energy\, and Latin flavor on a big\, beautiful dance floor!\n🎶 Salsa Class 8PM to 9PM!\n💃 Social Dancing 9PM till close\n🕺 Music all night: Salsa • Bachata • Merengue
URL:https://golatindance.com/event/salsa-world-wednesdays/2029-01-24/
LOCATION:Casa 21 Restaurant Bar &Grill\, 4235 W Waters Ave\, Tampa\, FL\, 33614\, United States
CATEGORIES:Tampa
ATTACH;FMTTYPE=image/jpeg:https://golatindance.com/wp-content/uploads/2022/11/611290769_1486788833454778_3833080762799470349_n.jpg
END:VEVENT
BEGIN:VEVENT
DTSTART;TZID=America/New_York:20290131T200000
DTEND;TZID=America/New_York:20290201T020000
DTSTAMP:20260425T063938
CREATED:20221108T011836Z
LAST-MODIFIED:20260106T154156Z
UID:10236896-1864584000-1864605600@golatindance.com
SUMMARY:Salsa World Wednesdays
DESCRIPTION:Salsa World Wednesdays 🐫 continues to light up your midweek.\nGet ready for an unforgettable evening filled with rhythm\, energy\, and Latin flavor on a big\, beautiful dance floor!\n🎶 Salsa Class 8PM to 9PM!\n💃 Social Dancing 9PM till close\n🕺 Music all night: Salsa • Bachata • Merengue
URL:https://golatindance.com/event/salsa-world-wednesdays/2029-01-31/
LOCATION:Casa 21 Restaurant Bar &Grill\, 4235 W Waters Ave\, Tampa\, FL\, 33614\, United States
CATEGORIES:Tampa
ATTACH;FMTTYPE=image/jpeg:https://golatindance.com/wp-content/uploads/2022/11/611290769_1486788833454778_3833080762799470349_n.jpg
END:VEVENT
BEGIN:VEVENT
DTSTART;TZID=America/New_York:20290207T200000
DTEND;TZID=America/New_York:20290208T020000
DTSTAMP:20260425T063938
CREATED:20221108T011836Z
LAST-MODIFIED:20260106T154156Z
UID:10236897-1865188800-1865210400@golatindance.com
SUMMARY:Salsa World Wednesdays
DESCRIPTION:Salsa World Wednesdays 🐫 continues to light up your midweek.\nGet ready for an unforgettable evening filled with rhythm\, energy\, and Latin flavor on a big\, beautiful dance floor!\n🎶 Salsa Class 8PM to 9PM!\n💃 Social Dancing 9PM till close\n🕺 Music all night: Salsa • Bachata • Merengue
URL:https://golatindance.com/event/salsa-world-wednesdays/2029-02-07/
LOCATION:Casa 21 Restaurant Bar &Grill\, 4235 W Waters Ave\, Tampa\, FL\, 33614\, United States
CATEGORIES:Tampa
ATTACH;FMTTYPE=image/jpeg:https://golatindance.com/wp-content/uploads/2022/11/611290769_1486788833454778_3833080762799470349_n.jpg
END:VEVENT
BEGIN:VEVENT
DTSTART;TZID=America/New_York:20290214T200000
DTEND;TZID=America/New_York:20290215T020000
DTSTAMP:20260425T063938
CREATED:20221108T011836Z
LAST-MODIFIED:20260106T154156Z
UID:10236898-1865793600-1865815200@golatindance.com
SUMMARY:Salsa World Wednesdays
DESCRIPTION:Salsa World Wednesdays 🐫 continues to light up your midweek.\nGet ready for an unforgettable evening filled with rhythm\, energy\, and Latin flavor on a big\, beautiful dance floor!\n🎶 Salsa Class 8PM to 9PM!\n💃 Social Dancing 9PM till close\n🕺 Music all night: Salsa • Bachata • Merengue
URL:https://golatindance.com/event/salsa-world-wednesdays/2029-02-14/
LOCATION:Casa 21 Restaurant Bar &Grill\, 4235 W Waters Ave\, Tampa\, FL\, 33614\, United States
CATEGORIES:Tampa
ATTACH;FMTTYPE=image/jpeg:https://golatindance.com/wp-content/uploads/2022/11/611290769_1486788833454778_3833080762799470349_n.jpg
END:VEVENT
BEGIN:VEVENT
DTSTART;TZID=America/New_York:20290221T200000
DTEND;TZID=America/New_York:20290222T020000
DTSTAMP:20260425T063938
CREATED:20221108T011836Z
LAST-MODIFIED:20260106T154156Z
UID:10236899-1866398400-1866420000@golatindance.com
SUMMARY:Salsa World Wednesdays
DESCRIPTION:Salsa World Wednesdays 🐫 continues to light up your midweek.\nGet ready for an unforgettable evening filled with rhythm\, energy\, and Latin flavor on a big\, beautiful dance floor!\n🎶 Salsa Class 8PM to 9PM!\n💃 Social Dancing 9PM till close\n🕺 Music all night: Salsa • Bachata • Merengue
URL:https://golatindance.com/event/salsa-world-wednesdays/2029-02-21/
LOCATION:Casa 21 Restaurant Bar &Grill\, 4235 W Waters Ave\, Tampa\, FL\, 33614\, United States
CATEGORIES:Tampa
ATTACH;FMTTYPE=image/jpeg:https://golatindance.com/wp-content/uploads/2022/11/611290769_1486788833454778_3833080762799470349_n.jpg
END:VEVENT
BEGIN:VEVENT
DTSTART;TZID=America/New_York:20290228T200000
DTEND;TZID=America/New_York:20290301T020000
DTSTAMP:20260425T063938
CREATED:20221108T011836Z
LAST-MODIFIED:20260106T154156Z
UID:10236900-1867003200-1867024800@golatindance.com
SUMMARY:Salsa World Wednesdays
DESCRIPTION:Salsa World Wednesdays 🐫 continues to light up your midweek.\nGet ready for an unforgettable evening filled with rhythm\, energy\, and Latin flavor on a big\, beautiful dance floor!\n🎶 Salsa Class 8PM to 9PM!\n💃 Social Dancing 9PM till close\n🕺 Music all night: Salsa • Bachata • Merengue
URL:https://golatindance.com/event/salsa-world-wednesdays/2029-02-28/
LOCATION:Casa 21 Restaurant Bar &Grill\, 4235 W Waters Ave\, Tampa\, FL\, 33614\, United States
CATEGORIES:Tampa
ATTACH;FMTTYPE=image/jpeg:https://golatindance.com/wp-content/uploads/2022/11/611290769_1486788833454778_3833080762799470349_n.jpg
END:VEVENT
BEGIN:VEVENT
DTSTART;TZID=America/New_York:20290307T200000
DTEND;TZID=America/New_York:20290308T020000
DTSTAMP:20260425T063938
CREATED:20221108T011836Z
LAST-MODIFIED:20260106T154156Z
UID:10236901-1867608000-1867629600@golatindance.com
SUMMARY:Salsa World Wednesdays
DESCRIPTION:Salsa World Wednesdays 🐫 continues to light up your midweek.\nGet ready for an unforgettable evening filled with rhythm\, energy\, and Latin flavor on a big\, beautiful dance floor!\n🎶 Salsa Class 8PM to 9PM!\n💃 Social Dancing 9PM till close\n🕺 Music all night: Salsa • Bachata • Merengue
URL:https://golatindance.com/event/salsa-world-wednesdays/2029-03-07/
LOCATION:Casa 21 Restaurant Bar &Grill\, 4235 W Waters Ave\, Tampa\, FL\, 33614\, United States
CATEGORIES:Tampa
ATTACH;FMTTYPE=image/jpeg:https://golatindance.com/wp-content/uploads/2022/11/611290769_1486788833454778_3833080762799470349_n.jpg
END:VEVENT
BEGIN:VEVENT
DTSTART;TZID=America/New_York:20290314T200000
DTEND;TZID=America/New_York:20290315T020000
DTSTAMP:20260425T063938
CREATED:20221108T011836Z
LAST-MODIFIED:20260106T154156Z
UID:10236902-1868212800-1868234400@golatindance.com
SUMMARY:Salsa World Wednesdays
DESCRIPTION:Salsa World Wednesdays 🐫 continues to light up your midweek.\nGet ready for an unforgettable evening filled with rhythm\, energy\, and Latin flavor on a big\, beautiful dance floor!\n🎶 Salsa Class 8PM to 9PM!\n💃 Social Dancing 9PM till close\n🕺 Music all night: Salsa • Bachata • Merengue
URL:https://golatindance.com/event/salsa-world-wednesdays/2029-03-14/
LOCATION:Casa 21 Restaurant Bar &Grill\, 4235 W Waters Ave\, Tampa\, FL\, 33614\, United States
CATEGORIES:Tampa
ATTACH;FMTTYPE=image/jpeg:https://golatindance.com/wp-content/uploads/2022/11/611290769_1486788833454778_3833080762799470349_n.jpg
END:VEVENT
BEGIN:VEVENT
DTSTART;TZID=America/New_York:20290321T200000
DTEND;TZID=America/New_York:20290322T020000
DTSTAMP:20260425T063938
CREATED:20221108T011836Z
LAST-MODIFIED:20260106T154156Z
UID:10236903-1868817600-1868839200@golatindance.com
SUMMARY:Salsa World Wednesdays
DESCRIPTION:Salsa World Wednesdays 🐫 continues to light up your midweek.\nGet ready for an unforgettable evening filled with rhythm\, energy\, and Latin flavor on a big\, beautiful dance floor!\n🎶 Salsa Class 8PM to 9PM!\n💃 Social Dancing 9PM till close\n🕺 Music all night: Salsa • Bachata • Merengue
URL:https://golatindance.com/event/salsa-world-wednesdays/2029-03-21/
LOCATION:Casa 21 Restaurant Bar &Grill\, 4235 W Waters Ave\, Tampa\, FL\, 33614\, United States
CATEGORIES:Tampa
ATTACH;FMTTYPE=image/jpeg:https://golatindance.com/wp-content/uploads/2022/11/611290769_1486788833454778_3833080762799470349_n.jpg
END:VEVENT
BEGIN:VEVENT
DTSTART;TZID=America/New_York:20290328T200000
DTEND;TZID=America/New_York:20290329T020000
DTSTAMP:20260425T063938
CREATED:20221108T011836Z
LAST-MODIFIED:20260106T154156Z
UID:10236904-1869422400-1869444000@golatindance.com
SUMMARY:Salsa World Wednesdays
DESCRIPTION:Salsa World Wednesdays 🐫 continues to light up your midweek.\nGet ready for an unforgettable evening filled with rhythm\, energy\, and Latin flavor on a big\, beautiful dance floor!\n🎶 Salsa Class 8PM to 9PM!\n💃 Social Dancing 9PM till close\n🕺 Music all night: Salsa • Bachata • Merengue
URL:https://golatindance.com/event/salsa-world-wednesdays/2029-03-28/
LOCATION:Casa 21 Restaurant Bar &Grill\, 4235 W Waters Ave\, Tampa\, FL\, 33614\, United States
CATEGORIES:Tampa
ATTACH;FMTTYPE=image/jpeg:https://golatindance.com/wp-content/uploads/2022/11/611290769_1486788833454778_3833080762799470349_n.jpg
END:VEVENT
BEGIN:VEVENT
DTSTART;TZID=America/New_York:20290404T200000
DTEND;TZID=America/New_York:20290405T020000
DTSTAMP:20260425T063938
CREATED:20221108T011836Z
LAST-MODIFIED:20260106T154156Z
UID:10236905-1870027200-1870048800@golatindance.com
SUMMARY:Salsa World Wednesdays
DESCRIPTION:Salsa World Wednesdays 🐫 continues to light up your midweek.\nGet ready for an unforgettable evening filled with rhythm\, energy\, and Latin flavor on a big\, beautiful dance floor!\n🎶 Salsa Class 8PM to 9PM!\n💃 Social Dancing 9PM till close\n🕺 Music all night: Salsa • Bachata • Merengue
URL:https://golatindance.com/event/salsa-world-wednesdays/2029-04-04/
LOCATION:Casa 21 Restaurant Bar &Grill\, 4235 W Waters Ave\, Tampa\, FL\, 33614\, United States
CATEGORIES:Tampa
ATTACH;FMTTYPE=image/jpeg:https://golatindance.com/wp-content/uploads/2022/11/611290769_1486788833454778_3833080762799470349_n.jpg
END:VEVENT
BEGIN:VEVENT
DTSTART;TZID=America/New_York:20290411T200000
DTEND;TZID=America/New_York:20290412T020000
DTSTAMP:20260425T063938
CREATED:20221108T011836Z
LAST-MODIFIED:20260106T154156Z
UID:10236906-1870632000-1870653600@golatindance.com
SUMMARY:Salsa World Wednesdays
DESCRIPTION:Salsa World Wednesdays 🐫 continues to light up your midweek.\nGet ready for an unforgettable evening filled with rhythm\, energy\, and Latin flavor on a big\, beautiful dance floor!\n🎶 Salsa Class 8PM to 9PM!\n💃 Social Dancing 9PM till close\n🕺 Music all night: Salsa • Bachata • Merengue
URL:https://golatindance.com/event/salsa-world-wednesdays/2029-04-11/
LOCATION:Casa 21 Restaurant Bar &Grill\, 4235 W Waters Ave\, Tampa\, FL\, 33614\, United States
CATEGORIES:Tampa
ATTACH;FMTTYPE=image/jpeg:https://golatindance.com/wp-content/uploads/2022/11/611290769_1486788833454778_3833080762799470349_n.jpg
END:VEVENT
BEGIN:VEVENT
DTSTART;TZID=America/New_York:20290418T200000
DTEND;TZID=America/New_York:20290419T020000
DTSTAMP:20260425T063938
CREATED:20221108T011836Z
LAST-MODIFIED:20260106T154156Z
UID:10321641-1871236800-1871258400@golatindance.com
SUMMARY:Salsa World Wednesdays
DESCRIPTION:Salsa World Wednesdays 🐫 continues to light up your midweek.\nGet ready for an unforgettable evening filled with rhythm\, energy\, and Latin flavor on a big\, beautiful dance floor!\n🎶 Salsa Class 8PM to 9PM!\n💃 Social Dancing 9PM till close\n🕺 Music all night: Salsa • Bachata • Merengue
URL:https://golatindance.com/event/salsa-world-wednesdays/2029-04-18/
LOCATION:Casa 21 Restaurant Bar &Grill\, 4235 W Waters Ave\, Tampa\, FL\, 33614\, United States
CATEGORIES:Tampa
ATTACH;FMTTYPE=image/jpeg:https://golatindance.com/wp-content/uploads/2022/11/611290769_1486788833454778_3833080762799470349_n.jpg
END:VEVENT
BEGIN:VEVENT
DTSTART;TZID=America/New_York:20290425T200000
DTEND;TZID=America/New_York:20290426T020000
DTSTAMP:20260425T063938
CREATED:20221108T011836Z
LAST-MODIFIED:20260106T154156Z
UID:10321642-1871841600-1871863200@golatindance.com
SUMMARY:Salsa World Wednesdays
DESCRIPTION:Salsa World Wednesdays 🐫 continues to light up your midweek.\nGet ready for an unforgettable evening filled with rhythm\, energy\, and Latin flavor on a big\, beautiful dance floor!\n🎶 Salsa Class 8PM to 9PM!\n💃 Social Dancing 9PM till close\n🕺 Music all night: Salsa • Bachata • Merengue
URL:https://golatindance.com/event/salsa-world-wednesdays/2029-04-25/
LOCATION:Casa 21 Restaurant Bar &Grill\, 4235 W Waters Ave\, Tampa\, FL\, 33614\, United States
CATEGORIES:Tampa
ATTACH;FMTTYPE=image/jpeg:https://golatindance.com/wp-content/uploads/2022/11/611290769_1486788833454778_3833080762799470349_n.jpg
END:VEVENT
BEGIN:VEVENT
DTSTART;TZID=America/New_York:20290502T200000
DTEND;TZID=America/New_York:20290503T020000
DTSTAMP:20260425T063938
CREATED:20221108T011836Z
LAST-MODIFIED:20260106T154156Z
UID:10321643-1872446400-1872468000@golatindance.com
SUMMARY:Salsa World Wednesdays
DESCRIPTION:Salsa World Wednesdays 🐫 continues to light up your midweek.\nGet ready for an unforgettable evening filled with rhythm\, energy\, and Latin flavor on a big\, beautiful dance floor!\n🎶 Salsa Class 8PM to 9PM!\n💃 Social Dancing 9PM till close\n🕺 Music all night: Salsa • Bachata • Merengue
URL:https://golatindance.com/event/salsa-world-wednesdays/2029-05-02/
LOCATION:Casa 21 Restaurant Bar &Grill\, 4235 W Waters Ave\, Tampa\, FL\, 33614\, United States
CATEGORIES:Tampa
ATTACH;FMTTYPE=image/jpeg:https://golatindance.com/wp-content/uploads/2022/11/611290769_1486788833454778_3833080762799470349_n.jpg
END:VEVENT
BEGIN:VEVENT
DTSTART;TZID=America/New_York:20290509T200000
DTEND;TZID=America/New_York:20290510T020000
DTSTAMP:20260425T063938
CREATED:20221108T011836Z
LAST-MODIFIED:20260106T154156Z
UID:10321644-1873051200-1873072800@golatindance.com
SUMMARY:Salsa World Wednesdays
DESCRIPTION:Salsa World Wednesdays 🐫 continues to light up your midweek.\nGet ready for an unforgettable evening filled with rhythm\, energy\, and Latin flavor on a big\, beautiful dance floor!\n🎶 Salsa Class 8PM to 9PM!\n💃 Social Dancing 9PM till close\n🕺 Music all night: Salsa • Bachata • Merengue
URL:https://golatindance.com/event/salsa-world-wednesdays/2029-05-09/
LOCATION:Casa 21 Restaurant Bar &Grill\, 4235 W Waters Ave\, Tampa\, FL\, 33614\, United States
CATEGORIES:Tampa
ATTACH;FMTTYPE=image/jpeg:https://golatindance.com/wp-content/uploads/2022/11/611290769_1486788833454778_3833080762799470349_n.jpg
END:VEVENT
BEGIN:VEVENT
DTSTART;TZID=America/New_York:20290516T200000
DTEND;TZID=America/New_York:20290517T020000
DTSTAMP:20260425T063938
CREATED:20221108T011836Z
LAST-MODIFIED:20260106T154156Z
UID:10321645-1873656000-1873677600@golatindance.com
SUMMARY:Salsa World Wednesdays
DESCRIPTION:Salsa World Wednesdays 🐫 continues to light up your midweek.\nGet ready for an unforgettable evening filled with rhythm\, energy\, and Latin flavor on a big\, beautiful dance floor!\n🎶 Salsa Class 8PM to 9PM!\n💃 Social Dancing 9PM till close\n🕺 Music all night: Salsa • Bachata • Merengue
URL:https://golatindance.com/event/salsa-world-wednesdays/2029-05-16/
LOCATION:Casa 21 Restaurant Bar &Grill\, 4235 W Waters Ave\, Tampa\, FL\, 33614\, United States
CATEGORIES:Tampa
ATTACH;FMTTYPE=image/jpeg:https://golatindance.com/wp-content/uploads/2022/11/611290769_1486788833454778_3833080762799470349_n.jpg
END:VEVENT
END:VCALENDAR