BEGIN:VCALENDAR
VERSION:2.0
PRODID:-//GO Latin Dance - ECPv6.15.18//NONSGML v1.0//EN
CALSCALE:GREGORIAN
METHOD:PUBLISH
X-WR-CALNAME:GO Latin Dance
X-ORIGINAL-URL:https://golatindance.com
X-WR-CALDESC:Events for GO Latin Dance
REFRESH-INTERVAL;VALUE=DURATION:PT1H
X-Robots-Tag:noindex
X-PUBLISHED-TTL:PT1H
BEGIN:VTIMEZONE
TZID:America/New_York
BEGIN:DAYLIGHT
TZOFFSETFROM:-0500
TZOFFSETTO:-0400
TZNAME:EDT
DTSTART:20280312T070000
END:DAYLIGHT
BEGIN:STANDARD
TZOFFSETFROM:-0400
TZOFFSETTO:-0500
TZNAME:EST
DTSTART:20281105T060000
END:STANDARD
BEGIN:DAYLIGHT
TZOFFSETFROM:-0500
TZOFFSETTO:-0400
TZNAME:EDT
DTSTART:20290311T070000
END:DAYLIGHT
BEGIN:STANDARD
TZOFFSETFROM:-0400
TZOFFSETTO:-0500
TZNAME:EST
DTSTART:20291104T060000
END:STANDARD
BEGIN:DAYLIGHT
TZOFFSETFROM:-0500
TZOFFSETTO:-0400
TZNAME:EDT
DTSTART:20300310T070000
END:DAYLIGHT
BEGIN:STANDARD
TZOFFSETFROM:-0400
TZOFFSETTO:-0500
TZNAME:EST
DTSTART:20301103T060000
END:STANDARD
BEGIN:DAYLIGHT
TZOFFSETFROM:-0500
TZOFFSETTO:-0400
TZNAME:EDT
DTSTART:20310309T070000
END:DAYLIGHT
BEGIN:STANDARD
TZOFFSETFROM:-0400
TZOFFSETTO:-0500
TZNAME:EST
DTSTART:20311102T060000
END:STANDARD
END:VTIMEZONE
BEGIN:VEVENT
DTSTART;TZID=America/New_York:20291010T200000
DTEND;TZID=America/New_York:20291011T020000
DTSTAMP:20260425T124625
CREATED:20221108T011836Z
LAST-MODIFIED:20260106T154156Z
UID:10321666-1886356800-1886378400@golatindance.com
SUMMARY:Salsa World Wednesdays
DESCRIPTION:Salsa World Wednesdays 🐫 continues to light up your midweek.\nGet ready for an unforgettable evening filled with rhythm\, energy\, and Latin flavor on a big\, beautiful dance floor!\n🎶 Salsa Class 8PM to 9PM!\n💃 Social Dancing 9PM till close\n🕺 Music all night: Salsa • Bachata • Merengue
URL:https://golatindance.com/event/salsa-world-wednesdays/2029-10-10/
LOCATION:Casa 21 Restaurant Bar &Grill\, 4235 W Waters Ave\, Tampa\, FL\, 33614\, United States
CATEGORIES:Tampa
ATTACH;FMTTYPE=image/jpeg:https://golatindance.com/wp-content/uploads/2022/11/611290769_1486788833454778_3833080762799470349_n.jpg
END:VEVENT
BEGIN:VEVENT
DTSTART;TZID=America/New_York:20291017T200000
DTEND;TZID=America/New_York:20291018T020000
DTSTAMP:20260425T124625
CREATED:20221108T011836Z
LAST-MODIFIED:20260106T154156Z
UID:10321667-1886961600-1886983200@golatindance.com
SUMMARY:Salsa World Wednesdays
DESCRIPTION:Salsa World Wednesdays 🐫 continues to light up your midweek.\nGet ready for an unforgettable evening filled with rhythm\, energy\, and Latin flavor on a big\, beautiful dance floor!\n🎶 Salsa Class 8PM to 9PM!\n💃 Social Dancing 9PM till close\n🕺 Music all night: Salsa • Bachata • Merengue
URL:https://golatindance.com/event/salsa-world-wednesdays/2029-10-17/
LOCATION:Casa 21 Restaurant Bar &Grill\, 4235 W Waters Ave\, Tampa\, FL\, 33614\, United States
CATEGORIES:Tampa
ATTACH;FMTTYPE=image/jpeg:https://golatindance.com/wp-content/uploads/2022/11/611290769_1486788833454778_3833080762799470349_n.jpg
END:VEVENT
BEGIN:VEVENT
DTSTART;TZID=America/New_York:20291024T200000
DTEND;TZID=America/New_York:20291025T020000
DTSTAMP:20260425T124625
CREATED:20221108T011836Z
LAST-MODIFIED:20260106T154156Z
UID:10321668-1887566400-1887588000@golatindance.com
SUMMARY:Salsa World Wednesdays
DESCRIPTION:Salsa World Wednesdays 🐫 continues to light up your midweek.\nGet ready for an unforgettable evening filled with rhythm\, energy\, and Latin flavor on a big\, beautiful dance floor!\n🎶 Salsa Class 8PM to 9PM!\n💃 Social Dancing 9PM till close\n🕺 Music all night: Salsa • Bachata • Merengue
URL:https://golatindance.com/event/salsa-world-wednesdays/2029-10-24/
LOCATION:Casa 21 Restaurant Bar &Grill\, 4235 W Waters Ave\, Tampa\, FL\, 33614\, United States
CATEGORIES:Tampa
ATTACH;FMTTYPE=image/jpeg:https://golatindance.com/wp-content/uploads/2022/11/611290769_1486788833454778_3833080762799470349_n.jpg
END:VEVENT
BEGIN:VEVENT
DTSTART;TZID=America/New_York:20291031T200000
DTEND;TZID=America/New_York:20291101T020000
DTSTAMP:20260425T124625
CREATED:20221108T011836Z
LAST-MODIFIED:20260106T154156Z
UID:10321669-1888171200-1888192800@golatindance.com
SUMMARY:Salsa World Wednesdays
DESCRIPTION:Salsa World Wednesdays 🐫 continues to light up your midweek.\nGet ready for an unforgettable evening filled with rhythm\, energy\, and Latin flavor on a big\, beautiful dance floor!\n🎶 Salsa Class 8PM to 9PM!\n💃 Social Dancing 9PM till close\n🕺 Music all night: Salsa • Bachata • Merengue
URL:https://golatindance.com/event/salsa-world-wednesdays/2029-10-31/
LOCATION:Casa 21 Restaurant Bar &Grill\, 4235 W Waters Ave\, Tampa\, FL\, 33614\, United States
CATEGORIES:Tampa
ATTACH;FMTTYPE=image/jpeg:https://golatindance.com/wp-content/uploads/2022/11/611290769_1486788833454778_3833080762799470349_n.jpg
END:VEVENT
BEGIN:VEVENT
DTSTART;TZID=America/New_York:20291107T200000
DTEND;TZID=America/New_York:20291108T020000
DTSTAMP:20260425T124625
CREATED:20221108T011836Z
LAST-MODIFIED:20260106T154156Z
UID:10321670-1888776000-1888797600@golatindance.com
SUMMARY:Salsa World Wednesdays
DESCRIPTION:Salsa World Wednesdays 🐫 continues to light up your midweek.\nGet ready for an unforgettable evening filled with rhythm\, energy\, and Latin flavor on a big\, beautiful dance floor!\n🎶 Salsa Class 8PM to 9PM!\n💃 Social Dancing 9PM till close\n🕺 Music all night: Salsa • Bachata • Merengue
URL:https://golatindance.com/event/salsa-world-wednesdays/2029-11-07/
LOCATION:Casa 21 Restaurant Bar &Grill\, 4235 W Waters Ave\, Tampa\, FL\, 33614\, United States
CATEGORIES:Tampa
ATTACH;FMTTYPE=image/jpeg:https://golatindance.com/wp-content/uploads/2022/11/611290769_1486788833454778_3833080762799470349_n.jpg
END:VEVENT
BEGIN:VEVENT
DTSTART;TZID=America/New_York:20291114T200000
DTEND;TZID=America/New_York:20291115T020000
DTSTAMP:20260425T124625
CREATED:20221108T011836Z
LAST-MODIFIED:20260106T154156Z
UID:10321671-1889380800-1889402400@golatindance.com
SUMMARY:Salsa World Wednesdays
DESCRIPTION:Salsa World Wednesdays 🐫 continues to light up your midweek.\nGet ready for an unforgettable evening filled with rhythm\, energy\, and Latin flavor on a big\, beautiful dance floor!\n🎶 Salsa Class 8PM to 9PM!\n💃 Social Dancing 9PM till close\n🕺 Music all night: Salsa • Bachata • Merengue
URL:https://golatindance.com/event/salsa-world-wednesdays/2029-11-14/
LOCATION:Casa 21 Restaurant Bar &Grill\, 4235 W Waters Ave\, Tampa\, FL\, 33614\, United States
CATEGORIES:Tampa
ATTACH;FMTTYPE=image/jpeg:https://golatindance.com/wp-content/uploads/2022/11/611290769_1486788833454778_3833080762799470349_n.jpg
END:VEVENT
BEGIN:VEVENT
DTSTART;TZID=America/New_York:20291121T200000
DTEND;TZID=America/New_York:20291122T020000
DTSTAMP:20260425T124625
CREATED:20221108T011836Z
LAST-MODIFIED:20260106T154156Z
UID:10321672-1889985600-1890007200@golatindance.com
SUMMARY:Salsa World Wednesdays
DESCRIPTION:Salsa World Wednesdays 🐫 continues to light up your midweek.\nGet ready for an unforgettable evening filled with rhythm\, energy\, and Latin flavor on a big\, beautiful dance floor!\n🎶 Salsa Class 8PM to 9PM!\n💃 Social Dancing 9PM till close\n🕺 Music all night: Salsa • Bachata • Merengue
URL:https://golatindance.com/event/salsa-world-wednesdays/2029-11-21/
LOCATION:Casa 21 Restaurant Bar &Grill\, 4235 W Waters Ave\, Tampa\, FL\, 33614\, United States
CATEGORIES:Tampa
ATTACH;FMTTYPE=image/jpeg:https://golatindance.com/wp-content/uploads/2022/11/611290769_1486788833454778_3833080762799470349_n.jpg
END:VEVENT
BEGIN:VEVENT
DTSTART;TZID=America/New_York:20291128T200000
DTEND;TZID=America/New_York:20291129T020000
DTSTAMP:20260425T124625
CREATED:20221108T011836Z
LAST-MODIFIED:20260106T154156Z
UID:10321673-1890590400-1890612000@golatindance.com
SUMMARY:Salsa World Wednesdays
DESCRIPTION:Salsa World Wednesdays 🐫 continues to light up your midweek.\nGet ready for an unforgettable evening filled with rhythm\, energy\, and Latin flavor on a big\, beautiful dance floor!\n🎶 Salsa Class 8PM to 9PM!\n💃 Social Dancing 9PM till close\n🕺 Music all night: Salsa • Bachata • Merengue
URL:https://golatindance.com/event/salsa-world-wednesdays/2029-11-28/
LOCATION:Casa 21 Restaurant Bar &Grill\, 4235 W Waters Ave\, Tampa\, FL\, 33614\, United States
CATEGORIES:Tampa
ATTACH;FMTTYPE=image/jpeg:https://golatindance.com/wp-content/uploads/2022/11/611290769_1486788833454778_3833080762799470349_n.jpg
END:VEVENT
BEGIN:VEVENT
DTSTART;TZID=America/New_York:20291205T200000
DTEND;TZID=America/New_York:20291206T020000
DTSTAMP:20260425T124625
CREATED:20221108T011836Z
LAST-MODIFIED:20260106T154156Z
UID:10321674-1891195200-1891216800@golatindance.com
SUMMARY:Salsa World Wednesdays
DESCRIPTION:Salsa World Wednesdays 🐫 continues to light up your midweek.\nGet ready for an unforgettable evening filled with rhythm\, energy\, and Latin flavor on a big\, beautiful dance floor!\n🎶 Salsa Class 8PM to 9PM!\n💃 Social Dancing 9PM till close\n🕺 Music all night: Salsa • Bachata • Merengue
URL:https://golatindance.com/event/salsa-world-wednesdays/2029-12-05/
LOCATION:Casa 21 Restaurant Bar &Grill\, 4235 W Waters Ave\, Tampa\, FL\, 33614\, United States
CATEGORIES:Tampa
ATTACH;FMTTYPE=image/jpeg:https://golatindance.com/wp-content/uploads/2022/11/611290769_1486788833454778_3833080762799470349_n.jpg
END:VEVENT
BEGIN:VEVENT
DTSTART;TZID=America/New_York:20291212T200000
DTEND;TZID=America/New_York:20291213T020000
DTSTAMP:20260425T124625
CREATED:20221108T011836Z
LAST-MODIFIED:20260106T154156Z
UID:10321675-1891800000-1891821600@golatindance.com
SUMMARY:Salsa World Wednesdays
DESCRIPTION:Salsa World Wednesdays 🐫 continues to light up your midweek.\nGet ready for an unforgettable evening filled with rhythm\, energy\, and Latin flavor on a big\, beautiful dance floor!\n🎶 Salsa Class 8PM to 9PM!\n💃 Social Dancing 9PM till close\n🕺 Music all night: Salsa • Bachata • Merengue
URL:https://golatindance.com/event/salsa-world-wednesdays/2029-12-12/
LOCATION:Casa 21 Restaurant Bar &Grill\, 4235 W Waters Ave\, Tampa\, FL\, 33614\, United States
CATEGORIES:Tampa
ATTACH;FMTTYPE=image/jpeg:https://golatindance.com/wp-content/uploads/2022/11/611290769_1486788833454778_3833080762799470349_n.jpg
END:VEVENT
BEGIN:VEVENT
DTSTART;TZID=America/New_York:20291219T200000
DTEND;TZID=America/New_York:20291220T020000
DTSTAMP:20260425T124625
CREATED:20221108T011836Z
LAST-MODIFIED:20260106T154156Z
UID:10335931-1892404800-1892426400@golatindance.com
SUMMARY:Salsa World Wednesdays
DESCRIPTION:Salsa World Wednesdays 🐫 continues to light up your midweek.\nGet ready for an unforgettable evening filled with rhythm\, energy\, and Latin flavor on a big\, beautiful dance floor!\n🎶 Salsa Class 8PM to 9PM!\n💃 Social Dancing 9PM till close\n🕺 Music all night: Salsa • Bachata • Merengue
URL:https://golatindance.com/event/salsa-world-wednesdays/2029-12-19/
LOCATION:Casa 21 Restaurant Bar &Grill\, 4235 W Waters Ave\, Tampa\, FL\, 33614\, United States
CATEGORIES:Tampa
ATTACH;FMTTYPE=image/jpeg:https://golatindance.com/wp-content/uploads/2022/11/611290769_1486788833454778_3833080762799470349_n.jpg
END:VEVENT
BEGIN:VEVENT
DTSTART;TZID=America/New_York:20291226T200000
DTEND;TZID=America/New_York:20291227T020000
DTSTAMP:20260425T124625
CREATED:20221108T011836Z
LAST-MODIFIED:20260106T154156Z
UID:10335932-1893009600-1893031200@golatindance.com
SUMMARY:Salsa World Wednesdays
DESCRIPTION:Salsa World Wednesdays 🐫 continues to light up your midweek.\nGet ready for an unforgettable evening filled with rhythm\, energy\, and Latin flavor on a big\, beautiful dance floor!\n🎶 Salsa Class 8PM to 9PM!\n💃 Social Dancing 9PM till close\n🕺 Music all night: Salsa • Bachata • Merengue
URL:https://golatindance.com/event/salsa-world-wednesdays/2029-12-26/
LOCATION:Casa 21 Restaurant Bar &Grill\, 4235 W Waters Ave\, Tampa\, FL\, 33614\, United States
CATEGORIES:Tampa
ATTACH;FMTTYPE=image/jpeg:https://golatindance.com/wp-content/uploads/2022/11/611290769_1486788833454778_3833080762799470349_n.jpg
END:VEVENT
BEGIN:VEVENT
DTSTART;TZID=America/New_York:20300102T200000
DTEND;TZID=America/New_York:20300103T020000
DTSTAMP:20260425T124625
CREATED:20221108T011836Z
LAST-MODIFIED:20260106T154156Z
UID:10335933-1893614400-1893636000@golatindance.com
SUMMARY:Salsa World Wednesdays
DESCRIPTION:Salsa World Wednesdays 🐫 continues to light up your midweek.\nGet ready for an unforgettable evening filled with rhythm\, energy\, and Latin flavor on a big\, beautiful dance floor!\n🎶 Salsa Class 8PM to 9PM!\n💃 Social Dancing 9PM till close\n🕺 Music all night: Salsa • Bachata • Merengue
URL:https://golatindance.com/event/salsa-world-wednesdays/2030-01-02/
LOCATION:Casa 21 Restaurant Bar &Grill\, 4235 W Waters Ave\, Tampa\, FL\, 33614\, United States
CATEGORIES:Tampa
ATTACH;FMTTYPE=image/jpeg:https://golatindance.com/wp-content/uploads/2022/11/611290769_1486788833454778_3833080762799470349_n.jpg
END:VEVENT
BEGIN:VEVENT
DTSTART;TZID=America/New_York:20300109T200000
DTEND;TZID=America/New_York:20300110T020000
DTSTAMP:20260425T124625
CREATED:20221108T011836Z
LAST-MODIFIED:20260106T154156Z
UID:10335934-1894219200-1894240800@golatindance.com
SUMMARY:Salsa World Wednesdays
DESCRIPTION:Salsa World Wednesdays 🐫 continues to light up your midweek.\nGet ready for an unforgettable evening filled with rhythm\, energy\, and Latin flavor on a big\, beautiful dance floor!\n🎶 Salsa Class 8PM to 9PM!\n💃 Social Dancing 9PM till close\n🕺 Music all night: Salsa • Bachata • Merengue
URL:https://golatindance.com/event/salsa-world-wednesdays/2030-01-09/
LOCATION:Casa 21 Restaurant Bar &Grill\, 4235 W Waters Ave\, Tampa\, FL\, 33614\, United States
CATEGORIES:Tampa
ATTACH;FMTTYPE=image/jpeg:https://golatindance.com/wp-content/uploads/2022/11/611290769_1486788833454778_3833080762799470349_n.jpg
END:VEVENT
BEGIN:VEVENT
DTSTART;TZID=America/New_York:20300116T200000
DTEND;TZID=America/New_York:20300117T020000
DTSTAMP:20260425T124625
CREATED:20221108T011836Z
LAST-MODIFIED:20260106T154156Z
UID:10335935-1894824000-1894845600@golatindance.com
SUMMARY:Salsa World Wednesdays
DESCRIPTION:Salsa World Wednesdays 🐫 continues to light up your midweek.\nGet ready for an unforgettable evening filled with rhythm\, energy\, and Latin flavor on a big\, beautiful dance floor!\n🎶 Salsa Class 8PM to 9PM!\n💃 Social Dancing 9PM till close\n🕺 Music all night: Salsa • Bachata • Merengue
URL:https://golatindance.com/event/salsa-world-wednesdays/2030-01-16/
LOCATION:Casa 21 Restaurant Bar &Grill\, 4235 W Waters Ave\, Tampa\, FL\, 33614\, United States
CATEGORIES:Tampa
ATTACH;FMTTYPE=image/jpeg:https://golatindance.com/wp-content/uploads/2022/11/611290769_1486788833454778_3833080762799470349_n.jpg
END:VEVENT
BEGIN:VEVENT
DTSTART;TZID=America/New_York:20300123T200000
DTEND;TZID=America/New_York:20300124T020000
DTSTAMP:20260425T124625
CREATED:20221108T011836Z
LAST-MODIFIED:20260106T154156Z
UID:10335936-1895428800-1895450400@golatindance.com
SUMMARY:Salsa World Wednesdays
DESCRIPTION:Salsa World Wednesdays 🐫 continues to light up your midweek.\nGet ready for an unforgettable evening filled with rhythm\, energy\, and Latin flavor on a big\, beautiful dance floor!\n🎶 Salsa Class 8PM to 9PM!\n💃 Social Dancing 9PM till close\n🕺 Music all night: Salsa • Bachata • Merengue
URL:https://golatindance.com/event/salsa-world-wednesdays/2030-01-23/
LOCATION:Casa 21 Restaurant Bar &Grill\, 4235 W Waters Ave\, Tampa\, FL\, 33614\, United States
CATEGORIES:Tampa
ATTACH;FMTTYPE=image/jpeg:https://golatindance.com/wp-content/uploads/2022/11/611290769_1486788833454778_3833080762799470349_n.jpg
END:VEVENT
BEGIN:VEVENT
DTSTART;TZID=America/New_York:20300130T200000
DTEND;TZID=America/New_York:20300131T020000
DTSTAMP:20260425T124625
CREATED:20221108T011836Z
LAST-MODIFIED:20260106T154156Z
UID:10376560-1896033600-1896055200@golatindance.com
SUMMARY:Salsa World Wednesdays
DESCRIPTION:Salsa World Wednesdays 🐫 continues to light up your midweek.\nGet ready for an unforgettable evening filled with rhythm\, energy\, and Latin flavor on a big\, beautiful dance floor!\n🎶 Salsa Class 8PM to 9PM!\n💃 Social Dancing 9PM till close\n🕺 Music all night: Salsa • Bachata • Merengue
URL:https://golatindance.com/event/salsa-world-wednesdays/2030-01-30/
LOCATION:Casa 21 Restaurant Bar &Grill\, 4235 W Waters Ave\, Tampa\, FL\, 33614\, United States
CATEGORIES:Tampa
ATTACH;FMTTYPE=image/jpeg:https://golatindance.com/wp-content/uploads/2022/11/611290769_1486788833454778_3833080762799470349_n.jpg
END:VEVENT
BEGIN:VEVENT
DTSTART;TZID=America/New_York:20300206T200000
DTEND;TZID=America/New_York:20300207T020000
DTSTAMP:20260425T124625
CREATED:20221108T011836Z
LAST-MODIFIED:20260106T154156Z
UID:10376561-1896638400-1896660000@golatindance.com
SUMMARY:Salsa World Wednesdays
DESCRIPTION:Salsa World Wednesdays 🐫 continues to light up your midweek.\nGet ready for an unforgettable evening filled with rhythm\, energy\, and Latin flavor on a big\, beautiful dance floor!\n🎶 Salsa Class 8PM to 9PM!\n💃 Social Dancing 9PM till close\n🕺 Music all night: Salsa • Bachata • Merengue
URL:https://golatindance.com/event/salsa-world-wednesdays/2030-02-06/
LOCATION:Casa 21 Restaurant Bar &Grill\, 4235 W Waters Ave\, Tampa\, FL\, 33614\, United States
CATEGORIES:Tampa
ATTACH;FMTTYPE=image/jpeg:https://golatindance.com/wp-content/uploads/2022/11/611290769_1486788833454778_3833080762799470349_n.jpg
END:VEVENT
BEGIN:VEVENT
DTSTART;TZID=America/New_York:20300213T200000
DTEND;TZID=America/New_York:20300214T020000
DTSTAMP:20260425T124625
CREATED:20221108T011836Z
LAST-MODIFIED:20260106T154156Z
UID:10376562-1897243200-1897264800@golatindance.com
SUMMARY:Salsa World Wednesdays
DESCRIPTION:Salsa World Wednesdays 🐫 continues to light up your midweek.\nGet ready for an unforgettable evening filled with rhythm\, energy\, and Latin flavor on a big\, beautiful dance floor!\n🎶 Salsa Class 8PM to 9PM!\n💃 Social Dancing 9PM till close\n🕺 Music all night: Salsa • Bachata • Merengue
URL:https://golatindance.com/event/salsa-world-wednesdays/2030-02-13/
LOCATION:Casa 21 Restaurant Bar &Grill\, 4235 W Waters Ave\, Tampa\, FL\, 33614\, United States
CATEGORIES:Tampa
ATTACH;FMTTYPE=image/jpeg:https://golatindance.com/wp-content/uploads/2022/11/611290769_1486788833454778_3833080762799470349_n.jpg
END:VEVENT
BEGIN:VEVENT
DTSTART;TZID=America/New_York:20300220T200000
DTEND;TZID=America/New_York:20300221T020000
DTSTAMP:20260425T124625
CREATED:20221108T011836Z
LAST-MODIFIED:20260106T154156Z
UID:10376563-1897848000-1897869600@golatindance.com
SUMMARY:Salsa World Wednesdays
DESCRIPTION:Salsa World Wednesdays 🐫 continues to light up your midweek.\nGet ready for an unforgettable evening filled with rhythm\, energy\, and Latin flavor on a big\, beautiful dance floor!\n🎶 Salsa Class 8PM to 9PM!\n💃 Social Dancing 9PM till close\n🕺 Music all night: Salsa • Bachata • Merengue
URL:https://golatindance.com/event/salsa-world-wednesdays/2030-02-20/
LOCATION:Casa 21 Restaurant Bar &Grill\, 4235 W Waters Ave\, Tampa\, FL\, 33614\, United States
CATEGORIES:Tampa
ATTACH;FMTTYPE=image/jpeg:https://golatindance.com/wp-content/uploads/2022/11/611290769_1486788833454778_3833080762799470349_n.jpg
END:VEVENT
BEGIN:VEVENT
DTSTART;TZID=America/New_York:20300227T200000
DTEND;TZID=America/New_York:20300228T020000
DTSTAMP:20260425T124625
CREATED:20221108T011836Z
LAST-MODIFIED:20260106T154156Z
UID:10376564-1898452800-1898474400@golatindance.com
SUMMARY:Salsa World Wednesdays
DESCRIPTION:Salsa World Wednesdays 🐫 continues to light up your midweek.\nGet ready for an unforgettable evening filled with rhythm\, energy\, and Latin flavor on a big\, beautiful dance floor!\n🎶 Salsa Class 8PM to 9PM!\n💃 Social Dancing 9PM till close\n🕺 Music all night: Salsa • Bachata • Merengue
URL:https://golatindance.com/event/salsa-world-wednesdays/2030-02-27/
LOCATION:Casa 21 Restaurant Bar &Grill\, 4235 W Waters Ave\, Tampa\, FL\, 33614\, United States
CATEGORIES:Tampa
ATTACH;FMTTYPE=image/jpeg:https://golatindance.com/wp-content/uploads/2022/11/611290769_1486788833454778_3833080762799470349_n.jpg
END:VEVENT
BEGIN:VEVENT
DTSTART;TZID=America/New_York:20300306T200000
DTEND;TZID=America/New_York:20300307T020000
DTSTAMP:20260425T124625
CREATED:20221108T011836Z
LAST-MODIFIED:20260106T154156Z
UID:10376565-1899057600-1899079200@golatindance.com
SUMMARY:Salsa World Wednesdays
DESCRIPTION:Salsa World Wednesdays 🐫 continues to light up your midweek.\nGet ready for an unforgettable evening filled with rhythm\, energy\, and Latin flavor on a big\, beautiful dance floor!\n🎶 Salsa Class 8PM to 9PM!\n💃 Social Dancing 9PM till close\n🕺 Music all night: Salsa • Bachata • Merengue
URL:https://golatindance.com/event/salsa-world-wednesdays/2030-03-06/
LOCATION:Casa 21 Restaurant Bar &Grill\, 4235 W Waters Ave\, Tampa\, FL\, 33614\, United States
CATEGORIES:Tampa
ATTACH;FMTTYPE=image/jpeg:https://golatindance.com/wp-content/uploads/2022/11/611290769_1486788833454778_3833080762799470349_n.jpg
END:VEVENT
BEGIN:VEVENT
DTSTART;TZID=America/New_York:20300313T200000
DTEND;TZID=America/New_York:20300314T020000
DTSTAMP:20260425T124625
CREATED:20221108T011836Z
LAST-MODIFIED:20260106T154156Z
UID:10376566-1899662400-1899684000@golatindance.com
SUMMARY:Salsa World Wednesdays
DESCRIPTION:Salsa World Wednesdays 🐫 continues to light up your midweek.\nGet ready for an unforgettable evening filled with rhythm\, energy\, and Latin flavor on a big\, beautiful dance floor!\n🎶 Salsa Class 8PM to 9PM!\n💃 Social Dancing 9PM till close\n🕺 Music all night: Salsa • Bachata • Merengue
URL:https://golatindance.com/event/salsa-world-wednesdays/2030-03-13/
LOCATION:Casa 21 Restaurant Bar &Grill\, 4235 W Waters Ave\, Tampa\, FL\, 33614\, United States
CATEGORIES:Tampa
ATTACH;FMTTYPE=image/jpeg:https://golatindance.com/wp-content/uploads/2022/11/611290769_1486788833454778_3833080762799470349_n.jpg
END:VEVENT
BEGIN:VEVENT
DTSTART;TZID=America/New_York:20300320T200000
DTEND;TZID=America/New_York:20300321T020000
DTSTAMP:20260425T124625
CREATED:20221108T011836Z
LAST-MODIFIED:20260106T154156Z
UID:10376567-1900267200-1900288800@golatindance.com
SUMMARY:Salsa World Wednesdays
DESCRIPTION:Salsa World Wednesdays 🐫 continues to light up your midweek.\nGet ready for an unforgettable evening filled with rhythm\, energy\, and Latin flavor on a big\, beautiful dance floor!\n🎶 Salsa Class 8PM to 9PM!\n💃 Social Dancing 9PM till close\n🕺 Music all night: Salsa • Bachata • Merengue
URL:https://golatindance.com/event/salsa-world-wednesdays/2030-03-20/
LOCATION:Casa 21 Restaurant Bar &Grill\, 4235 W Waters Ave\, Tampa\, FL\, 33614\, United States
CATEGORIES:Tampa
ATTACH;FMTTYPE=image/jpeg:https://golatindance.com/wp-content/uploads/2022/11/611290769_1486788833454778_3833080762799470349_n.jpg
END:VEVENT
BEGIN:VEVENT
DTSTART;TZID=America/New_York:20300327T200000
DTEND;TZID=America/New_York:20300328T020000
DTSTAMP:20260425T124625
CREATED:20221108T011836Z
LAST-MODIFIED:20260106T154156Z
UID:10376568-1900872000-1900893600@golatindance.com
SUMMARY:Salsa World Wednesdays
DESCRIPTION:Salsa World Wednesdays 🐫 continues to light up your midweek.\nGet ready for an unforgettable evening filled with rhythm\, energy\, and Latin flavor on a big\, beautiful dance floor!\n🎶 Salsa Class 8PM to 9PM!\n💃 Social Dancing 9PM till close\n🕺 Music all night: Salsa • Bachata • Merengue
URL:https://golatindance.com/event/salsa-world-wednesdays/2030-03-27/
LOCATION:Casa 21 Restaurant Bar &Grill\, 4235 W Waters Ave\, Tampa\, FL\, 33614\, United States
CATEGORIES:Tampa
ATTACH;FMTTYPE=image/jpeg:https://golatindance.com/wp-content/uploads/2022/11/611290769_1486788833454778_3833080762799470349_n.jpg
END:VEVENT
BEGIN:VEVENT
DTSTART;TZID=America/New_York:20300403T200000
DTEND;TZID=America/New_York:20300404T020000
DTSTAMP:20260425T124625
CREATED:20221108T011836Z
LAST-MODIFIED:20260106T154156Z
UID:10376569-1901476800-1901498400@golatindance.com
SUMMARY:Salsa World Wednesdays
DESCRIPTION:Salsa World Wednesdays 🐫 continues to light up your midweek.\nGet ready for an unforgettable evening filled with rhythm\, energy\, and Latin flavor on a big\, beautiful dance floor!\n🎶 Salsa Class 8PM to 9PM!\n💃 Social Dancing 9PM till close\n🕺 Music all night: Salsa • Bachata • Merengue
URL:https://golatindance.com/event/salsa-world-wednesdays/2030-04-03/
LOCATION:Casa 21 Restaurant Bar &Grill\, 4235 W Waters Ave\, Tampa\, FL\, 33614\, United States
CATEGORIES:Tampa
ATTACH;FMTTYPE=image/jpeg:https://golatindance.com/wp-content/uploads/2022/11/611290769_1486788833454778_3833080762799470349_n.jpg
END:VEVENT
BEGIN:VEVENT
DTSTART;TZID=America/New_York:20300410T200000
DTEND;TZID=America/New_York:20300411T020000
DTSTAMP:20260425T124625
CREATED:20221108T011836Z
LAST-MODIFIED:20260106T154156Z
UID:10376570-1902081600-1902103200@golatindance.com
SUMMARY:Salsa World Wednesdays
DESCRIPTION:Salsa World Wednesdays 🐫 continues to light up your midweek.\nGet ready for an unforgettable evening filled with rhythm\, energy\, and Latin flavor on a big\, beautiful dance floor!\n🎶 Salsa Class 8PM to 9PM!\n💃 Social Dancing 9PM till close\n🕺 Music all night: Salsa • Bachata • Merengue
URL:https://golatindance.com/event/salsa-world-wednesdays/2030-04-10/
LOCATION:Casa 21 Restaurant Bar &Grill\, 4235 W Waters Ave\, Tampa\, FL\, 33614\, United States
CATEGORIES:Tampa
ATTACH;FMTTYPE=image/jpeg:https://golatindance.com/wp-content/uploads/2022/11/611290769_1486788833454778_3833080762799470349_n.jpg
END:VEVENT
BEGIN:VEVENT
DTSTART;TZID=America/New_York:20300417T200000
DTEND;TZID=America/New_York:20300418T020000
DTSTAMP:20260425T124625
CREATED:20221108T011836Z
LAST-MODIFIED:20260106T154156Z
UID:10376571-1902686400-1902708000@golatindance.com
SUMMARY:Salsa World Wednesdays
DESCRIPTION:Salsa World Wednesdays 🐫 continues to light up your midweek.\nGet ready for an unforgettable evening filled with rhythm\, energy\, and Latin flavor on a big\, beautiful dance floor!\n🎶 Salsa Class 8PM to 9PM!\n💃 Social Dancing 9PM till close\n🕺 Music all night: Salsa • Bachata • Merengue
URL:https://golatindance.com/event/salsa-world-wednesdays/2030-04-17/
LOCATION:Casa 21 Restaurant Bar &Grill\, 4235 W Waters Ave\, Tampa\, FL\, 33614\, United States
CATEGORIES:Tampa
ATTACH;FMTTYPE=image/jpeg:https://golatindance.com/wp-content/uploads/2022/11/611290769_1486788833454778_3833080762799470349_n.jpg
END:VEVENT
BEGIN:VEVENT
DTSTART;TZID=America/New_York:20300424T200000
DTEND;TZID=America/New_York:20300425T020000
DTSTAMP:20260425T124625
CREATED:20221108T011836Z
LAST-MODIFIED:20260106T154156Z
UID:10376572-1903291200-1903312800@golatindance.com
SUMMARY:Salsa World Wednesdays
DESCRIPTION:Salsa World Wednesdays 🐫 continues to light up your midweek.\nGet ready for an unforgettable evening filled with rhythm\, energy\, and Latin flavor on a big\, beautiful dance floor!\n🎶 Salsa Class 8PM to 9PM!\n💃 Social Dancing 9PM till close\n🕺 Music all night: Salsa • Bachata • Merengue
URL:https://golatindance.com/event/salsa-world-wednesdays/2030-04-24/
LOCATION:Casa 21 Restaurant Bar &Grill\, 4235 W Waters Ave\, Tampa\, FL\, 33614\, United States
CATEGORIES:Tampa
ATTACH;FMTTYPE=image/jpeg:https://golatindance.com/wp-content/uploads/2022/11/611290769_1486788833454778_3833080762799470349_n.jpg
END:VEVENT
BEGIN:VEVENT
DTSTART;TZID=America/New_York:20300501T200000
DTEND;TZID=America/New_York:20300502T020000
DTSTAMP:20260425T124625
CREATED:20221108T011836Z
LAST-MODIFIED:20260106T154156Z
UID:10376573-1903896000-1903917600@golatindance.com
SUMMARY:Salsa World Wednesdays
DESCRIPTION:Salsa World Wednesdays 🐫 continues to light up your midweek.\nGet ready for an unforgettable evening filled with rhythm\, energy\, and Latin flavor on a big\, beautiful dance floor!\n🎶 Salsa Class 8PM to 9PM!\n💃 Social Dancing 9PM till close\n🕺 Music all night: Salsa • Bachata • Merengue
URL:https://golatindance.com/event/salsa-world-wednesdays/2030-05-01/
LOCATION:Casa 21 Restaurant Bar &Grill\, 4235 W Waters Ave\, Tampa\, FL\, 33614\, United States
CATEGORIES:Tampa
ATTACH;FMTTYPE=image/jpeg:https://golatindance.com/wp-content/uploads/2022/11/611290769_1486788833454778_3833080762799470349_n.jpg
END:VEVENT
END:VCALENDAR