BEGIN:VCALENDAR
VERSION:2.0
PRODID:-//GO Latin Dance - ECPv6.15.18//NONSGML v1.0//EN
CALSCALE:GREGORIAN
METHOD:PUBLISH
X-WR-CALNAME:GO Latin Dance
X-ORIGINAL-URL:https://golatindance.com
X-WR-CALDESC:Events for GO Latin Dance
REFRESH-INTERVAL;VALUE=DURATION:PT1H
X-Robots-Tag:noindex
X-PUBLISHED-TTL:PT1H
BEGIN:VTIMEZONE
TZID:America/New_York
BEGIN:DAYLIGHT
TZOFFSETFROM:-0500
TZOFFSETTO:-0400
TZNAME:EDT
DTSTART:20290311T070000
END:DAYLIGHT
BEGIN:STANDARD
TZOFFSETFROM:-0400
TZOFFSETTO:-0500
TZNAME:EST
DTSTART:20291104T060000
END:STANDARD
BEGIN:DAYLIGHT
TZOFFSETFROM:-0500
TZOFFSETTO:-0400
TZNAME:EDT
DTSTART:20300310T070000
END:DAYLIGHT
BEGIN:STANDARD
TZOFFSETFROM:-0400
TZOFFSETTO:-0500
TZNAME:EST
DTSTART:20301103T060000
END:STANDARD
BEGIN:DAYLIGHT
TZOFFSETFROM:-0500
TZOFFSETTO:-0400
TZNAME:EDT
DTSTART:20310309T070000
END:DAYLIGHT
BEGIN:STANDARD
TZOFFSETFROM:-0400
TZOFFSETTO:-0500
TZNAME:EST
DTSTART:20311102T060000
END:STANDARD
END:VTIMEZONE
BEGIN:VEVENT
DTSTART;TZID=America/New_York:20300227T200000
DTEND;TZID=America/New_York:20300228T020000
DTSTAMP:20260425T151645
CREATED:20221108T011836Z
LAST-MODIFIED:20260106T154156Z
UID:10376564-1898452800-1898474400@golatindance.com
SUMMARY:Salsa World Wednesdays
DESCRIPTION:Salsa World Wednesdays 🐫 continues to light up your midweek.\nGet ready for an unforgettable evening filled with rhythm\, energy\, and Latin flavor on a big\, beautiful dance floor!\n🎶 Salsa Class 8PM to 9PM!\n💃 Social Dancing 9PM till close\n🕺 Music all night: Salsa • Bachata • Merengue
URL:https://golatindance.com/event/salsa-world-wednesdays/2030-02-27/
LOCATION:Casa 21 Restaurant Bar &Grill\, 4235 W Waters Ave\, Tampa\, FL\, 33614\, United States
CATEGORIES:Tampa
ATTACH;FMTTYPE=image/jpeg:https://golatindance.com/wp-content/uploads/2022/11/611290769_1486788833454778_3833080762799470349_n.jpg
END:VEVENT
BEGIN:VEVENT
DTSTART;TZID=America/New_York:20300306T200000
DTEND;TZID=America/New_York:20300307T020000
DTSTAMP:20260425T151645
CREATED:20221108T011836Z
LAST-MODIFIED:20260106T154156Z
UID:10376565-1899057600-1899079200@golatindance.com
SUMMARY:Salsa World Wednesdays
DESCRIPTION:Salsa World Wednesdays 🐫 continues to light up your midweek.\nGet ready for an unforgettable evening filled with rhythm\, energy\, and Latin flavor on a big\, beautiful dance floor!\n🎶 Salsa Class 8PM to 9PM!\n💃 Social Dancing 9PM till close\n🕺 Music all night: Salsa • Bachata • Merengue
URL:https://golatindance.com/event/salsa-world-wednesdays/2030-03-06/
LOCATION:Casa 21 Restaurant Bar &Grill\, 4235 W Waters Ave\, Tampa\, FL\, 33614\, United States
CATEGORIES:Tampa
ATTACH;FMTTYPE=image/jpeg:https://golatindance.com/wp-content/uploads/2022/11/611290769_1486788833454778_3833080762799470349_n.jpg
END:VEVENT
BEGIN:VEVENT
DTSTART;TZID=America/New_York:20300313T200000
DTEND;TZID=America/New_York:20300314T020000
DTSTAMP:20260425T151645
CREATED:20221108T011836Z
LAST-MODIFIED:20260106T154156Z
UID:10376566-1899662400-1899684000@golatindance.com
SUMMARY:Salsa World Wednesdays
DESCRIPTION:Salsa World Wednesdays 🐫 continues to light up your midweek.\nGet ready for an unforgettable evening filled with rhythm\, energy\, and Latin flavor on a big\, beautiful dance floor!\n🎶 Salsa Class 8PM to 9PM!\n💃 Social Dancing 9PM till close\n🕺 Music all night: Salsa • Bachata • Merengue
URL:https://golatindance.com/event/salsa-world-wednesdays/2030-03-13/
LOCATION:Casa 21 Restaurant Bar &Grill\, 4235 W Waters Ave\, Tampa\, FL\, 33614\, United States
CATEGORIES:Tampa
ATTACH;FMTTYPE=image/jpeg:https://golatindance.com/wp-content/uploads/2022/11/611290769_1486788833454778_3833080762799470349_n.jpg
END:VEVENT
BEGIN:VEVENT
DTSTART;TZID=America/New_York:20300320T200000
DTEND;TZID=America/New_York:20300321T020000
DTSTAMP:20260425T151645
CREATED:20221108T011836Z
LAST-MODIFIED:20260106T154156Z
UID:10376567-1900267200-1900288800@golatindance.com
SUMMARY:Salsa World Wednesdays
DESCRIPTION:Salsa World Wednesdays 🐫 continues to light up your midweek.\nGet ready for an unforgettable evening filled with rhythm\, energy\, and Latin flavor on a big\, beautiful dance floor!\n🎶 Salsa Class 8PM to 9PM!\n💃 Social Dancing 9PM till close\n🕺 Music all night: Salsa • Bachata • Merengue
URL:https://golatindance.com/event/salsa-world-wednesdays/2030-03-20/
LOCATION:Casa 21 Restaurant Bar &Grill\, 4235 W Waters Ave\, Tampa\, FL\, 33614\, United States
CATEGORIES:Tampa
ATTACH;FMTTYPE=image/jpeg:https://golatindance.com/wp-content/uploads/2022/11/611290769_1486788833454778_3833080762799470349_n.jpg
END:VEVENT
BEGIN:VEVENT
DTSTART;TZID=America/New_York:20300327T200000
DTEND;TZID=America/New_York:20300328T020000
DTSTAMP:20260425T151645
CREATED:20221108T011836Z
LAST-MODIFIED:20260106T154156Z
UID:10376568-1900872000-1900893600@golatindance.com
SUMMARY:Salsa World Wednesdays
DESCRIPTION:Salsa World Wednesdays 🐫 continues to light up your midweek.\nGet ready for an unforgettable evening filled with rhythm\, energy\, and Latin flavor on a big\, beautiful dance floor!\n🎶 Salsa Class 8PM to 9PM!\n💃 Social Dancing 9PM till close\n🕺 Music all night: Salsa • Bachata • Merengue
URL:https://golatindance.com/event/salsa-world-wednesdays/2030-03-27/
LOCATION:Casa 21 Restaurant Bar &Grill\, 4235 W Waters Ave\, Tampa\, FL\, 33614\, United States
CATEGORIES:Tampa
ATTACH;FMTTYPE=image/jpeg:https://golatindance.com/wp-content/uploads/2022/11/611290769_1486788833454778_3833080762799470349_n.jpg
END:VEVENT
BEGIN:VEVENT
DTSTART;TZID=America/New_York:20300403T200000
DTEND;TZID=America/New_York:20300404T020000
DTSTAMP:20260425T151645
CREATED:20221108T011836Z
LAST-MODIFIED:20260106T154156Z
UID:10376569-1901476800-1901498400@golatindance.com
SUMMARY:Salsa World Wednesdays
DESCRIPTION:Salsa World Wednesdays 🐫 continues to light up your midweek.\nGet ready for an unforgettable evening filled with rhythm\, energy\, and Latin flavor on a big\, beautiful dance floor!\n🎶 Salsa Class 8PM to 9PM!\n💃 Social Dancing 9PM till close\n🕺 Music all night: Salsa • Bachata • Merengue
URL:https://golatindance.com/event/salsa-world-wednesdays/2030-04-03/
LOCATION:Casa 21 Restaurant Bar &Grill\, 4235 W Waters Ave\, Tampa\, FL\, 33614\, United States
CATEGORIES:Tampa
ATTACH;FMTTYPE=image/jpeg:https://golatindance.com/wp-content/uploads/2022/11/611290769_1486788833454778_3833080762799470349_n.jpg
END:VEVENT
BEGIN:VEVENT
DTSTART;TZID=America/New_York:20300410T200000
DTEND;TZID=America/New_York:20300411T020000
DTSTAMP:20260425T151645
CREATED:20221108T011836Z
LAST-MODIFIED:20260106T154156Z
UID:10376570-1902081600-1902103200@golatindance.com
SUMMARY:Salsa World Wednesdays
DESCRIPTION:Salsa World Wednesdays 🐫 continues to light up your midweek.\nGet ready for an unforgettable evening filled with rhythm\, energy\, and Latin flavor on a big\, beautiful dance floor!\n🎶 Salsa Class 8PM to 9PM!\n💃 Social Dancing 9PM till close\n🕺 Music all night: Salsa • Bachata • Merengue
URL:https://golatindance.com/event/salsa-world-wednesdays/2030-04-10/
LOCATION:Casa 21 Restaurant Bar &Grill\, 4235 W Waters Ave\, Tampa\, FL\, 33614\, United States
CATEGORIES:Tampa
ATTACH;FMTTYPE=image/jpeg:https://golatindance.com/wp-content/uploads/2022/11/611290769_1486788833454778_3833080762799470349_n.jpg
END:VEVENT
BEGIN:VEVENT
DTSTART;TZID=America/New_York:20300417T200000
DTEND;TZID=America/New_York:20300418T020000
DTSTAMP:20260425T151645
CREATED:20221108T011836Z
LAST-MODIFIED:20260106T154156Z
UID:10376571-1902686400-1902708000@golatindance.com
SUMMARY:Salsa World Wednesdays
DESCRIPTION:Salsa World Wednesdays 🐫 continues to light up your midweek.\nGet ready for an unforgettable evening filled with rhythm\, energy\, and Latin flavor on a big\, beautiful dance floor!\n🎶 Salsa Class 8PM to 9PM!\n💃 Social Dancing 9PM till close\n🕺 Music all night: Salsa • Bachata • Merengue
URL:https://golatindance.com/event/salsa-world-wednesdays/2030-04-17/
LOCATION:Casa 21 Restaurant Bar &Grill\, 4235 W Waters Ave\, Tampa\, FL\, 33614\, United States
CATEGORIES:Tampa
ATTACH;FMTTYPE=image/jpeg:https://golatindance.com/wp-content/uploads/2022/11/611290769_1486788833454778_3833080762799470349_n.jpg
END:VEVENT
BEGIN:VEVENT
DTSTART;TZID=America/New_York:20300424T200000
DTEND;TZID=America/New_York:20300425T020000
DTSTAMP:20260425T151645
CREATED:20221108T011836Z
LAST-MODIFIED:20260106T154156Z
UID:10376572-1903291200-1903312800@golatindance.com
SUMMARY:Salsa World Wednesdays
DESCRIPTION:Salsa World Wednesdays 🐫 continues to light up your midweek.\nGet ready for an unforgettable evening filled with rhythm\, energy\, and Latin flavor on a big\, beautiful dance floor!\n🎶 Salsa Class 8PM to 9PM!\n💃 Social Dancing 9PM till close\n🕺 Music all night: Salsa • Bachata • Merengue
URL:https://golatindance.com/event/salsa-world-wednesdays/2030-04-24/
LOCATION:Casa 21 Restaurant Bar &Grill\, 4235 W Waters Ave\, Tampa\, FL\, 33614\, United States
CATEGORIES:Tampa
ATTACH;FMTTYPE=image/jpeg:https://golatindance.com/wp-content/uploads/2022/11/611290769_1486788833454778_3833080762799470349_n.jpg
END:VEVENT
BEGIN:VEVENT
DTSTART;TZID=America/New_York:20300501T200000
DTEND;TZID=America/New_York:20300502T020000
DTSTAMP:20260425T151645
CREATED:20221108T011836Z
LAST-MODIFIED:20260106T154156Z
UID:10376573-1903896000-1903917600@golatindance.com
SUMMARY:Salsa World Wednesdays
DESCRIPTION:Salsa World Wednesdays 🐫 continues to light up your midweek.\nGet ready for an unforgettable evening filled with rhythm\, energy\, and Latin flavor on a big\, beautiful dance floor!\n🎶 Salsa Class 8PM to 9PM!\n💃 Social Dancing 9PM till close\n🕺 Music all night: Salsa • Bachata • Merengue
URL:https://golatindance.com/event/salsa-world-wednesdays/2030-05-01/
LOCATION:Casa 21 Restaurant Bar &Grill\, 4235 W Waters Ave\, Tampa\, FL\, 33614\, United States
CATEGORIES:Tampa
ATTACH;FMTTYPE=image/jpeg:https://golatindance.com/wp-content/uploads/2022/11/611290769_1486788833454778_3833080762799470349_n.jpg
END:VEVENT
BEGIN:VEVENT
DTSTART;TZID=America/New_York:20300508T200000
DTEND;TZID=America/New_York:20300509T020000
DTSTAMP:20260425T151645
CREATED:20221108T011836Z
LAST-MODIFIED:20260106T154156Z
UID:10376574-1904500800-1904522400@golatindance.com
SUMMARY:Salsa World Wednesdays
DESCRIPTION:Salsa World Wednesdays 🐫 continues to light up your midweek.\nGet ready for an unforgettable evening filled with rhythm\, energy\, and Latin flavor on a big\, beautiful dance floor!\n🎶 Salsa Class 8PM to 9PM!\n💃 Social Dancing 9PM till close\n🕺 Music all night: Salsa • Bachata • Merengue
URL:https://golatindance.com/event/salsa-world-wednesdays/2030-05-08/
LOCATION:Casa 21 Restaurant Bar &Grill\, 4235 W Waters Ave\, Tampa\, FL\, 33614\, United States
CATEGORIES:Tampa
ATTACH;FMTTYPE=image/jpeg:https://golatindance.com/wp-content/uploads/2022/11/611290769_1486788833454778_3833080762799470349_n.jpg
END:VEVENT
BEGIN:VEVENT
DTSTART;TZID=America/New_York:20300515T200000
DTEND;TZID=America/New_York:20300516T020000
DTSTAMP:20260425T151645
CREATED:20221108T011836Z
LAST-MODIFIED:20260106T154156Z
UID:10376575-1905105600-1905127200@golatindance.com
SUMMARY:Salsa World Wednesdays
DESCRIPTION:Salsa World Wednesdays 🐫 continues to light up your midweek.\nGet ready for an unforgettable evening filled with rhythm\, energy\, and Latin flavor on a big\, beautiful dance floor!\n🎶 Salsa Class 8PM to 9PM!\n💃 Social Dancing 9PM till close\n🕺 Music all night: Salsa • Bachata • Merengue
URL:https://golatindance.com/event/salsa-world-wednesdays/2030-05-15/
LOCATION:Casa 21 Restaurant Bar &Grill\, 4235 W Waters Ave\, Tampa\, FL\, 33614\, United States
CATEGORIES:Tampa
ATTACH;FMTTYPE=image/jpeg:https://golatindance.com/wp-content/uploads/2022/11/611290769_1486788833454778_3833080762799470349_n.jpg
END:VEVENT
BEGIN:VEVENT
DTSTART;TZID=America/New_York:20300522T200000
DTEND;TZID=America/New_York:20300523T020000
DTSTAMP:20260425T151645
CREATED:20221108T011836Z
LAST-MODIFIED:20260106T154156Z
UID:10376576-1905710400-1905732000@golatindance.com
SUMMARY:Salsa World Wednesdays
DESCRIPTION:Salsa World Wednesdays 🐫 continues to light up your midweek.\nGet ready for an unforgettable evening filled with rhythm\, energy\, and Latin flavor on a big\, beautiful dance floor!\n🎶 Salsa Class 8PM to 9PM!\n💃 Social Dancing 9PM till close\n🕺 Music all night: Salsa • Bachata • Merengue
URL:https://golatindance.com/event/salsa-world-wednesdays/2030-05-22/
LOCATION:Casa 21 Restaurant Bar &Grill\, 4235 W Waters Ave\, Tampa\, FL\, 33614\, United States
CATEGORIES:Tampa
ATTACH;FMTTYPE=image/jpeg:https://golatindance.com/wp-content/uploads/2022/11/611290769_1486788833454778_3833080762799470349_n.jpg
END:VEVENT
BEGIN:VEVENT
DTSTART;TZID=America/New_York:20300529T200000
DTEND;TZID=America/New_York:20300530T020000
DTSTAMP:20260425T151645
CREATED:20221108T011836Z
LAST-MODIFIED:20260106T154156Z
UID:10376577-1906315200-1906336800@golatindance.com
SUMMARY:Salsa World Wednesdays
DESCRIPTION:Salsa World Wednesdays 🐫 continues to light up your midweek.\nGet ready for an unforgettable evening filled with rhythm\, energy\, and Latin flavor on a big\, beautiful dance floor!\n🎶 Salsa Class 8PM to 9PM!\n💃 Social Dancing 9PM till close\n🕺 Music all night: Salsa • Bachata • Merengue
URL:https://golatindance.com/event/salsa-world-wednesdays/2030-05-29/
LOCATION:Casa 21 Restaurant Bar &Grill\, 4235 W Waters Ave\, Tampa\, FL\, 33614\, United States
CATEGORIES:Tampa
ATTACH;FMTTYPE=image/jpeg:https://golatindance.com/wp-content/uploads/2022/11/611290769_1486788833454778_3833080762799470349_n.jpg
END:VEVENT
BEGIN:VEVENT
DTSTART;TZID=America/New_York:20300605T200000
DTEND;TZID=America/New_York:20300606T020000
DTSTAMP:20260425T151645
CREATED:20221108T011836Z
LAST-MODIFIED:20260106T154156Z
UID:10376578-1906920000-1906941600@golatindance.com
SUMMARY:Salsa World Wednesdays
DESCRIPTION:Salsa World Wednesdays 🐫 continues to light up your midweek.\nGet ready for an unforgettable evening filled with rhythm\, energy\, and Latin flavor on a big\, beautiful dance floor!\n🎶 Salsa Class 8PM to 9PM!\n💃 Social Dancing 9PM till close\n🕺 Music all night: Salsa • Bachata • Merengue
URL:https://golatindance.com/event/salsa-world-wednesdays/2030-06-05/
LOCATION:Casa 21 Restaurant Bar &Grill\, 4235 W Waters Ave\, Tampa\, FL\, 33614\, United States
CATEGORIES:Tampa
ATTACH;FMTTYPE=image/jpeg:https://golatindance.com/wp-content/uploads/2022/11/611290769_1486788833454778_3833080762799470349_n.jpg
END:VEVENT
BEGIN:VEVENT
DTSTART;TZID=America/New_York:20300612T200000
DTEND;TZID=America/New_York:20300613T020000
DTSTAMP:20260425T151645
CREATED:20221108T011836Z
LAST-MODIFIED:20260106T154156Z
UID:10376579-1907524800-1907546400@golatindance.com
SUMMARY:Salsa World Wednesdays
DESCRIPTION:Salsa World Wednesdays 🐫 continues to light up your midweek.\nGet ready for an unforgettable evening filled with rhythm\, energy\, and Latin flavor on a big\, beautiful dance floor!\n🎶 Salsa Class 8PM to 9PM!\n💃 Social Dancing 9PM till close\n🕺 Music all night: Salsa • Bachata • Merengue
URL:https://golatindance.com/event/salsa-world-wednesdays/2030-06-12/
LOCATION:Casa 21 Restaurant Bar &Grill\, 4235 W Waters Ave\, Tampa\, FL\, 33614\, United States
CATEGORIES:Tampa
ATTACH;FMTTYPE=image/jpeg:https://golatindance.com/wp-content/uploads/2022/11/611290769_1486788833454778_3833080762799470349_n.jpg
END:VEVENT
BEGIN:VEVENT
DTSTART;TZID=America/New_York:20300619T200000
DTEND;TZID=America/New_York:20300620T020000
DTSTAMP:20260425T151645
CREATED:20221108T011836Z
LAST-MODIFIED:20260106T154156Z
UID:10376580-1908129600-1908151200@golatindance.com
SUMMARY:Salsa World Wednesdays
DESCRIPTION:Salsa World Wednesdays 🐫 continues to light up your midweek.\nGet ready for an unforgettable evening filled with rhythm\, energy\, and Latin flavor on a big\, beautiful dance floor!\n🎶 Salsa Class 8PM to 9PM!\n💃 Social Dancing 9PM till close\n🕺 Music all night: Salsa • Bachata • Merengue
URL:https://golatindance.com/event/salsa-world-wednesdays/2030-06-19/
LOCATION:Casa 21 Restaurant Bar &Grill\, 4235 W Waters Ave\, Tampa\, FL\, 33614\, United States
CATEGORIES:Tampa
ATTACH;FMTTYPE=image/jpeg:https://golatindance.com/wp-content/uploads/2022/11/611290769_1486788833454778_3833080762799470349_n.jpg
END:VEVENT
BEGIN:VEVENT
DTSTART;TZID=America/New_York:20300626T200000
DTEND;TZID=America/New_York:20300627T020000
DTSTAMP:20260425T151645
CREATED:20221108T011836Z
LAST-MODIFIED:20260106T154156Z
UID:10376581-1908734400-1908756000@golatindance.com
SUMMARY:Salsa World Wednesdays
DESCRIPTION:Salsa World Wednesdays 🐫 continues to light up your midweek.\nGet ready for an unforgettable evening filled with rhythm\, energy\, and Latin flavor on a big\, beautiful dance floor!\n🎶 Salsa Class 8PM to 9PM!\n💃 Social Dancing 9PM till close\n🕺 Music all night: Salsa • Bachata • Merengue
URL:https://golatindance.com/event/salsa-world-wednesdays/2030-06-26/
LOCATION:Casa 21 Restaurant Bar &Grill\, 4235 W Waters Ave\, Tampa\, FL\, 33614\, United States
CATEGORIES:Tampa
ATTACH;FMTTYPE=image/jpeg:https://golatindance.com/wp-content/uploads/2022/11/611290769_1486788833454778_3833080762799470349_n.jpg
END:VEVENT
BEGIN:VEVENT
DTSTART;TZID=America/New_York:20300703T200000
DTEND;TZID=America/New_York:20300704T020000
DTSTAMP:20260425T151645
CREATED:20221108T011836Z
LAST-MODIFIED:20260106T154156Z
UID:10404718-1909339200-1909360800@golatindance.com
SUMMARY:Salsa World Wednesdays
DESCRIPTION:Salsa World Wednesdays 🐫 continues to light up your midweek.\nGet ready for an unforgettable evening filled with rhythm\, energy\, and Latin flavor on a big\, beautiful dance floor!\n🎶 Salsa Class 8PM to 9PM!\n💃 Social Dancing 9PM till close\n🕺 Music all night: Salsa • Bachata • Merengue
URL:https://golatindance.com/event/salsa-world-wednesdays/2030-07-03/
LOCATION:Casa 21 Restaurant Bar &Grill\, 4235 W Waters Ave\, Tampa\, FL\, 33614\, United States
CATEGORIES:Tampa
ATTACH;FMTTYPE=image/jpeg:https://golatindance.com/wp-content/uploads/2022/11/611290769_1486788833454778_3833080762799470349_n.jpg
END:VEVENT
BEGIN:VEVENT
DTSTART;TZID=America/New_York:20300710T200000
DTEND;TZID=America/New_York:20300711T020000
DTSTAMP:20260425T151645
CREATED:20221108T011836Z
LAST-MODIFIED:20260106T154156Z
UID:10404719-1909944000-1909965600@golatindance.com
SUMMARY:Salsa World Wednesdays
DESCRIPTION:Salsa World Wednesdays 🐫 continues to light up your midweek.\nGet ready for an unforgettable evening filled with rhythm\, energy\, and Latin flavor on a big\, beautiful dance floor!\n🎶 Salsa Class 8PM to 9PM!\n💃 Social Dancing 9PM till close\n🕺 Music all night: Salsa • Bachata • Merengue
URL:https://golatindance.com/event/salsa-world-wednesdays/2030-07-10/
LOCATION:Casa 21 Restaurant Bar &Grill\, 4235 W Waters Ave\, Tampa\, FL\, 33614\, United States
CATEGORIES:Tampa
ATTACH;FMTTYPE=image/jpeg:https://golatindance.com/wp-content/uploads/2022/11/611290769_1486788833454778_3833080762799470349_n.jpg
END:VEVENT
BEGIN:VEVENT
DTSTART;TZID=America/New_York:20300717T200000
DTEND;TZID=America/New_York:20300718T020000
DTSTAMP:20260425T151645
CREATED:20221108T011836Z
LAST-MODIFIED:20260106T154156Z
UID:10404720-1910548800-1910570400@golatindance.com
SUMMARY:Salsa World Wednesdays
DESCRIPTION:Salsa World Wednesdays 🐫 continues to light up your midweek.\nGet ready for an unforgettable evening filled with rhythm\, energy\, and Latin flavor on a big\, beautiful dance floor!\n🎶 Salsa Class 8PM to 9PM!\n💃 Social Dancing 9PM till close\n🕺 Music all night: Salsa • Bachata • Merengue
URL:https://golatindance.com/event/salsa-world-wednesdays/2030-07-17/
LOCATION:Casa 21 Restaurant Bar &Grill\, 4235 W Waters Ave\, Tampa\, FL\, 33614\, United States
CATEGORIES:Tampa
ATTACH;FMTTYPE=image/jpeg:https://golatindance.com/wp-content/uploads/2022/11/611290769_1486788833454778_3833080762799470349_n.jpg
END:VEVENT
BEGIN:VEVENT
DTSTART;TZID=America/New_York:20300724T200000
DTEND;TZID=America/New_York:20300725T020000
DTSTAMP:20260425T151645
CREATED:20221108T011836Z
LAST-MODIFIED:20260106T154156Z
UID:10404721-1911153600-1911175200@golatindance.com
SUMMARY:Salsa World Wednesdays
DESCRIPTION:Salsa World Wednesdays 🐫 continues to light up your midweek.\nGet ready for an unforgettable evening filled with rhythm\, energy\, and Latin flavor on a big\, beautiful dance floor!\n🎶 Salsa Class 8PM to 9PM!\n💃 Social Dancing 9PM till close\n🕺 Music all night: Salsa • Bachata • Merengue
URL:https://golatindance.com/event/salsa-world-wednesdays/2030-07-24/
LOCATION:Casa 21 Restaurant Bar &Grill\, 4235 W Waters Ave\, Tampa\, FL\, 33614\, United States
CATEGORIES:Tampa
ATTACH;FMTTYPE=image/jpeg:https://golatindance.com/wp-content/uploads/2022/11/611290769_1486788833454778_3833080762799470349_n.jpg
END:VEVENT
BEGIN:VEVENT
DTSTART;TZID=America/New_York:20300731T200000
DTEND;TZID=America/New_York:20300801T020000
DTSTAMP:20260425T151645
CREATED:20221108T011836Z
LAST-MODIFIED:20260106T154156Z
UID:10404722-1911758400-1911780000@golatindance.com
SUMMARY:Salsa World Wednesdays
DESCRIPTION:Salsa World Wednesdays 🐫 continues to light up your midweek.\nGet ready for an unforgettable evening filled with rhythm\, energy\, and Latin flavor on a big\, beautiful dance floor!\n🎶 Salsa Class 8PM to 9PM!\n💃 Social Dancing 9PM till close\n🕺 Music all night: Salsa • Bachata • Merengue
URL:https://golatindance.com/event/salsa-world-wednesdays/2030-07-31/
LOCATION:Casa 21 Restaurant Bar &Grill\, 4235 W Waters Ave\, Tampa\, FL\, 33614\, United States
CATEGORIES:Tampa
ATTACH;FMTTYPE=image/jpeg:https://golatindance.com/wp-content/uploads/2022/11/611290769_1486788833454778_3833080762799470349_n.jpg
END:VEVENT
BEGIN:VEVENT
DTSTART;TZID=America/New_York:20300807T200000
DTEND;TZID=America/New_York:20300808T020000
DTSTAMP:20260425T151645
CREATED:20221108T011836Z
LAST-MODIFIED:20260106T154156Z
UID:10404723-1912363200-1912384800@golatindance.com
SUMMARY:Salsa World Wednesdays
DESCRIPTION:Salsa World Wednesdays 🐫 continues to light up your midweek.\nGet ready for an unforgettable evening filled with rhythm\, energy\, and Latin flavor on a big\, beautiful dance floor!\n🎶 Salsa Class 8PM to 9PM!\n💃 Social Dancing 9PM till close\n🕺 Music all night: Salsa • Bachata • Merengue
URL:https://golatindance.com/event/salsa-world-wednesdays/2030-08-07/
LOCATION:Casa 21 Restaurant Bar &Grill\, 4235 W Waters Ave\, Tampa\, FL\, 33614\, United States
CATEGORIES:Tampa
ATTACH;FMTTYPE=image/jpeg:https://golatindance.com/wp-content/uploads/2022/11/611290769_1486788833454778_3833080762799470349_n.jpg
END:VEVENT
BEGIN:VEVENT
DTSTART;TZID=America/New_York:20300814T200000
DTEND;TZID=America/New_York:20300815T020000
DTSTAMP:20260425T151645
CREATED:20221108T011836Z
LAST-MODIFIED:20260106T154156Z
UID:10404724-1912968000-1912989600@golatindance.com
SUMMARY:Salsa World Wednesdays
DESCRIPTION:Salsa World Wednesdays 🐫 continues to light up your midweek.\nGet ready for an unforgettable evening filled with rhythm\, energy\, and Latin flavor on a big\, beautiful dance floor!\n🎶 Salsa Class 8PM to 9PM!\n💃 Social Dancing 9PM till close\n🕺 Music all night: Salsa • Bachata • Merengue
URL:https://golatindance.com/event/salsa-world-wednesdays/2030-08-14/
LOCATION:Casa 21 Restaurant Bar &Grill\, 4235 W Waters Ave\, Tampa\, FL\, 33614\, United States
CATEGORIES:Tampa
ATTACH;FMTTYPE=image/jpeg:https://golatindance.com/wp-content/uploads/2022/11/611290769_1486788833454778_3833080762799470349_n.jpg
END:VEVENT
BEGIN:VEVENT
DTSTART;TZID=America/New_York:20300821T200000
DTEND;TZID=America/New_York:20300822T020000
DTSTAMP:20260425T151645
CREATED:20221108T011836Z
LAST-MODIFIED:20260106T154156Z
UID:10404725-1913572800-1913594400@golatindance.com
SUMMARY:Salsa World Wednesdays
DESCRIPTION:Salsa World Wednesdays 🐫 continues to light up your midweek.\nGet ready for an unforgettable evening filled with rhythm\, energy\, and Latin flavor on a big\, beautiful dance floor!\n🎶 Salsa Class 8PM to 9PM!\n💃 Social Dancing 9PM till close\n🕺 Music all night: Salsa • Bachata • Merengue
URL:https://golatindance.com/event/salsa-world-wednesdays/2030-08-21/
LOCATION:Casa 21 Restaurant Bar &Grill\, 4235 W Waters Ave\, Tampa\, FL\, 33614\, United States
CATEGORIES:Tampa
ATTACH;FMTTYPE=image/jpeg:https://golatindance.com/wp-content/uploads/2022/11/611290769_1486788833454778_3833080762799470349_n.jpg
END:VEVENT
BEGIN:VEVENT
DTSTART;TZID=America/New_York:20300828T200000
DTEND;TZID=America/New_York:20300829T020000
DTSTAMP:20260425T151645
CREATED:20221108T011836Z
LAST-MODIFIED:20260106T154156Z
UID:10404726-1914177600-1914199200@golatindance.com
SUMMARY:Salsa World Wednesdays
DESCRIPTION:Salsa World Wednesdays 🐫 continues to light up your midweek.\nGet ready for an unforgettable evening filled with rhythm\, energy\, and Latin flavor on a big\, beautiful dance floor!\n🎶 Salsa Class 8PM to 9PM!\n💃 Social Dancing 9PM till close\n🕺 Music all night: Salsa • Bachata • Merengue
URL:https://golatindance.com/event/salsa-world-wednesdays/2030-08-28/
LOCATION:Casa 21 Restaurant Bar &Grill\, 4235 W Waters Ave\, Tampa\, FL\, 33614\, United States
CATEGORIES:Tampa
ATTACH;FMTTYPE=image/jpeg:https://golatindance.com/wp-content/uploads/2022/11/611290769_1486788833454778_3833080762799470349_n.jpg
END:VEVENT
BEGIN:VEVENT
DTSTART;TZID=America/New_York:20300904T200000
DTEND;TZID=America/New_York:20300905T020000
DTSTAMP:20260425T151645
CREATED:20221108T011836Z
LAST-MODIFIED:20260106T154156Z
UID:10404727-1914782400-1914804000@golatindance.com
SUMMARY:Salsa World Wednesdays
DESCRIPTION:Salsa World Wednesdays 🐫 continues to light up your midweek.\nGet ready for an unforgettable evening filled with rhythm\, energy\, and Latin flavor on a big\, beautiful dance floor!\n🎶 Salsa Class 8PM to 9PM!\n💃 Social Dancing 9PM till close\n🕺 Music all night: Salsa • Bachata • Merengue
URL:https://golatindance.com/event/salsa-world-wednesdays/2030-09-04/
LOCATION:Casa 21 Restaurant Bar &Grill\, 4235 W Waters Ave\, Tampa\, FL\, 33614\, United States
CATEGORIES:Tampa
ATTACH;FMTTYPE=image/jpeg:https://golatindance.com/wp-content/uploads/2022/11/611290769_1486788833454778_3833080762799470349_n.jpg
END:VEVENT
BEGIN:VEVENT
DTSTART;TZID=America/New_York:20300911T200000
DTEND;TZID=America/New_York:20300912T020000
DTSTAMP:20260425T151645
CREATED:20221108T011836Z
LAST-MODIFIED:20260106T154156Z
UID:10404728-1915387200-1915408800@golatindance.com
SUMMARY:Salsa World Wednesdays
DESCRIPTION:Salsa World Wednesdays 🐫 continues to light up your midweek.\nGet ready for an unforgettable evening filled with rhythm\, energy\, and Latin flavor on a big\, beautiful dance floor!\n🎶 Salsa Class 8PM to 9PM!\n💃 Social Dancing 9PM till close\n🕺 Music all night: Salsa • Bachata • Merengue
URL:https://golatindance.com/event/salsa-world-wednesdays/2030-09-11/
LOCATION:Casa 21 Restaurant Bar &Grill\, 4235 W Waters Ave\, Tampa\, FL\, 33614\, United States
CATEGORIES:Tampa
ATTACH;FMTTYPE=image/jpeg:https://golatindance.com/wp-content/uploads/2022/11/611290769_1486788833454778_3833080762799470349_n.jpg
END:VEVENT
BEGIN:VEVENT
DTSTART;TZID=America/New_York:20300918T200000
DTEND;TZID=America/New_York:20300919T020000
DTSTAMP:20260425T151645
CREATED:20221108T011836Z
LAST-MODIFIED:20260106T154156Z
UID:10404729-1915992000-1916013600@golatindance.com
SUMMARY:Salsa World Wednesdays
DESCRIPTION:Salsa World Wednesdays 🐫 continues to light up your midweek.\nGet ready for an unforgettable evening filled with rhythm\, energy\, and Latin flavor on a big\, beautiful dance floor!\n🎶 Salsa Class 8PM to 9PM!\n💃 Social Dancing 9PM till close\n🕺 Music all night: Salsa • Bachata • Merengue
URL:https://golatindance.com/event/salsa-world-wednesdays/2030-09-18/
LOCATION:Casa 21 Restaurant Bar &Grill\, 4235 W Waters Ave\, Tampa\, FL\, 33614\, United States
CATEGORIES:Tampa
ATTACH;FMTTYPE=image/jpeg:https://golatindance.com/wp-content/uploads/2022/11/611290769_1486788833454778_3833080762799470349_n.jpg
END:VEVENT
END:VCALENDAR