BEGIN:VCALENDAR
VERSION:2.0
PRODID:-//GO Latin Dance - ECPv6.15.18//NONSGML v1.0//EN
CALSCALE:GREGORIAN
METHOD:PUBLISH
X-WR-CALNAME:GO Latin Dance
X-ORIGINAL-URL:https://golatindance.com
X-WR-CALDESC:Events for GO Latin Dance
REFRESH-INTERVAL;VALUE=DURATION:PT1H
X-Robots-Tag:noindex
X-PUBLISHED-TTL:PT1H
BEGIN:VTIMEZONE
TZID:America/New_York
BEGIN:DAYLIGHT
TZOFFSETFROM:-0500
TZOFFSETTO:-0400
TZNAME:EDT
DTSTART:20260308T070000
END:DAYLIGHT
BEGIN:STANDARD
TZOFFSETFROM:-0400
TZOFFSETTO:-0500
TZNAME:EST
DTSTART:20261101T060000
END:STANDARD
BEGIN:DAYLIGHT
TZOFFSETFROM:-0500
TZOFFSETTO:-0400
TZNAME:EDT
DTSTART:20270314T070000
END:DAYLIGHT
BEGIN:STANDARD
TZOFFSETFROM:-0400
TZOFFSETTO:-0500
TZNAME:EST
DTSTART:20271107T060000
END:STANDARD
BEGIN:DAYLIGHT
TZOFFSETFROM:-0500
TZOFFSETTO:-0400
TZNAME:EDT
DTSTART:20280312T070000
END:DAYLIGHT
BEGIN:STANDARD
TZOFFSETFROM:-0400
TZOFFSETTO:-0500
TZNAME:EST
DTSTART:20281105T060000
END:STANDARD
END:VTIMEZONE
BEGIN:VEVENT
DTSTART;TZID=America/New_York:20270414T200000
DTEND;TZID=America/New_York:20270415T020000
DTSTAMP:20260424T203555
CREATED:20221108T011836Z
LAST-MODIFIED:20260106T154156Z
UID:10236802-1807732800-1807754400@golatindance.com
SUMMARY:Salsa World Wednesdays
DESCRIPTION:Salsa World Wednesdays 🐫 continues to light up your midweek.\nGet ready for an unforgettable evening filled with rhythm\, energy\, and Latin flavor on a big\, beautiful dance floor!\n🎶 Salsa Class 8PM to 9PM!\n💃 Social Dancing 9PM till close\n🕺 Music all night: Salsa • Bachata • Merengue
URL:https://golatindance.com/event/salsa-world-wednesdays/2027-04-14/
LOCATION:Casa 21 Restaurant Bar &Grill\, 4235 W Waters Ave\, Tampa\, FL\, 33614\, United States
CATEGORIES:Tampa
ATTACH;FMTTYPE=image/jpeg:https://golatindance.com/wp-content/uploads/2022/11/611290769_1486788833454778_3833080762799470349_n.jpg
END:VEVENT
BEGIN:VEVENT
DTSTART;TZID=America/New_York:20270421T200000
DTEND;TZID=America/New_York:20270422T020000
DTSTAMP:20260424T203555
CREATED:20221108T011836Z
LAST-MODIFIED:20260106T154156Z
UID:10236803-1808337600-1808359200@golatindance.com
SUMMARY:Salsa World Wednesdays
DESCRIPTION:Salsa World Wednesdays 🐫 continues to light up your midweek.\nGet ready for an unforgettable evening filled with rhythm\, energy\, and Latin flavor on a big\, beautiful dance floor!\n🎶 Salsa Class 8PM to 9PM!\n💃 Social Dancing 9PM till close\n🕺 Music all night: Salsa • Bachata • Merengue
URL:https://golatindance.com/event/salsa-world-wednesdays/2027-04-21/
LOCATION:Casa 21 Restaurant Bar &Grill\, 4235 W Waters Ave\, Tampa\, FL\, 33614\, United States
CATEGORIES:Tampa
ATTACH;FMTTYPE=image/jpeg:https://golatindance.com/wp-content/uploads/2022/11/611290769_1486788833454778_3833080762799470349_n.jpg
END:VEVENT
BEGIN:VEVENT
DTSTART;TZID=America/New_York:20270428T200000
DTEND;TZID=America/New_York:20270429T020000
DTSTAMP:20260424T203555
CREATED:20221108T011836Z
LAST-MODIFIED:20260106T154156Z
UID:10236804-1808942400-1808964000@golatindance.com
SUMMARY:Salsa World Wednesdays
DESCRIPTION:Salsa World Wednesdays 🐫 continues to light up your midweek.\nGet ready for an unforgettable evening filled with rhythm\, energy\, and Latin flavor on a big\, beautiful dance floor!\n🎶 Salsa Class 8PM to 9PM!\n💃 Social Dancing 9PM till close\n🕺 Music all night: Salsa • Bachata • Merengue
URL:https://golatindance.com/event/salsa-world-wednesdays/2027-04-28/
LOCATION:Casa 21 Restaurant Bar &Grill\, 4235 W Waters Ave\, Tampa\, FL\, 33614\, United States
CATEGORIES:Tampa
ATTACH;FMTTYPE=image/jpeg:https://golatindance.com/wp-content/uploads/2022/11/611290769_1486788833454778_3833080762799470349_n.jpg
END:VEVENT
BEGIN:VEVENT
DTSTART;TZID=America/New_York:20270505T200000
DTEND;TZID=America/New_York:20270506T020000
DTSTAMP:20260424T203555
CREATED:20221108T011836Z
LAST-MODIFIED:20260106T154156Z
UID:10236805-1809547200-1809568800@golatindance.com
SUMMARY:Salsa World Wednesdays
DESCRIPTION:Salsa World Wednesdays 🐫 continues to light up your midweek.\nGet ready for an unforgettable evening filled with rhythm\, energy\, and Latin flavor on a big\, beautiful dance floor!\n🎶 Salsa Class 8PM to 9PM!\n💃 Social Dancing 9PM till close\n🕺 Music all night: Salsa • Bachata • Merengue
URL:https://golatindance.com/event/salsa-world-wednesdays/2027-05-05/
LOCATION:Casa 21 Restaurant Bar &Grill\, 4235 W Waters Ave\, Tampa\, FL\, 33614\, United States
CATEGORIES:Tampa
ATTACH;FMTTYPE=image/jpeg:https://golatindance.com/wp-content/uploads/2022/11/611290769_1486788833454778_3833080762799470349_n.jpg
END:VEVENT
BEGIN:VEVENT
DTSTART;TZID=America/New_York:20270512T200000
DTEND;TZID=America/New_York:20270513T020000
DTSTAMP:20260424T203555
CREATED:20221108T011836Z
LAST-MODIFIED:20260106T154156Z
UID:10236806-1810152000-1810173600@golatindance.com
SUMMARY:Salsa World Wednesdays
DESCRIPTION:Salsa World Wednesdays 🐫 continues to light up your midweek.\nGet ready for an unforgettable evening filled with rhythm\, energy\, and Latin flavor on a big\, beautiful dance floor!\n🎶 Salsa Class 8PM to 9PM!\n💃 Social Dancing 9PM till close\n🕺 Music all night: Salsa • Bachata • Merengue
URL:https://golatindance.com/event/salsa-world-wednesdays/2027-05-12/
LOCATION:Casa 21 Restaurant Bar &Grill\, 4235 W Waters Ave\, Tampa\, FL\, 33614\, United States
CATEGORIES:Tampa
ATTACH;FMTTYPE=image/jpeg:https://golatindance.com/wp-content/uploads/2022/11/611290769_1486788833454778_3833080762799470349_n.jpg
END:VEVENT
BEGIN:VEVENT
DTSTART;TZID=America/New_York:20270519T200000
DTEND;TZID=America/New_York:20270520T020000
DTSTAMP:20260424T203555
CREATED:20221108T011836Z
LAST-MODIFIED:20260106T154156Z
UID:10236807-1810756800-1810778400@golatindance.com
SUMMARY:Salsa World Wednesdays
DESCRIPTION:Salsa World Wednesdays 🐫 continues to light up your midweek.\nGet ready for an unforgettable evening filled with rhythm\, energy\, and Latin flavor on a big\, beautiful dance floor!\n🎶 Salsa Class 8PM to 9PM!\n💃 Social Dancing 9PM till close\n🕺 Music all night: Salsa • Bachata • Merengue
URL:https://golatindance.com/event/salsa-world-wednesdays/2027-05-19/
LOCATION:Casa 21 Restaurant Bar &Grill\, 4235 W Waters Ave\, Tampa\, FL\, 33614\, United States
CATEGORIES:Tampa
ATTACH;FMTTYPE=image/jpeg:https://golatindance.com/wp-content/uploads/2022/11/611290769_1486788833454778_3833080762799470349_n.jpg
END:VEVENT
BEGIN:VEVENT
DTSTART;TZID=America/New_York:20270526T200000
DTEND;TZID=America/New_York:20270527T020000
DTSTAMP:20260424T203555
CREATED:20221108T011836Z
LAST-MODIFIED:20260106T154156Z
UID:10236808-1811361600-1811383200@golatindance.com
SUMMARY:Salsa World Wednesdays
DESCRIPTION:Salsa World Wednesdays 🐫 continues to light up your midweek.\nGet ready for an unforgettable evening filled with rhythm\, energy\, and Latin flavor on a big\, beautiful dance floor!\n🎶 Salsa Class 8PM to 9PM!\n💃 Social Dancing 9PM till close\n🕺 Music all night: Salsa • Bachata • Merengue
URL:https://golatindance.com/event/salsa-world-wednesdays/2027-05-26/
LOCATION:Casa 21 Restaurant Bar &Grill\, 4235 W Waters Ave\, Tampa\, FL\, 33614\, United States
CATEGORIES:Tampa
ATTACH;FMTTYPE=image/jpeg:https://golatindance.com/wp-content/uploads/2022/11/611290769_1486788833454778_3833080762799470349_n.jpg
END:VEVENT
BEGIN:VEVENT
DTSTART;TZID=America/New_York:20270602T200000
DTEND;TZID=America/New_York:20270603T020000
DTSTAMP:20260424T203555
CREATED:20221108T011836Z
LAST-MODIFIED:20260106T154156Z
UID:10236809-1811966400-1811988000@golatindance.com
SUMMARY:Salsa World Wednesdays
DESCRIPTION:Salsa World Wednesdays 🐫 continues to light up your midweek.\nGet ready for an unforgettable evening filled with rhythm\, energy\, and Latin flavor on a big\, beautiful dance floor!\n🎶 Salsa Class 8PM to 9PM!\n💃 Social Dancing 9PM till close\n🕺 Music all night: Salsa • Bachata • Merengue
URL:https://golatindance.com/event/salsa-world-wednesdays/2027-06-02/
LOCATION:Casa 21 Restaurant Bar &Grill\, 4235 W Waters Ave\, Tampa\, FL\, 33614\, United States
CATEGORIES:Tampa
ATTACH;FMTTYPE=image/jpeg:https://golatindance.com/wp-content/uploads/2022/11/611290769_1486788833454778_3833080762799470349_n.jpg
END:VEVENT
BEGIN:VEVENT
DTSTART;TZID=America/New_York:20270609T200000
DTEND;TZID=America/New_York:20270610T020000
DTSTAMP:20260424T203555
CREATED:20221108T011836Z
LAST-MODIFIED:20260106T154156Z
UID:10236810-1812571200-1812592800@golatindance.com
SUMMARY:Salsa World Wednesdays
DESCRIPTION:Salsa World Wednesdays 🐫 continues to light up your midweek.\nGet ready for an unforgettable evening filled with rhythm\, energy\, and Latin flavor on a big\, beautiful dance floor!\n🎶 Salsa Class 8PM to 9PM!\n💃 Social Dancing 9PM till close\n🕺 Music all night: Salsa • Bachata • Merengue
URL:https://golatindance.com/event/salsa-world-wednesdays/2027-06-09/
LOCATION:Casa 21 Restaurant Bar &Grill\, 4235 W Waters Ave\, Tampa\, FL\, 33614\, United States
CATEGORIES:Tampa
ATTACH;FMTTYPE=image/jpeg:https://golatindance.com/wp-content/uploads/2022/11/611290769_1486788833454778_3833080762799470349_n.jpg
END:VEVENT
BEGIN:VEVENT
DTSTART;TZID=America/New_York:20270616T200000
DTEND;TZID=America/New_York:20270617T020000
DTSTAMP:20260424T203555
CREATED:20221108T011836Z
LAST-MODIFIED:20260106T154156Z
UID:10236811-1813176000-1813197600@golatindance.com
SUMMARY:Salsa World Wednesdays
DESCRIPTION:Salsa World Wednesdays 🐫 continues to light up your midweek.\nGet ready for an unforgettable evening filled with rhythm\, energy\, and Latin flavor on a big\, beautiful dance floor!\n🎶 Salsa Class 8PM to 9PM!\n💃 Social Dancing 9PM till close\n🕺 Music all night: Salsa • Bachata • Merengue
URL:https://golatindance.com/event/salsa-world-wednesdays/2027-06-16/
LOCATION:Casa 21 Restaurant Bar &Grill\, 4235 W Waters Ave\, Tampa\, FL\, 33614\, United States
CATEGORIES:Tampa
ATTACH;FMTTYPE=image/jpeg:https://golatindance.com/wp-content/uploads/2022/11/611290769_1486788833454778_3833080762799470349_n.jpg
END:VEVENT
BEGIN:VEVENT
DTSTART;TZID=America/New_York:20270623T200000
DTEND;TZID=America/New_York:20270624T020000
DTSTAMP:20260424T203555
CREATED:20221108T011836Z
LAST-MODIFIED:20260106T154156Z
UID:10236812-1813780800-1813802400@golatindance.com
SUMMARY:Salsa World Wednesdays
DESCRIPTION:Salsa World Wednesdays 🐫 continues to light up your midweek.\nGet ready for an unforgettable evening filled with rhythm\, energy\, and Latin flavor on a big\, beautiful dance floor!\n🎶 Salsa Class 8PM to 9PM!\n💃 Social Dancing 9PM till close\n🕺 Music all night: Salsa • Bachata • Merengue
URL:https://golatindance.com/event/salsa-world-wednesdays/2027-06-23/
LOCATION:Casa 21 Restaurant Bar &Grill\, 4235 W Waters Ave\, Tampa\, FL\, 33614\, United States
CATEGORIES:Tampa
ATTACH;FMTTYPE=image/jpeg:https://golatindance.com/wp-content/uploads/2022/11/611290769_1486788833454778_3833080762799470349_n.jpg
END:VEVENT
BEGIN:VEVENT
DTSTART;TZID=America/New_York:20270630T200000
DTEND;TZID=America/New_York:20270701T020000
DTSTAMP:20260424T203555
CREATED:20221108T011836Z
LAST-MODIFIED:20260106T154156Z
UID:10236813-1814385600-1814407200@golatindance.com
SUMMARY:Salsa World Wednesdays
DESCRIPTION:Salsa World Wednesdays 🐫 continues to light up your midweek.\nGet ready for an unforgettable evening filled with rhythm\, energy\, and Latin flavor on a big\, beautiful dance floor!\n🎶 Salsa Class 8PM to 9PM!\n💃 Social Dancing 9PM till close\n🕺 Music all night: Salsa • Bachata • Merengue
URL:https://golatindance.com/event/salsa-world-wednesdays/2027-06-30/
LOCATION:Casa 21 Restaurant Bar &Grill\, 4235 W Waters Ave\, Tampa\, FL\, 33614\, United States
CATEGORIES:Tampa
ATTACH;FMTTYPE=image/jpeg:https://golatindance.com/wp-content/uploads/2022/11/611290769_1486788833454778_3833080762799470349_n.jpg
END:VEVENT
BEGIN:VEVENT
DTSTART;TZID=America/New_York:20270707T200000
DTEND;TZID=America/New_York:20270708T020000
DTSTAMP:20260424T203555
CREATED:20221108T011836Z
LAST-MODIFIED:20260106T154156Z
UID:10236814-1814990400-1815012000@golatindance.com
SUMMARY:Salsa World Wednesdays
DESCRIPTION:Salsa World Wednesdays 🐫 continues to light up your midweek.\nGet ready for an unforgettable evening filled with rhythm\, energy\, and Latin flavor on a big\, beautiful dance floor!\n🎶 Salsa Class 8PM to 9PM!\n💃 Social Dancing 9PM till close\n🕺 Music all night: Salsa • Bachata • Merengue
URL:https://golatindance.com/event/salsa-world-wednesdays/2027-07-07/
LOCATION:Casa 21 Restaurant Bar &Grill\, 4235 W Waters Ave\, Tampa\, FL\, 33614\, United States
CATEGORIES:Tampa
ATTACH;FMTTYPE=image/jpeg:https://golatindance.com/wp-content/uploads/2022/11/611290769_1486788833454778_3833080762799470349_n.jpg
END:VEVENT
BEGIN:VEVENT
DTSTART;TZID=America/New_York:20270714T200000
DTEND;TZID=America/New_York:20270715T020000
DTSTAMP:20260424T203555
CREATED:20221108T011836Z
LAST-MODIFIED:20260106T154156Z
UID:10236815-1815595200-1815616800@golatindance.com
SUMMARY:Salsa World Wednesdays
DESCRIPTION:Salsa World Wednesdays 🐫 continues to light up your midweek.\nGet ready for an unforgettable evening filled with rhythm\, energy\, and Latin flavor on a big\, beautiful dance floor!\n🎶 Salsa Class 8PM to 9PM!\n💃 Social Dancing 9PM till close\n🕺 Music all night: Salsa • Bachata • Merengue
URL:https://golatindance.com/event/salsa-world-wednesdays/2027-07-14/
LOCATION:Casa 21 Restaurant Bar &Grill\, 4235 W Waters Ave\, Tampa\, FL\, 33614\, United States
CATEGORIES:Tampa
ATTACH;FMTTYPE=image/jpeg:https://golatindance.com/wp-content/uploads/2022/11/611290769_1486788833454778_3833080762799470349_n.jpg
END:VEVENT
BEGIN:VEVENT
DTSTART;TZID=America/New_York:20270721T200000
DTEND;TZID=America/New_York:20270722T020000
DTSTAMP:20260424T203555
CREATED:20221108T011836Z
LAST-MODIFIED:20260106T154156Z
UID:10236816-1816200000-1816221600@golatindance.com
SUMMARY:Salsa World Wednesdays
DESCRIPTION:Salsa World Wednesdays 🐫 continues to light up your midweek.\nGet ready for an unforgettable evening filled with rhythm\, energy\, and Latin flavor on a big\, beautiful dance floor!\n🎶 Salsa Class 8PM to 9PM!\n💃 Social Dancing 9PM till close\n🕺 Music all night: Salsa • Bachata • Merengue
URL:https://golatindance.com/event/salsa-world-wednesdays/2027-07-21/
LOCATION:Casa 21 Restaurant Bar &Grill\, 4235 W Waters Ave\, Tampa\, FL\, 33614\, United States
CATEGORIES:Tampa
ATTACH;FMTTYPE=image/jpeg:https://golatindance.com/wp-content/uploads/2022/11/611290769_1486788833454778_3833080762799470349_n.jpg
END:VEVENT
BEGIN:VEVENT
DTSTART;TZID=America/New_York:20270728T200000
DTEND;TZID=America/New_York:20270729T020000
DTSTAMP:20260424T203555
CREATED:20221108T011836Z
LAST-MODIFIED:20260106T154156Z
UID:10236817-1816804800-1816826400@golatindance.com
SUMMARY:Salsa World Wednesdays
DESCRIPTION:Salsa World Wednesdays 🐫 continues to light up your midweek.\nGet ready for an unforgettable evening filled with rhythm\, energy\, and Latin flavor on a big\, beautiful dance floor!\n🎶 Salsa Class 8PM to 9PM!\n💃 Social Dancing 9PM till close\n🕺 Music all night: Salsa • Bachata • Merengue
URL:https://golatindance.com/event/salsa-world-wednesdays/2027-07-28/
LOCATION:Casa 21 Restaurant Bar &Grill\, 4235 W Waters Ave\, Tampa\, FL\, 33614\, United States
CATEGORIES:Tampa
ATTACH;FMTTYPE=image/jpeg:https://golatindance.com/wp-content/uploads/2022/11/611290769_1486788833454778_3833080762799470349_n.jpg
END:VEVENT
BEGIN:VEVENT
DTSTART;TZID=America/New_York:20270804T200000
DTEND;TZID=America/New_York:20270805T020000
DTSTAMP:20260424T203555
CREATED:20221108T011836Z
LAST-MODIFIED:20260106T154156Z
UID:10236818-1817409600-1817431200@golatindance.com
SUMMARY:Salsa World Wednesdays
DESCRIPTION:Salsa World Wednesdays 🐫 continues to light up your midweek.\nGet ready for an unforgettable evening filled with rhythm\, energy\, and Latin flavor on a big\, beautiful dance floor!\n🎶 Salsa Class 8PM to 9PM!\n💃 Social Dancing 9PM till close\n🕺 Music all night: Salsa • Bachata • Merengue
URL:https://golatindance.com/event/salsa-world-wednesdays/2027-08-04/
LOCATION:Casa 21 Restaurant Bar &Grill\, 4235 W Waters Ave\, Tampa\, FL\, 33614\, United States
CATEGORIES:Tampa
ATTACH;FMTTYPE=image/jpeg:https://golatindance.com/wp-content/uploads/2022/11/611290769_1486788833454778_3833080762799470349_n.jpg
END:VEVENT
BEGIN:VEVENT
DTSTART;TZID=America/New_York:20270811T200000
DTEND;TZID=America/New_York:20270812T020000
DTSTAMP:20260424T203555
CREATED:20221108T011836Z
LAST-MODIFIED:20260106T154156Z
UID:10236819-1818014400-1818036000@golatindance.com
SUMMARY:Salsa World Wednesdays
DESCRIPTION:Salsa World Wednesdays 🐫 continues to light up your midweek.\nGet ready for an unforgettable evening filled with rhythm\, energy\, and Latin flavor on a big\, beautiful dance floor!\n🎶 Salsa Class 8PM to 9PM!\n💃 Social Dancing 9PM till close\n🕺 Music all night: Salsa • Bachata • Merengue
URL:https://golatindance.com/event/salsa-world-wednesdays/2027-08-11/
LOCATION:Casa 21 Restaurant Bar &Grill\, 4235 W Waters Ave\, Tampa\, FL\, 33614\, United States
CATEGORIES:Tampa
ATTACH;FMTTYPE=image/jpeg:https://golatindance.com/wp-content/uploads/2022/11/611290769_1486788833454778_3833080762799470349_n.jpg
END:VEVENT
BEGIN:VEVENT
DTSTART;TZID=America/New_York:20270818T200000
DTEND;TZID=America/New_York:20270819T020000
DTSTAMP:20260424T203555
CREATED:20221108T011836Z
LAST-MODIFIED:20260106T154156Z
UID:10236820-1818619200-1818640800@golatindance.com
SUMMARY:Salsa World Wednesdays
DESCRIPTION:Salsa World Wednesdays 🐫 continues to light up your midweek.\nGet ready for an unforgettable evening filled with rhythm\, energy\, and Latin flavor on a big\, beautiful dance floor!\n🎶 Salsa Class 8PM to 9PM!\n💃 Social Dancing 9PM till close\n🕺 Music all night: Salsa • Bachata • Merengue
URL:https://golatindance.com/event/salsa-world-wednesdays/2027-08-18/
LOCATION:Casa 21 Restaurant Bar &Grill\, 4235 W Waters Ave\, Tampa\, FL\, 33614\, United States
CATEGORIES:Tampa
ATTACH;FMTTYPE=image/jpeg:https://golatindance.com/wp-content/uploads/2022/11/611290769_1486788833454778_3833080762799470349_n.jpg
END:VEVENT
BEGIN:VEVENT
DTSTART;TZID=America/New_York:20270825T200000
DTEND;TZID=America/New_York:20270826T020000
DTSTAMP:20260424T203555
CREATED:20221108T011836Z
LAST-MODIFIED:20260106T154156Z
UID:10236821-1819224000-1819245600@golatindance.com
SUMMARY:Salsa World Wednesdays
DESCRIPTION:Salsa World Wednesdays 🐫 continues to light up your midweek.\nGet ready for an unforgettable evening filled with rhythm\, energy\, and Latin flavor on a big\, beautiful dance floor!\n🎶 Salsa Class 8PM to 9PM!\n💃 Social Dancing 9PM till close\n🕺 Music all night: Salsa • Bachata • Merengue
URL:https://golatindance.com/event/salsa-world-wednesdays/2027-08-25/
LOCATION:Casa 21 Restaurant Bar &Grill\, 4235 W Waters Ave\, Tampa\, FL\, 33614\, United States
CATEGORIES:Tampa
ATTACH;FMTTYPE=image/jpeg:https://golatindance.com/wp-content/uploads/2022/11/611290769_1486788833454778_3833080762799470349_n.jpg
END:VEVENT
BEGIN:VEVENT
DTSTART;TZID=America/New_York:20270901T200000
DTEND;TZID=America/New_York:20270902T020000
DTSTAMP:20260424T203555
CREATED:20221108T011836Z
LAST-MODIFIED:20260106T154156Z
UID:10236822-1819828800-1819850400@golatindance.com
SUMMARY:Salsa World Wednesdays
DESCRIPTION:Salsa World Wednesdays 🐫 continues to light up your midweek.\nGet ready for an unforgettable evening filled with rhythm\, energy\, and Latin flavor on a big\, beautiful dance floor!\n🎶 Salsa Class 8PM to 9PM!\n💃 Social Dancing 9PM till close\n🕺 Music all night: Salsa • Bachata • Merengue
URL:https://golatindance.com/event/salsa-world-wednesdays/2027-09-01/
LOCATION:Casa 21 Restaurant Bar &Grill\, 4235 W Waters Ave\, Tampa\, FL\, 33614\, United States
CATEGORIES:Tampa
ATTACH;FMTTYPE=image/jpeg:https://golatindance.com/wp-content/uploads/2022/11/611290769_1486788833454778_3833080762799470349_n.jpg
END:VEVENT
BEGIN:VEVENT
DTSTART;TZID=America/New_York:20270908T200000
DTEND;TZID=America/New_York:20270909T020000
DTSTAMP:20260424T203555
CREATED:20221108T011836Z
LAST-MODIFIED:20260106T154156Z
UID:10236823-1820433600-1820455200@golatindance.com
SUMMARY:Salsa World Wednesdays
DESCRIPTION:Salsa World Wednesdays 🐫 continues to light up your midweek.\nGet ready for an unforgettable evening filled with rhythm\, energy\, and Latin flavor on a big\, beautiful dance floor!\n🎶 Salsa Class 8PM to 9PM!\n💃 Social Dancing 9PM till close\n🕺 Music all night: Salsa • Bachata • Merengue
URL:https://golatindance.com/event/salsa-world-wednesdays/2027-09-08/
LOCATION:Casa 21 Restaurant Bar &Grill\, 4235 W Waters Ave\, Tampa\, FL\, 33614\, United States
CATEGORIES:Tampa
ATTACH;FMTTYPE=image/jpeg:https://golatindance.com/wp-content/uploads/2022/11/611290769_1486788833454778_3833080762799470349_n.jpg
END:VEVENT
BEGIN:VEVENT
DTSTART;TZID=America/New_York:20270915T200000
DTEND;TZID=America/New_York:20270916T020000
DTSTAMP:20260424T203555
CREATED:20221108T011836Z
LAST-MODIFIED:20260106T154156Z
UID:10236824-1821038400-1821060000@golatindance.com
SUMMARY:Salsa World Wednesdays
DESCRIPTION:Salsa World Wednesdays 🐫 continues to light up your midweek.\nGet ready for an unforgettable evening filled with rhythm\, energy\, and Latin flavor on a big\, beautiful dance floor!\n🎶 Salsa Class 8PM to 9PM!\n💃 Social Dancing 9PM till close\n🕺 Music all night: Salsa • Bachata • Merengue
URL:https://golatindance.com/event/salsa-world-wednesdays/2027-09-15/
LOCATION:Casa 21 Restaurant Bar &Grill\, 4235 W Waters Ave\, Tampa\, FL\, 33614\, United States
CATEGORIES:Tampa
ATTACH;FMTTYPE=image/jpeg:https://golatindance.com/wp-content/uploads/2022/11/611290769_1486788833454778_3833080762799470349_n.jpg
END:VEVENT
BEGIN:VEVENT
DTSTART;TZID=America/New_York:20270922T200000
DTEND;TZID=America/New_York:20270923T020000
DTSTAMP:20260424T203555
CREATED:20221108T011836Z
LAST-MODIFIED:20260106T154156Z
UID:10236825-1821643200-1821664800@golatindance.com
SUMMARY:Salsa World Wednesdays
DESCRIPTION:Salsa World Wednesdays 🐫 continues to light up your midweek.\nGet ready for an unforgettable evening filled with rhythm\, energy\, and Latin flavor on a big\, beautiful dance floor!\n🎶 Salsa Class 8PM to 9PM!\n💃 Social Dancing 9PM till close\n🕺 Music all night: Salsa • Bachata • Merengue
URL:https://golatindance.com/event/salsa-world-wednesdays/2027-09-22/
LOCATION:Casa 21 Restaurant Bar &Grill\, 4235 W Waters Ave\, Tampa\, FL\, 33614\, United States
CATEGORIES:Tampa
ATTACH;FMTTYPE=image/jpeg:https://golatindance.com/wp-content/uploads/2022/11/611290769_1486788833454778_3833080762799470349_n.jpg
END:VEVENT
BEGIN:VEVENT
DTSTART;TZID=America/New_York:20270929T200000
DTEND;TZID=America/New_York:20270930T020000
DTSTAMP:20260424T203555
CREATED:20221108T011836Z
LAST-MODIFIED:20260106T154156Z
UID:10236826-1822248000-1822269600@golatindance.com
SUMMARY:Salsa World Wednesdays
DESCRIPTION:Salsa World Wednesdays 🐫 continues to light up your midweek.\nGet ready for an unforgettable evening filled with rhythm\, energy\, and Latin flavor on a big\, beautiful dance floor!\n🎶 Salsa Class 8PM to 9PM!\n💃 Social Dancing 9PM till close\n🕺 Music all night: Salsa • Bachata • Merengue
URL:https://golatindance.com/event/salsa-world-wednesdays/2027-09-29/
LOCATION:Casa 21 Restaurant Bar &Grill\, 4235 W Waters Ave\, Tampa\, FL\, 33614\, United States
CATEGORIES:Tampa
ATTACH;FMTTYPE=image/jpeg:https://golatindance.com/wp-content/uploads/2022/11/611290769_1486788833454778_3833080762799470349_n.jpg
END:VEVENT
BEGIN:VEVENT
DTSTART;TZID=America/New_York:20271006T200000
DTEND;TZID=America/New_York:20271007T020000
DTSTAMP:20260424T203555
CREATED:20221108T011836Z
LAST-MODIFIED:20260106T154156Z
UID:10236827-1822852800-1822874400@golatindance.com
SUMMARY:Salsa World Wednesdays
DESCRIPTION:Salsa World Wednesdays 🐫 continues to light up your midweek.\nGet ready for an unforgettable evening filled with rhythm\, energy\, and Latin flavor on a big\, beautiful dance floor!\n🎶 Salsa Class 8PM to 9PM!\n💃 Social Dancing 9PM till close\n🕺 Music all night: Salsa • Bachata • Merengue
URL:https://golatindance.com/event/salsa-world-wednesdays/2027-10-06/
LOCATION:Casa 21 Restaurant Bar &Grill\, 4235 W Waters Ave\, Tampa\, FL\, 33614\, United States
CATEGORIES:Tampa
ATTACH;FMTTYPE=image/jpeg:https://golatindance.com/wp-content/uploads/2022/11/611290769_1486788833454778_3833080762799470349_n.jpg
END:VEVENT
BEGIN:VEVENT
DTSTART;TZID=America/New_York:20271013T200000
DTEND;TZID=America/New_York:20271014T020000
DTSTAMP:20260424T203555
CREATED:20221108T011836Z
LAST-MODIFIED:20260106T154156Z
UID:10236828-1823457600-1823479200@golatindance.com
SUMMARY:Salsa World Wednesdays
DESCRIPTION:Salsa World Wednesdays 🐫 continues to light up your midweek.\nGet ready for an unforgettable evening filled with rhythm\, energy\, and Latin flavor on a big\, beautiful dance floor!\n🎶 Salsa Class 8PM to 9PM!\n💃 Social Dancing 9PM till close\n🕺 Music all night: Salsa • Bachata • Merengue
URL:https://golatindance.com/event/salsa-world-wednesdays/2027-10-13/
LOCATION:Casa 21 Restaurant Bar &Grill\, 4235 W Waters Ave\, Tampa\, FL\, 33614\, United States
CATEGORIES:Tampa
ATTACH;FMTTYPE=image/jpeg:https://golatindance.com/wp-content/uploads/2022/11/611290769_1486788833454778_3833080762799470349_n.jpg
END:VEVENT
BEGIN:VEVENT
DTSTART;TZID=America/New_York:20271020T200000
DTEND;TZID=America/New_York:20271021T020000
DTSTAMP:20260424T203555
CREATED:20221108T011836Z
LAST-MODIFIED:20260106T154156Z
UID:10236829-1824062400-1824084000@golatindance.com
SUMMARY:Salsa World Wednesdays
DESCRIPTION:Salsa World Wednesdays 🐫 continues to light up your midweek.\nGet ready for an unforgettable evening filled with rhythm\, energy\, and Latin flavor on a big\, beautiful dance floor!\n🎶 Salsa Class 8PM to 9PM!\n💃 Social Dancing 9PM till close\n🕺 Music all night: Salsa • Bachata • Merengue
URL:https://golatindance.com/event/salsa-world-wednesdays/2027-10-20/
LOCATION:Casa 21 Restaurant Bar &Grill\, 4235 W Waters Ave\, Tampa\, FL\, 33614\, United States
CATEGORIES:Tampa
ATTACH;FMTTYPE=image/jpeg:https://golatindance.com/wp-content/uploads/2022/11/611290769_1486788833454778_3833080762799470349_n.jpg
END:VEVENT
BEGIN:VEVENT
DTSTART;TZID=America/New_York:20271027T200000
DTEND;TZID=America/New_York:20271028T020000
DTSTAMP:20260424T203555
CREATED:20221108T011836Z
LAST-MODIFIED:20260106T154156Z
UID:10236830-1824667200-1824688800@golatindance.com
SUMMARY:Salsa World Wednesdays
DESCRIPTION:Salsa World Wednesdays 🐫 continues to light up your midweek.\nGet ready for an unforgettable evening filled with rhythm\, energy\, and Latin flavor on a big\, beautiful dance floor!\n🎶 Salsa Class 8PM to 9PM!\n💃 Social Dancing 9PM till close\n🕺 Music all night: Salsa • Bachata • Merengue
URL:https://golatindance.com/event/salsa-world-wednesdays/2027-10-27/
LOCATION:Casa 21 Restaurant Bar &Grill\, 4235 W Waters Ave\, Tampa\, FL\, 33614\, United States
CATEGORIES:Tampa
ATTACH;FMTTYPE=image/jpeg:https://golatindance.com/wp-content/uploads/2022/11/611290769_1486788833454778_3833080762799470349_n.jpg
END:VEVENT
BEGIN:VEVENT
DTSTART;TZID=America/New_York:20271103T200000
DTEND;TZID=America/New_York:20271104T020000
DTSTAMP:20260424T203555
CREATED:20221108T011836Z
LAST-MODIFIED:20260106T154156Z
UID:10236831-1825272000-1825293600@golatindance.com
SUMMARY:Salsa World Wednesdays
DESCRIPTION:Salsa World Wednesdays 🐫 continues to light up your midweek.\nGet ready for an unforgettable evening filled with rhythm\, energy\, and Latin flavor on a big\, beautiful dance floor!\n🎶 Salsa Class 8PM to 9PM!\n💃 Social Dancing 9PM till close\n🕺 Music all night: Salsa • Bachata • Merengue
URL:https://golatindance.com/event/salsa-world-wednesdays/2027-11-03/
LOCATION:Casa 21 Restaurant Bar &Grill\, 4235 W Waters Ave\, Tampa\, FL\, 33614\, United States
CATEGORIES:Tampa
ATTACH;FMTTYPE=image/jpeg:https://golatindance.com/wp-content/uploads/2022/11/611290769_1486788833454778_3833080762799470349_n.jpg
END:VEVENT
END:VCALENDAR