BEGIN:VCALENDAR
VERSION:2.0
PRODID:-//GO Latin Dance - ECPv6.15.18//NONSGML v1.0//EN
CALSCALE:GREGORIAN
METHOD:PUBLISH
X-WR-CALNAME:GO Latin Dance
X-ORIGINAL-URL:https://golatindance.com
X-WR-CALDESC:Events for GO Latin Dance
REFRESH-INTERVAL;VALUE=DURATION:PT1H
X-Robots-Tag:noindex
X-PUBLISHED-TTL:PT1H
BEGIN:VTIMEZONE
TZID:America/New_York
BEGIN:DAYLIGHT
TZOFFSETFROM:-0500
TZOFFSETTO:-0400
TZNAME:EDT
DTSTART:20290311T070000
END:DAYLIGHT
BEGIN:STANDARD
TZOFFSETFROM:-0400
TZOFFSETTO:-0500
TZNAME:EST
DTSTART:20291104T060000
END:STANDARD
BEGIN:DAYLIGHT
TZOFFSETFROM:-0500
TZOFFSETTO:-0400
TZNAME:EDT
DTSTART:20300310T070000
END:DAYLIGHT
BEGIN:STANDARD
TZOFFSETFROM:-0400
TZOFFSETTO:-0500
TZNAME:EST
DTSTART:20301103T060000
END:STANDARD
BEGIN:DAYLIGHT
TZOFFSETFROM:-0500
TZOFFSETTO:-0400
TZNAME:EDT
DTSTART:20310309T070000
END:DAYLIGHT
BEGIN:STANDARD
TZOFFSETFROM:-0400
TZOFFSETTO:-0500
TZNAME:EST
DTSTART:20311102T060000
END:STANDARD
END:VTIMEZONE
BEGIN:VEVENT
DTSTART;TZID=America/New_York:20301205T210000
DTEND;TZID=America/New_York:20301206T010000
DTSTAMP:20260424T195647
CREATED:20251028T150829Z
LAST-MODIFIED:20251230T201454Z
UID:10427631-1922734800-1922749200@golatindance.com
SUMMARY:Salsa Thursday Nights
DESCRIPTION:Join for Salsa Night every Thursday at Copper Blues! Get ready for a night full of Latin rhythms\, great energy\, and non-stop dancing. \nStart the night with a free salsa lesson at 9:15pm\, then hit the dance floor with music by DJ Charun and guests from 9pm to 1am.
URL:https://golatindance.com/event/salsa-thursday-nights/2030-12-05/
LOCATION:Copper Blues Miami\, 3450 NW 83rd Ave #224\, Doral\, FL\, 33122\, United States
CATEGORIES:Miami
ATTACH;FMTTYPE=image/png:https://golatindance.com/wp-content/uploads/2024/12/CBMIA-Salsa-Night-Thursday-.png
END:VEVENT
BEGIN:VEVENT
DTSTART;TZID=America/New_York:20301212T210000
DTEND;TZID=America/New_York:20301213T010000
DTSTAMP:20260424T195647
CREATED:20251028T150829Z
LAST-MODIFIED:20251230T201454Z
UID:10427632-1923339600-1923354000@golatindance.com
SUMMARY:Salsa Thursday Nights
DESCRIPTION:Join for Salsa Night every Thursday at Copper Blues! Get ready for a night full of Latin rhythms\, great energy\, and non-stop dancing. \nStart the night with a free salsa lesson at 9:15pm\, then hit the dance floor with music by DJ Charun and guests from 9pm to 1am.
URL:https://golatindance.com/event/salsa-thursday-nights/2030-12-12/
LOCATION:Copper Blues Miami\, 3450 NW 83rd Ave #224\, Doral\, FL\, 33122\, United States
CATEGORIES:Miami
ATTACH;FMTTYPE=image/png:https://golatindance.com/wp-content/uploads/2024/12/CBMIA-Salsa-Night-Thursday-.png
END:VEVENT
BEGIN:VEVENT
DTSTART;TZID=America/New_York:20301219T210000
DTEND;TZID=America/New_York:20301220T010000
DTSTAMP:20260424T195647
CREATED:20251028T150829Z
LAST-MODIFIED:20251230T201454Z
UID:10427633-1923944400-1923958800@golatindance.com
SUMMARY:Salsa Thursday Nights
DESCRIPTION:Join for Salsa Night every Thursday at Copper Blues! Get ready for a night full of Latin rhythms\, great energy\, and non-stop dancing. \nStart the night with a free salsa lesson at 9:15pm\, then hit the dance floor with music by DJ Charun and guests from 9pm to 1am.
URL:https://golatindance.com/event/salsa-thursday-nights/2030-12-19/
LOCATION:Copper Blues Miami\, 3450 NW 83rd Ave #224\, Doral\, FL\, 33122\, United States
CATEGORIES:Miami
ATTACH;FMTTYPE=image/png:https://golatindance.com/wp-content/uploads/2024/12/CBMIA-Salsa-Night-Thursday-.png
END:VEVENT
BEGIN:VEVENT
DTSTART;TZID=America/New_York:20301226T210000
DTEND;TZID=America/New_York:20301227T010000
DTSTAMP:20260424T195647
CREATED:20251028T150829Z
LAST-MODIFIED:20251230T201454Z
UID:10427634-1924549200-1924563600@golatindance.com
SUMMARY:Salsa Thursday Nights
DESCRIPTION:Join for Salsa Night every Thursday at Copper Blues! Get ready for a night full of Latin rhythms\, great energy\, and non-stop dancing. \nStart the night with a free salsa lesson at 9:15pm\, then hit the dance floor with music by DJ Charun and guests from 9pm to 1am.
URL:https://golatindance.com/event/salsa-thursday-nights/2030-12-26/
LOCATION:Copper Blues Miami\, 3450 NW 83rd Ave #224\, Doral\, FL\, 33122\, United States
CATEGORIES:Miami
ATTACH;FMTTYPE=image/png:https://golatindance.com/wp-content/uploads/2024/12/CBMIA-Salsa-Night-Thursday-.png
END:VEVENT
END:VCALENDAR