BEGIN:VCALENDAR
VERSION:2.0
PRODID:-//GO Latin Dance - ECPv6.15.18//NONSGML v1.0//EN
CALSCALE:GREGORIAN
METHOD:PUBLISH
X-ORIGINAL-URL:https://golatindance.com
X-WR-CALDESC:Events for GO Latin Dance
REFRESH-INTERVAL;VALUE=DURATION:PT1H
X-Robots-Tag:noindex
X-PUBLISHED-TTL:PT1H
BEGIN:VTIMEZONE
TZID:America/New_York
BEGIN:DAYLIGHT
TZOFFSETFROM:-0500
TZOFFSETTO:-0400
TZNAME:EDT
DTSTART:20250309T070000
END:DAYLIGHT
BEGIN:STANDARD
TZOFFSETFROM:-0400
TZOFFSETTO:-0500
TZNAME:EST
DTSTART:20251102T060000
END:STANDARD
BEGIN:DAYLIGHT
TZOFFSETFROM:-0500
TZOFFSETTO:-0400
TZNAME:EDT
DTSTART:20260308T070000
END:DAYLIGHT
BEGIN:STANDARD
TZOFFSETFROM:-0400
TZOFFSETTO:-0500
TZNAME:EST
DTSTART:20261101T060000
END:STANDARD
BEGIN:DAYLIGHT
TZOFFSETFROM:-0500
TZOFFSETTO:-0400
TZNAME:EDT
DTSTART:20270314T070000
END:DAYLIGHT
BEGIN:STANDARD
TZOFFSETFROM:-0400
TZOFFSETTO:-0500
TZNAME:EST
DTSTART:20271107T060000
END:STANDARD
END:VTIMEZONE
BEGIN:VEVENT
DTSTART;TZID=America/New_York:20260514T210000
DTEND;TZID=America/New_York:20260515T020000
DTSTAMP:20260425T183834
CREATED:20260223T025845Z
LAST-MODIFIED:20260223T030012Z
UID:10448275-1778792400-1778810400@golatindance.com
SUMMARY:Club Delta Thursdays Dance Night!
DESCRIPTION:Club Delta Thursdays Dance Night!\n\n\n🔥 TAMPA: THURSDAY NIGHTS JUST GOT HOTTER! 🔥 \nGet ready to move\, Downtown! We are bringing the island heat to the heart of the city with the launch of our brand new Latin Night at Club Delta. \n  \nPresented by RELPro Events\, Gio Breton\, and Club Delta Downtown\, we’re taking over the 2nd Level every 2nd Thursday of the month for the ultimate dance experience. \n  \n💃 THE VIBE \nThe Soundtrack: The absolute best in Salsa\, Bachata\, and more. \n  \nThe Space: Huge wooden dance floor (perfect for spins!) and an incredible mezzanine bar. \n  \nThe Refreshments: Full bar service available all night long. \n  \nThe Deal: 🆓 FREE ENTRY UNTIL 10:00 PM! \n  \n🗓️ THE DETAILS \nWhen: Every 2nd Thursday \n  \nWhere: Club Delta (2nd Level) \n  \nAddress: 912 N Franklin St\, Tampa\, FL 33602 \n  \n9:00 PM: Complimentary Dance Class (kick the night off right!) \n  \n10:00 PM – 2:00 AM: Gio Breton is putting it down on the decks alongside our guest DJs! \n  \n📍 Club Delta | 912 N Franklin St\, Downtown Tampa ✨ Experience the 2nd level. Experience the rhythm. \n  \nTag your dance partner below! 👇 See you on the floor! \n  \n#TampaLatinNight #SalsaTampa #BachataTampa #ClubDelta #DowntownTampa #RELProEvents #GioBreton #TampaNightlife #DanceTampa #FreeEntry #912Franklin
URL:https://golatindance.com/event/club-delta-thursdays-dance-night/2026-05-14/
LOCATION:Delta Downtown\, 912 North Franklin Street\, Tampa\, FL 33602\, Tampa\, FL\, 33602\, US
CATEGORIES:Tampa
ATTACH;FMTTYPE=image/png:https://golatindance.com/wp-content/uploads/2026/02/302430_image.png
END:VEVENT
END:VCALENDAR