BEGIN:VCALENDAR
VERSION:2.0
PRODID:-//GO Latin Dance - ECPv6.15.18//NONSGML v1.0//EN
CALSCALE:GREGORIAN
METHOD:PUBLISH
X-ORIGINAL-URL:https://golatindance.com
X-WR-CALDESC:Events for GO Latin Dance
REFRESH-INTERVAL;VALUE=DURATION:PT1H
X-Robots-Tag:noindex
X-PUBLISHED-TTL:PT1H
BEGIN:VTIMEZONE
TZID:America/New_York
BEGIN:DAYLIGHT
TZOFFSETFROM:-0500
TZOFFSETTO:-0400
TZNAME:EDT
DTSTART:20280312T070000
END:DAYLIGHT
BEGIN:STANDARD
TZOFFSETFROM:-0400
TZOFFSETTO:-0500
TZNAME:EST
DTSTART:20281105T060000
END:STANDARD
BEGIN:DAYLIGHT
TZOFFSETFROM:-0500
TZOFFSETTO:-0400
TZNAME:EDT
DTSTART:20290311T070000
END:DAYLIGHT
BEGIN:STANDARD
TZOFFSETFROM:-0400
TZOFFSETTO:-0500
TZNAME:EST
DTSTART:20291104T060000
END:STANDARD
BEGIN:DAYLIGHT
TZOFFSETFROM:-0500
TZOFFSETTO:-0400
TZNAME:EDT
DTSTART:20300310T070000
END:DAYLIGHT
BEGIN:STANDARD
TZOFFSETFROM:-0400
TZOFFSETTO:-0500
TZNAME:EST
DTSTART:20301103T060000
END:STANDARD
BEGIN:DAYLIGHT
TZOFFSETFROM:-0500
TZOFFSETTO:-0400
TZNAME:EDT
DTSTART:20310309T070000
END:DAYLIGHT
BEGIN:STANDARD
TZOFFSETFROM:-0400
TZOFFSETTO:-0500
TZNAME:EST
DTSTART:20311102T060000
END:STANDARD
END:VTIMEZONE
BEGIN:VEVENT
DTSTART;TZID=America/New_York:20291201T210000
DTEND;TZID=America/New_York:20291202T023000
DTSTAMP:20260421T141507
CREATED:20230623T155247Z
LAST-MODIFIED:20250704T184652Z
UID:10352209-1890853200-1890873000@golatindance.com
SUMMARY:Saturday Night Exclusive @ Eclipse Di Luna Buckhead
DESCRIPTION:*The 1st & 3rd Saturday of the Month – 9pm*SATURDAY NIGHT EXCLUSIVE! at Eclipse Di Luna Buckhead\n\n\nIndoor & Outdoor Patio Vibe plus more. \nGreat same Vibe\, Tapas & Music! \n============= \nTHE 1st & 3rd SATURDAY OF THE MONTH – 9pm \nSATURDAY NIGHT EXCLUSIVE! \nat Eclipse Di Luna Buckhead \n764 Miami Cir NE Atlanta\, Georgia – 404.846.0449 \nPresented by Dos Equis\, Svedka Vodka & Herradura Tequila \nDancing – Mojitos – Socializing \n#Latin & #International Vibes \nwith host Arthur featuring DJ Fernando F & DJ Danny Blanko \nplus Guest Djs \n• Free Admission \n• Sociable Upbeat Atmosphere \n• Free Parking \n• Dress Cosmopolitan \nCome and Lounge with this mid-twenties and older crowd\, or give in to dance. Make sure to take time to taste some of the best Tapas in Atlanta…Its all waiting for you. \nEveryone is welcome. \nFor more & photos visit http://www.PRPresents.com/
URL:https://golatindance.com/event/saturday-night-exclusive-eclipse-di-luna-buckhead/2029-12-01/
LOCATION:Eclipse Di Luna Buckhead\, 764 Miami Cir NE\, Atlanta\, GA\, 30324\, US
CATEGORIES:Atlanta
ATTACH;FMTTYPE=image/png:https://golatindance.com/wp-content/uploads/2023/06/201344_image.png
END:VEVENT
BEGIN:VEVENT
DTSTART;TZID=America/New_York:20300105T210000
DTEND;TZID=America/New_York:20300106T023000
DTSTAMP:20260421T141507
CREATED:20230623T155247Z
LAST-MODIFIED:20250704T184652Z
UID:10352210-1893877200-1893897000@golatindance.com
SUMMARY:Saturday Night Exclusive @ Eclipse Di Luna Buckhead
DESCRIPTION:*The 1st & 3rd Saturday of the Month – 9pm*SATURDAY NIGHT EXCLUSIVE! at Eclipse Di Luna Buckhead\n\n\nIndoor & Outdoor Patio Vibe plus more. \nGreat same Vibe\, Tapas & Music! \n============= \nTHE 1st & 3rd SATURDAY OF THE MONTH – 9pm \nSATURDAY NIGHT EXCLUSIVE! \nat Eclipse Di Luna Buckhead \n764 Miami Cir NE Atlanta\, Georgia – 404.846.0449 \nPresented by Dos Equis\, Svedka Vodka & Herradura Tequila \nDancing – Mojitos – Socializing \n#Latin & #International Vibes \nwith host Arthur featuring DJ Fernando F & DJ Danny Blanko \nplus Guest Djs \n• Free Admission \n• Sociable Upbeat Atmosphere \n• Free Parking \n• Dress Cosmopolitan \nCome and Lounge with this mid-twenties and older crowd\, or give in to dance. Make sure to take time to taste some of the best Tapas in Atlanta…Its all waiting for you. \nEveryone is welcome. \nFor more & photos visit http://www.PRPresents.com/
URL:https://golatindance.com/event/saturday-night-exclusive-eclipse-di-luna-buckhead/2030-01-05/
LOCATION:Eclipse Di Luna Buckhead\, 764 Miami Cir NE\, Atlanta\, GA\, 30324\, US
CATEGORIES:Atlanta
ATTACH;FMTTYPE=image/png:https://golatindance.com/wp-content/uploads/2023/06/201344_image.png
END:VEVENT
BEGIN:VEVENT
DTSTART;TZID=America/New_York:20300202T210000
DTEND;TZID=America/New_York:20300203T023000
DTSTAMP:20260421T141507
CREATED:20230623T155247Z
LAST-MODIFIED:20250704T184652Z
UID:10352211-1896296400-1896316200@golatindance.com
SUMMARY:Saturday Night Exclusive @ Eclipse Di Luna Buckhead
DESCRIPTION:*The 1st & 3rd Saturday of the Month – 9pm*SATURDAY NIGHT EXCLUSIVE! at Eclipse Di Luna Buckhead\n\n\nIndoor & Outdoor Patio Vibe plus more. \nGreat same Vibe\, Tapas & Music! \n============= \nTHE 1st & 3rd SATURDAY OF THE MONTH – 9pm \nSATURDAY NIGHT EXCLUSIVE! \nat Eclipse Di Luna Buckhead \n764 Miami Cir NE Atlanta\, Georgia – 404.846.0449 \nPresented by Dos Equis\, Svedka Vodka & Herradura Tequila \nDancing – Mojitos – Socializing \n#Latin & #International Vibes \nwith host Arthur featuring DJ Fernando F & DJ Danny Blanko \nplus Guest Djs \n• Free Admission \n• Sociable Upbeat Atmosphere \n• Free Parking \n• Dress Cosmopolitan \nCome and Lounge with this mid-twenties and older crowd\, or give in to dance. Make sure to take time to taste some of the best Tapas in Atlanta…Its all waiting for you. \nEveryone is welcome. \nFor more & photos visit http://www.PRPresents.com/
URL:https://golatindance.com/event/saturday-night-exclusive-eclipse-di-luna-buckhead/2030-02-02/
LOCATION:Eclipse Di Luna Buckhead\, 764 Miami Cir NE\, Atlanta\, GA\, 30324\, US
CATEGORIES:Atlanta
ATTACH;FMTTYPE=image/png:https://golatindance.com/wp-content/uploads/2023/06/201344_image.png
END:VEVENT
BEGIN:VEVENT
DTSTART;TZID=America/New_York:20300302T210000
DTEND;TZID=America/New_York:20300303T023000
DTSTAMP:20260421T141507
CREATED:20230623T155247Z
LAST-MODIFIED:20250704T184652Z
UID:10352212-1898715600-1898735400@golatindance.com
SUMMARY:Saturday Night Exclusive @ Eclipse Di Luna Buckhead
DESCRIPTION:*The 1st & 3rd Saturday of the Month – 9pm*SATURDAY NIGHT EXCLUSIVE! at Eclipse Di Luna Buckhead\n\n\nIndoor & Outdoor Patio Vibe plus more. \nGreat same Vibe\, Tapas & Music! \n============= \nTHE 1st & 3rd SATURDAY OF THE MONTH – 9pm \nSATURDAY NIGHT EXCLUSIVE! \nat Eclipse Di Luna Buckhead \n764 Miami Cir NE Atlanta\, Georgia – 404.846.0449 \nPresented by Dos Equis\, Svedka Vodka & Herradura Tequila \nDancing – Mojitos – Socializing \n#Latin & #International Vibes \nwith host Arthur featuring DJ Fernando F & DJ Danny Blanko \nplus Guest Djs \n• Free Admission \n• Sociable Upbeat Atmosphere \n• Free Parking \n• Dress Cosmopolitan \nCome and Lounge with this mid-twenties and older crowd\, or give in to dance. Make sure to take time to taste some of the best Tapas in Atlanta…Its all waiting for you. \nEveryone is welcome. \nFor more & photos visit http://www.PRPresents.com/
URL:https://golatindance.com/event/saturday-night-exclusive-eclipse-di-luna-buckhead/2030-03-02/
LOCATION:Eclipse Di Luna Buckhead\, 764 Miami Cir NE\, Atlanta\, GA\, 30324\, US
CATEGORIES:Atlanta
ATTACH;FMTTYPE=image/png:https://golatindance.com/wp-content/uploads/2023/06/201344_image.png
END:VEVENT
BEGIN:VEVENT
DTSTART;TZID=America/New_York:20300406T210000
DTEND;TZID=America/New_York:20300407T023000
DTSTAMP:20260421T141507
CREATED:20230623T155247Z
LAST-MODIFIED:20250704T184652Z
UID:10379653-1901739600-1901759400@golatindance.com
SUMMARY:Saturday Night Exclusive @ Eclipse Di Luna Buckhead
DESCRIPTION:*The 1st & 3rd Saturday of the Month – 9pm*SATURDAY NIGHT EXCLUSIVE! at Eclipse Di Luna Buckhead\n\n\nIndoor & Outdoor Patio Vibe plus more. \nGreat same Vibe\, Tapas & Music! \n============= \nTHE 1st & 3rd SATURDAY OF THE MONTH – 9pm \nSATURDAY NIGHT EXCLUSIVE! \nat Eclipse Di Luna Buckhead \n764 Miami Cir NE Atlanta\, Georgia – 404.846.0449 \nPresented by Dos Equis\, Svedka Vodka & Herradura Tequila \nDancing – Mojitos – Socializing \n#Latin & #International Vibes \nwith host Arthur featuring DJ Fernando F & DJ Danny Blanko \nplus Guest Djs \n• Free Admission \n• Sociable Upbeat Atmosphere \n• Free Parking \n• Dress Cosmopolitan \nCome and Lounge with this mid-twenties and older crowd\, or give in to dance. Make sure to take time to taste some of the best Tapas in Atlanta…Its all waiting for you. \nEveryone is welcome. \nFor more & photos visit http://www.PRPresents.com/
URL:https://golatindance.com/event/saturday-night-exclusive-eclipse-di-luna-buckhead/2030-04-06/
LOCATION:Eclipse Di Luna Buckhead\, 764 Miami Cir NE\, Atlanta\, GA\, 30324\, US
CATEGORIES:Atlanta
ATTACH;FMTTYPE=image/png:https://golatindance.com/wp-content/uploads/2023/06/201344_image.png
END:VEVENT
BEGIN:VEVENT
DTSTART;TZID=America/New_York:20300504T210000
DTEND;TZID=America/New_York:20300505T023000
DTSTAMP:20260421T141507
CREATED:20230623T155247Z
LAST-MODIFIED:20250704T184652Z
UID:10379654-1904158800-1904178600@golatindance.com
SUMMARY:Saturday Night Exclusive @ Eclipse Di Luna Buckhead
DESCRIPTION:*The 1st & 3rd Saturday of the Month – 9pm*SATURDAY NIGHT EXCLUSIVE! at Eclipse Di Luna Buckhead\n\n\nIndoor & Outdoor Patio Vibe plus more. \nGreat same Vibe\, Tapas & Music! \n============= \nTHE 1st & 3rd SATURDAY OF THE MONTH – 9pm \nSATURDAY NIGHT EXCLUSIVE! \nat Eclipse Di Luna Buckhead \n764 Miami Cir NE Atlanta\, Georgia – 404.846.0449 \nPresented by Dos Equis\, Svedka Vodka & Herradura Tequila \nDancing – Mojitos – Socializing \n#Latin & #International Vibes \nwith host Arthur featuring DJ Fernando F & DJ Danny Blanko \nplus Guest Djs \n• Free Admission \n• Sociable Upbeat Atmosphere \n• Free Parking \n• Dress Cosmopolitan \nCome and Lounge with this mid-twenties and older crowd\, or give in to dance. Make sure to take time to taste some of the best Tapas in Atlanta…Its all waiting for you. \nEveryone is welcome. \nFor more & photos visit http://www.PRPresents.com/
URL:https://golatindance.com/event/saturday-night-exclusive-eclipse-di-luna-buckhead/2030-05-04/
LOCATION:Eclipse Di Luna Buckhead\, 764 Miami Cir NE\, Atlanta\, GA\, 30324\, US
CATEGORIES:Atlanta
ATTACH;FMTTYPE=image/png:https://golatindance.com/wp-content/uploads/2023/06/201344_image.png
END:VEVENT
BEGIN:VEVENT
DTSTART;TZID=America/New_York:20300601T210000
DTEND;TZID=America/New_York:20300602T023000
DTSTAMP:20260421T141507
CREATED:20230623T155247Z
LAST-MODIFIED:20250704T184652Z
UID:10379655-1906578000-1906597800@golatindance.com
SUMMARY:Saturday Night Exclusive @ Eclipse Di Luna Buckhead
DESCRIPTION:*The 1st & 3rd Saturday of the Month – 9pm*SATURDAY NIGHT EXCLUSIVE! at Eclipse Di Luna Buckhead\n\n\nIndoor & Outdoor Patio Vibe plus more. \nGreat same Vibe\, Tapas & Music! \n============= \nTHE 1st & 3rd SATURDAY OF THE MONTH – 9pm \nSATURDAY NIGHT EXCLUSIVE! \nat Eclipse Di Luna Buckhead \n764 Miami Cir NE Atlanta\, Georgia – 404.846.0449 \nPresented by Dos Equis\, Svedka Vodka & Herradura Tequila \nDancing – Mojitos – Socializing \n#Latin & #International Vibes \nwith host Arthur featuring DJ Fernando F & DJ Danny Blanko \nplus Guest Djs \n• Free Admission \n• Sociable Upbeat Atmosphere \n• Free Parking \n• Dress Cosmopolitan \nCome and Lounge with this mid-twenties and older crowd\, or give in to dance. Make sure to take time to taste some of the best Tapas in Atlanta…Its all waiting for you. \nEveryone is welcome. \nFor more & photos visit http://www.PRPresents.com/
URL:https://golatindance.com/event/saturday-night-exclusive-eclipse-di-luna-buckhead/2030-06-01/
LOCATION:Eclipse Di Luna Buckhead\, 764 Miami Cir NE\, Atlanta\, GA\, 30324\, US
CATEGORIES:Atlanta
ATTACH;FMTTYPE=image/png:https://golatindance.com/wp-content/uploads/2023/06/201344_image.png
END:VEVENT
END:VCALENDAR