BEGIN:VCALENDAR
VERSION:2.0
PRODID:-//GO Latin Dance - ECPv6.15.18//NONSGML v1.0//EN
CALSCALE:GREGORIAN
METHOD:PUBLISH
X-WR-CALNAME:GO Latin Dance
X-ORIGINAL-URL:https://golatindance.com
X-WR-CALDESC:Events for GO Latin Dance
REFRESH-INTERVAL;VALUE=DURATION:PT1H
X-Robots-Tag:noindex
X-PUBLISHED-TTL:PT1H
BEGIN:VTIMEZONE
TZID:America/Chicago
BEGIN:DAYLIGHT
TZOFFSETFROM:-0600
TZOFFSETTO:-0500
TZNAME:CDT
DTSTART:20290311T080000
END:DAYLIGHT
BEGIN:STANDARD
TZOFFSETFROM:-0500
TZOFFSETTO:-0600
TZNAME:CST
DTSTART:20291104T070000
END:STANDARD
BEGIN:DAYLIGHT
TZOFFSETFROM:-0600
TZOFFSETTO:-0500
TZNAME:CDT
DTSTART:20300310T080000
END:DAYLIGHT
BEGIN:STANDARD
TZOFFSETFROM:-0500
TZOFFSETTO:-0600
TZNAME:CST
DTSTART:20301103T070000
END:STANDARD
BEGIN:DAYLIGHT
TZOFFSETFROM:-0600
TZOFFSETTO:-0500
TZNAME:CDT
DTSTART:20310309T080000
END:DAYLIGHT
BEGIN:STANDARD
TZOFFSETFROM:-0500
TZOFFSETTO:-0600
TZNAME:CST
DTSTART:20311102T070000
END:STANDARD
END:VTIMEZONE
BEGIN:VEVENT
DTSTART;TZID=America/Chicago:20300220T210000
DTEND;TZID=America/Chicago:20300221T020000
DTSTAMP:20260421T130118
CREATED:20250910T152339Z
LAST-MODIFIED:20251203T221553Z
UID:10394886-1897851600-1897869600@golatindance.com
SUMMARY:Latin Night at Gigis
DESCRIPTION:Every Wednesday in Plano area. \nFREE Dance lesson at 9:15pm \nHappy hour all night \nKitchen is open until 1am \nMusic :salsa \,bachata \,merengue \, reggaeton
URL:https://golatindance.com/event/latin-night-at-gigis/2030-02-20/
LOCATION:Gigis\, 7300 Lone Star Drive C150\, Plano\, TX\, 75024\, United States
CATEGORIES:Dallas-Fort Worth
ATTACH;FMTTYPE=image/jpeg:https://golatindance.com/wp-content/uploads/2025/09/550222082_18534827521003216_6604010121928120421_n.jpg
END:VEVENT
BEGIN:VEVENT
DTSTART;TZID=America/Chicago:20300227T210000
DTEND;TZID=America/Chicago:20300228T020000
DTSTAMP:20260421T130118
CREATED:20250910T152339Z
LAST-MODIFIED:20251203T221553Z
UID:10394887-1898456400-1898474400@golatindance.com
SUMMARY:Latin Night at Gigis
DESCRIPTION:Every Wednesday in Plano area. \nFREE Dance lesson at 9:15pm \nHappy hour all night \nKitchen is open until 1am \nMusic :salsa \,bachata \,merengue \, reggaeton
URL:https://golatindance.com/event/latin-night-at-gigis/2030-02-27/
LOCATION:Gigis\, 7300 Lone Star Drive C150\, Plano\, TX\, 75024\, United States
CATEGORIES:Dallas-Fort Worth
ATTACH;FMTTYPE=image/jpeg:https://golatindance.com/wp-content/uploads/2025/09/550222082_18534827521003216_6604010121928120421_n.jpg
END:VEVENT
BEGIN:VEVENT
DTSTART;TZID=America/Chicago:20300306T210000
DTEND;TZID=America/Chicago:20300307T020000
DTSTAMP:20260421T130118
CREATED:20250910T152339Z
LAST-MODIFIED:20251203T221553Z
UID:10394888-1899061200-1899079200@golatindance.com
SUMMARY:Latin Night at Gigis
DESCRIPTION:Every Wednesday in Plano area. \nFREE Dance lesson at 9:15pm \nHappy hour all night \nKitchen is open until 1am \nMusic :salsa \,bachata \,merengue \, reggaeton
URL:https://golatindance.com/event/latin-night-at-gigis/2030-03-06/
LOCATION:Gigis\, 7300 Lone Star Drive C150\, Plano\, TX\, 75024\, United States
CATEGORIES:Dallas-Fort Worth
ATTACH;FMTTYPE=image/jpeg:https://golatindance.com/wp-content/uploads/2025/09/550222082_18534827521003216_6604010121928120421_n.jpg
END:VEVENT
BEGIN:VEVENT
DTSTART;TZID=America/Chicago:20300313T210000
DTEND;TZID=America/Chicago:20300314T020000
DTSTAMP:20260421T130118
CREATED:20250910T152339Z
LAST-MODIFIED:20251203T221553Z
UID:10394889-1899666000-1899684000@golatindance.com
SUMMARY:Latin Night at Gigis
DESCRIPTION:Every Wednesday in Plano area. \nFREE Dance lesson at 9:15pm \nHappy hour all night \nKitchen is open until 1am \nMusic :salsa \,bachata \,merengue \, reggaeton
URL:https://golatindance.com/event/latin-night-at-gigis/2030-03-13/
LOCATION:Gigis\, 7300 Lone Star Drive C150\, Plano\, TX\, 75024\, United States
CATEGORIES:Dallas-Fort Worth
ATTACH;FMTTYPE=image/jpeg:https://golatindance.com/wp-content/uploads/2025/09/550222082_18534827521003216_6604010121928120421_n.jpg
END:VEVENT
BEGIN:VEVENT
DTSTART;TZID=America/Chicago:20300320T210000
DTEND;TZID=America/Chicago:20300321T020000
DTSTAMP:20260421T130118
CREATED:20250910T152339Z
LAST-MODIFIED:20251203T221553Z
UID:10394890-1900270800-1900288800@golatindance.com
SUMMARY:Latin Night at Gigis
DESCRIPTION:Every Wednesday in Plano area. \nFREE Dance lesson at 9:15pm \nHappy hour all night \nKitchen is open until 1am \nMusic :salsa \,bachata \,merengue \, reggaeton
URL:https://golatindance.com/event/latin-night-at-gigis/2030-03-20/
LOCATION:Gigis\, 7300 Lone Star Drive C150\, Plano\, TX\, 75024\, United States
CATEGORIES:Dallas-Fort Worth
ATTACH;FMTTYPE=image/jpeg:https://golatindance.com/wp-content/uploads/2025/09/550222082_18534827521003216_6604010121928120421_n.jpg
END:VEVENT
BEGIN:VEVENT
DTSTART;TZID=America/Chicago:20300327T210000
DTEND;TZID=America/Chicago:20300328T020000
DTSTAMP:20260421T130118
CREATED:20250910T152339Z
LAST-MODIFIED:20251203T221553Z
UID:10394891-1900875600-1900893600@golatindance.com
SUMMARY:Latin Night at Gigis
DESCRIPTION:Every Wednesday in Plano area. \nFREE Dance lesson at 9:15pm \nHappy hour all night \nKitchen is open until 1am \nMusic :salsa \,bachata \,merengue \, reggaeton
URL:https://golatindance.com/event/latin-night-at-gigis/2030-03-27/
LOCATION:Gigis\, 7300 Lone Star Drive C150\, Plano\, TX\, 75024\, United States
CATEGORIES:Dallas-Fort Worth
ATTACH;FMTTYPE=image/jpeg:https://golatindance.com/wp-content/uploads/2025/09/550222082_18534827521003216_6604010121928120421_n.jpg
END:VEVENT
BEGIN:VEVENT
DTSTART;TZID=America/Chicago:20300403T210000
DTEND;TZID=America/Chicago:20300404T020000
DTSTAMP:20260421T130118
CREATED:20250910T152339Z
LAST-MODIFIED:20251203T221553Z
UID:10394892-1901480400-1901498400@golatindance.com
SUMMARY:Latin Night at Gigis
DESCRIPTION:Every Wednesday in Plano area. \nFREE Dance lesson at 9:15pm \nHappy hour all night \nKitchen is open until 1am \nMusic :salsa \,bachata \,merengue \, reggaeton
URL:https://golatindance.com/event/latin-night-at-gigis/2030-04-03/
LOCATION:Gigis\, 7300 Lone Star Drive C150\, Plano\, TX\, 75024\, United States
CATEGORIES:Dallas-Fort Worth
ATTACH;FMTTYPE=image/jpeg:https://golatindance.com/wp-content/uploads/2025/09/550222082_18534827521003216_6604010121928120421_n.jpg
END:VEVENT
BEGIN:VEVENT
DTSTART;TZID=America/Chicago:20300410T210000
DTEND;TZID=America/Chicago:20300411T020000
DTSTAMP:20260421T130118
CREATED:20250910T152339Z
LAST-MODIFIED:20251203T221553Z
UID:10394893-1902085200-1902103200@golatindance.com
SUMMARY:Latin Night at Gigis
DESCRIPTION:Every Wednesday in Plano area. \nFREE Dance lesson at 9:15pm \nHappy hour all night \nKitchen is open until 1am \nMusic :salsa \,bachata \,merengue \, reggaeton
URL:https://golatindance.com/event/latin-night-at-gigis/2030-04-10/
LOCATION:Gigis\, 7300 Lone Star Drive C150\, Plano\, TX\, 75024\, United States
CATEGORIES:Dallas-Fort Worth
ATTACH;FMTTYPE=image/jpeg:https://golatindance.com/wp-content/uploads/2025/09/550222082_18534827521003216_6604010121928120421_n.jpg
END:VEVENT
BEGIN:VEVENT
DTSTART;TZID=America/Chicago:20300417T210000
DTEND;TZID=America/Chicago:20300418T020000
DTSTAMP:20260421T130118
CREATED:20250910T152339Z
LAST-MODIFIED:20251203T221553Z
UID:10394894-1902690000-1902708000@golatindance.com
SUMMARY:Latin Night at Gigis
DESCRIPTION:Every Wednesday in Plano area. \nFREE Dance lesson at 9:15pm \nHappy hour all night \nKitchen is open until 1am \nMusic :salsa \,bachata \,merengue \, reggaeton
URL:https://golatindance.com/event/latin-night-at-gigis/2030-04-17/
LOCATION:Gigis\, 7300 Lone Star Drive C150\, Plano\, TX\, 75024\, United States
CATEGORIES:Dallas-Fort Worth
ATTACH;FMTTYPE=image/jpeg:https://golatindance.com/wp-content/uploads/2025/09/550222082_18534827521003216_6604010121928120421_n.jpg
END:VEVENT
BEGIN:VEVENT
DTSTART;TZID=America/Chicago:20300424T210000
DTEND;TZID=America/Chicago:20300425T020000
DTSTAMP:20260421T130118
CREATED:20250910T152339Z
LAST-MODIFIED:20251203T221553Z
UID:10394895-1903294800-1903312800@golatindance.com
SUMMARY:Latin Night at Gigis
DESCRIPTION:Every Wednesday in Plano area. \nFREE Dance lesson at 9:15pm \nHappy hour all night \nKitchen is open until 1am \nMusic :salsa \,bachata \,merengue \, reggaeton
URL:https://golatindance.com/event/latin-night-at-gigis/2030-04-24/
LOCATION:Gigis\, 7300 Lone Star Drive C150\, Plano\, TX\, 75024\, United States
CATEGORIES:Dallas-Fort Worth
ATTACH;FMTTYPE=image/jpeg:https://golatindance.com/wp-content/uploads/2025/09/550222082_18534827521003216_6604010121928120421_n.jpg
END:VEVENT
BEGIN:VEVENT
DTSTART;TZID=America/Chicago:20300501T210000
DTEND;TZID=America/Chicago:20300502T020000
DTSTAMP:20260421T130118
CREATED:20250910T152339Z
LAST-MODIFIED:20251203T221553Z
UID:10394896-1903899600-1903917600@golatindance.com
SUMMARY:Latin Night at Gigis
DESCRIPTION:Every Wednesday in Plano area. \nFREE Dance lesson at 9:15pm \nHappy hour all night \nKitchen is open until 1am \nMusic :salsa \,bachata \,merengue \, reggaeton
URL:https://golatindance.com/event/latin-night-at-gigis/2030-05-01/
LOCATION:Gigis\, 7300 Lone Star Drive C150\, Plano\, TX\, 75024\, United States
CATEGORIES:Dallas-Fort Worth
ATTACH;FMTTYPE=image/jpeg:https://golatindance.com/wp-content/uploads/2025/09/550222082_18534827521003216_6604010121928120421_n.jpg
END:VEVENT
BEGIN:VEVENT
DTSTART;TZID=America/Chicago:20300508T210000
DTEND;TZID=America/Chicago:20300509T020000
DTSTAMP:20260421T130118
CREATED:20250910T152339Z
LAST-MODIFIED:20251203T221553Z
UID:10394897-1904504400-1904522400@golatindance.com
SUMMARY:Latin Night at Gigis
DESCRIPTION:Every Wednesday in Plano area. \nFREE Dance lesson at 9:15pm \nHappy hour all night \nKitchen is open until 1am \nMusic :salsa \,bachata \,merengue \, reggaeton
URL:https://golatindance.com/event/latin-night-at-gigis/2030-05-08/
LOCATION:Gigis\, 7300 Lone Star Drive C150\, Plano\, TX\, 75024\, United States
CATEGORIES:Dallas-Fort Worth
ATTACH;FMTTYPE=image/jpeg:https://golatindance.com/wp-content/uploads/2025/09/550222082_18534827521003216_6604010121928120421_n.jpg
END:VEVENT
BEGIN:VEVENT
DTSTART;TZID=America/Chicago:20300515T210000
DTEND;TZID=America/Chicago:20300516T020000
DTSTAMP:20260421T130118
CREATED:20250910T152339Z
LAST-MODIFIED:20251203T221553Z
UID:10394898-1905109200-1905127200@golatindance.com
SUMMARY:Latin Night at Gigis
DESCRIPTION:Every Wednesday in Plano area. \nFREE Dance lesson at 9:15pm \nHappy hour all night \nKitchen is open until 1am \nMusic :salsa \,bachata \,merengue \, reggaeton
URL:https://golatindance.com/event/latin-night-at-gigis/2030-05-15/
LOCATION:Gigis\, 7300 Lone Star Drive C150\, Plano\, TX\, 75024\, United States
CATEGORIES:Dallas-Fort Worth
ATTACH;FMTTYPE=image/jpeg:https://golatindance.com/wp-content/uploads/2025/09/550222082_18534827521003216_6604010121928120421_n.jpg
END:VEVENT
BEGIN:VEVENT
DTSTART;TZID=America/Chicago:20300522T210000
DTEND;TZID=America/Chicago:20300523T020000
DTSTAMP:20260421T130118
CREATED:20250910T152339Z
LAST-MODIFIED:20251203T221553Z
UID:10394899-1905714000-1905732000@golatindance.com
SUMMARY:Latin Night at Gigis
DESCRIPTION:Every Wednesday in Plano area. \nFREE Dance lesson at 9:15pm \nHappy hour all night \nKitchen is open until 1am \nMusic :salsa \,bachata \,merengue \, reggaeton
URL:https://golatindance.com/event/latin-night-at-gigis/2030-05-22/
LOCATION:Gigis\, 7300 Lone Star Drive C150\, Plano\, TX\, 75024\, United States
CATEGORIES:Dallas-Fort Worth
ATTACH;FMTTYPE=image/jpeg:https://golatindance.com/wp-content/uploads/2025/09/550222082_18534827521003216_6604010121928120421_n.jpg
END:VEVENT
BEGIN:VEVENT
DTSTART;TZID=America/Chicago:20300529T210000
DTEND;TZID=America/Chicago:20300530T020000
DTSTAMP:20260421T130118
CREATED:20250910T152339Z
LAST-MODIFIED:20251203T221553Z
UID:10394900-1906318800-1906336800@golatindance.com
SUMMARY:Latin Night at Gigis
DESCRIPTION:Every Wednesday in Plano area. \nFREE Dance lesson at 9:15pm \nHappy hour all night \nKitchen is open until 1am \nMusic :salsa \,bachata \,merengue \, reggaeton
URL:https://golatindance.com/event/latin-night-at-gigis/2030-05-29/
LOCATION:Gigis\, 7300 Lone Star Drive C150\, Plano\, TX\, 75024\, United States
CATEGORIES:Dallas-Fort Worth
ATTACH;FMTTYPE=image/jpeg:https://golatindance.com/wp-content/uploads/2025/09/550222082_18534827521003216_6604010121928120421_n.jpg
END:VEVENT
BEGIN:VEVENT
DTSTART;TZID=America/Chicago:20300605T210000
DTEND;TZID=America/Chicago:20300606T020000
DTSTAMP:20260421T130118
CREATED:20250910T152339Z
LAST-MODIFIED:20251203T221553Z
UID:10394901-1906923600-1906941600@golatindance.com
SUMMARY:Latin Night at Gigis
DESCRIPTION:Every Wednesday in Plano area. \nFREE Dance lesson at 9:15pm \nHappy hour all night \nKitchen is open until 1am \nMusic :salsa \,bachata \,merengue \, reggaeton
URL:https://golatindance.com/event/latin-night-at-gigis/2030-06-05/
LOCATION:Gigis\, 7300 Lone Star Drive C150\, Plano\, TX\, 75024\, United States
CATEGORIES:Dallas-Fort Worth
ATTACH;FMTTYPE=image/jpeg:https://golatindance.com/wp-content/uploads/2025/09/550222082_18534827521003216_6604010121928120421_n.jpg
END:VEVENT
BEGIN:VEVENT
DTSTART;TZID=America/Chicago:20300612T210000
DTEND;TZID=America/Chicago:20300613T020000
DTSTAMP:20260421T130118
CREATED:20250910T152339Z
LAST-MODIFIED:20251203T221553Z
UID:10394902-1907528400-1907546400@golatindance.com
SUMMARY:Latin Night at Gigis
DESCRIPTION:Every Wednesday in Plano area. \nFREE Dance lesson at 9:15pm \nHappy hour all night \nKitchen is open until 1am \nMusic :salsa \,bachata \,merengue \, reggaeton
URL:https://golatindance.com/event/latin-night-at-gigis/2030-06-12/
LOCATION:Gigis\, 7300 Lone Star Drive C150\, Plano\, TX\, 75024\, United States
CATEGORIES:Dallas-Fort Worth
ATTACH;FMTTYPE=image/jpeg:https://golatindance.com/wp-content/uploads/2025/09/550222082_18534827521003216_6604010121928120421_n.jpg
END:VEVENT
BEGIN:VEVENT
DTSTART;TZID=America/Chicago:20300619T210000
DTEND;TZID=America/Chicago:20300620T020000
DTSTAMP:20260421T130118
CREATED:20250910T152339Z
LAST-MODIFIED:20251203T221553Z
UID:10394903-1908133200-1908151200@golatindance.com
SUMMARY:Latin Night at Gigis
DESCRIPTION:Every Wednesday in Plano area. \nFREE Dance lesson at 9:15pm \nHappy hour all night \nKitchen is open until 1am \nMusic :salsa \,bachata \,merengue \, reggaeton
URL:https://golatindance.com/event/latin-night-at-gigis/2030-06-19/
LOCATION:Gigis\, 7300 Lone Star Drive C150\, Plano\, TX\, 75024\, United States
CATEGORIES:Dallas-Fort Worth
ATTACH;FMTTYPE=image/jpeg:https://golatindance.com/wp-content/uploads/2025/09/550222082_18534827521003216_6604010121928120421_n.jpg
END:VEVENT
BEGIN:VEVENT
DTSTART;TZID=America/Chicago:20300626T210000
DTEND;TZID=America/Chicago:20300627T020000
DTSTAMP:20260421T130118
CREATED:20250910T152339Z
LAST-MODIFIED:20251203T221553Z
UID:10394904-1908738000-1908756000@golatindance.com
SUMMARY:Latin Night at Gigis
DESCRIPTION:Every Wednesday in Plano area. \nFREE Dance lesson at 9:15pm \nHappy hour all night \nKitchen is open until 1am \nMusic :salsa \,bachata \,merengue \, reggaeton
URL:https://golatindance.com/event/latin-night-at-gigis/2030-06-26/
LOCATION:Gigis\, 7300 Lone Star Drive C150\, Plano\, TX\, 75024\, United States
CATEGORIES:Dallas-Fort Worth
ATTACH;FMTTYPE=image/jpeg:https://golatindance.com/wp-content/uploads/2025/09/550222082_18534827521003216_6604010121928120421_n.jpg
END:VEVENT
BEGIN:VEVENT
DTSTART;TZID=America/Chicago:20300703T210000
DTEND;TZID=America/Chicago:20300704T020000
DTSTAMP:20260421T130118
CREATED:20250910T152339Z
LAST-MODIFIED:20251203T221553Z
UID:10394905-1909342800-1909360800@golatindance.com
SUMMARY:Latin Night at Gigis
DESCRIPTION:Every Wednesday in Plano area. \nFREE Dance lesson at 9:15pm \nHappy hour all night \nKitchen is open until 1am \nMusic :salsa \,bachata \,merengue \, reggaeton
URL:https://golatindance.com/event/latin-night-at-gigis/2030-07-03/
LOCATION:Gigis\, 7300 Lone Star Drive C150\, Plano\, TX\, 75024\, United States
CATEGORIES:Dallas-Fort Worth
ATTACH;FMTTYPE=image/jpeg:https://golatindance.com/wp-content/uploads/2025/09/550222082_18534827521003216_6604010121928120421_n.jpg
END:VEVENT
BEGIN:VEVENT
DTSTART;TZID=America/Chicago:20300710T210000
DTEND;TZID=America/Chicago:20300711T020000
DTSTAMP:20260421T130118
CREATED:20250910T152339Z
LAST-MODIFIED:20251203T221553Z
UID:10394906-1909947600-1909965600@golatindance.com
SUMMARY:Latin Night at Gigis
DESCRIPTION:Every Wednesday in Plano area. \nFREE Dance lesson at 9:15pm \nHappy hour all night \nKitchen is open until 1am \nMusic :salsa \,bachata \,merengue \, reggaeton
URL:https://golatindance.com/event/latin-night-at-gigis/2030-07-10/
LOCATION:Gigis\, 7300 Lone Star Drive C150\, Plano\, TX\, 75024\, United States
CATEGORIES:Dallas-Fort Worth
ATTACH;FMTTYPE=image/jpeg:https://golatindance.com/wp-content/uploads/2025/09/550222082_18534827521003216_6604010121928120421_n.jpg
END:VEVENT
BEGIN:VEVENT
DTSTART;TZID=America/Chicago:20300717T210000
DTEND;TZID=America/Chicago:20300718T020000
DTSTAMP:20260421T130118
CREATED:20250910T152339Z
LAST-MODIFIED:20251203T221553Z
UID:10394907-1910552400-1910570400@golatindance.com
SUMMARY:Latin Night at Gigis
DESCRIPTION:Every Wednesday in Plano area. \nFREE Dance lesson at 9:15pm \nHappy hour all night \nKitchen is open until 1am \nMusic :salsa \,bachata \,merengue \, reggaeton
URL:https://golatindance.com/event/latin-night-at-gigis/2030-07-17/
LOCATION:Gigis\, 7300 Lone Star Drive C150\, Plano\, TX\, 75024\, United States
CATEGORIES:Dallas-Fort Worth
ATTACH;FMTTYPE=image/jpeg:https://golatindance.com/wp-content/uploads/2025/09/550222082_18534827521003216_6604010121928120421_n.jpg
END:VEVENT
BEGIN:VEVENT
DTSTART;TZID=America/Chicago:20300724T210000
DTEND;TZID=America/Chicago:20300725T020000
DTSTAMP:20260421T130118
CREATED:20250910T152339Z
LAST-MODIFIED:20251203T221553Z
UID:10394908-1911157200-1911175200@golatindance.com
SUMMARY:Latin Night at Gigis
DESCRIPTION:Every Wednesday in Plano area. \nFREE Dance lesson at 9:15pm \nHappy hour all night \nKitchen is open until 1am \nMusic :salsa \,bachata \,merengue \, reggaeton
URL:https://golatindance.com/event/latin-night-at-gigis/2030-07-24/
LOCATION:Gigis\, 7300 Lone Star Drive C150\, Plano\, TX\, 75024\, United States
CATEGORIES:Dallas-Fort Worth
ATTACH;FMTTYPE=image/jpeg:https://golatindance.com/wp-content/uploads/2025/09/550222082_18534827521003216_6604010121928120421_n.jpg
END:VEVENT
BEGIN:VEVENT
DTSTART;TZID=America/Chicago:20300731T210000
DTEND;TZID=America/Chicago:20300801T020000
DTSTAMP:20260421T130118
CREATED:20250910T152339Z
LAST-MODIFIED:20251203T221553Z
UID:10394909-1911762000-1911780000@golatindance.com
SUMMARY:Latin Night at Gigis
DESCRIPTION:Every Wednesday in Plano area. \nFREE Dance lesson at 9:15pm \nHappy hour all night \nKitchen is open until 1am \nMusic :salsa \,bachata \,merengue \, reggaeton
URL:https://golatindance.com/event/latin-night-at-gigis/2030-07-31/
LOCATION:Gigis\, 7300 Lone Star Drive C150\, Plano\, TX\, 75024\, United States
CATEGORIES:Dallas-Fort Worth
ATTACH;FMTTYPE=image/jpeg:https://golatindance.com/wp-content/uploads/2025/09/550222082_18534827521003216_6604010121928120421_n.jpg
END:VEVENT
BEGIN:VEVENT
DTSTART;TZID=America/Chicago:20300807T210000
DTEND;TZID=America/Chicago:20300808T020000
DTSTAMP:20260421T130118
CREATED:20250910T152339Z
LAST-MODIFIED:20251203T221553Z
UID:10394910-1912366800-1912384800@golatindance.com
SUMMARY:Latin Night at Gigis
DESCRIPTION:Every Wednesday in Plano area. \nFREE Dance lesson at 9:15pm \nHappy hour all night \nKitchen is open until 1am \nMusic :salsa \,bachata \,merengue \, reggaeton
URL:https://golatindance.com/event/latin-night-at-gigis/2030-08-07/
LOCATION:Gigis\, 7300 Lone Star Drive C150\, Plano\, TX\, 75024\, United States
CATEGORIES:Dallas-Fort Worth
ATTACH;FMTTYPE=image/jpeg:https://golatindance.com/wp-content/uploads/2025/09/550222082_18534827521003216_6604010121928120421_n.jpg
END:VEVENT
BEGIN:VEVENT
DTSTART;TZID=America/Chicago:20300814T210000
DTEND;TZID=America/Chicago:20300815T020000
DTSTAMP:20260421T130118
CREATED:20250910T152339Z
LAST-MODIFIED:20251203T221553Z
UID:10394911-1912971600-1912989600@golatindance.com
SUMMARY:Latin Night at Gigis
DESCRIPTION:Every Wednesday in Plano area. \nFREE Dance lesson at 9:15pm \nHappy hour all night \nKitchen is open until 1am \nMusic :salsa \,bachata \,merengue \, reggaeton
URL:https://golatindance.com/event/latin-night-at-gigis/2030-08-14/
LOCATION:Gigis\, 7300 Lone Star Drive C150\, Plano\, TX\, 75024\, United States
CATEGORIES:Dallas-Fort Worth
ATTACH;FMTTYPE=image/jpeg:https://golatindance.com/wp-content/uploads/2025/09/550222082_18534827521003216_6604010121928120421_n.jpg
END:VEVENT
BEGIN:VEVENT
DTSTART;TZID=America/Chicago:20300821T210000
DTEND;TZID=America/Chicago:20300822T020000
DTSTAMP:20260421T130118
CREATED:20250910T152339Z
LAST-MODIFIED:20251203T221553Z
UID:10394912-1913576400-1913594400@golatindance.com
SUMMARY:Latin Night at Gigis
DESCRIPTION:Every Wednesday in Plano area. \nFREE Dance lesson at 9:15pm \nHappy hour all night \nKitchen is open until 1am \nMusic :salsa \,bachata \,merengue \, reggaeton
URL:https://golatindance.com/event/latin-night-at-gigis/2030-08-21/
LOCATION:Gigis\, 7300 Lone Star Drive C150\, Plano\, TX\, 75024\, United States
CATEGORIES:Dallas-Fort Worth
ATTACH;FMTTYPE=image/jpeg:https://golatindance.com/wp-content/uploads/2025/09/550222082_18534827521003216_6604010121928120421_n.jpg
END:VEVENT
BEGIN:VEVENT
DTSTART;TZID=America/Chicago:20300828T210000
DTEND;TZID=America/Chicago:20300829T020000
DTSTAMP:20260421T130118
CREATED:20250910T152339Z
LAST-MODIFIED:20251203T221553Z
UID:10394913-1914181200-1914199200@golatindance.com
SUMMARY:Latin Night at Gigis
DESCRIPTION:Every Wednesday in Plano area. \nFREE Dance lesson at 9:15pm \nHappy hour all night \nKitchen is open until 1am \nMusic :salsa \,bachata \,merengue \, reggaeton
URL:https://golatindance.com/event/latin-night-at-gigis/2030-08-28/
LOCATION:Gigis\, 7300 Lone Star Drive C150\, Plano\, TX\, 75024\, United States
CATEGORIES:Dallas-Fort Worth
ATTACH;FMTTYPE=image/jpeg:https://golatindance.com/wp-content/uploads/2025/09/550222082_18534827521003216_6604010121928120421_n.jpg
END:VEVENT
BEGIN:VEVENT
DTSTART;TZID=America/Chicago:20300904T210000
DTEND;TZID=America/Chicago:20300905T020000
DTSTAMP:20260421T130118
CREATED:20250910T152339Z
LAST-MODIFIED:20251203T221553Z
UID:10394914-1914786000-1914804000@golatindance.com
SUMMARY:Latin Night at Gigis
DESCRIPTION:Every Wednesday in Plano area. \nFREE Dance lesson at 9:15pm \nHappy hour all night \nKitchen is open until 1am \nMusic :salsa \,bachata \,merengue \, reggaeton
URL:https://golatindance.com/event/latin-night-at-gigis/2030-09-04/
LOCATION:Gigis\, 7300 Lone Star Drive C150\, Plano\, TX\, 75024\, United States
CATEGORIES:Dallas-Fort Worth
ATTACH;FMTTYPE=image/jpeg:https://golatindance.com/wp-content/uploads/2025/09/550222082_18534827521003216_6604010121928120421_n.jpg
END:VEVENT
BEGIN:VEVENT
DTSTART;TZID=America/Chicago:20300911T210000
DTEND;TZID=America/Chicago:20300912T020000
DTSTAMP:20260421T130118
CREATED:20250910T152339Z
LAST-MODIFIED:20251203T221553Z
UID:10405258-1915390800-1915408800@golatindance.com
SUMMARY:Latin Night at Gigis
DESCRIPTION:Every Wednesday in Plano area. \nFREE Dance lesson at 9:15pm \nHappy hour all night \nKitchen is open until 1am \nMusic :salsa \,bachata \,merengue \, reggaeton
URL:https://golatindance.com/event/latin-night-at-gigis/2030-09-11/
LOCATION:Gigis\, 7300 Lone Star Drive C150\, Plano\, TX\, 75024\, United States
CATEGORIES:Dallas-Fort Worth
ATTACH;FMTTYPE=image/jpeg:https://golatindance.com/wp-content/uploads/2025/09/550222082_18534827521003216_6604010121928120421_n.jpg
END:VEVENT
END:VCALENDAR