BEGIN:VCALENDAR
VERSION:2.0
PRODID:-//GO Latin Dance - ECPv6.15.18//NONSGML v1.0//EN
CALSCALE:GREGORIAN
METHOD:PUBLISH
X-WR-CALNAME:GO Latin Dance
X-ORIGINAL-URL:https://golatindance.com
X-WR-CALDESC:Events for GO Latin Dance
REFRESH-INTERVAL;VALUE=DURATION:PT1H
X-Robots-Tag:noindex
X-PUBLISHED-TTL:PT1H
BEGIN:VTIMEZONE
TZID:America/Chicago
BEGIN:DAYLIGHT
TZOFFSETFROM:-0600
TZOFFSETTO:-0500
TZNAME:CDT
DTSTART:20290311T080000
END:DAYLIGHT
BEGIN:STANDARD
TZOFFSETFROM:-0500
TZOFFSETTO:-0600
TZNAME:CST
DTSTART:20291104T070000
END:STANDARD
BEGIN:DAYLIGHT
TZOFFSETFROM:-0600
TZOFFSETTO:-0500
TZNAME:CDT
DTSTART:20300310T080000
END:DAYLIGHT
BEGIN:STANDARD
TZOFFSETFROM:-0500
TZOFFSETTO:-0600
TZNAME:CST
DTSTART:20301103T070000
END:STANDARD
BEGIN:DAYLIGHT
TZOFFSETFROM:-0600
TZOFFSETTO:-0500
TZNAME:CDT
DTSTART:20310309T080000
END:DAYLIGHT
BEGIN:STANDARD
TZOFFSETFROM:-0500
TZOFFSETTO:-0600
TZNAME:CST
DTSTART:20311102T070000
END:STANDARD
END:VTIMEZONE
BEGIN:VEVENT
DTSTART;TZID=America/Chicago:20300925T210000
DTEND;TZID=America/Chicago:20300926T020000
DTSTAMP:20260423T073112
CREATED:20250910T152339Z
LAST-MODIFIED:20251203T221553Z
UID:10405260-1916600400-1916618400@golatindance.com
SUMMARY:Latin Night at Gigis
DESCRIPTION:Every Wednesday in Plano area. \nFREE Dance lesson at 9:15pm \nHappy hour all night \nKitchen is open until 1am \nMusic :salsa \,bachata \,merengue \, reggaeton
URL:https://golatindance.com/event/latin-night-at-gigis/2030-09-25/
LOCATION:Gigis\, 7300 Lone Star Drive C150\, Plano\, TX\, 75024\, United States
CATEGORIES:Dallas-Fort Worth
ATTACH;FMTTYPE=image/jpeg:https://golatindance.com/wp-content/uploads/2025/09/550222082_18534827521003216_6604010121928120421_n.jpg
END:VEVENT
BEGIN:VEVENT
DTSTART;TZID=America/Chicago:20301002T210000
DTEND;TZID=America/Chicago:20301003T020000
DTSTAMP:20260423T073112
CREATED:20250910T152339Z
LAST-MODIFIED:20251203T221553Z
UID:10405261-1917205200-1917223200@golatindance.com
SUMMARY:Latin Night at Gigis
DESCRIPTION:Every Wednesday in Plano area. \nFREE Dance lesson at 9:15pm \nHappy hour all night \nKitchen is open until 1am \nMusic :salsa \,bachata \,merengue \, reggaeton
URL:https://golatindance.com/event/latin-night-at-gigis/2030-10-02/
LOCATION:Gigis\, 7300 Lone Star Drive C150\, Plano\, TX\, 75024\, United States
CATEGORIES:Dallas-Fort Worth
ATTACH;FMTTYPE=image/jpeg:https://golatindance.com/wp-content/uploads/2025/09/550222082_18534827521003216_6604010121928120421_n.jpg
END:VEVENT
BEGIN:VEVENT
DTSTART;TZID=America/Chicago:20301009T210000
DTEND;TZID=America/Chicago:20301010T020000
DTSTAMP:20260423T073112
CREATED:20250910T152339Z
LAST-MODIFIED:20251203T221553Z
UID:10420368-1917810000-1917828000@golatindance.com
SUMMARY:Latin Night at Gigis
DESCRIPTION:Every Wednesday in Plano area. \nFREE Dance lesson at 9:15pm \nHappy hour all night \nKitchen is open until 1am \nMusic :salsa \,bachata \,merengue \, reggaeton
URL:https://golatindance.com/event/latin-night-at-gigis/2030-10-09/
LOCATION:Gigis\, 7300 Lone Star Drive C150\, Plano\, TX\, 75024\, United States
CATEGORIES:Dallas-Fort Worth
ATTACH;FMTTYPE=image/jpeg:https://golatindance.com/wp-content/uploads/2025/09/550222082_18534827521003216_6604010121928120421_n.jpg
END:VEVENT
BEGIN:VEVENT
DTSTART;TZID=America/Chicago:20301016T210000
DTEND;TZID=America/Chicago:20301017T020000
DTSTAMP:20260423T073112
CREATED:20250910T152339Z
LAST-MODIFIED:20251203T221553Z
UID:10420369-1918414800-1918432800@golatindance.com
SUMMARY:Latin Night at Gigis
DESCRIPTION:Every Wednesday in Plano area. \nFREE Dance lesson at 9:15pm \nHappy hour all night \nKitchen is open until 1am \nMusic :salsa \,bachata \,merengue \, reggaeton
URL:https://golatindance.com/event/latin-night-at-gigis/2030-10-16/
LOCATION:Gigis\, 7300 Lone Star Drive C150\, Plano\, TX\, 75024\, United States
CATEGORIES:Dallas-Fort Worth
ATTACH;FMTTYPE=image/jpeg:https://golatindance.com/wp-content/uploads/2025/09/550222082_18534827521003216_6604010121928120421_n.jpg
END:VEVENT
BEGIN:VEVENT
DTSTART;TZID=America/Chicago:20301023T210000
DTEND;TZID=America/Chicago:20301024T020000
DTSTAMP:20260423T073112
CREATED:20250910T152339Z
LAST-MODIFIED:20251203T221553Z
UID:10420370-1919019600-1919037600@golatindance.com
SUMMARY:Latin Night at Gigis
DESCRIPTION:Every Wednesday in Plano area. \nFREE Dance lesson at 9:15pm \nHappy hour all night \nKitchen is open until 1am \nMusic :salsa \,bachata \,merengue \, reggaeton
URL:https://golatindance.com/event/latin-night-at-gigis/2030-10-23/
LOCATION:Gigis\, 7300 Lone Star Drive C150\, Plano\, TX\, 75024\, United States
CATEGORIES:Dallas-Fort Worth
ATTACH;FMTTYPE=image/jpeg:https://golatindance.com/wp-content/uploads/2025/09/550222082_18534827521003216_6604010121928120421_n.jpg
END:VEVENT
BEGIN:VEVENT
DTSTART;TZID=America/Chicago:20301030T210000
DTEND;TZID=America/Chicago:20301031T020000
DTSTAMP:20260423T073112
CREATED:20250910T152339Z
LAST-MODIFIED:20251203T221553Z
UID:10420371-1919624400-1919642400@golatindance.com
SUMMARY:Latin Night at Gigis
DESCRIPTION:Every Wednesday in Plano area. \nFREE Dance lesson at 9:15pm \nHappy hour all night \nKitchen is open until 1am \nMusic :salsa \,bachata \,merengue \, reggaeton
URL:https://golatindance.com/event/latin-night-at-gigis/2030-10-30/
LOCATION:Gigis\, 7300 Lone Star Drive C150\, Plano\, TX\, 75024\, United States
CATEGORIES:Dallas-Fort Worth
ATTACH;FMTTYPE=image/jpeg:https://golatindance.com/wp-content/uploads/2025/09/550222082_18534827521003216_6604010121928120421_n.jpg
END:VEVENT
BEGIN:VEVENT
DTSTART;TZID=America/Chicago:20301106T210000
DTEND;TZID=America/Chicago:20301107T020000
DTSTAMP:20260423T073112
CREATED:20250910T152339Z
LAST-MODIFIED:20251203T221553Z
UID:10420372-1920229200-1920247200@golatindance.com
SUMMARY:Latin Night at Gigis
DESCRIPTION:Every Wednesday in Plano area. \nFREE Dance lesson at 9:15pm \nHappy hour all night \nKitchen is open until 1am \nMusic :salsa \,bachata \,merengue \, reggaeton
URL:https://golatindance.com/event/latin-night-at-gigis/2030-11-06/
LOCATION:Gigis\, 7300 Lone Star Drive C150\, Plano\, TX\, 75024\, United States
CATEGORIES:Dallas-Fort Worth
ATTACH;FMTTYPE=image/jpeg:https://golatindance.com/wp-content/uploads/2025/09/550222082_18534827521003216_6604010121928120421_n.jpg
END:VEVENT
BEGIN:VEVENT
DTSTART;TZID=America/Chicago:20301113T210000
DTEND;TZID=America/Chicago:20301114T020000
DTSTAMP:20260423T073112
CREATED:20250910T152339Z
LAST-MODIFIED:20251203T221553Z
UID:10420373-1920834000-1920852000@golatindance.com
SUMMARY:Latin Night at Gigis
DESCRIPTION:Every Wednesday in Plano area. \nFREE Dance lesson at 9:15pm \nHappy hour all night \nKitchen is open until 1am \nMusic :salsa \,bachata \,merengue \, reggaeton
URL:https://golatindance.com/event/latin-night-at-gigis/2030-11-13/
LOCATION:Gigis\, 7300 Lone Star Drive C150\, Plano\, TX\, 75024\, United States
CATEGORIES:Dallas-Fort Worth
ATTACH;FMTTYPE=image/jpeg:https://golatindance.com/wp-content/uploads/2025/09/550222082_18534827521003216_6604010121928120421_n.jpg
END:VEVENT
BEGIN:VEVENT
DTSTART;TZID=America/Chicago:20301120T210000
DTEND;TZID=America/Chicago:20301121T020000
DTSTAMP:20260423T073112
CREATED:20250910T152339Z
LAST-MODIFIED:20251203T221553Z
UID:10420374-1921438800-1921456800@golatindance.com
SUMMARY:Latin Night at Gigis
DESCRIPTION:Every Wednesday in Plano area. \nFREE Dance lesson at 9:15pm \nHappy hour all night \nKitchen is open until 1am \nMusic :salsa \,bachata \,merengue \, reggaeton
URL:https://golatindance.com/event/latin-night-at-gigis/2030-11-20/
LOCATION:Gigis\, 7300 Lone Star Drive C150\, Plano\, TX\, 75024\, United States
CATEGORIES:Dallas-Fort Worth
ATTACH;FMTTYPE=image/jpeg:https://golatindance.com/wp-content/uploads/2025/09/550222082_18534827521003216_6604010121928120421_n.jpg
END:VEVENT
BEGIN:VEVENT
DTSTART;TZID=America/Chicago:20301127T210000
DTEND;TZID=America/Chicago:20301128T020000
DTSTAMP:20260423T073112
CREATED:20250910T152339Z
LAST-MODIFIED:20251203T221553Z
UID:10420375-1922043600-1922061600@golatindance.com
SUMMARY:Latin Night at Gigis
DESCRIPTION:Every Wednesday in Plano area. \nFREE Dance lesson at 9:15pm \nHappy hour all night \nKitchen is open until 1am \nMusic :salsa \,bachata \,merengue \, reggaeton
URL:https://golatindance.com/event/latin-night-at-gigis/2030-11-27/
LOCATION:Gigis\, 7300 Lone Star Drive C150\, Plano\, TX\, 75024\, United States
CATEGORIES:Dallas-Fort Worth
ATTACH;FMTTYPE=image/jpeg:https://golatindance.com/wp-content/uploads/2025/09/550222082_18534827521003216_6604010121928120421_n.jpg
END:VEVENT
END:VCALENDAR