BEGIN:VCALENDAR
VERSION:2.0
PRODID:-//GO Latin Dance - ECPv6.15.18//NONSGML v1.0//EN
CALSCALE:GREGORIAN
METHOD:PUBLISH
X-ORIGINAL-URL:https://golatindance.com
X-WR-CALDESC:Events for GO Latin Dance
REFRESH-INTERVAL;VALUE=DURATION:PT1H
X-Robots-Tag:noindex
X-PUBLISHED-TTL:PT1H
BEGIN:VTIMEZONE
TZID:America/New_York
BEGIN:DAYLIGHT
TZOFFSETFROM:-0500
TZOFFSETTO:-0400
TZNAME:EDT
DTSTART:20250309T070000
END:DAYLIGHT
BEGIN:STANDARD
TZOFFSETFROM:-0400
TZOFFSETTO:-0500
TZNAME:EST
DTSTART:20251102T060000
END:STANDARD
BEGIN:DAYLIGHT
TZOFFSETFROM:-0500
TZOFFSETTO:-0400
TZNAME:EDT
DTSTART:20260308T070000
END:DAYLIGHT
BEGIN:STANDARD
TZOFFSETFROM:-0400
TZOFFSETTO:-0500
TZNAME:EST
DTSTART:20261101T060000
END:STANDARD
BEGIN:DAYLIGHT
TZOFFSETFROM:-0500
TZOFFSETTO:-0400
TZNAME:EDT
DTSTART:20270314T070000
END:DAYLIGHT
BEGIN:STANDARD
TZOFFSETFROM:-0400
TZOFFSETTO:-0500
TZNAME:EST
DTSTART:20271107T060000
END:STANDARD
END:VTIMEZONE
BEGIN:VEVENT
DTSTART;TZID=America/New_York:20260613T200000
DTEND;TZID=America/New_York:20260614T030000
DTSTAMP:20260421T155459
CREATED:20230510T160557Z
LAST-MODIFIED:20240913T210002Z
UID:10294729-1781380800-1781406000@golatindance.com
SUMMARY:Live Salsa Thursday through Sunday at Gonzalez Y Gonzalez
DESCRIPTION:LIVE Salsa Bands Thursday through Sunday\nThursdays 9:00PM & 11:00PM until 3AM w/ DJ\nFridays & Saturdays 11:00PM & 1:30AM until 3AM w/ DJ\nSundays 8:00PM until 1/2AM w/ DJ\nFREE Salsa Dance Lesson | Thursdays & Sundays 8:00pm\nVisit https://gygnyc.com/ for class and band details!
URL:https://golatindance.com/event/live-salsa-thursday-friday-and-saturday-at-gonzalez-y-gonzalez-2-2/2026-06-13/
LOCATION:Gonzalez y Gonzalez\, 192 Mercer Street\, New York\, NY 10012\, New York\, NY\, 10012\, US
CATEGORIES:New York City
END:VEVENT
BEGIN:VEVENT
DTSTART;TZID=America/New_York:20260614T200000
DTEND;TZID=America/New_York:20260615T030000
DTSTAMP:20260421T155459
CREATED:20230510T160557Z
LAST-MODIFIED:20240913T210002Z
UID:10294730-1781467200-1781492400@golatindance.com
SUMMARY:Live Salsa Thursday through Sunday at Gonzalez Y Gonzalez
DESCRIPTION:LIVE Salsa Bands Thursday through Sunday\nThursdays 9:00PM & 11:00PM until 3AM w/ DJ\nFridays & Saturdays 11:00PM & 1:30AM until 3AM w/ DJ\nSundays 8:00PM until 1/2AM w/ DJ\nFREE Salsa Dance Lesson | Thursdays & Sundays 8:00pm\nVisit https://gygnyc.com/ for class and band details!
URL:https://golatindance.com/event/live-salsa-thursday-friday-and-saturday-at-gonzalez-y-gonzalez-2-2/2026-06-14/
LOCATION:Gonzalez y Gonzalez\, 192 Mercer Street\, New York\, NY 10012\, New York\, NY\, 10012\, US
CATEGORIES:New York City
END:VEVENT
BEGIN:VEVENT
DTSTART;TZID=America/New_York:20260618T200000
DTEND;TZID=America/New_York:20260619T030000
DTSTAMP:20260421T155459
CREATED:20230510T160557Z
LAST-MODIFIED:20240913T210002Z
UID:10294731-1781812800-1781838000@golatindance.com
SUMMARY:Live Salsa Thursday through Sunday at Gonzalez Y Gonzalez
DESCRIPTION:LIVE Salsa Bands Thursday through Sunday\nThursdays 9:00PM & 11:00PM until 3AM w/ DJ\nFridays & Saturdays 11:00PM & 1:30AM until 3AM w/ DJ\nSundays 8:00PM until 1/2AM w/ DJ\nFREE Salsa Dance Lesson | Thursdays & Sundays 8:00pm\nVisit https://gygnyc.com/ for class and band details!
URL:https://golatindance.com/event/live-salsa-thursday-friday-and-saturday-at-gonzalez-y-gonzalez-2-2/2026-06-18/
LOCATION:Gonzalez y Gonzalez\, 192 Mercer Street\, New York\, NY 10012\, New York\, NY\, 10012\, US
CATEGORIES:New York City
END:VEVENT
BEGIN:VEVENT
DTSTART;TZID=America/New_York:20260619T200000
DTEND;TZID=America/New_York:20260620T030000
DTSTAMP:20260421T155459
CREATED:20230510T160557Z
LAST-MODIFIED:20240913T210002Z
UID:10294732-1781899200-1781924400@golatindance.com
SUMMARY:Live Salsa Thursday through Sunday at Gonzalez Y Gonzalez
DESCRIPTION:LIVE Salsa Bands Thursday through Sunday\nThursdays 9:00PM & 11:00PM until 3AM w/ DJ\nFridays & Saturdays 11:00PM & 1:30AM until 3AM w/ DJ\nSundays 8:00PM until 1/2AM w/ DJ\nFREE Salsa Dance Lesson | Thursdays & Sundays 8:00pm\nVisit https://gygnyc.com/ for class and band details!
URL:https://golatindance.com/event/live-salsa-thursday-friday-and-saturday-at-gonzalez-y-gonzalez-2-2/2026-06-19/
LOCATION:Gonzalez y Gonzalez\, 192 Mercer Street\, New York\, NY 10012\, New York\, NY\, 10012\, US
CATEGORIES:New York City
END:VEVENT
BEGIN:VEVENT
DTSTART;TZID=America/New_York:20260620T200000
DTEND;TZID=America/New_York:20260621T030000
DTSTAMP:20260421T155459
CREATED:20230510T160557Z
LAST-MODIFIED:20240913T210002Z
UID:10294733-1781985600-1782010800@golatindance.com
SUMMARY:Live Salsa Thursday through Sunday at Gonzalez Y Gonzalez
DESCRIPTION:LIVE Salsa Bands Thursday through Sunday\nThursdays 9:00PM & 11:00PM until 3AM w/ DJ\nFridays & Saturdays 11:00PM & 1:30AM until 3AM w/ DJ\nSundays 8:00PM until 1/2AM w/ DJ\nFREE Salsa Dance Lesson | Thursdays & Sundays 8:00pm\nVisit https://gygnyc.com/ for class and band details!
URL:https://golatindance.com/event/live-salsa-thursday-friday-and-saturday-at-gonzalez-y-gonzalez-2-2/2026-06-20/
LOCATION:Gonzalez y Gonzalez\, 192 Mercer Street\, New York\, NY 10012\, New York\, NY\, 10012\, US
CATEGORIES:New York City
END:VEVENT
BEGIN:VEVENT
DTSTART;TZID=America/New_York:20260621T200000
DTEND;TZID=America/New_York:20260622T030000
DTSTAMP:20260421T155459
CREATED:20230510T160557Z
LAST-MODIFIED:20240913T210002Z
UID:10294734-1782072000-1782097200@golatindance.com
SUMMARY:Live Salsa Thursday through Sunday at Gonzalez Y Gonzalez
DESCRIPTION:LIVE Salsa Bands Thursday through Sunday\nThursdays 9:00PM & 11:00PM until 3AM w/ DJ\nFridays & Saturdays 11:00PM & 1:30AM until 3AM w/ DJ\nSundays 8:00PM until 1/2AM w/ DJ\nFREE Salsa Dance Lesson | Thursdays & Sundays 8:00pm\nVisit https://gygnyc.com/ for class and band details!
URL:https://golatindance.com/event/live-salsa-thursday-friday-and-saturday-at-gonzalez-y-gonzalez-2-2/2026-06-21/
LOCATION:Gonzalez y Gonzalez\, 192 Mercer Street\, New York\, NY 10012\, New York\, NY\, 10012\, US
CATEGORIES:New York City
END:VEVENT
BEGIN:VEVENT
DTSTART;TZID=America/New_York:20260625T200000
DTEND;TZID=America/New_York:20260626T030000
DTSTAMP:20260421T155459
CREATED:20230510T160557Z
LAST-MODIFIED:20240913T210002Z
UID:10294735-1782417600-1782442800@golatindance.com
SUMMARY:Live Salsa Thursday through Sunday at Gonzalez Y Gonzalez
DESCRIPTION:LIVE Salsa Bands Thursday through Sunday\nThursdays 9:00PM & 11:00PM until 3AM w/ DJ\nFridays & Saturdays 11:00PM & 1:30AM until 3AM w/ DJ\nSundays 8:00PM until 1/2AM w/ DJ\nFREE Salsa Dance Lesson | Thursdays & Sundays 8:00pm\nVisit https://gygnyc.com/ for class and band details!
URL:https://golatindance.com/event/live-salsa-thursday-friday-and-saturday-at-gonzalez-y-gonzalez-2-2/2026-06-25/
LOCATION:Gonzalez y Gonzalez\, 192 Mercer Street\, New York\, NY 10012\, New York\, NY\, 10012\, US
CATEGORIES:New York City
END:VEVENT
BEGIN:VEVENT
DTSTART;TZID=America/New_York:20260626T200000
DTEND;TZID=America/New_York:20260627T030000
DTSTAMP:20260421T155459
CREATED:20230510T160557Z
LAST-MODIFIED:20240913T210002Z
UID:10294736-1782504000-1782529200@golatindance.com
SUMMARY:Live Salsa Thursday through Sunday at Gonzalez Y Gonzalez
DESCRIPTION:LIVE Salsa Bands Thursday through Sunday\nThursdays 9:00PM & 11:00PM until 3AM w/ DJ\nFridays & Saturdays 11:00PM & 1:30AM until 3AM w/ DJ\nSundays 8:00PM until 1/2AM w/ DJ\nFREE Salsa Dance Lesson | Thursdays & Sundays 8:00pm\nVisit https://gygnyc.com/ for class and band details!
URL:https://golatindance.com/event/live-salsa-thursday-friday-and-saturday-at-gonzalez-y-gonzalez-2-2/2026-06-26/
LOCATION:Gonzalez y Gonzalez\, 192 Mercer Street\, New York\, NY 10012\, New York\, NY\, 10012\, US
CATEGORIES:New York City
END:VEVENT
BEGIN:VEVENT
DTSTART;TZID=America/New_York:20260627T200000
DTEND;TZID=America/New_York:20260628T030000
DTSTAMP:20260421T155459
CREATED:20230510T160557Z
LAST-MODIFIED:20240913T210002Z
UID:10294737-1782590400-1782615600@golatindance.com
SUMMARY:Live Salsa Thursday through Sunday at Gonzalez Y Gonzalez
DESCRIPTION:LIVE Salsa Bands Thursday through Sunday\nThursdays 9:00PM & 11:00PM until 3AM w/ DJ\nFridays & Saturdays 11:00PM & 1:30AM until 3AM w/ DJ\nSundays 8:00PM until 1/2AM w/ DJ\nFREE Salsa Dance Lesson | Thursdays & Sundays 8:00pm\nVisit https://gygnyc.com/ for class and band details!
URL:https://golatindance.com/event/live-salsa-thursday-friday-and-saturday-at-gonzalez-y-gonzalez-2-2/2026-06-27/
LOCATION:Gonzalez y Gonzalez\, 192 Mercer Street\, New York\, NY 10012\, New York\, NY\, 10012\, US
CATEGORIES:New York City
END:VEVENT
BEGIN:VEVENT
DTSTART;TZID=America/New_York:20260628T200000
DTEND;TZID=America/New_York:20260629T030000
DTSTAMP:20260421T155459
CREATED:20230510T160557Z
LAST-MODIFIED:20240913T210002Z
UID:10294738-1782676800-1782702000@golatindance.com
SUMMARY:Live Salsa Thursday through Sunday at Gonzalez Y Gonzalez
DESCRIPTION:LIVE Salsa Bands Thursday through Sunday\nThursdays 9:00PM & 11:00PM until 3AM w/ DJ\nFridays & Saturdays 11:00PM & 1:30AM until 3AM w/ DJ\nSundays 8:00PM until 1/2AM w/ DJ\nFREE Salsa Dance Lesson | Thursdays & Sundays 8:00pm\nVisit https://gygnyc.com/ for class and band details!
URL:https://golatindance.com/event/live-salsa-thursday-friday-and-saturday-at-gonzalez-y-gonzalez-2-2/2026-06-28/
LOCATION:Gonzalez y Gonzalez\, 192 Mercer Street\, New York\, NY 10012\, New York\, NY\, 10012\, US
CATEGORIES:New York City
END:VEVENT
BEGIN:VEVENT
DTSTART;TZID=America/New_York:20260702T200000
DTEND;TZID=America/New_York:20260703T030000
DTSTAMP:20260421T155459
CREATED:20230510T160557Z
LAST-MODIFIED:20240913T210002Z
UID:10294739-1783022400-1783047600@golatindance.com
SUMMARY:Live Salsa Thursday through Sunday at Gonzalez Y Gonzalez
DESCRIPTION:LIVE Salsa Bands Thursday through Sunday\nThursdays 9:00PM & 11:00PM until 3AM w/ DJ\nFridays & Saturdays 11:00PM & 1:30AM until 3AM w/ DJ\nSundays 8:00PM until 1/2AM w/ DJ\nFREE Salsa Dance Lesson | Thursdays & Sundays 8:00pm\nVisit https://gygnyc.com/ for class and band details!
URL:https://golatindance.com/event/live-salsa-thursday-friday-and-saturday-at-gonzalez-y-gonzalez-2-2/2026-07-02/
LOCATION:Gonzalez y Gonzalez\, 192 Mercer Street\, New York\, NY 10012\, New York\, NY\, 10012\, US
CATEGORIES:New York City
END:VEVENT
BEGIN:VEVENT
DTSTART;TZID=America/New_York:20260703T200000
DTEND;TZID=America/New_York:20260704T030000
DTSTAMP:20260421T155459
CREATED:20230510T160557Z
LAST-MODIFIED:20240913T210002Z
UID:10294740-1783108800-1783134000@golatindance.com
SUMMARY:Live Salsa Thursday through Sunday at Gonzalez Y Gonzalez
DESCRIPTION:LIVE Salsa Bands Thursday through Sunday\nThursdays 9:00PM & 11:00PM until 3AM w/ DJ\nFridays & Saturdays 11:00PM & 1:30AM until 3AM w/ DJ\nSundays 8:00PM until 1/2AM w/ DJ\nFREE Salsa Dance Lesson | Thursdays & Sundays 8:00pm\nVisit https://gygnyc.com/ for class and band details!
URL:https://golatindance.com/event/live-salsa-thursday-friday-and-saturday-at-gonzalez-y-gonzalez-2-2/2026-07-03/
LOCATION:Gonzalez y Gonzalez\, 192 Mercer Street\, New York\, NY 10012\, New York\, NY\, 10012\, US
CATEGORIES:New York City
END:VEVENT
BEGIN:VEVENT
DTSTART;TZID=America/New_York:20260704T200000
DTEND;TZID=America/New_York:20260705T030000
DTSTAMP:20260421T155459
CREATED:20230510T160557Z
LAST-MODIFIED:20240913T210002Z
UID:10294741-1783195200-1783220400@golatindance.com
SUMMARY:Live Salsa Thursday through Sunday at Gonzalez Y Gonzalez
DESCRIPTION:LIVE Salsa Bands Thursday through Sunday\nThursdays 9:00PM & 11:00PM until 3AM w/ DJ\nFridays & Saturdays 11:00PM & 1:30AM until 3AM w/ DJ\nSundays 8:00PM until 1/2AM w/ DJ\nFREE Salsa Dance Lesson | Thursdays & Sundays 8:00pm\nVisit https://gygnyc.com/ for class and band details!
URL:https://golatindance.com/event/live-salsa-thursday-friday-and-saturday-at-gonzalez-y-gonzalez-2-2/2026-07-04/
LOCATION:Gonzalez y Gonzalez\, 192 Mercer Street\, New York\, NY 10012\, New York\, NY\, 10012\, US
CATEGORIES:New York City
END:VEVENT
BEGIN:VEVENT
DTSTART;TZID=America/New_York:20260705T200000
DTEND;TZID=America/New_York:20260706T030000
DTSTAMP:20260421T155459
CREATED:20230510T160557Z
LAST-MODIFIED:20240913T210002Z
UID:10294742-1783281600-1783306800@golatindance.com
SUMMARY:Live Salsa Thursday through Sunday at Gonzalez Y Gonzalez
DESCRIPTION:LIVE Salsa Bands Thursday through Sunday\nThursdays 9:00PM & 11:00PM until 3AM w/ DJ\nFridays & Saturdays 11:00PM & 1:30AM until 3AM w/ DJ\nSundays 8:00PM until 1/2AM w/ DJ\nFREE Salsa Dance Lesson | Thursdays & Sundays 8:00pm\nVisit https://gygnyc.com/ for class and band details!
URL:https://golatindance.com/event/live-salsa-thursday-friday-and-saturday-at-gonzalez-y-gonzalez-2-2/2026-07-05/
LOCATION:Gonzalez y Gonzalez\, 192 Mercer Street\, New York\, NY 10012\, New York\, NY\, 10012\, US
CATEGORIES:New York City
END:VEVENT
BEGIN:VEVENT
DTSTART;TZID=America/New_York:20260709T200000
DTEND;TZID=America/New_York:20260710T030000
DTSTAMP:20260421T155459
CREATED:20230510T160557Z
LAST-MODIFIED:20240913T210002Z
UID:10294743-1783627200-1783652400@golatindance.com
SUMMARY:Live Salsa Thursday through Sunday at Gonzalez Y Gonzalez
DESCRIPTION:LIVE Salsa Bands Thursday through Sunday\nThursdays 9:00PM & 11:00PM until 3AM w/ DJ\nFridays & Saturdays 11:00PM & 1:30AM until 3AM w/ DJ\nSundays 8:00PM until 1/2AM w/ DJ\nFREE Salsa Dance Lesson | Thursdays & Sundays 8:00pm\nVisit https://gygnyc.com/ for class and band details!
URL:https://golatindance.com/event/live-salsa-thursday-friday-and-saturday-at-gonzalez-y-gonzalez-2-2/2026-07-09/
LOCATION:Gonzalez y Gonzalez\, 192 Mercer Street\, New York\, NY 10012\, New York\, NY\, 10012\, US
CATEGORIES:New York City
END:VEVENT
BEGIN:VEVENT
DTSTART;TZID=America/New_York:20260710T200000
DTEND;TZID=America/New_York:20260711T030000
DTSTAMP:20260421T155459
CREATED:20230510T160557Z
LAST-MODIFIED:20240913T210002Z
UID:10294744-1783713600-1783738800@golatindance.com
SUMMARY:Live Salsa Thursday through Sunday at Gonzalez Y Gonzalez
DESCRIPTION:LIVE Salsa Bands Thursday through Sunday\nThursdays 9:00PM & 11:00PM until 3AM w/ DJ\nFridays & Saturdays 11:00PM & 1:30AM until 3AM w/ DJ\nSundays 8:00PM until 1/2AM w/ DJ\nFREE Salsa Dance Lesson | Thursdays & Sundays 8:00pm\nVisit https://gygnyc.com/ for class and band details!
URL:https://golatindance.com/event/live-salsa-thursday-friday-and-saturday-at-gonzalez-y-gonzalez-2-2/2026-07-10/
LOCATION:Gonzalez y Gonzalez\, 192 Mercer Street\, New York\, NY 10012\, New York\, NY\, 10012\, US
CATEGORIES:New York City
END:VEVENT
BEGIN:VEVENT
DTSTART;TZID=America/New_York:20260711T200000
DTEND;TZID=America/New_York:20260712T030000
DTSTAMP:20260421T155459
CREATED:20230510T160557Z
LAST-MODIFIED:20240913T210002Z
UID:10294745-1783800000-1783825200@golatindance.com
SUMMARY:Live Salsa Thursday through Sunday at Gonzalez Y Gonzalez
DESCRIPTION:LIVE Salsa Bands Thursday through Sunday\nThursdays 9:00PM & 11:00PM until 3AM w/ DJ\nFridays & Saturdays 11:00PM & 1:30AM until 3AM w/ DJ\nSundays 8:00PM until 1/2AM w/ DJ\nFREE Salsa Dance Lesson | Thursdays & Sundays 8:00pm\nVisit https://gygnyc.com/ for class and band details!
URL:https://golatindance.com/event/live-salsa-thursday-friday-and-saturday-at-gonzalez-y-gonzalez-2-2/2026-07-11/
LOCATION:Gonzalez y Gonzalez\, 192 Mercer Street\, New York\, NY 10012\, New York\, NY\, 10012\, US
CATEGORIES:New York City
END:VEVENT
BEGIN:VEVENT
DTSTART;TZID=America/New_York:20260712T200000
DTEND;TZID=America/New_York:20260713T030000
DTSTAMP:20260421T155459
CREATED:20230510T160557Z
LAST-MODIFIED:20240913T210002Z
UID:10294746-1783886400-1783911600@golatindance.com
SUMMARY:Live Salsa Thursday through Sunday at Gonzalez Y Gonzalez
DESCRIPTION:LIVE Salsa Bands Thursday through Sunday\nThursdays 9:00PM & 11:00PM until 3AM w/ DJ\nFridays & Saturdays 11:00PM & 1:30AM until 3AM w/ DJ\nSundays 8:00PM until 1/2AM w/ DJ\nFREE Salsa Dance Lesson | Thursdays & Sundays 8:00pm\nVisit https://gygnyc.com/ for class and band details!
URL:https://golatindance.com/event/live-salsa-thursday-friday-and-saturday-at-gonzalez-y-gonzalez-2-2/2026-07-12/
LOCATION:Gonzalez y Gonzalez\, 192 Mercer Street\, New York\, NY 10012\, New York\, NY\, 10012\, US
CATEGORIES:New York City
END:VEVENT
BEGIN:VEVENT
DTSTART;TZID=America/New_York:20260716T200000
DTEND;TZID=America/New_York:20260717T030000
DTSTAMP:20260421T155459
CREATED:20230510T160557Z
LAST-MODIFIED:20240913T210002Z
UID:10294747-1784232000-1784257200@golatindance.com
SUMMARY:Live Salsa Thursday through Sunday at Gonzalez Y Gonzalez
DESCRIPTION:LIVE Salsa Bands Thursday through Sunday\nThursdays 9:00PM & 11:00PM until 3AM w/ DJ\nFridays & Saturdays 11:00PM & 1:30AM until 3AM w/ DJ\nSundays 8:00PM until 1/2AM w/ DJ\nFREE Salsa Dance Lesson | Thursdays & Sundays 8:00pm\nVisit https://gygnyc.com/ for class and band details!
URL:https://golatindance.com/event/live-salsa-thursday-friday-and-saturday-at-gonzalez-y-gonzalez-2-2/2026-07-16/
LOCATION:Gonzalez y Gonzalez\, 192 Mercer Street\, New York\, NY 10012\, New York\, NY\, 10012\, US
CATEGORIES:New York City
END:VEVENT
BEGIN:VEVENT
DTSTART;TZID=America/New_York:20260717T200000
DTEND;TZID=America/New_York:20260718T030000
DTSTAMP:20260421T155459
CREATED:20230510T160557Z
LAST-MODIFIED:20240913T210002Z
UID:10294748-1784318400-1784343600@golatindance.com
SUMMARY:Live Salsa Thursday through Sunday at Gonzalez Y Gonzalez
DESCRIPTION:LIVE Salsa Bands Thursday through Sunday\nThursdays 9:00PM & 11:00PM until 3AM w/ DJ\nFridays & Saturdays 11:00PM & 1:30AM until 3AM w/ DJ\nSundays 8:00PM until 1/2AM w/ DJ\nFREE Salsa Dance Lesson | Thursdays & Sundays 8:00pm\nVisit https://gygnyc.com/ for class and band details!
URL:https://golatindance.com/event/live-salsa-thursday-friday-and-saturday-at-gonzalez-y-gonzalez-2-2/2026-07-17/
LOCATION:Gonzalez y Gonzalez\, 192 Mercer Street\, New York\, NY 10012\, New York\, NY\, 10012\, US
CATEGORIES:New York City
END:VEVENT
BEGIN:VEVENT
DTSTART;TZID=America/New_York:20260718T200000
DTEND;TZID=America/New_York:20260719T030000
DTSTAMP:20260421T155459
CREATED:20230510T160557Z
LAST-MODIFIED:20240913T210002Z
UID:10294749-1784404800-1784430000@golatindance.com
SUMMARY:Live Salsa Thursday through Sunday at Gonzalez Y Gonzalez
DESCRIPTION:LIVE Salsa Bands Thursday through Sunday\nThursdays 9:00PM & 11:00PM until 3AM w/ DJ\nFridays & Saturdays 11:00PM & 1:30AM until 3AM w/ DJ\nSundays 8:00PM until 1/2AM w/ DJ\nFREE Salsa Dance Lesson | Thursdays & Sundays 8:00pm\nVisit https://gygnyc.com/ for class and band details!
URL:https://golatindance.com/event/live-salsa-thursday-friday-and-saturday-at-gonzalez-y-gonzalez-2-2/2026-07-18/
LOCATION:Gonzalez y Gonzalez\, 192 Mercer Street\, New York\, NY 10012\, New York\, NY\, 10012\, US
CATEGORIES:New York City
END:VEVENT
BEGIN:VEVENT
DTSTART;TZID=America/New_York:20260719T200000
DTEND;TZID=America/New_York:20260720T030000
DTSTAMP:20260421T155459
CREATED:20230510T160557Z
LAST-MODIFIED:20240913T210002Z
UID:10294750-1784491200-1784516400@golatindance.com
SUMMARY:Live Salsa Thursday through Sunday at Gonzalez Y Gonzalez
DESCRIPTION:LIVE Salsa Bands Thursday through Sunday\nThursdays 9:00PM & 11:00PM until 3AM w/ DJ\nFridays & Saturdays 11:00PM & 1:30AM until 3AM w/ DJ\nSundays 8:00PM until 1/2AM w/ DJ\nFREE Salsa Dance Lesson | Thursdays & Sundays 8:00pm\nVisit https://gygnyc.com/ for class and band details!
URL:https://golatindance.com/event/live-salsa-thursday-friday-and-saturday-at-gonzalez-y-gonzalez-2-2/2026-07-19/
LOCATION:Gonzalez y Gonzalez\, 192 Mercer Street\, New York\, NY 10012\, New York\, NY\, 10012\, US
CATEGORIES:New York City
END:VEVENT
BEGIN:VEVENT
DTSTART;TZID=America/New_York:20260723T200000
DTEND;TZID=America/New_York:20260724T030000
DTSTAMP:20260421T155459
CREATED:20230510T160557Z
LAST-MODIFIED:20240913T210002Z
UID:10294751-1784836800-1784862000@golatindance.com
SUMMARY:Live Salsa Thursday through Sunday at Gonzalez Y Gonzalez
DESCRIPTION:LIVE Salsa Bands Thursday through Sunday\nThursdays 9:00PM & 11:00PM until 3AM w/ DJ\nFridays & Saturdays 11:00PM & 1:30AM until 3AM w/ DJ\nSundays 8:00PM until 1/2AM w/ DJ\nFREE Salsa Dance Lesson | Thursdays & Sundays 8:00pm\nVisit https://gygnyc.com/ for class and band details!
URL:https://golatindance.com/event/live-salsa-thursday-friday-and-saturday-at-gonzalez-y-gonzalez-2-2/2026-07-23/
LOCATION:Gonzalez y Gonzalez\, 192 Mercer Street\, New York\, NY 10012\, New York\, NY\, 10012\, US
CATEGORIES:New York City
END:VEVENT
BEGIN:VEVENT
DTSTART;TZID=America/New_York:20260724T200000
DTEND;TZID=America/New_York:20260725T030000
DTSTAMP:20260421T155459
CREATED:20230510T160557Z
LAST-MODIFIED:20240913T210002Z
UID:10294752-1784923200-1784948400@golatindance.com
SUMMARY:Live Salsa Thursday through Sunday at Gonzalez Y Gonzalez
DESCRIPTION:LIVE Salsa Bands Thursday through Sunday\nThursdays 9:00PM & 11:00PM until 3AM w/ DJ\nFridays & Saturdays 11:00PM & 1:30AM until 3AM w/ DJ\nSundays 8:00PM until 1/2AM w/ DJ\nFREE Salsa Dance Lesson | Thursdays & Sundays 8:00pm\nVisit https://gygnyc.com/ for class and band details!
URL:https://golatindance.com/event/live-salsa-thursday-friday-and-saturday-at-gonzalez-y-gonzalez-2-2/2026-07-24/
LOCATION:Gonzalez y Gonzalez\, 192 Mercer Street\, New York\, NY 10012\, New York\, NY\, 10012\, US
CATEGORIES:New York City
END:VEVENT
BEGIN:VEVENT
DTSTART;TZID=America/New_York:20260725T200000
DTEND;TZID=America/New_York:20260726T030000
DTSTAMP:20260421T155459
CREATED:20230510T160557Z
LAST-MODIFIED:20240913T210002Z
UID:10294753-1785009600-1785034800@golatindance.com
SUMMARY:Live Salsa Thursday through Sunday at Gonzalez Y Gonzalez
DESCRIPTION:LIVE Salsa Bands Thursday through Sunday\nThursdays 9:00PM & 11:00PM until 3AM w/ DJ\nFridays & Saturdays 11:00PM & 1:30AM until 3AM w/ DJ\nSundays 8:00PM until 1/2AM w/ DJ\nFREE Salsa Dance Lesson | Thursdays & Sundays 8:00pm\nVisit https://gygnyc.com/ for class and band details!
URL:https://golatindance.com/event/live-salsa-thursday-friday-and-saturday-at-gonzalez-y-gonzalez-2-2/2026-07-25/
LOCATION:Gonzalez y Gonzalez\, 192 Mercer Street\, New York\, NY 10012\, New York\, NY\, 10012\, US
CATEGORIES:New York City
END:VEVENT
BEGIN:VEVENT
DTSTART;TZID=America/New_York:20260726T200000
DTEND;TZID=America/New_York:20260727T030000
DTSTAMP:20260421T155459
CREATED:20230510T160557Z
LAST-MODIFIED:20240913T210002Z
UID:10294754-1785096000-1785121200@golatindance.com
SUMMARY:Live Salsa Thursday through Sunday at Gonzalez Y Gonzalez
DESCRIPTION:LIVE Salsa Bands Thursday through Sunday\nThursdays 9:00PM & 11:00PM until 3AM w/ DJ\nFridays & Saturdays 11:00PM & 1:30AM until 3AM w/ DJ\nSundays 8:00PM until 1/2AM w/ DJ\nFREE Salsa Dance Lesson | Thursdays & Sundays 8:00pm\nVisit https://gygnyc.com/ for class and band details!
URL:https://golatindance.com/event/live-salsa-thursday-friday-and-saturday-at-gonzalez-y-gonzalez-2-2/2026-07-26/
LOCATION:Gonzalez y Gonzalez\, 192 Mercer Street\, New York\, NY 10012\, New York\, NY\, 10012\, US
CATEGORIES:New York City
END:VEVENT
BEGIN:VEVENT
DTSTART;TZID=America/New_York:20260730T200000
DTEND;TZID=America/New_York:20260731T030000
DTSTAMP:20260421T155459
CREATED:20230510T160557Z
LAST-MODIFIED:20240913T210002Z
UID:10294755-1785441600-1785466800@golatindance.com
SUMMARY:Live Salsa Thursday through Sunday at Gonzalez Y Gonzalez
DESCRIPTION:LIVE Salsa Bands Thursday through Sunday\nThursdays 9:00PM & 11:00PM until 3AM w/ DJ\nFridays & Saturdays 11:00PM & 1:30AM until 3AM w/ DJ\nSundays 8:00PM until 1/2AM w/ DJ\nFREE Salsa Dance Lesson | Thursdays & Sundays 8:00pm\nVisit https://gygnyc.com/ for class and band details!
URL:https://golatindance.com/event/live-salsa-thursday-friday-and-saturday-at-gonzalez-y-gonzalez-2-2/2026-07-30/
LOCATION:Gonzalez y Gonzalez\, 192 Mercer Street\, New York\, NY 10012\, New York\, NY\, 10012\, US
CATEGORIES:New York City
END:VEVENT
BEGIN:VEVENT
DTSTART;TZID=America/New_York:20260731T200000
DTEND;TZID=America/New_York:20260801T030000
DTSTAMP:20260421T155459
CREATED:20230510T160557Z
LAST-MODIFIED:20240913T210002Z
UID:10294756-1785528000-1785553200@golatindance.com
SUMMARY:Live Salsa Thursday through Sunday at Gonzalez Y Gonzalez
DESCRIPTION:LIVE Salsa Bands Thursday through Sunday\nThursdays 9:00PM & 11:00PM until 3AM w/ DJ\nFridays & Saturdays 11:00PM & 1:30AM until 3AM w/ DJ\nSundays 8:00PM until 1/2AM w/ DJ\nFREE Salsa Dance Lesson | Thursdays & Sundays 8:00pm\nVisit https://gygnyc.com/ for class and band details!
URL:https://golatindance.com/event/live-salsa-thursday-friday-and-saturday-at-gonzalez-y-gonzalez-2-2/2026-07-31/
LOCATION:Gonzalez y Gonzalez\, 192 Mercer Street\, New York\, NY 10012\, New York\, NY\, 10012\, US
CATEGORIES:New York City
END:VEVENT
BEGIN:VEVENT
DTSTART;TZID=America/New_York:20260801T200000
DTEND;TZID=America/New_York:20260802T030000
DTSTAMP:20260421T155459
CREATED:20230510T160557Z
LAST-MODIFIED:20240913T210002Z
UID:10294757-1785614400-1785639600@golatindance.com
SUMMARY:Live Salsa Thursday through Sunday at Gonzalez Y Gonzalez
DESCRIPTION:LIVE Salsa Bands Thursday through Sunday\nThursdays 9:00PM & 11:00PM until 3AM w/ DJ\nFridays & Saturdays 11:00PM & 1:30AM until 3AM w/ DJ\nSundays 8:00PM until 1/2AM w/ DJ\nFREE Salsa Dance Lesson | Thursdays & Sundays 8:00pm\nVisit https://gygnyc.com/ for class and band details!
URL:https://golatindance.com/event/live-salsa-thursday-friday-and-saturday-at-gonzalez-y-gonzalez-2-2/2026-08-01/
LOCATION:Gonzalez y Gonzalez\, 192 Mercer Street\, New York\, NY 10012\, New York\, NY\, 10012\, US
CATEGORIES:New York City
END:VEVENT
BEGIN:VEVENT
DTSTART;TZID=America/New_York:20260802T200000
DTEND;TZID=America/New_York:20260803T030000
DTSTAMP:20260421T155459
CREATED:20230510T160557Z
LAST-MODIFIED:20240913T210002Z
UID:10294758-1785700800-1785726000@golatindance.com
SUMMARY:Live Salsa Thursday through Sunday at Gonzalez Y Gonzalez
DESCRIPTION:LIVE Salsa Bands Thursday through Sunday\nThursdays 9:00PM & 11:00PM until 3AM w/ DJ\nFridays & Saturdays 11:00PM & 1:30AM until 3AM w/ DJ\nSundays 8:00PM until 1/2AM w/ DJ\nFREE Salsa Dance Lesson | Thursdays & Sundays 8:00pm\nVisit https://gygnyc.com/ for class and band details!
URL:https://golatindance.com/event/live-salsa-thursday-friday-and-saturday-at-gonzalez-y-gonzalez-2-2/2026-08-02/
LOCATION:Gonzalez y Gonzalez\, 192 Mercer Street\, New York\, NY 10012\, New York\, NY\, 10012\, US
CATEGORIES:New York City
END:VEVENT
END:VCALENDAR