BEGIN:VCALENDAR
VERSION:2.0
PRODID:-//GO Latin Dance - ECPv6.15.18//NONSGML v1.0//EN
CALSCALE:GREGORIAN
METHOD:PUBLISH
X-ORIGINAL-URL:https://golatindance.com
X-WR-CALDESC:Events for GO Latin Dance
REFRESH-INTERVAL;VALUE=DURATION:PT1H
X-Robots-Tag:noindex
X-PUBLISHED-TTL:PT1H
BEGIN:VTIMEZONE
TZID:America/New_York
BEGIN:DAYLIGHT
TZOFFSETFROM:-0500
TZOFFSETTO:-0400
TZNAME:EDT
DTSTART:20270314T070000
END:DAYLIGHT
BEGIN:STANDARD
TZOFFSETFROM:-0400
TZOFFSETTO:-0500
TZNAME:EST
DTSTART:20271107T060000
END:STANDARD
BEGIN:DAYLIGHT
TZOFFSETFROM:-0500
TZOFFSETTO:-0400
TZNAME:EDT
DTSTART:20280312T070000
END:DAYLIGHT
BEGIN:STANDARD
TZOFFSETFROM:-0400
TZOFFSETTO:-0500
TZNAME:EST
DTSTART:20281105T060000
END:STANDARD
BEGIN:DAYLIGHT
TZOFFSETFROM:-0500
TZOFFSETTO:-0400
TZNAME:EDT
DTSTART:20290311T070000
END:DAYLIGHT
BEGIN:STANDARD
TZOFFSETFROM:-0400
TZOFFSETTO:-0500
TZNAME:EST
DTSTART:20291104T060000
END:STANDARD
BEGIN:DAYLIGHT
TZOFFSETFROM:-0500
TZOFFSETTO:-0400
TZNAME:EDT
DTSTART:20300310T070000
END:DAYLIGHT
BEGIN:STANDARD
TZOFFSETFROM:-0400
TZOFFSETTO:-0500
TZNAME:EST
DTSTART:20301103T060000
END:STANDARD
BEGIN:DAYLIGHT
TZOFFSETFROM:-0500
TZOFFSETTO:-0400
TZNAME:EDT
DTSTART:20310309T070000
END:DAYLIGHT
BEGIN:STANDARD
TZOFFSETFROM:-0400
TZOFFSETTO:-0500
TZNAME:EST
DTSTART:20311102T060000
END:STANDARD
END:VTIMEZONE
BEGIN:VEVENT
DTSTART;TZID=America/New_York:20280108T200000
DTEND;TZID=America/New_York:20280109T020000
DTSTAMP:20260424T223710
CREATED:20260107T153149Z
LAST-MODIFIED:20260107T153149Z
UID:10430130-1830974400-1830996000@golatindance.com
SUMMARY:Noche Latina Social
DESCRIPTION:Every 2nd Saturday \nHighlights:\nDelicious & Healthy Food\nBeautiful Dance floor\nFREE PARKING \nClass Schedule:\n8:00pm – 8:45pm Bachata Class\n8:45pm – 9:30pm On1 Salsa Class\nDance to the sound of DJ Horacio till 2am \nCover Charge:\n$30 Salsa & Bachata class\n$20 ONLY social
URL:https://golatindance.com/event/noche-latina-social/2028-01-08/
LOCATION:Kafe Flames\, 7799 Leesburg Pike\, Falls Church\, VA\, United States
CATEGORIES:Washington DC-Baltimore
ATTACH;FMTTYPE=image/jpeg:https://golatindance.com/wp-content/uploads/2026/01/607621800_1491500839092139_3274717555886658567_n.jpg
END:VEVENT
BEGIN:VEVENT
DTSTART;TZID=America/New_York:20280212T200000
DTEND;TZID=America/New_York:20280213T020000
DTSTAMP:20260424T223710
CREATED:20260107T153149Z
LAST-MODIFIED:20260107T153149Z
UID:10430131-1833998400-1834020000@golatindance.com
SUMMARY:Noche Latina Social
DESCRIPTION:Every 2nd Saturday \nHighlights:\nDelicious & Healthy Food\nBeautiful Dance floor\nFREE PARKING \nClass Schedule:\n8:00pm – 8:45pm Bachata Class\n8:45pm – 9:30pm On1 Salsa Class\nDance to the sound of DJ Horacio till 2am \nCover Charge:\n$30 Salsa & Bachata class\n$20 ONLY social
URL:https://golatindance.com/event/noche-latina-social/2028-02-12/
LOCATION:Kafe Flames\, 7799 Leesburg Pike\, Falls Church\, VA\, United States
CATEGORIES:Washington DC-Baltimore
ATTACH;FMTTYPE=image/jpeg:https://golatindance.com/wp-content/uploads/2026/01/607621800_1491500839092139_3274717555886658567_n.jpg
END:VEVENT
BEGIN:VEVENT
DTSTART;TZID=America/New_York:20280311T200000
DTEND;TZID=America/New_York:20280312T030000
DTSTAMP:20260424T223710
CREATED:20260107T153149Z
LAST-MODIFIED:20260107T153149Z
UID:10430132-1836417600-1836442800@golatindance.com
SUMMARY:Noche Latina Social
DESCRIPTION:Every 2nd Saturday \nHighlights:\nDelicious & Healthy Food\nBeautiful Dance floor\nFREE PARKING \nClass Schedule:\n8:00pm – 8:45pm Bachata Class\n8:45pm – 9:30pm On1 Salsa Class\nDance to the sound of DJ Horacio till 2am \nCover Charge:\n$30 Salsa & Bachata class\n$20 ONLY social
URL:https://golatindance.com/event/noche-latina-social/2028-03-11/
LOCATION:Kafe Flames\, 7799 Leesburg Pike\, Falls Church\, VA\, United States
CATEGORIES:Washington DC-Baltimore
ATTACH;FMTTYPE=image/jpeg:https://golatindance.com/wp-content/uploads/2026/01/607621800_1491500839092139_3274717555886658567_n.jpg
END:VEVENT
BEGIN:VEVENT
DTSTART;TZID=America/New_York:20280408T200000
DTEND;TZID=America/New_York:20280409T020000
DTSTAMP:20260424T223710
CREATED:20260107T153149Z
LAST-MODIFIED:20260107T153149Z
UID:10430133-1838836800-1838858400@golatindance.com
SUMMARY:Noche Latina Social
DESCRIPTION:Every 2nd Saturday \nHighlights:\nDelicious & Healthy Food\nBeautiful Dance floor\nFREE PARKING \nClass Schedule:\n8:00pm – 8:45pm Bachata Class\n8:45pm – 9:30pm On1 Salsa Class\nDance to the sound of DJ Horacio till 2am \nCover Charge:\n$30 Salsa & Bachata class\n$20 ONLY social
URL:https://golatindance.com/event/noche-latina-social/2028-04-08/
LOCATION:Kafe Flames\, 7799 Leesburg Pike\, Falls Church\, VA\, United States
CATEGORIES:Washington DC-Baltimore
ATTACH;FMTTYPE=image/jpeg:https://golatindance.com/wp-content/uploads/2026/01/607621800_1491500839092139_3274717555886658567_n.jpg
END:VEVENT
BEGIN:VEVENT
DTSTART;TZID=America/New_York:20280513T200000
DTEND;TZID=America/New_York:20280514T020000
DTSTAMP:20260424T223710
CREATED:20260107T153149Z
LAST-MODIFIED:20260107T153149Z
UID:10430134-1841860800-1841882400@golatindance.com
SUMMARY:Noche Latina Social
DESCRIPTION:Every 2nd Saturday \nHighlights:\nDelicious & Healthy Food\nBeautiful Dance floor\nFREE PARKING \nClass Schedule:\n8:00pm – 8:45pm Bachata Class\n8:45pm – 9:30pm On1 Salsa Class\nDance to the sound of DJ Horacio till 2am \nCover Charge:\n$30 Salsa & Bachata class\n$20 ONLY social
URL:https://golatindance.com/event/noche-latina-social/2028-05-13/
LOCATION:Kafe Flames\, 7799 Leesburg Pike\, Falls Church\, VA\, United States
CATEGORIES:Washington DC-Baltimore
ATTACH;FMTTYPE=image/jpeg:https://golatindance.com/wp-content/uploads/2026/01/607621800_1491500839092139_3274717555886658567_n.jpg
END:VEVENT
BEGIN:VEVENT
DTSTART;TZID=America/New_York:20280610T200000
DTEND;TZID=America/New_York:20280611T020000
DTSTAMP:20260424T223710
CREATED:20260107T153149Z
LAST-MODIFIED:20260107T153149Z
UID:10430135-1844280000-1844301600@golatindance.com
SUMMARY:Noche Latina Social
DESCRIPTION:Every 2nd Saturday \nHighlights:\nDelicious & Healthy Food\nBeautiful Dance floor\nFREE PARKING \nClass Schedule:\n8:00pm – 8:45pm Bachata Class\n8:45pm – 9:30pm On1 Salsa Class\nDance to the sound of DJ Horacio till 2am \nCover Charge:\n$30 Salsa & Bachata class\n$20 ONLY social
URL:https://golatindance.com/event/noche-latina-social/2028-06-10/
LOCATION:Kafe Flames\, 7799 Leesburg Pike\, Falls Church\, VA\, United States
CATEGORIES:Washington DC-Baltimore
ATTACH;FMTTYPE=image/jpeg:https://golatindance.com/wp-content/uploads/2026/01/607621800_1491500839092139_3274717555886658567_n.jpg
END:VEVENT
BEGIN:VEVENT
DTSTART;TZID=America/New_York:20280708T200000
DTEND;TZID=America/New_York:20280709T020000
DTSTAMP:20260424T223710
CREATED:20260107T153149Z
LAST-MODIFIED:20260107T153149Z
UID:10430136-1846699200-1846720800@golatindance.com
SUMMARY:Noche Latina Social
DESCRIPTION:Every 2nd Saturday \nHighlights:\nDelicious & Healthy Food\nBeautiful Dance floor\nFREE PARKING \nClass Schedule:\n8:00pm – 8:45pm Bachata Class\n8:45pm – 9:30pm On1 Salsa Class\nDance to the sound of DJ Horacio till 2am \nCover Charge:\n$30 Salsa & Bachata class\n$20 ONLY social
URL:https://golatindance.com/event/noche-latina-social/2028-07-08/
LOCATION:Kafe Flames\, 7799 Leesburg Pike\, Falls Church\, VA\, United States
CATEGORIES:Washington DC-Baltimore
ATTACH;FMTTYPE=image/jpeg:https://golatindance.com/wp-content/uploads/2026/01/607621800_1491500839092139_3274717555886658567_n.jpg
END:VEVENT
BEGIN:VEVENT
DTSTART;TZID=America/New_York:20280812T200000
DTEND;TZID=America/New_York:20280813T020000
DTSTAMP:20260424T223710
CREATED:20260107T153149Z
LAST-MODIFIED:20260107T153149Z
UID:10430137-1849723200-1849744800@golatindance.com
SUMMARY:Noche Latina Social
DESCRIPTION:Every 2nd Saturday \nHighlights:\nDelicious & Healthy Food\nBeautiful Dance floor\nFREE PARKING \nClass Schedule:\n8:00pm – 8:45pm Bachata Class\n8:45pm – 9:30pm On1 Salsa Class\nDance to the sound of DJ Horacio till 2am \nCover Charge:\n$30 Salsa & Bachata class\n$20 ONLY social
URL:https://golatindance.com/event/noche-latina-social/2028-08-12/
LOCATION:Kafe Flames\, 7799 Leesburg Pike\, Falls Church\, VA\, United States
CATEGORIES:Washington DC-Baltimore
ATTACH;FMTTYPE=image/jpeg:https://golatindance.com/wp-content/uploads/2026/01/607621800_1491500839092139_3274717555886658567_n.jpg
END:VEVENT
BEGIN:VEVENT
DTSTART;TZID=America/New_York:20280909T200000
DTEND;TZID=America/New_York:20280910T020000
DTSTAMP:20260424T223710
CREATED:20260107T153149Z
LAST-MODIFIED:20260107T153149Z
UID:10430138-1852142400-1852164000@golatindance.com
SUMMARY:Noche Latina Social
DESCRIPTION:Every 2nd Saturday \nHighlights:\nDelicious & Healthy Food\nBeautiful Dance floor\nFREE PARKING \nClass Schedule:\n8:00pm – 8:45pm Bachata Class\n8:45pm – 9:30pm On1 Salsa Class\nDance to the sound of DJ Horacio till 2am \nCover Charge:\n$30 Salsa & Bachata class\n$20 ONLY social
URL:https://golatindance.com/event/noche-latina-social/2028-09-09/
LOCATION:Kafe Flames\, 7799 Leesburg Pike\, Falls Church\, VA\, United States
CATEGORIES:Washington DC-Baltimore
ATTACH;FMTTYPE=image/jpeg:https://golatindance.com/wp-content/uploads/2026/01/607621800_1491500839092139_3274717555886658567_n.jpg
END:VEVENT
BEGIN:VEVENT
DTSTART;TZID=America/New_York:20281014T200000
DTEND;TZID=America/New_York:20281015T020000
DTSTAMP:20260424T223710
CREATED:20260107T153149Z
LAST-MODIFIED:20260107T153149Z
UID:10430139-1855166400-1855188000@golatindance.com
SUMMARY:Noche Latina Social
DESCRIPTION:Every 2nd Saturday \nHighlights:\nDelicious & Healthy Food\nBeautiful Dance floor\nFREE PARKING \nClass Schedule:\n8:00pm – 8:45pm Bachata Class\n8:45pm – 9:30pm On1 Salsa Class\nDance to the sound of DJ Horacio till 2am \nCover Charge:\n$30 Salsa & Bachata class\n$20 ONLY social
URL:https://golatindance.com/event/noche-latina-social/2028-10-14/
LOCATION:Kafe Flames\, 7799 Leesburg Pike\, Falls Church\, VA\, United States
CATEGORIES:Washington DC-Baltimore
ATTACH;FMTTYPE=image/jpeg:https://golatindance.com/wp-content/uploads/2026/01/607621800_1491500839092139_3274717555886658567_n.jpg
END:VEVENT
BEGIN:VEVENT
DTSTART;TZID=America/New_York:20281111T200000
DTEND;TZID=America/New_York:20281112T020000
DTSTAMP:20260424T223710
CREATED:20260107T153149Z
LAST-MODIFIED:20260107T153149Z
UID:10430140-1857585600-1857607200@golatindance.com
SUMMARY:Noche Latina Social
DESCRIPTION:Every 2nd Saturday \nHighlights:\nDelicious & Healthy Food\nBeautiful Dance floor\nFREE PARKING \nClass Schedule:\n8:00pm – 8:45pm Bachata Class\n8:45pm – 9:30pm On1 Salsa Class\nDance to the sound of DJ Horacio till 2am \nCover Charge:\n$30 Salsa & Bachata class\n$20 ONLY social
URL:https://golatindance.com/event/noche-latina-social/2028-11-11/
LOCATION:Kafe Flames\, 7799 Leesburg Pike\, Falls Church\, VA\, United States
CATEGORIES:Washington DC-Baltimore
ATTACH;FMTTYPE=image/jpeg:https://golatindance.com/wp-content/uploads/2026/01/607621800_1491500839092139_3274717555886658567_n.jpg
END:VEVENT
BEGIN:VEVENT
DTSTART;TZID=America/New_York:20281209T200000
DTEND;TZID=America/New_York:20281210T020000
DTSTAMP:20260424T223710
CREATED:20260107T153149Z
LAST-MODIFIED:20260107T153149Z
UID:10430141-1860004800-1860026400@golatindance.com
SUMMARY:Noche Latina Social
DESCRIPTION:Every 2nd Saturday \nHighlights:\nDelicious & Healthy Food\nBeautiful Dance floor\nFREE PARKING \nClass Schedule:\n8:00pm – 8:45pm Bachata Class\n8:45pm – 9:30pm On1 Salsa Class\nDance to the sound of DJ Horacio till 2am \nCover Charge:\n$30 Salsa & Bachata class\n$20 ONLY social
URL:https://golatindance.com/event/noche-latina-social/2028-12-09/
LOCATION:Kafe Flames\, 7799 Leesburg Pike\, Falls Church\, VA\, United States
CATEGORIES:Washington DC-Baltimore
ATTACH;FMTTYPE=image/jpeg:https://golatindance.com/wp-content/uploads/2026/01/607621800_1491500839092139_3274717555886658567_n.jpg
END:VEVENT
BEGIN:VEVENT
DTSTART;TZID=America/New_York:20290113T200000
DTEND;TZID=America/New_York:20290114T020000
DTSTAMP:20260424T223710
CREATED:20260107T153149Z
LAST-MODIFIED:20260107T153149Z
UID:10430142-1863028800-1863050400@golatindance.com
SUMMARY:Noche Latina Social
DESCRIPTION:Every 2nd Saturday \nHighlights:\nDelicious & Healthy Food\nBeautiful Dance floor\nFREE PARKING \nClass Schedule:\n8:00pm – 8:45pm Bachata Class\n8:45pm – 9:30pm On1 Salsa Class\nDance to the sound of DJ Horacio till 2am \nCover Charge:\n$30 Salsa & Bachata class\n$20 ONLY social
URL:https://golatindance.com/event/noche-latina-social/2029-01-13/
LOCATION:Kafe Flames\, 7799 Leesburg Pike\, Falls Church\, VA\, United States
CATEGORIES:Washington DC-Baltimore
ATTACH;FMTTYPE=image/jpeg:https://golatindance.com/wp-content/uploads/2026/01/607621800_1491500839092139_3274717555886658567_n.jpg
END:VEVENT
BEGIN:VEVENT
DTSTART;TZID=America/New_York:20290210T200000
DTEND;TZID=America/New_York:20290211T020000
DTSTAMP:20260424T223710
CREATED:20260107T153149Z
LAST-MODIFIED:20260107T153149Z
UID:10430143-1865448000-1865469600@golatindance.com
SUMMARY:Noche Latina Social
DESCRIPTION:Every 2nd Saturday \nHighlights:\nDelicious & Healthy Food\nBeautiful Dance floor\nFREE PARKING \nClass Schedule:\n8:00pm – 8:45pm Bachata Class\n8:45pm – 9:30pm On1 Salsa Class\nDance to the sound of DJ Horacio till 2am \nCover Charge:\n$30 Salsa & Bachata class\n$20 ONLY social
URL:https://golatindance.com/event/noche-latina-social/2029-02-10/
LOCATION:Kafe Flames\, 7799 Leesburg Pike\, Falls Church\, VA\, United States
CATEGORIES:Washington DC-Baltimore
ATTACH;FMTTYPE=image/jpeg:https://golatindance.com/wp-content/uploads/2026/01/607621800_1491500839092139_3274717555886658567_n.jpg
END:VEVENT
BEGIN:VEVENT
DTSTART;TZID=America/New_York:20290310T200000
DTEND;TZID=America/New_York:20290311T030000
DTSTAMP:20260424T223710
CREATED:20260107T153149Z
LAST-MODIFIED:20260107T153149Z
UID:10430144-1867867200-1867892400@golatindance.com
SUMMARY:Noche Latina Social
DESCRIPTION:Every 2nd Saturday \nHighlights:\nDelicious & Healthy Food\nBeautiful Dance floor\nFREE PARKING \nClass Schedule:\n8:00pm – 8:45pm Bachata Class\n8:45pm – 9:30pm On1 Salsa Class\nDance to the sound of DJ Horacio till 2am \nCover Charge:\n$30 Salsa & Bachata class\n$20 ONLY social
URL:https://golatindance.com/event/noche-latina-social/2029-03-10/
LOCATION:Kafe Flames\, 7799 Leesburg Pike\, Falls Church\, VA\, United States
CATEGORIES:Washington DC-Baltimore
ATTACH;FMTTYPE=image/jpeg:https://golatindance.com/wp-content/uploads/2026/01/607621800_1491500839092139_3274717555886658567_n.jpg
END:VEVENT
BEGIN:VEVENT
DTSTART;TZID=America/New_York:20290414T200000
DTEND;TZID=America/New_York:20290415T020000
DTSTAMP:20260424T223710
CREATED:20260107T153149Z
LAST-MODIFIED:20260107T153149Z
UID:10430145-1870891200-1870912800@golatindance.com
SUMMARY:Noche Latina Social
DESCRIPTION:Every 2nd Saturday \nHighlights:\nDelicious & Healthy Food\nBeautiful Dance floor\nFREE PARKING \nClass Schedule:\n8:00pm – 8:45pm Bachata Class\n8:45pm – 9:30pm On1 Salsa Class\nDance to the sound of DJ Horacio till 2am \nCover Charge:\n$30 Salsa & Bachata class\n$20 ONLY social
URL:https://golatindance.com/event/noche-latina-social/2029-04-14/
LOCATION:Kafe Flames\, 7799 Leesburg Pike\, Falls Church\, VA\, United States
CATEGORIES:Washington DC-Baltimore
ATTACH;FMTTYPE=image/jpeg:https://golatindance.com/wp-content/uploads/2026/01/607621800_1491500839092139_3274717555886658567_n.jpg
END:VEVENT
BEGIN:VEVENT
DTSTART;TZID=America/New_York:20290512T200000
DTEND;TZID=America/New_York:20290513T020000
DTSTAMP:20260424T223710
CREATED:20260107T153149Z
LAST-MODIFIED:20260107T153149Z
UID:10430146-1873310400-1873332000@golatindance.com
SUMMARY:Noche Latina Social
DESCRIPTION:Every 2nd Saturday \nHighlights:\nDelicious & Healthy Food\nBeautiful Dance floor\nFREE PARKING \nClass Schedule:\n8:00pm – 8:45pm Bachata Class\n8:45pm – 9:30pm On1 Salsa Class\nDance to the sound of DJ Horacio till 2am \nCover Charge:\n$30 Salsa & Bachata class\n$20 ONLY social
URL:https://golatindance.com/event/noche-latina-social/2029-05-12/
LOCATION:Kafe Flames\, 7799 Leesburg Pike\, Falls Church\, VA\, United States
CATEGORIES:Washington DC-Baltimore
ATTACH;FMTTYPE=image/jpeg:https://golatindance.com/wp-content/uploads/2026/01/607621800_1491500839092139_3274717555886658567_n.jpg
END:VEVENT
BEGIN:VEVENT
DTSTART;TZID=America/New_York:20290609T200000
DTEND;TZID=America/New_York:20290610T020000
DTSTAMP:20260424T223710
CREATED:20260107T153149Z
LAST-MODIFIED:20260107T153149Z
UID:10430147-1875729600-1875751200@golatindance.com
SUMMARY:Noche Latina Social
DESCRIPTION:Every 2nd Saturday \nHighlights:\nDelicious & Healthy Food\nBeautiful Dance floor\nFREE PARKING \nClass Schedule:\n8:00pm – 8:45pm Bachata Class\n8:45pm – 9:30pm On1 Salsa Class\nDance to the sound of DJ Horacio till 2am \nCover Charge:\n$30 Salsa & Bachata class\n$20 ONLY social
URL:https://golatindance.com/event/noche-latina-social/2029-06-09/
LOCATION:Kafe Flames\, 7799 Leesburg Pike\, Falls Church\, VA\, United States
CATEGORIES:Washington DC-Baltimore
ATTACH;FMTTYPE=image/jpeg:https://golatindance.com/wp-content/uploads/2026/01/607621800_1491500839092139_3274717555886658567_n.jpg
END:VEVENT
BEGIN:VEVENT
DTSTART;TZID=America/New_York:20290714T200000
DTEND;TZID=America/New_York:20290715T020000
DTSTAMP:20260424T223710
CREATED:20260107T153149Z
LAST-MODIFIED:20260107T153149Z
UID:10430148-1878753600-1878775200@golatindance.com
SUMMARY:Noche Latina Social
DESCRIPTION:Every 2nd Saturday \nHighlights:\nDelicious & Healthy Food\nBeautiful Dance floor\nFREE PARKING \nClass Schedule:\n8:00pm – 8:45pm Bachata Class\n8:45pm – 9:30pm On1 Salsa Class\nDance to the sound of DJ Horacio till 2am \nCover Charge:\n$30 Salsa & Bachata class\n$20 ONLY social
URL:https://golatindance.com/event/noche-latina-social/2029-07-14/
LOCATION:Kafe Flames\, 7799 Leesburg Pike\, Falls Church\, VA\, United States
CATEGORIES:Washington DC-Baltimore
ATTACH;FMTTYPE=image/jpeg:https://golatindance.com/wp-content/uploads/2026/01/607621800_1491500839092139_3274717555886658567_n.jpg
END:VEVENT
BEGIN:VEVENT
DTSTART;TZID=America/New_York:20290811T200000
DTEND;TZID=America/New_York:20290812T020000
DTSTAMP:20260424T223710
CREATED:20260107T153149Z
LAST-MODIFIED:20260107T153149Z
UID:10430149-1881172800-1881194400@golatindance.com
SUMMARY:Noche Latina Social
DESCRIPTION:Every 2nd Saturday \nHighlights:\nDelicious & Healthy Food\nBeautiful Dance floor\nFREE PARKING \nClass Schedule:\n8:00pm – 8:45pm Bachata Class\n8:45pm – 9:30pm On1 Salsa Class\nDance to the sound of DJ Horacio till 2am \nCover Charge:\n$30 Salsa & Bachata class\n$20 ONLY social
URL:https://golatindance.com/event/noche-latina-social/2029-08-11/
LOCATION:Kafe Flames\, 7799 Leesburg Pike\, Falls Church\, VA\, United States
CATEGORIES:Washington DC-Baltimore
ATTACH;FMTTYPE=image/jpeg:https://golatindance.com/wp-content/uploads/2026/01/607621800_1491500839092139_3274717555886658567_n.jpg
END:VEVENT
BEGIN:VEVENT
DTSTART;TZID=America/New_York:20290908T200000
DTEND;TZID=America/New_York:20290909T020000
DTSTAMP:20260424T223710
CREATED:20260107T153149Z
LAST-MODIFIED:20260107T153149Z
UID:10430150-1883592000-1883613600@golatindance.com
SUMMARY:Noche Latina Social
DESCRIPTION:Every 2nd Saturday \nHighlights:\nDelicious & Healthy Food\nBeautiful Dance floor\nFREE PARKING \nClass Schedule:\n8:00pm – 8:45pm Bachata Class\n8:45pm – 9:30pm On1 Salsa Class\nDance to the sound of DJ Horacio till 2am \nCover Charge:\n$30 Salsa & Bachata class\n$20 ONLY social
URL:https://golatindance.com/event/noche-latina-social/2029-09-08/
LOCATION:Kafe Flames\, 7799 Leesburg Pike\, Falls Church\, VA\, United States
CATEGORIES:Washington DC-Baltimore
ATTACH;FMTTYPE=image/jpeg:https://golatindance.com/wp-content/uploads/2026/01/607621800_1491500839092139_3274717555886658567_n.jpg
END:VEVENT
BEGIN:VEVENT
DTSTART;TZID=America/New_York:20291013T200000
DTEND;TZID=America/New_York:20291014T020000
DTSTAMP:20260424T223710
CREATED:20260107T153149Z
LAST-MODIFIED:20260107T153149Z
UID:10430151-1886616000-1886637600@golatindance.com
SUMMARY:Noche Latina Social
DESCRIPTION:Every 2nd Saturday \nHighlights:\nDelicious & Healthy Food\nBeautiful Dance floor\nFREE PARKING \nClass Schedule:\n8:00pm – 8:45pm Bachata Class\n8:45pm – 9:30pm On1 Salsa Class\nDance to the sound of DJ Horacio till 2am \nCover Charge:\n$30 Salsa & Bachata class\n$20 ONLY social
URL:https://golatindance.com/event/noche-latina-social/2029-10-13/
LOCATION:Kafe Flames\, 7799 Leesburg Pike\, Falls Church\, VA\, United States
CATEGORIES:Washington DC-Baltimore
ATTACH;FMTTYPE=image/jpeg:https://golatindance.com/wp-content/uploads/2026/01/607621800_1491500839092139_3274717555886658567_n.jpg
END:VEVENT
BEGIN:VEVENT
DTSTART;TZID=America/New_York:20291110T200000
DTEND;TZID=America/New_York:20291111T020000
DTSTAMP:20260424T223710
CREATED:20260107T153149Z
LAST-MODIFIED:20260107T153149Z
UID:10430152-1889035200-1889056800@golatindance.com
SUMMARY:Noche Latina Social
DESCRIPTION:Every 2nd Saturday \nHighlights:\nDelicious & Healthy Food\nBeautiful Dance floor\nFREE PARKING \nClass Schedule:\n8:00pm – 8:45pm Bachata Class\n8:45pm – 9:30pm On1 Salsa Class\nDance to the sound of DJ Horacio till 2am \nCover Charge:\n$30 Salsa & Bachata class\n$20 ONLY social
URL:https://golatindance.com/event/noche-latina-social/2029-11-10/
LOCATION:Kafe Flames\, 7799 Leesburg Pike\, Falls Church\, VA\, United States
CATEGORIES:Washington DC-Baltimore
ATTACH;FMTTYPE=image/jpeg:https://golatindance.com/wp-content/uploads/2026/01/607621800_1491500839092139_3274717555886658567_n.jpg
END:VEVENT
BEGIN:VEVENT
DTSTART;TZID=America/New_York:20291208T200000
DTEND;TZID=America/New_York:20291209T020000
DTSTAMP:20260424T223710
CREATED:20260107T153149Z
LAST-MODIFIED:20260107T153149Z
UID:10430153-1891454400-1891476000@golatindance.com
SUMMARY:Noche Latina Social
DESCRIPTION:Every 2nd Saturday \nHighlights:\nDelicious & Healthy Food\nBeautiful Dance floor\nFREE PARKING \nClass Schedule:\n8:00pm – 8:45pm Bachata Class\n8:45pm – 9:30pm On1 Salsa Class\nDance to the sound of DJ Horacio till 2am \nCover Charge:\n$30 Salsa & Bachata class\n$20 ONLY social
URL:https://golatindance.com/event/noche-latina-social/2029-12-08/
LOCATION:Kafe Flames\, 7799 Leesburg Pike\, Falls Church\, VA\, United States
CATEGORIES:Washington DC-Baltimore
ATTACH;FMTTYPE=image/jpeg:https://golatindance.com/wp-content/uploads/2026/01/607621800_1491500839092139_3274717555886658567_n.jpg
END:VEVENT
BEGIN:VEVENT
DTSTART;TZID=America/New_York:20300112T200000
DTEND;TZID=America/New_York:20300113T020000
DTSTAMP:20260424T223710
CREATED:20260107T153149Z
LAST-MODIFIED:20260107T153149Z
UID:10430154-1894478400-1894500000@golatindance.com
SUMMARY:Noche Latina Social
DESCRIPTION:Every 2nd Saturday \nHighlights:\nDelicious & Healthy Food\nBeautiful Dance floor\nFREE PARKING \nClass Schedule:\n8:00pm – 8:45pm Bachata Class\n8:45pm – 9:30pm On1 Salsa Class\nDance to the sound of DJ Horacio till 2am \nCover Charge:\n$30 Salsa & Bachata class\n$20 ONLY social
URL:https://golatindance.com/event/noche-latina-social/2030-01-12/
LOCATION:Kafe Flames\, 7799 Leesburg Pike\, Falls Church\, VA\, United States
CATEGORIES:Washington DC-Baltimore
ATTACH;FMTTYPE=image/jpeg:https://golatindance.com/wp-content/uploads/2026/01/607621800_1491500839092139_3274717555886658567_n.jpg
END:VEVENT
BEGIN:VEVENT
DTSTART;TZID=America/New_York:20300209T200000
DTEND;TZID=America/New_York:20300210T020000
DTSTAMP:20260424T223710
CREATED:20260107T153149Z
LAST-MODIFIED:20260107T153149Z
UID:10430155-1896897600-1896919200@golatindance.com
SUMMARY:Noche Latina Social
DESCRIPTION:Every 2nd Saturday \nHighlights:\nDelicious & Healthy Food\nBeautiful Dance floor\nFREE PARKING \nClass Schedule:\n8:00pm – 8:45pm Bachata Class\n8:45pm – 9:30pm On1 Salsa Class\nDance to the sound of DJ Horacio till 2am \nCover Charge:\n$30 Salsa & Bachata class\n$20 ONLY social
URL:https://golatindance.com/event/noche-latina-social/2030-02-09/
LOCATION:Kafe Flames\, 7799 Leesburg Pike\, Falls Church\, VA\, United States
CATEGORIES:Washington DC-Baltimore
ATTACH;FMTTYPE=image/jpeg:https://golatindance.com/wp-content/uploads/2026/01/607621800_1491500839092139_3274717555886658567_n.jpg
END:VEVENT
BEGIN:VEVENT
DTSTART;TZID=America/New_York:20300309T200000
DTEND;TZID=America/New_York:20300310T030000
DTSTAMP:20260424T223710
CREATED:20260107T153149Z
LAST-MODIFIED:20260107T153149Z
UID:10430156-1899316800-1899342000@golatindance.com
SUMMARY:Noche Latina Social
DESCRIPTION:Every 2nd Saturday \nHighlights:\nDelicious & Healthy Food\nBeautiful Dance floor\nFREE PARKING \nClass Schedule:\n8:00pm – 8:45pm Bachata Class\n8:45pm – 9:30pm On1 Salsa Class\nDance to the sound of DJ Horacio till 2am \nCover Charge:\n$30 Salsa & Bachata class\n$20 ONLY social
URL:https://golatindance.com/event/noche-latina-social/2030-03-09/
LOCATION:Kafe Flames\, 7799 Leesburg Pike\, Falls Church\, VA\, United States
CATEGORIES:Washington DC-Baltimore
ATTACH;FMTTYPE=image/jpeg:https://golatindance.com/wp-content/uploads/2026/01/607621800_1491500839092139_3274717555886658567_n.jpg
END:VEVENT
BEGIN:VEVENT
DTSTART;TZID=America/New_York:20300413T200000
DTEND;TZID=America/New_York:20300414T020000
DTSTAMP:20260424T223710
CREATED:20260107T153149Z
LAST-MODIFIED:20260107T153149Z
UID:10430157-1902340800-1902362400@golatindance.com
SUMMARY:Noche Latina Social
DESCRIPTION:Every 2nd Saturday \nHighlights:\nDelicious & Healthy Food\nBeautiful Dance floor\nFREE PARKING \nClass Schedule:\n8:00pm – 8:45pm Bachata Class\n8:45pm – 9:30pm On1 Salsa Class\nDance to the sound of DJ Horacio till 2am \nCover Charge:\n$30 Salsa & Bachata class\n$20 ONLY social
URL:https://golatindance.com/event/noche-latina-social/2030-04-13/
LOCATION:Kafe Flames\, 7799 Leesburg Pike\, Falls Church\, VA\, United States
CATEGORIES:Washington DC-Baltimore
ATTACH;FMTTYPE=image/jpeg:https://golatindance.com/wp-content/uploads/2026/01/607621800_1491500839092139_3274717555886658567_n.jpg
END:VEVENT
BEGIN:VEVENT
DTSTART;TZID=America/New_York:20300511T200000
DTEND;TZID=America/New_York:20300512T020000
DTSTAMP:20260424T223710
CREATED:20260107T153149Z
LAST-MODIFIED:20260107T153149Z
UID:10430158-1904760000-1904781600@golatindance.com
SUMMARY:Noche Latina Social
DESCRIPTION:Every 2nd Saturday \nHighlights:\nDelicious & Healthy Food\nBeautiful Dance floor\nFREE PARKING \nClass Schedule:\n8:00pm – 8:45pm Bachata Class\n8:45pm – 9:30pm On1 Salsa Class\nDance to the sound of DJ Horacio till 2am \nCover Charge:\n$30 Salsa & Bachata class\n$20 ONLY social
URL:https://golatindance.com/event/noche-latina-social/2030-05-11/
LOCATION:Kafe Flames\, 7799 Leesburg Pike\, Falls Church\, VA\, United States
CATEGORIES:Washington DC-Baltimore
ATTACH;FMTTYPE=image/jpeg:https://golatindance.com/wp-content/uploads/2026/01/607621800_1491500839092139_3274717555886658567_n.jpg
END:VEVENT
BEGIN:VEVENT
DTSTART;TZID=America/New_York:20300608T200000
DTEND;TZID=America/New_York:20300609T020000
DTSTAMP:20260424T223710
CREATED:20260107T153149Z
LAST-MODIFIED:20260107T153149Z
UID:10430159-1907179200-1907200800@golatindance.com
SUMMARY:Noche Latina Social
DESCRIPTION:Every 2nd Saturday \nHighlights:\nDelicious & Healthy Food\nBeautiful Dance floor\nFREE PARKING \nClass Schedule:\n8:00pm – 8:45pm Bachata Class\n8:45pm – 9:30pm On1 Salsa Class\nDance to the sound of DJ Horacio till 2am \nCover Charge:\n$30 Salsa & Bachata class\n$20 ONLY social
URL:https://golatindance.com/event/noche-latina-social/2030-06-08/
LOCATION:Kafe Flames\, 7799 Leesburg Pike\, Falls Church\, VA\, United States
CATEGORIES:Washington DC-Baltimore
ATTACH;FMTTYPE=image/jpeg:https://golatindance.com/wp-content/uploads/2026/01/607621800_1491500839092139_3274717555886658567_n.jpg
END:VEVENT
END:VCALENDAR