BEGIN:VCALENDAR
VERSION:2.0
PRODID:-//GO Latin Dance - ECPv6.15.18//NONSGML v1.0//EN
CALSCALE:GREGORIAN
METHOD:PUBLISH
X-WR-CALNAME:GO Latin Dance
X-ORIGINAL-URL:https://golatindance.com
X-WR-CALDESC:Events for GO Latin Dance
REFRESH-INTERVAL;VALUE=DURATION:PT1H
X-Robots-Tag:noindex
X-PUBLISHED-TTL:PT1H
BEGIN:VTIMEZONE
TZID:America/Denver
BEGIN:DAYLIGHT
TZOFFSETFROM:-0700
TZOFFSETTO:-0600
TZNAME:MDT
DTSTART:20270314T090000
END:DAYLIGHT
BEGIN:STANDARD
TZOFFSETFROM:-0600
TZOFFSETTO:-0700
TZNAME:MST
DTSTART:20271107T080000
END:STANDARD
BEGIN:DAYLIGHT
TZOFFSETFROM:-0700
TZOFFSETTO:-0600
TZNAME:MDT
DTSTART:20280312T090000
END:DAYLIGHT
BEGIN:STANDARD
TZOFFSETFROM:-0600
TZOFFSETTO:-0700
TZNAME:MST
DTSTART:20281105T080000
END:STANDARD
BEGIN:DAYLIGHT
TZOFFSETFROM:-0700
TZOFFSETTO:-0600
TZNAME:MDT
DTSTART:20290311T090000
END:DAYLIGHT
BEGIN:STANDARD
TZOFFSETFROM:-0600
TZOFFSETTO:-0700
TZNAME:MST
DTSTART:20291104T080000
END:STANDARD
BEGIN:DAYLIGHT
TZOFFSETFROM:-0700
TZOFFSETTO:-0600
TZNAME:MDT
DTSTART:20300310T090000
END:DAYLIGHT
BEGIN:STANDARD
TZOFFSETFROM:-0600
TZOFFSETTO:-0700
TZNAME:MST
DTSTART:20301103T080000
END:STANDARD
END:VTIMEZONE
BEGIN:VEVENT
DTSTART;TZID=America/Denver:20281022T190000
DTEND;TZID=America/Denver:20281023T003000
DTSTAMP:20260420T183710
CREATED:20230224T175726Z
LAST-MODIFIED:20240315T154359Z
UID:10202074-1855854000-1855873800@golatindance.com
SUMMARY:Salsa Bachata Sundays at La Rumba
DESCRIPTION:Put on your dancing shoes and come heat up the floor tonight at La Rumba with ALL your favorite salsa\, bachata and more. \nTonight’s Happenings\n7:00 pm  Doors and bar open\n7:00ish pm – 8:00 pm Beginning/ Intermediate Sensual Bachata Lesson\n8:00 pm – 9:00 pm Beginning/ Intermediate Salsa Lesson=\n9:00 pm – 12:30 am  DJs
URL:https://golatindance.com/event/salsa-sundays-at-la-rumba/2028-10-22/
LOCATION:La Rumba\, 99 W. 9th Ave\, Denver\, CO 80204\, Denver\, CO\, 80204\, US
CATEGORIES:Denver
ATTACH;FMTTYPE=image/jpeg:https://golatindance.com/wp-content/uploads/2023/02/417681044_7030642097014685_6370717221699319249_n.jpg
END:VEVENT
BEGIN:VEVENT
DTSTART;TZID=America/Denver:20281029T190000
DTEND;TZID=America/Denver:20281030T003000
DTSTAMP:20260420T183710
CREATED:20230224T175726Z
LAST-MODIFIED:20240315T154359Z
UID:10202075-1856458800-1856478600@golatindance.com
SUMMARY:Salsa Bachata Sundays at La Rumba
DESCRIPTION:Put on your dancing shoes and come heat up the floor tonight at La Rumba with ALL your favorite salsa\, bachata and more. \nTonight’s Happenings\n7:00 pm  Doors and bar open\n7:00ish pm – 8:00 pm Beginning/ Intermediate Sensual Bachata Lesson\n8:00 pm – 9:00 pm Beginning/ Intermediate Salsa Lesson=\n9:00 pm – 12:30 am  DJs
URL:https://golatindance.com/event/salsa-sundays-at-la-rumba/2028-10-29/
LOCATION:La Rumba\, 99 W. 9th Ave\, Denver\, CO 80204\, Denver\, CO\, 80204\, US
CATEGORIES:Denver
ATTACH;FMTTYPE=image/jpeg:https://golatindance.com/wp-content/uploads/2023/02/417681044_7030642097014685_6370717221699319249_n.jpg
END:VEVENT
BEGIN:VEVENT
DTSTART;TZID=America/Denver:20281105T190000
DTEND;TZID=America/Denver:20281106T003000
DTSTAMP:20260420T183710
CREATED:20230224T175726Z
LAST-MODIFIED:20240315T154359Z
UID:10202076-1857063600-1857083400@golatindance.com
SUMMARY:Salsa Bachata Sundays at La Rumba
DESCRIPTION:Put on your dancing shoes and come heat up the floor tonight at La Rumba with ALL your favorite salsa\, bachata and more. \nTonight’s Happenings\n7:00 pm  Doors and bar open\n7:00ish pm – 8:00 pm Beginning/ Intermediate Sensual Bachata Lesson\n8:00 pm – 9:00 pm Beginning/ Intermediate Salsa Lesson=\n9:00 pm – 12:30 am  DJs
URL:https://golatindance.com/event/salsa-sundays-at-la-rumba/2028-11-05/
LOCATION:La Rumba\, 99 W. 9th Ave\, Denver\, CO 80204\, Denver\, CO\, 80204\, US
CATEGORIES:Denver
ATTACH;FMTTYPE=image/jpeg:https://golatindance.com/wp-content/uploads/2023/02/417681044_7030642097014685_6370717221699319249_n.jpg
END:VEVENT
BEGIN:VEVENT
DTSTART;TZID=America/Denver:20281112T190000
DTEND;TZID=America/Denver:20281113T003000
DTSTAMP:20260420T183710
CREATED:20230224T175726Z
LAST-MODIFIED:20240315T154359Z
UID:10202077-1857668400-1857688200@golatindance.com
SUMMARY:Salsa Bachata Sundays at La Rumba
DESCRIPTION:Put on your dancing shoes and come heat up the floor tonight at La Rumba with ALL your favorite salsa\, bachata and more. \nTonight’s Happenings\n7:00 pm  Doors and bar open\n7:00ish pm – 8:00 pm Beginning/ Intermediate Sensual Bachata Lesson\n8:00 pm – 9:00 pm Beginning/ Intermediate Salsa Lesson=\n9:00 pm – 12:30 am  DJs
URL:https://golatindance.com/event/salsa-sundays-at-la-rumba/2028-11-12/
LOCATION:La Rumba\, 99 W. 9th Ave\, Denver\, CO 80204\, Denver\, CO\, 80204\, US
CATEGORIES:Denver
ATTACH;FMTTYPE=image/jpeg:https://golatindance.com/wp-content/uploads/2023/02/417681044_7030642097014685_6370717221699319249_n.jpg
END:VEVENT
BEGIN:VEVENT
DTSTART;TZID=America/Denver:20281119T190000
DTEND;TZID=America/Denver:20281120T003000
DTSTAMP:20260420T183710
CREATED:20230224T175726Z
LAST-MODIFIED:20240315T154359Z
UID:10202078-1858273200-1858293000@golatindance.com
SUMMARY:Salsa Bachata Sundays at La Rumba
DESCRIPTION:Put on your dancing shoes and come heat up the floor tonight at La Rumba with ALL your favorite salsa\, bachata and more. \nTonight’s Happenings\n7:00 pm  Doors and bar open\n7:00ish pm – 8:00 pm Beginning/ Intermediate Sensual Bachata Lesson\n8:00 pm – 9:00 pm Beginning/ Intermediate Salsa Lesson=\n9:00 pm – 12:30 am  DJs
URL:https://golatindance.com/event/salsa-sundays-at-la-rumba/2028-11-19/
LOCATION:La Rumba\, 99 W. 9th Ave\, Denver\, CO 80204\, Denver\, CO\, 80204\, US
CATEGORIES:Denver
ATTACH;FMTTYPE=image/jpeg:https://golatindance.com/wp-content/uploads/2023/02/417681044_7030642097014685_6370717221699319249_n.jpg
END:VEVENT
BEGIN:VEVENT
DTSTART;TZID=America/Denver:20281126T190000
DTEND;TZID=America/Denver:20281127T003000
DTSTAMP:20260420T183710
CREATED:20230224T175726Z
LAST-MODIFIED:20240315T154359Z
UID:10202079-1858878000-1858897800@golatindance.com
SUMMARY:Salsa Bachata Sundays at La Rumba
DESCRIPTION:Put on your dancing shoes and come heat up the floor tonight at La Rumba with ALL your favorite salsa\, bachata and more. \nTonight’s Happenings\n7:00 pm  Doors and bar open\n7:00ish pm – 8:00 pm Beginning/ Intermediate Sensual Bachata Lesson\n8:00 pm – 9:00 pm Beginning/ Intermediate Salsa Lesson=\n9:00 pm – 12:30 am  DJs
URL:https://golatindance.com/event/salsa-sundays-at-la-rumba/2028-11-26/
LOCATION:La Rumba\, 99 W. 9th Ave\, Denver\, CO 80204\, Denver\, CO\, 80204\, US
CATEGORIES:Denver
ATTACH;FMTTYPE=image/jpeg:https://golatindance.com/wp-content/uploads/2023/02/417681044_7030642097014685_6370717221699319249_n.jpg
END:VEVENT
BEGIN:VEVENT
DTSTART;TZID=America/Denver:20281203T190000
DTEND;TZID=America/Denver:20281204T003000
DTSTAMP:20260420T183710
CREATED:20230224T175726Z
LAST-MODIFIED:20240315T154359Z
UID:10202080-1859482800-1859502600@golatindance.com
SUMMARY:Salsa Bachata Sundays at La Rumba
DESCRIPTION:Put on your dancing shoes and come heat up the floor tonight at La Rumba with ALL your favorite salsa\, bachata and more. \nTonight’s Happenings\n7:00 pm  Doors and bar open\n7:00ish pm – 8:00 pm Beginning/ Intermediate Sensual Bachata Lesson\n8:00 pm – 9:00 pm Beginning/ Intermediate Salsa Lesson=\n9:00 pm – 12:30 am  DJs
URL:https://golatindance.com/event/salsa-sundays-at-la-rumba/2028-12-03/
LOCATION:La Rumba\, 99 W. 9th Ave\, Denver\, CO 80204\, Denver\, CO\, 80204\, US
CATEGORIES:Denver
ATTACH;FMTTYPE=image/jpeg:https://golatindance.com/wp-content/uploads/2023/02/417681044_7030642097014685_6370717221699319249_n.jpg
END:VEVENT
BEGIN:VEVENT
DTSTART;TZID=America/Denver:20281210T190000
DTEND;TZID=America/Denver:20281211T003000
DTSTAMP:20260420T183710
CREATED:20230224T175726Z
LAST-MODIFIED:20240315T154359Z
UID:10202081-1860087600-1860107400@golatindance.com
SUMMARY:Salsa Bachata Sundays at La Rumba
DESCRIPTION:Put on your dancing shoes and come heat up the floor tonight at La Rumba with ALL your favorite salsa\, bachata and more. \nTonight’s Happenings\n7:00 pm  Doors and bar open\n7:00ish pm – 8:00 pm Beginning/ Intermediate Sensual Bachata Lesson\n8:00 pm – 9:00 pm Beginning/ Intermediate Salsa Lesson=\n9:00 pm – 12:30 am  DJs
URL:https://golatindance.com/event/salsa-sundays-at-la-rumba/2028-12-10/
LOCATION:La Rumba\, 99 W. 9th Ave\, Denver\, CO 80204\, Denver\, CO\, 80204\, US
CATEGORIES:Denver
ATTACH;FMTTYPE=image/jpeg:https://golatindance.com/wp-content/uploads/2023/02/417681044_7030642097014685_6370717221699319249_n.jpg
END:VEVENT
BEGIN:VEVENT
DTSTART;TZID=America/Denver:20281217T190000
DTEND;TZID=America/Denver:20281218T003000
DTSTAMP:20260420T183710
CREATED:20230224T175726Z
LAST-MODIFIED:20240315T154359Z
UID:10202082-1860692400-1860712200@golatindance.com
SUMMARY:Salsa Bachata Sundays at La Rumba
DESCRIPTION:Put on your dancing shoes and come heat up the floor tonight at La Rumba with ALL your favorite salsa\, bachata and more. \nTonight’s Happenings\n7:00 pm  Doors and bar open\n7:00ish pm – 8:00 pm Beginning/ Intermediate Sensual Bachata Lesson\n8:00 pm – 9:00 pm Beginning/ Intermediate Salsa Lesson=\n9:00 pm – 12:30 am  DJs
URL:https://golatindance.com/event/salsa-sundays-at-la-rumba/2028-12-17/
LOCATION:La Rumba\, 99 W. 9th Ave\, Denver\, CO 80204\, Denver\, CO\, 80204\, US
CATEGORIES:Denver
ATTACH;FMTTYPE=image/jpeg:https://golatindance.com/wp-content/uploads/2023/02/417681044_7030642097014685_6370717221699319249_n.jpg
END:VEVENT
BEGIN:VEVENT
DTSTART;TZID=America/Denver:20281224T190000
DTEND;TZID=America/Denver:20281225T003000
DTSTAMP:20260420T183710
CREATED:20230224T175726Z
LAST-MODIFIED:20240315T154359Z
UID:10202083-1861297200-1861317000@golatindance.com
SUMMARY:Salsa Bachata Sundays at La Rumba
DESCRIPTION:Put on your dancing shoes and come heat up the floor tonight at La Rumba with ALL your favorite salsa\, bachata and more. \nTonight’s Happenings\n7:00 pm  Doors and bar open\n7:00ish pm – 8:00 pm Beginning/ Intermediate Sensual Bachata Lesson\n8:00 pm – 9:00 pm Beginning/ Intermediate Salsa Lesson=\n9:00 pm – 12:30 am  DJs
URL:https://golatindance.com/event/salsa-sundays-at-la-rumba/2028-12-24/
LOCATION:La Rumba\, 99 W. 9th Ave\, Denver\, CO 80204\, Denver\, CO\, 80204\, US
CATEGORIES:Denver
ATTACH;FMTTYPE=image/jpeg:https://golatindance.com/wp-content/uploads/2023/02/417681044_7030642097014685_6370717221699319249_n.jpg
END:VEVENT
BEGIN:VEVENT
DTSTART;TZID=America/Denver:20281231T190000
DTEND;TZID=America/Denver:20290101T003000
DTSTAMP:20260420T183710
CREATED:20230224T175726Z
LAST-MODIFIED:20240315T154359Z
UID:10202084-1861902000-1861921800@golatindance.com
SUMMARY:Salsa Bachata Sundays at La Rumba
DESCRIPTION:Put on your dancing shoes and come heat up the floor tonight at La Rumba with ALL your favorite salsa\, bachata and more. \nTonight’s Happenings\n7:00 pm  Doors and bar open\n7:00ish pm – 8:00 pm Beginning/ Intermediate Sensual Bachata Lesson\n8:00 pm – 9:00 pm Beginning/ Intermediate Salsa Lesson=\n9:00 pm – 12:30 am  DJs
URL:https://golatindance.com/event/salsa-sundays-at-la-rumba/2028-12-31/
LOCATION:La Rumba\, 99 W. 9th Ave\, Denver\, CO 80204\, Denver\, CO\, 80204\, US
CATEGORIES:Denver
ATTACH;FMTTYPE=image/jpeg:https://golatindance.com/wp-content/uploads/2023/02/417681044_7030642097014685_6370717221699319249_n.jpg
END:VEVENT
BEGIN:VEVENT
DTSTART;TZID=America/Denver:20290107T190000
DTEND;TZID=America/Denver:20290108T003000
DTSTAMP:20260420T183710
CREATED:20230224T175726Z
LAST-MODIFIED:20240315T154359Z
UID:10202085-1862506800-1862526600@golatindance.com
SUMMARY:Salsa Bachata Sundays at La Rumba
DESCRIPTION:Put on your dancing shoes and come heat up the floor tonight at La Rumba with ALL your favorite salsa\, bachata and more. \nTonight’s Happenings\n7:00 pm  Doors and bar open\n7:00ish pm – 8:00 pm Beginning/ Intermediate Sensual Bachata Lesson\n8:00 pm – 9:00 pm Beginning/ Intermediate Salsa Lesson=\n9:00 pm – 12:30 am  DJs
URL:https://golatindance.com/event/salsa-sundays-at-la-rumba/2029-01-07/
LOCATION:La Rumba\, 99 W. 9th Ave\, Denver\, CO 80204\, Denver\, CO\, 80204\, US
CATEGORIES:Denver
ATTACH;FMTTYPE=image/jpeg:https://golatindance.com/wp-content/uploads/2023/02/417681044_7030642097014685_6370717221699319249_n.jpg
END:VEVENT
BEGIN:VEVENT
DTSTART;TZID=America/Denver:20290114T190000
DTEND;TZID=America/Denver:20290115T003000
DTSTAMP:20260420T183710
CREATED:20230224T175726Z
LAST-MODIFIED:20240315T154359Z
UID:10206831-1863111600-1863131400@golatindance.com
SUMMARY:Salsa Bachata Sundays at La Rumba
DESCRIPTION:Put on your dancing shoes and come heat up the floor tonight at La Rumba with ALL your favorite salsa\, bachata and more. \nTonight’s Happenings\n7:00 pm  Doors and bar open\n7:00ish pm – 8:00 pm Beginning/ Intermediate Sensual Bachata Lesson\n8:00 pm – 9:00 pm Beginning/ Intermediate Salsa Lesson=\n9:00 pm – 12:30 am  DJs
URL:https://golatindance.com/event/salsa-sundays-at-la-rumba/2029-01-14/
LOCATION:La Rumba\, 99 W. 9th Ave\, Denver\, CO 80204\, Denver\, CO\, 80204\, US
CATEGORIES:Denver
ATTACH;FMTTYPE=image/jpeg:https://golatindance.com/wp-content/uploads/2023/02/417681044_7030642097014685_6370717221699319249_n.jpg
END:VEVENT
BEGIN:VEVENT
DTSTART;TZID=America/Denver:20290121T190000
DTEND;TZID=America/Denver:20290122T003000
DTSTAMP:20260420T183710
CREATED:20230224T175726Z
LAST-MODIFIED:20240315T154359Z
UID:10206832-1863716400-1863736200@golatindance.com
SUMMARY:Salsa Bachata Sundays at La Rumba
DESCRIPTION:Put on your dancing shoes and come heat up the floor tonight at La Rumba with ALL your favorite salsa\, bachata and more. \nTonight’s Happenings\n7:00 pm  Doors and bar open\n7:00ish pm – 8:00 pm Beginning/ Intermediate Sensual Bachata Lesson\n8:00 pm – 9:00 pm Beginning/ Intermediate Salsa Lesson=\n9:00 pm – 12:30 am  DJs
URL:https://golatindance.com/event/salsa-sundays-at-la-rumba/2029-01-21/
LOCATION:La Rumba\, 99 W. 9th Ave\, Denver\, CO 80204\, Denver\, CO\, 80204\, US
CATEGORIES:Denver
ATTACH;FMTTYPE=image/jpeg:https://golatindance.com/wp-content/uploads/2023/02/417681044_7030642097014685_6370717221699319249_n.jpg
END:VEVENT
BEGIN:VEVENT
DTSTART;TZID=America/Denver:20290128T190000
DTEND;TZID=America/Denver:20290129T003000
DTSTAMP:20260420T183710
CREATED:20230224T175726Z
LAST-MODIFIED:20240315T154359Z
UID:10225787-1864321200-1864341000@golatindance.com
SUMMARY:Salsa Bachata Sundays at La Rumba
DESCRIPTION:Put on your dancing shoes and come heat up the floor tonight at La Rumba with ALL your favorite salsa\, bachata and more. \nTonight’s Happenings\n7:00 pm  Doors and bar open\n7:00ish pm – 8:00 pm Beginning/ Intermediate Sensual Bachata Lesson\n8:00 pm – 9:00 pm Beginning/ Intermediate Salsa Lesson=\n9:00 pm – 12:30 am  DJs
URL:https://golatindance.com/event/salsa-sundays-at-la-rumba/2029-01-28/
LOCATION:La Rumba\, 99 W. 9th Ave\, Denver\, CO 80204\, Denver\, CO\, 80204\, US
CATEGORIES:Denver
ATTACH;FMTTYPE=image/jpeg:https://golatindance.com/wp-content/uploads/2023/02/417681044_7030642097014685_6370717221699319249_n.jpg
END:VEVENT
BEGIN:VEVENT
DTSTART;TZID=America/Denver:20290204T190000
DTEND;TZID=America/Denver:20290205T003000
DTSTAMP:20260420T183710
CREATED:20230224T175726Z
LAST-MODIFIED:20240315T154359Z
UID:10225788-1864926000-1864945800@golatindance.com
SUMMARY:Salsa Bachata Sundays at La Rumba
DESCRIPTION:Put on your dancing shoes and come heat up the floor tonight at La Rumba with ALL your favorite salsa\, bachata and more. \nTonight’s Happenings\n7:00 pm  Doors and bar open\n7:00ish pm – 8:00 pm Beginning/ Intermediate Sensual Bachata Lesson\n8:00 pm – 9:00 pm Beginning/ Intermediate Salsa Lesson=\n9:00 pm – 12:30 am  DJs
URL:https://golatindance.com/event/salsa-sundays-at-la-rumba/2029-02-04/
LOCATION:La Rumba\, 99 W. 9th Ave\, Denver\, CO 80204\, Denver\, CO\, 80204\, US
CATEGORIES:Denver
ATTACH;FMTTYPE=image/jpeg:https://golatindance.com/wp-content/uploads/2023/02/417681044_7030642097014685_6370717221699319249_n.jpg
END:VEVENT
BEGIN:VEVENT
DTSTART;TZID=America/Denver:20290211T190000
DTEND;TZID=America/Denver:20290212T003000
DTSTAMP:20260420T183710
CREATED:20230224T175726Z
LAST-MODIFIED:20240315T154359Z
UID:10225789-1865530800-1865550600@golatindance.com
SUMMARY:Salsa Bachata Sundays at La Rumba
DESCRIPTION:Put on your dancing shoes and come heat up the floor tonight at La Rumba with ALL your favorite salsa\, bachata and more. \nTonight’s Happenings\n7:00 pm  Doors and bar open\n7:00ish pm – 8:00 pm Beginning/ Intermediate Sensual Bachata Lesson\n8:00 pm – 9:00 pm Beginning/ Intermediate Salsa Lesson=\n9:00 pm – 12:30 am  DJs
URL:https://golatindance.com/event/salsa-sundays-at-la-rumba/2029-02-11/
LOCATION:La Rumba\, 99 W. 9th Ave\, Denver\, CO 80204\, Denver\, CO\, 80204\, US
CATEGORIES:Denver
ATTACH;FMTTYPE=image/jpeg:https://golatindance.com/wp-content/uploads/2023/02/417681044_7030642097014685_6370717221699319249_n.jpg
END:VEVENT
BEGIN:VEVENT
DTSTART;TZID=America/Denver:20290218T190000
DTEND;TZID=America/Denver:20290219T003000
DTSTAMP:20260420T183710
CREATED:20230224T175726Z
LAST-MODIFIED:20240315T154359Z
UID:10225790-1866135600-1866155400@golatindance.com
SUMMARY:Salsa Bachata Sundays at La Rumba
DESCRIPTION:Put on your dancing shoes and come heat up the floor tonight at La Rumba with ALL your favorite salsa\, bachata and more. \nTonight’s Happenings\n7:00 pm  Doors and bar open\n7:00ish pm – 8:00 pm Beginning/ Intermediate Sensual Bachata Lesson\n8:00 pm – 9:00 pm Beginning/ Intermediate Salsa Lesson=\n9:00 pm – 12:30 am  DJs
URL:https://golatindance.com/event/salsa-sundays-at-la-rumba/2029-02-18/
LOCATION:La Rumba\, 99 W. 9th Ave\, Denver\, CO 80204\, Denver\, CO\, 80204\, US
CATEGORIES:Denver
ATTACH;FMTTYPE=image/jpeg:https://golatindance.com/wp-content/uploads/2023/02/417681044_7030642097014685_6370717221699319249_n.jpg
END:VEVENT
BEGIN:VEVENT
DTSTART;TZID=America/Denver:20290225T190000
DTEND;TZID=America/Denver:20290226T003000
DTSTAMP:20260420T183710
CREATED:20230224T175726Z
LAST-MODIFIED:20240315T154359Z
UID:10225791-1866740400-1866760200@golatindance.com
SUMMARY:Salsa Bachata Sundays at La Rumba
DESCRIPTION:Put on your dancing shoes and come heat up the floor tonight at La Rumba with ALL your favorite salsa\, bachata and more. \nTonight’s Happenings\n7:00 pm  Doors and bar open\n7:00ish pm – 8:00 pm Beginning/ Intermediate Sensual Bachata Lesson\n8:00 pm – 9:00 pm Beginning/ Intermediate Salsa Lesson=\n9:00 pm – 12:30 am  DJs
URL:https://golatindance.com/event/salsa-sundays-at-la-rumba/2029-02-25/
LOCATION:La Rumba\, 99 W. 9th Ave\, Denver\, CO 80204\, Denver\, CO\, 80204\, US
CATEGORIES:Denver
ATTACH;FMTTYPE=image/jpeg:https://golatindance.com/wp-content/uploads/2023/02/417681044_7030642097014685_6370717221699319249_n.jpg
END:VEVENT
BEGIN:VEVENT
DTSTART;TZID=America/Denver:20290304T190000
DTEND;TZID=America/Denver:20290305T003000
DTSTAMP:20260420T183710
CREATED:20230224T175726Z
LAST-MODIFIED:20240315T154359Z
UID:10225792-1867345200-1867365000@golatindance.com
SUMMARY:Salsa Bachata Sundays at La Rumba
DESCRIPTION:Put on your dancing shoes and come heat up the floor tonight at La Rumba with ALL your favorite salsa\, bachata and more. \nTonight’s Happenings\n7:00 pm  Doors and bar open\n7:00ish pm – 8:00 pm Beginning/ Intermediate Sensual Bachata Lesson\n8:00 pm – 9:00 pm Beginning/ Intermediate Salsa Lesson=\n9:00 pm – 12:30 am  DJs
URL:https://golatindance.com/event/salsa-sundays-at-la-rumba/2029-03-04/
LOCATION:La Rumba\, 99 W. 9th Ave\, Denver\, CO 80204\, Denver\, CO\, 80204\, US
CATEGORIES:Denver
ATTACH;FMTTYPE=image/jpeg:https://golatindance.com/wp-content/uploads/2023/02/417681044_7030642097014685_6370717221699319249_n.jpg
END:VEVENT
BEGIN:VEVENT
DTSTART;TZID=America/Denver:20290311T190000
DTEND;TZID=America/Denver:20290312T003000
DTSTAMP:20260420T183710
CREATED:20230224T175726Z
LAST-MODIFIED:20240315T154359Z
UID:10225793-1867950000-1867969800@golatindance.com
SUMMARY:Salsa Bachata Sundays at La Rumba
DESCRIPTION:Put on your dancing shoes and come heat up the floor tonight at La Rumba with ALL your favorite salsa\, bachata and more. \nTonight’s Happenings\n7:00 pm  Doors and bar open\n7:00ish pm – 8:00 pm Beginning/ Intermediate Sensual Bachata Lesson\n8:00 pm – 9:00 pm Beginning/ Intermediate Salsa Lesson=\n9:00 pm – 12:30 am  DJs
URL:https://golatindance.com/event/salsa-sundays-at-la-rumba/2029-03-11/
LOCATION:La Rumba\, 99 W. 9th Ave\, Denver\, CO 80204\, Denver\, CO\, 80204\, US
CATEGORIES:Denver
ATTACH;FMTTYPE=image/jpeg:https://golatindance.com/wp-content/uploads/2023/02/417681044_7030642097014685_6370717221699319249_n.jpg
END:VEVENT
END:VCALENDAR