BEGIN:VCALENDAR
VERSION:2.0
PRODID:-//GO Latin Dance - ECPv6.15.18//NONSGML v1.0//EN
CALSCALE:GREGORIAN
METHOD:PUBLISH
X-ORIGINAL-URL:https://golatindance.com
X-WR-CALDESC:Events for GO Latin Dance
REFRESH-INTERVAL;VALUE=DURATION:PT1H
X-Robots-Tag:noindex
X-PUBLISHED-TTL:PT1H
BEGIN:VTIMEZONE
TZID:Europe/London
BEGIN:DAYLIGHT
TZOFFSETFROM:+0000
TZOFFSETTO:+0100
TZNAME:BST
DTSTART:20250330T010000
END:DAYLIGHT
BEGIN:STANDARD
TZOFFSETFROM:+0100
TZOFFSETTO:+0000
TZNAME:GMT
DTSTART:20251026T010000
END:STANDARD
BEGIN:DAYLIGHT
TZOFFSETFROM:+0000
TZOFFSETTO:+0100
TZNAME:BST
DTSTART:20260329T010000
END:DAYLIGHT
BEGIN:STANDARD
TZOFFSETFROM:+0100
TZOFFSETTO:+0000
TZNAME:GMT
DTSTART:20261025T010000
END:STANDARD
BEGIN:DAYLIGHT
TZOFFSETFROM:+0000
TZOFFSETTO:+0100
TZNAME:BST
DTSTART:20270328T010000
END:DAYLIGHT
BEGIN:STANDARD
TZOFFSETFROM:+0100
TZOFFSETTO:+0000
TZNAME:GMT
DTSTART:20271031T010000
END:STANDARD
END:VTIMEZONE
BEGIN:VEVENT
DTSTART;TZID=Europe/London:20260423T190000
DTEND;TZID=Europe/London:20260424T000000
DTSTAMP:20260424T163848
CREATED:20260222T175937Z
LAST-MODIFIED:20260222T180240Z
UID:10447021-1776970800-1776988800@golatindance.com
SUMMARY:FUEGO Thursdays
DESCRIPTION:Weekly Thursdays | 🕑7PM-12AM \n📍𝐋𝐎𝐂𝐀𝐓𝐈𝐎𝐍\nLa Terraza Tapas Bar & Restaurant\, 27-31 Bedford Rd\, London SW4 7SH\n(2 mins walk to Clapham North Tube Station) \n✅ Free Salsa & Bachata Intro Classes (7-7:30PM)\n💃 No partner needed\n🕺 Classes + Club\n🎶 Great music\, great vibes\n……………………………….\n🕖 7:30-9:30pm – 2hrs of classes in Xbody Salsa (5 levels) & Bachata (3 levels)\nNO BOOKING REQUIRED for classes \n🎶 From 9:30PM – CLUB NIGHT \n💸 Class & Club tickets from £8pp\n💸 Party Entry Free B4 8:30pm / £5 after\nBUT\, get your Party Pass for just £2.50 via ….\nhttps://latincollectiveuk.com/index.php/class-stuff/fuego-thursdays-laterraza
URL:https://golatindance.com/event/fuego-thursdays-free-salsa-bachata-intro-class-at-7pm-every-thursday/2026-04-23/
LOCATION:La Terraza Tapas Bar & Restaurant\, 27-31 Bedford Rd\, London\, SW4 7SH\, United Kingdom
CATEGORIES:London
END:VEVENT
BEGIN:VEVENT
DTSTART;TZID=Europe/London:20260417T210000
DTEND;TZID=Europe/London:20260418T020000
DTSTAMP:20260424T163848
CREATED:20260201T205601Z
LAST-MODIFIED:20260201T205945Z
UID:10435599-1776459600-1776477600@golatindance.com
SUMMARY:SABOR LATINO - Clapham Weekly Fridays | Salsa | Bachata | Reggaeton | Latin Party
DESCRIPTION:Introducing…\n🤩 SABOR LATINO – Clapham 🤩\nWeekly Friday nights….9PM-LATE \n💥 FREE FUN CLASSES with The Latin Collective (21:00–21:45) \n🎧 LIVE DJ | 🍹 HAPPY HOUR | 🍺 BEER BUCKETS | 🍤 LATE NIGHT TAPAS\n🍽️ Book a table for dinner- https://shorturl.at/AB1cx\n🕤 21:45–LATE Party dancing to the hottest Salsa\, Bachata\, Reggaeton & Latin Party Music in town \n🎟️ VIP PERK for Latin Collective Members\n✨ FREE VIP Ticket – https://shorturl.at/6VRLC\n🥂 FREE Welcome Drink\n💸 15% OFF your table bill (min £50 spend)\n🔑 Discount code: LATINCOLLECTIVE \n📍 LOCATION 📍\nLa Terraza Clapham Tapas Bar & Restaurant\n27–31 Bedford Rd\, London SW4 7SH \n🎫 FREE EARLY BIRD TICKETS\n🎫 FREE ENTRY BEFORE 9PM | £3 entry thereafter 💃🔥 \n🔥 Come early. Stay late. Pásala Sabroso 💃🕺
URL:https://golatindance.com/event/sabor-latino-clapham-weekly-fridays-salsa-bachata-reggaeton-latin-party/2026-04-17/
LOCATION:La Terraza Tapas Bar & Restaurant\, 27-31 Bedford Rd\, London\, SW4 7SH\, United Kingdom
CATEGORIES:London
ATTACH;FMTTYPE=image/jpeg:https://golatindance.com/wp-content/uploads/2026/02/299192_image_624108709_1498815015584355_1903984558474549715_n.jpg
END:VEVENT
BEGIN:VEVENT
DTSTART;TZID=Europe/London:20260416T190000
DTEND;TZID=Europe/London:20260417T000000
DTSTAMP:20260424T163848
CREATED:20260222T175937Z
LAST-MODIFIED:20260222T180240Z
UID:10447020-1776366000-1776384000@golatindance.com
SUMMARY:FUEGO Thursdays
DESCRIPTION:Weekly Thursdays | 🕑7PM-12AM \n📍𝐋𝐎𝐂𝐀𝐓𝐈𝐎𝐍\nLa Terraza Tapas Bar & Restaurant\, 27-31 Bedford Rd\, London SW4 7SH\n(2 mins walk to Clapham North Tube Station) \n✅ Free Salsa & Bachata Intro Classes (7-7:30PM)\n💃 No partner needed\n🕺 Classes + Club\n🎶 Great music\, great vibes\n……………………………….\n🕖 7:30-9:30pm – 2hrs of classes in Xbody Salsa (5 levels) & Bachata (3 levels)\nNO BOOKING REQUIRED for classes \n🎶 From 9:30PM – CLUB NIGHT \n💸 Class & Club tickets from £8pp\n💸 Party Entry Free B4 8:30pm / £5 after\nBUT\, get your Party Pass for just £2.50 via ….\nhttps://latincollectiveuk.com/index.php/class-stuff/fuego-thursdays-laterraza
URL:https://golatindance.com/event/fuego-thursdays-free-salsa-bachata-intro-class-at-7pm-every-thursday/2026-04-16/
LOCATION:La Terraza Tapas Bar & Restaurant\, 27-31 Bedford Rd\, London\, SW4 7SH\, United Kingdom
CATEGORIES:London
END:VEVENT
BEGIN:VEVENT
DTSTART;TZID=Europe/London:20260410T210000
DTEND;TZID=Europe/London:20260411T020000
DTSTAMP:20260424T163848
CREATED:20260201T205601Z
LAST-MODIFIED:20260201T205945Z
UID:10435598-1775854800-1775872800@golatindance.com
SUMMARY:SABOR LATINO - Clapham Weekly Fridays | Salsa | Bachata | Reggaeton | Latin Party
DESCRIPTION:Introducing…\n🤩 SABOR LATINO – Clapham 🤩\nWeekly Friday nights….9PM-LATE \n💥 FREE FUN CLASSES with The Latin Collective (21:00–21:45) \n🎧 LIVE DJ | 🍹 HAPPY HOUR | 🍺 BEER BUCKETS | 🍤 LATE NIGHT TAPAS\n🍽️ Book a table for dinner- https://shorturl.at/AB1cx\n🕤 21:45–LATE Party dancing to the hottest Salsa\, Bachata\, Reggaeton & Latin Party Music in town \n🎟️ VIP PERK for Latin Collective Members\n✨ FREE VIP Ticket – https://shorturl.at/6VRLC\n🥂 FREE Welcome Drink\n💸 15% OFF your table bill (min £50 spend)\n🔑 Discount code: LATINCOLLECTIVE \n📍 LOCATION 📍\nLa Terraza Clapham Tapas Bar & Restaurant\n27–31 Bedford Rd\, London SW4 7SH \n🎫 FREE EARLY BIRD TICKETS\n🎫 FREE ENTRY BEFORE 9PM | £3 entry thereafter 💃🔥 \n🔥 Come early. Stay late. Pásala Sabroso 💃🕺
URL:https://golatindance.com/event/sabor-latino-clapham-weekly-fridays-salsa-bachata-reggaeton-latin-party/2026-04-10/
LOCATION:La Terraza Tapas Bar & Restaurant\, 27-31 Bedford Rd\, London\, SW4 7SH\, United Kingdom
CATEGORIES:London
ATTACH;FMTTYPE=image/jpeg:https://golatindance.com/wp-content/uploads/2026/02/299192_image_624108709_1498815015584355_1903984558474549715_n.jpg
END:VEVENT
BEGIN:VEVENT
DTSTART;TZID=Europe/London:20260409T190000
DTEND;TZID=Europe/London:20260410T000000
DTSTAMP:20260424T163848
CREATED:20260222T175937Z
LAST-MODIFIED:20260222T180240Z
UID:10447019-1775761200-1775779200@golatindance.com
SUMMARY:FUEGO Thursdays
DESCRIPTION:Weekly Thursdays | 🕑7PM-12AM \n📍𝐋𝐎𝐂𝐀𝐓𝐈𝐎𝐍\nLa Terraza Tapas Bar & Restaurant\, 27-31 Bedford Rd\, London SW4 7SH\n(2 mins walk to Clapham North Tube Station) \n✅ Free Salsa & Bachata Intro Classes (7-7:30PM)\n💃 No partner needed\n🕺 Classes + Club\n🎶 Great music\, great vibes\n……………………………….\n🕖 7:30-9:30pm – 2hrs of classes in Xbody Salsa (5 levels) & Bachata (3 levels)\nNO BOOKING REQUIRED for classes \n🎶 From 9:30PM – CLUB NIGHT \n💸 Class & Club tickets from £8pp\n💸 Party Entry Free B4 8:30pm / £5 after\nBUT\, get your Party Pass for just £2.50 via ….\nhttps://latincollectiveuk.com/index.php/class-stuff/fuego-thursdays-laterraza
URL:https://golatindance.com/event/fuego-thursdays-free-salsa-bachata-intro-class-at-7pm-every-thursday/2026-04-09/
LOCATION:La Terraza Tapas Bar & Restaurant\, 27-31 Bedford Rd\, London\, SW4 7SH\, United Kingdom
CATEGORIES:London
END:VEVENT
BEGIN:VEVENT
DTSTART;TZID=Europe/London:20260403T210000
DTEND;TZID=Europe/London:20260404T020000
DTSTAMP:20260424T163848
CREATED:20260201T205601Z
LAST-MODIFIED:20260201T205945Z
UID:10435597-1775250000-1775268000@golatindance.com
SUMMARY:SABOR LATINO - Clapham Weekly Fridays | Salsa | Bachata | Reggaeton | Latin Party
DESCRIPTION:Introducing…\n🤩 SABOR LATINO – Clapham 🤩\nWeekly Friday nights….9PM-LATE \n💥 FREE FUN CLASSES with The Latin Collective (21:00–21:45) \n🎧 LIVE DJ | 🍹 HAPPY HOUR | 🍺 BEER BUCKETS | 🍤 LATE NIGHT TAPAS\n🍽️ Book a table for dinner- https://shorturl.at/AB1cx\n🕤 21:45–LATE Party dancing to the hottest Salsa\, Bachata\, Reggaeton & Latin Party Music in town \n🎟️ VIP PERK for Latin Collective Members\n✨ FREE VIP Ticket – https://shorturl.at/6VRLC\n🥂 FREE Welcome Drink\n💸 15% OFF your table bill (min £50 spend)\n🔑 Discount code: LATINCOLLECTIVE \n📍 LOCATION 📍\nLa Terraza Clapham Tapas Bar & Restaurant\n27–31 Bedford Rd\, London SW4 7SH \n🎫 FREE EARLY BIRD TICKETS\n🎫 FREE ENTRY BEFORE 9PM | £3 entry thereafter 💃🔥 \n🔥 Come early. Stay late. Pásala Sabroso 💃🕺
URL:https://golatindance.com/event/sabor-latino-clapham-weekly-fridays-salsa-bachata-reggaeton-latin-party/2026-04-03/
LOCATION:La Terraza Tapas Bar & Restaurant\, 27-31 Bedford Rd\, London\, SW4 7SH\, United Kingdom
CATEGORIES:London
ATTACH;FMTTYPE=image/jpeg:https://golatindance.com/wp-content/uploads/2026/02/299192_image_624108709_1498815015584355_1903984558474549715_n.jpg
END:VEVENT
BEGIN:VEVENT
DTSTART;TZID=Europe/London:20260402T190000
DTEND;TZID=Europe/London:20260403T000000
DTSTAMP:20260424T163848
CREATED:20260222T175937Z
LAST-MODIFIED:20260222T180240Z
UID:10447018-1775156400-1775174400@golatindance.com
SUMMARY:FUEGO Thursdays
DESCRIPTION:Weekly Thursdays | 🕑7PM-12AM \n📍𝐋𝐎𝐂𝐀𝐓𝐈𝐎𝐍\nLa Terraza Tapas Bar & Restaurant\, 27-31 Bedford Rd\, London SW4 7SH\n(2 mins walk to Clapham North Tube Station) \n✅ Free Salsa & Bachata Intro Classes (7-7:30PM)\n💃 No partner needed\n🕺 Classes + Club\n🎶 Great music\, great vibes\n……………………………….\n🕖 7:30-9:30pm – 2hrs of classes in Xbody Salsa (5 levels) & Bachata (3 levels)\nNO BOOKING REQUIRED for classes \n🎶 From 9:30PM – CLUB NIGHT \n💸 Class & Club tickets from £8pp\n💸 Party Entry Free B4 8:30pm / £5 after\nBUT\, get your Party Pass for just £2.50 via ….\nhttps://latincollectiveuk.com/index.php/class-stuff/fuego-thursdays-laterraza
URL:https://golatindance.com/event/fuego-thursdays-free-salsa-bachata-intro-class-at-7pm-every-thursday/2026-04-02/
LOCATION:La Terraza Tapas Bar & Restaurant\, 27-31 Bedford Rd\, London\, SW4 7SH\, United Kingdom
CATEGORIES:London
END:VEVENT
BEGIN:VEVENT
DTSTART;TZID=Europe/London:20260327T210000
DTEND;TZID=Europe/London:20260328T020000
DTSTAMP:20260424T163848
CREATED:20260201T205601Z
LAST-MODIFIED:20260201T205945Z
UID:10435596-1774645200-1774663200@golatindance.com
SUMMARY:SABOR LATINO - Clapham Weekly Fridays | Salsa | Bachata | Reggaeton | Latin Party
DESCRIPTION:Introducing…\n🤩 SABOR LATINO – Clapham 🤩\nWeekly Friday nights….9PM-LATE \n💥 FREE FUN CLASSES with The Latin Collective (21:00–21:45) \n🎧 LIVE DJ | 🍹 HAPPY HOUR | 🍺 BEER BUCKETS | 🍤 LATE NIGHT TAPAS\n🍽️ Book a table for dinner- https://shorturl.at/AB1cx\n🕤 21:45–LATE Party dancing to the hottest Salsa\, Bachata\, Reggaeton & Latin Party Music in town \n🎟️ VIP PERK for Latin Collective Members\n✨ FREE VIP Ticket – https://shorturl.at/6VRLC\n🥂 FREE Welcome Drink\n💸 15% OFF your table bill (min £50 spend)\n🔑 Discount code: LATINCOLLECTIVE \n📍 LOCATION 📍\nLa Terraza Clapham Tapas Bar & Restaurant\n27–31 Bedford Rd\, London SW4 7SH \n🎫 FREE EARLY BIRD TICKETS\n🎫 FREE ENTRY BEFORE 9PM | £3 entry thereafter 💃🔥 \n🔥 Come early. Stay late. Pásala Sabroso 💃🕺
URL:https://golatindance.com/event/sabor-latino-clapham-weekly-fridays-salsa-bachata-reggaeton-latin-party/2026-03-27/
LOCATION:La Terraza Tapas Bar & Restaurant\, 27-31 Bedford Rd\, London\, SW4 7SH\, United Kingdom
CATEGORIES:London
ATTACH;FMTTYPE=image/jpeg:https://golatindance.com/wp-content/uploads/2026/02/299192_image_624108709_1498815015584355_1903984558474549715_n.jpg
END:VEVENT
BEGIN:VEVENT
DTSTART;TZID=Europe/London:20260326T190000
DTEND;TZID=Europe/London:20260327T000000
DTSTAMP:20260424T163848
CREATED:20260222T175937Z
LAST-MODIFIED:20260222T180240Z
UID:10447017-1774551600-1774569600@golatindance.com
SUMMARY:FUEGO Thursdays
DESCRIPTION:Weekly Thursdays | 🕑7PM-12AM \n📍𝐋𝐎𝐂𝐀𝐓𝐈𝐎𝐍\nLa Terraza Tapas Bar & Restaurant\, 27-31 Bedford Rd\, London SW4 7SH\n(2 mins walk to Clapham North Tube Station) \n✅ Free Salsa & Bachata Intro Classes (7-7:30PM)\n💃 No partner needed\n🕺 Classes + Club\n🎶 Great music\, great vibes\n……………………………….\n🕖 7:30-9:30pm – 2hrs of classes in Xbody Salsa (5 levels) & Bachata (3 levels)\nNO BOOKING REQUIRED for classes \n🎶 From 9:30PM – CLUB NIGHT \n💸 Class & Club tickets from £8pp\n💸 Party Entry Free B4 8:30pm / £5 after\nBUT\, get your Party Pass for just £2.50 via ….\nhttps://latincollectiveuk.com/index.php/class-stuff/fuego-thursdays-laterraza
URL:https://golatindance.com/event/fuego-thursdays-free-salsa-bachata-intro-class-at-7pm-every-thursday/2026-03-26/
LOCATION:La Terraza Tapas Bar & Restaurant\, 27-31 Bedford Rd\, London\, SW4 7SH\, United Kingdom
CATEGORIES:London
END:VEVENT
BEGIN:VEVENT
DTSTART;TZID=Europe/London:20260320T210000
DTEND;TZID=Europe/London:20260321T020000
DTSTAMP:20260424T163848
CREATED:20260201T205601Z
LAST-MODIFIED:20260201T205945Z
UID:10435595-1774040400-1774058400@golatindance.com
SUMMARY:SABOR LATINO - Clapham Weekly Fridays | Salsa | Bachata | Reggaeton | Latin Party
DESCRIPTION:Introducing…\n🤩 SABOR LATINO – Clapham 🤩\nWeekly Friday nights….9PM-LATE \n💥 FREE FUN CLASSES with The Latin Collective (21:00–21:45) \n🎧 LIVE DJ | 🍹 HAPPY HOUR | 🍺 BEER BUCKETS | 🍤 LATE NIGHT TAPAS\n🍽️ Book a table for dinner- https://shorturl.at/AB1cx\n🕤 21:45–LATE Party dancing to the hottest Salsa\, Bachata\, Reggaeton & Latin Party Music in town \n🎟️ VIP PERK for Latin Collective Members\n✨ FREE VIP Ticket – https://shorturl.at/6VRLC\n🥂 FREE Welcome Drink\n💸 15% OFF your table bill (min £50 spend)\n🔑 Discount code: LATINCOLLECTIVE \n📍 LOCATION 📍\nLa Terraza Clapham Tapas Bar & Restaurant\n27–31 Bedford Rd\, London SW4 7SH \n🎫 FREE EARLY BIRD TICKETS\n🎫 FREE ENTRY BEFORE 9PM | £3 entry thereafter 💃🔥 \n🔥 Come early. Stay late. Pásala Sabroso 💃🕺
URL:https://golatindance.com/event/sabor-latino-clapham-weekly-fridays-salsa-bachata-reggaeton-latin-party/2026-03-20/
LOCATION:La Terraza Tapas Bar & Restaurant\, 27-31 Bedford Rd\, London\, SW4 7SH\, United Kingdom
CATEGORIES:London
ATTACH;FMTTYPE=image/jpeg:https://golatindance.com/wp-content/uploads/2026/02/299192_image_624108709_1498815015584355_1903984558474549715_n.jpg
END:VEVENT
BEGIN:VEVENT
DTSTART;TZID=Europe/London:20260319T190000
DTEND;TZID=Europe/London:20260320T000000
DTSTAMP:20260424T163848
CREATED:20260222T175937Z
LAST-MODIFIED:20260222T180240Z
UID:10447016-1773946800-1773964800@golatindance.com
SUMMARY:FUEGO Thursdays
DESCRIPTION:Weekly Thursdays | 🕑7PM-12AM \n📍𝐋𝐎𝐂𝐀𝐓𝐈𝐎𝐍\nLa Terraza Tapas Bar & Restaurant\, 27-31 Bedford Rd\, London SW4 7SH\n(2 mins walk to Clapham North Tube Station) \n✅ Free Salsa & Bachata Intro Classes (7-7:30PM)\n💃 No partner needed\n🕺 Classes + Club\n🎶 Great music\, great vibes\n……………………………….\n🕖 7:30-9:30pm – 2hrs of classes in Xbody Salsa (5 levels) & Bachata (3 levels)\nNO BOOKING REQUIRED for classes \n🎶 From 9:30PM – CLUB NIGHT \n💸 Class & Club tickets from £8pp\n💸 Party Entry Free B4 8:30pm / £5 after\nBUT\, get your Party Pass for just £2.50 via ….\nhttps://latincollectiveuk.com/index.php/class-stuff/fuego-thursdays-laterraza
URL:https://golatindance.com/event/fuego-thursdays-free-salsa-bachata-intro-class-at-7pm-every-thursday/2026-03-19/
LOCATION:La Terraza Tapas Bar & Restaurant\, 27-31 Bedford Rd\, London\, SW4 7SH\, United Kingdom
CATEGORIES:London
END:VEVENT
BEGIN:VEVENT
DTSTART;TZID=Europe/London:20260313T210000
DTEND;TZID=Europe/London:20260314T020000
DTSTAMP:20260424T163848
CREATED:20260201T205601Z
LAST-MODIFIED:20260201T205945Z
UID:10435594-1773435600-1773453600@golatindance.com
SUMMARY:SABOR LATINO - Clapham Weekly Fridays | Salsa | Bachata | Reggaeton | Latin Party
DESCRIPTION:Introducing…\n🤩 SABOR LATINO – Clapham 🤩\nWeekly Friday nights….9PM-LATE \n💥 FREE FUN CLASSES with The Latin Collective (21:00–21:45) \n🎧 LIVE DJ | 🍹 HAPPY HOUR | 🍺 BEER BUCKETS | 🍤 LATE NIGHT TAPAS\n🍽️ Book a table for dinner- https://shorturl.at/AB1cx\n🕤 21:45–LATE Party dancing to the hottest Salsa\, Bachata\, Reggaeton & Latin Party Music in town \n🎟️ VIP PERK for Latin Collective Members\n✨ FREE VIP Ticket – https://shorturl.at/6VRLC\n🥂 FREE Welcome Drink\n💸 15% OFF your table bill (min £50 spend)\n🔑 Discount code: LATINCOLLECTIVE \n📍 LOCATION 📍\nLa Terraza Clapham Tapas Bar & Restaurant\n27–31 Bedford Rd\, London SW4 7SH \n🎫 FREE EARLY BIRD TICKETS\n🎫 FREE ENTRY BEFORE 9PM | £3 entry thereafter 💃🔥 \n🔥 Come early. Stay late. Pásala Sabroso 💃🕺
URL:https://golatindance.com/event/sabor-latino-clapham-weekly-fridays-salsa-bachata-reggaeton-latin-party/2026-03-13/
LOCATION:La Terraza Tapas Bar & Restaurant\, 27-31 Bedford Rd\, London\, SW4 7SH\, United Kingdom
CATEGORIES:London
ATTACH;FMTTYPE=image/jpeg:https://golatindance.com/wp-content/uploads/2026/02/299192_image_624108709_1498815015584355_1903984558474549715_n.jpg
END:VEVENT
BEGIN:VEVENT
DTSTART;TZID=Europe/London:20260312T190000
DTEND;TZID=Europe/London:20260313T000000
DTSTAMP:20260424T163848
CREATED:20260222T175937Z
LAST-MODIFIED:20260222T180240Z
UID:10447015-1773342000-1773360000@golatindance.com
SUMMARY:FUEGO Thursdays
DESCRIPTION:Weekly Thursdays | 🕑7PM-12AM \n📍𝐋𝐎𝐂𝐀𝐓𝐈𝐎𝐍\nLa Terraza Tapas Bar & Restaurant\, 27-31 Bedford Rd\, London SW4 7SH\n(2 mins walk to Clapham North Tube Station) \n✅ Free Salsa & Bachata Intro Classes (7-7:30PM)\n💃 No partner needed\n🕺 Classes + Club\n🎶 Great music\, great vibes\n……………………………….\n🕖 7:30-9:30pm – 2hrs of classes in Xbody Salsa (5 levels) & Bachata (3 levels)\nNO BOOKING REQUIRED for classes \n🎶 From 9:30PM – CLUB NIGHT \n💸 Class & Club tickets from £8pp\n💸 Party Entry Free B4 8:30pm / £5 after\nBUT\, get your Party Pass for just £2.50 via ….\nhttps://latincollectiveuk.com/index.php/class-stuff/fuego-thursdays-laterraza
URL:https://golatindance.com/event/fuego-thursdays-free-salsa-bachata-intro-class-at-7pm-every-thursday/2026-03-12/
LOCATION:La Terraza Tapas Bar & Restaurant\, 27-31 Bedford Rd\, London\, SW4 7SH\, United Kingdom
CATEGORIES:London
END:VEVENT
BEGIN:VEVENT
DTSTART;TZID=Europe/London:20260306T210000
DTEND;TZID=Europe/London:20260307T020000
DTSTAMP:20260424T163848
CREATED:20260201T205601Z
LAST-MODIFIED:20260201T205945Z
UID:10435593-1772830800-1772848800@golatindance.com
SUMMARY:SABOR LATINO - Clapham Weekly Fridays | Salsa | Bachata | Reggaeton | Latin Party
DESCRIPTION:Introducing…\n🤩 SABOR LATINO – Clapham 🤩\nWeekly Friday nights….9PM-LATE \n💥 FREE FUN CLASSES with The Latin Collective (21:00–21:45) \n🎧 LIVE DJ | 🍹 HAPPY HOUR | 🍺 BEER BUCKETS | 🍤 LATE NIGHT TAPAS\n🍽️ Book a table for dinner- https://shorturl.at/AB1cx\n🕤 21:45–LATE Party dancing to the hottest Salsa\, Bachata\, Reggaeton & Latin Party Music in town \n🎟️ VIP PERK for Latin Collective Members\n✨ FREE VIP Ticket – https://shorturl.at/6VRLC\n🥂 FREE Welcome Drink\n💸 15% OFF your table bill (min £50 spend)\n🔑 Discount code: LATINCOLLECTIVE \n📍 LOCATION 📍\nLa Terraza Clapham Tapas Bar & Restaurant\n27–31 Bedford Rd\, London SW4 7SH \n🎫 FREE EARLY BIRD TICKETS\n🎫 FREE ENTRY BEFORE 9PM | £3 entry thereafter 💃🔥 \n🔥 Come early. Stay late. Pásala Sabroso 💃🕺
URL:https://golatindance.com/event/sabor-latino-clapham-weekly-fridays-salsa-bachata-reggaeton-latin-party/2026-03-06/
LOCATION:La Terraza Tapas Bar & Restaurant\, 27-31 Bedford Rd\, London\, SW4 7SH\, United Kingdom
CATEGORIES:London
ATTACH;FMTTYPE=image/jpeg:https://golatindance.com/wp-content/uploads/2026/02/299192_image_624108709_1498815015584355_1903984558474549715_n.jpg
END:VEVENT
BEGIN:VEVENT
DTSTART;TZID=Europe/London:20260305T190000
DTEND;TZID=Europe/London:20260306T000000
DTSTAMP:20260424T163848
CREATED:20260222T175937Z
LAST-MODIFIED:20260222T180240Z
UID:10447014-1772737200-1772755200@golatindance.com
SUMMARY:FUEGO Thursdays
DESCRIPTION:Weekly Thursdays | 🕑7PM-12AM \n📍𝐋𝐎𝐂𝐀𝐓𝐈𝐎𝐍\nLa Terraza Tapas Bar & Restaurant\, 27-31 Bedford Rd\, London SW4 7SH\n(2 mins walk to Clapham North Tube Station) \n✅ Free Salsa & Bachata Intro Classes (7-7:30PM)\n💃 No partner needed\n🕺 Classes + Club\n🎶 Great music\, great vibes\n……………………………….\n🕖 7:30-9:30pm – 2hrs of classes in Xbody Salsa (5 levels) & Bachata (3 levels)\nNO BOOKING REQUIRED for classes \n🎶 From 9:30PM – CLUB NIGHT \n💸 Class & Club tickets from £8pp\n💸 Party Entry Free B4 8:30pm / £5 after\nBUT\, get your Party Pass for just £2.50 via ….\nhttps://latincollectiveuk.com/index.php/class-stuff/fuego-thursdays-laterraza
URL:https://golatindance.com/event/fuego-thursdays-free-salsa-bachata-intro-class-at-7pm-every-thursday/2026-03-05/
LOCATION:La Terraza Tapas Bar & Restaurant\, 27-31 Bedford Rd\, London\, SW4 7SH\, United Kingdom
CATEGORIES:London
END:VEVENT
BEGIN:VEVENT
DTSTART;TZID=Europe/London:20260227T210000
DTEND;TZID=Europe/London:20260228T020000
DTSTAMP:20260424T163848
CREATED:20260201T205601Z
LAST-MODIFIED:20260201T205945Z
UID:10435592-1772226000-1772244000@golatindance.com
SUMMARY:SABOR LATINO - Clapham Weekly Fridays | Salsa | Bachata | Reggaeton | Latin Party
DESCRIPTION:Introducing…\n🤩 SABOR LATINO – Clapham 🤩\nWeekly Friday nights….9PM-LATE \n💥 FREE FUN CLASSES with The Latin Collective (21:00–21:45) \n🎧 LIVE DJ | 🍹 HAPPY HOUR | 🍺 BEER BUCKETS | 🍤 LATE NIGHT TAPAS\n🍽️ Book a table for dinner- https://shorturl.at/AB1cx\n🕤 21:45–LATE Party dancing to the hottest Salsa\, Bachata\, Reggaeton & Latin Party Music in town \n🎟️ VIP PERK for Latin Collective Members\n✨ FREE VIP Ticket – https://shorturl.at/6VRLC\n🥂 FREE Welcome Drink\n💸 15% OFF your table bill (min £50 spend)\n🔑 Discount code: LATINCOLLECTIVE \n📍 LOCATION 📍\nLa Terraza Clapham Tapas Bar & Restaurant\n27–31 Bedford Rd\, London SW4 7SH \n🎫 FREE EARLY BIRD TICKETS\n🎫 FREE ENTRY BEFORE 9PM | £3 entry thereafter 💃🔥 \n🔥 Come early. Stay late. Pásala Sabroso 💃🕺
URL:https://golatindance.com/event/sabor-latino-clapham-weekly-fridays-salsa-bachata-reggaeton-latin-party/2026-02-27/
LOCATION:La Terraza Tapas Bar & Restaurant\, 27-31 Bedford Rd\, London\, SW4 7SH\, United Kingdom
CATEGORIES:London
ATTACH;FMTTYPE=image/jpeg:https://golatindance.com/wp-content/uploads/2026/02/299192_image_624108709_1498815015584355_1903984558474549715_n.jpg
END:VEVENT
BEGIN:VEVENT
DTSTART;TZID=Europe/London:20260226T190000
DTEND;TZID=Europe/London:20260227T000000
DTSTAMP:20260424T163848
CREATED:20260222T175937Z
LAST-MODIFIED:20260222T180240Z
UID:10447013-1772132400-1772150400@golatindance.com
SUMMARY:FUEGO Thursdays
DESCRIPTION:Weekly Thursdays | 🕑7PM-12AM \n📍𝐋𝐎𝐂𝐀𝐓𝐈𝐎𝐍\nLa Terraza Tapas Bar & Restaurant\, 27-31 Bedford Rd\, London SW4 7SH\n(2 mins walk to Clapham North Tube Station) \n✅ Free Salsa & Bachata Intro Classes (7-7:30PM)\n💃 No partner needed\n🕺 Classes + Club\n🎶 Great music\, great vibes\n……………………………….\n🕖 7:30-9:30pm – 2hrs of classes in Xbody Salsa (5 levels) & Bachata (3 levels)\nNO BOOKING REQUIRED for classes \n🎶 From 9:30PM – CLUB NIGHT \n💸 Class & Club tickets from £8pp\n💸 Party Entry Free B4 8:30pm / £5 after\nBUT\, get your Party Pass for just £2.50 via ….\nhttps://latincollectiveuk.com/index.php/class-stuff/fuego-thursdays-laterraza
URL:https://golatindance.com/event/fuego-thursdays-free-salsa-bachata-intro-class-at-7pm-every-thursday/2026-02-26/
LOCATION:La Terraza Tapas Bar & Restaurant\, 27-31 Bedford Rd\, London\, SW4 7SH\, United Kingdom
CATEGORIES:London
END:VEVENT
BEGIN:VEVENT
DTSTART;TZID=Europe/London:20260220T210000
DTEND;TZID=Europe/London:20260221T020000
DTSTAMP:20260424T163848
CREATED:20260201T205601Z
LAST-MODIFIED:20260201T205945Z
UID:10435591-1771621200-1771639200@golatindance.com
SUMMARY:SABOR LATINO - Clapham Weekly Fridays | Salsa | Bachata | Reggaeton | Latin Party
DESCRIPTION:Introducing…\n🤩 SABOR LATINO – Clapham 🤩\nWeekly Friday nights….9PM-LATE \n💥 FREE FUN CLASSES with The Latin Collective (21:00–21:45) \n🎧 LIVE DJ | 🍹 HAPPY HOUR | 🍺 BEER BUCKETS | 🍤 LATE NIGHT TAPAS\n🍽️ Book a table for dinner- https://shorturl.at/AB1cx\n🕤 21:45–LATE Party dancing to the hottest Salsa\, Bachata\, Reggaeton & Latin Party Music in town \n🎟️ VIP PERK for Latin Collective Members\n✨ FREE VIP Ticket – https://shorturl.at/6VRLC\n🥂 FREE Welcome Drink\n💸 15% OFF your table bill (min £50 spend)\n🔑 Discount code: LATINCOLLECTIVE \n📍 LOCATION 📍\nLa Terraza Clapham Tapas Bar & Restaurant\n27–31 Bedford Rd\, London SW4 7SH \n🎫 FREE EARLY BIRD TICKETS\n🎫 FREE ENTRY BEFORE 9PM | £3 entry thereafter 💃🔥 \n🔥 Come early. Stay late. Pásala Sabroso 💃🕺
URL:https://golatindance.com/event/sabor-latino-clapham-weekly-fridays-salsa-bachata-reggaeton-latin-party/2026-02-20/
LOCATION:La Terraza Tapas Bar & Restaurant\, 27-31 Bedford Rd\, London\, SW4 7SH\, United Kingdom
CATEGORIES:London
ATTACH;FMTTYPE=image/jpeg:https://golatindance.com/wp-content/uploads/2026/02/299192_image_624108709_1498815015584355_1903984558474549715_n.jpg
END:VEVENT
BEGIN:VEVENT
DTSTART;TZID=Europe/London:20260213T210000
DTEND;TZID=Europe/London:20260214T020000
DTSTAMP:20260424T163848
CREATED:20260201T205601Z
LAST-MODIFIED:20260201T205945Z
UID:10435590-1771016400-1771034400@golatindance.com
SUMMARY:SABOR LATINO - Clapham Weekly Fridays | Salsa | Bachata | Reggaeton | Latin Party
DESCRIPTION:Introducing…\n🤩 SABOR LATINO – Clapham 🤩\nWeekly Friday nights….9PM-LATE \n💥 FREE FUN CLASSES with The Latin Collective (21:00–21:45) \n🎧 LIVE DJ | 🍹 HAPPY HOUR | 🍺 BEER BUCKETS | 🍤 LATE NIGHT TAPAS\n🍽️ Book a table for dinner- https://shorturl.at/AB1cx\n🕤 21:45–LATE Party dancing to the hottest Salsa\, Bachata\, Reggaeton & Latin Party Music in town \n🎟️ VIP PERK for Latin Collective Members\n✨ FREE VIP Ticket – https://shorturl.at/6VRLC\n🥂 FREE Welcome Drink\n💸 15% OFF your table bill (min £50 spend)\n🔑 Discount code: LATINCOLLECTIVE \n📍 LOCATION 📍\nLa Terraza Clapham Tapas Bar & Restaurant\n27–31 Bedford Rd\, London SW4 7SH \n🎫 FREE EARLY BIRD TICKETS\n🎫 FREE ENTRY BEFORE 9PM | £3 entry thereafter 💃🔥 \n🔥 Come early. Stay late. Pásala Sabroso 💃🕺
URL:https://golatindance.com/event/sabor-latino-clapham-weekly-fridays-salsa-bachata-reggaeton-latin-party/2026-02-13/
LOCATION:La Terraza Tapas Bar & Restaurant\, 27-31 Bedford Rd\, London\, SW4 7SH\, United Kingdom
CATEGORIES:London
ATTACH;FMTTYPE=image/jpeg:https://golatindance.com/wp-content/uploads/2026/02/299192_image_624108709_1498815015584355_1903984558474549715_n.jpg
END:VEVENT
BEGIN:VEVENT
DTSTART;TZID=Europe/London:20260206T210000
DTEND;TZID=Europe/London:20260207T020000
DTSTAMP:20260424T163848
CREATED:20260201T205601Z
LAST-MODIFIED:20260201T205945Z
UID:10435589-1770411600-1770429600@golatindance.com
SUMMARY:SABOR LATINO - Clapham Weekly Fridays | Salsa | Bachata | Reggaeton | Latin Party
DESCRIPTION:Introducing…\n🤩 SABOR LATINO – Clapham 🤩\nWeekly Friday nights….9PM-LATE \n💥 FREE FUN CLASSES with The Latin Collective (21:00–21:45) \n🎧 LIVE DJ | 🍹 HAPPY HOUR | 🍺 BEER BUCKETS | 🍤 LATE NIGHT TAPAS\n🍽️ Book a table for dinner- https://shorturl.at/AB1cx\n🕤 21:45–LATE Party dancing to the hottest Salsa\, Bachata\, Reggaeton & Latin Party Music in town \n🎟️ VIP PERK for Latin Collective Members\n✨ FREE VIP Ticket – https://shorturl.at/6VRLC\n🥂 FREE Welcome Drink\n💸 15% OFF your table bill (min £50 spend)\n🔑 Discount code: LATINCOLLECTIVE \n📍 LOCATION 📍\nLa Terraza Clapham Tapas Bar & Restaurant\n27–31 Bedford Rd\, London SW4 7SH \n🎫 FREE EARLY BIRD TICKETS\n🎫 FREE ENTRY BEFORE 9PM | £3 entry thereafter 💃🔥 \n🔥 Come early. Stay late. Pásala Sabroso 💃🕺
URL:https://golatindance.com/event/sabor-latino-clapham-weekly-fridays-salsa-bachata-reggaeton-latin-party/2026-02-06/
LOCATION:La Terraza Tapas Bar & Restaurant\, 27-31 Bedford Rd\, London\, SW4 7SH\, United Kingdom
CATEGORIES:London
ATTACH;FMTTYPE=image/jpeg:https://golatindance.com/wp-content/uploads/2026/02/299192_image_624108709_1498815015584355_1903984558474549715_n.jpg
END:VEVENT
END:VCALENDAR