BEGIN:VCALENDAR
VERSION:2.0
PRODID:-//GO Latin Dance - ECPv6.15.18//NONSGML v1.0//EN
CALSCALE:GREGORIAN
METHOD:PUBLISH
X-WR-CALNAME:GO Latin Dance
X-ORIGINAL-URL:https://golatindance.com
X-WR-CALDESC:Events for GO Latin Dance
REFRESH-INTERVAL;VALUE=DURATION:PT1H
X-Robots-Tag:noindex
X-PUBLISHED-TTL:PT1H
BEGIN:VTIMEZONE
TZID:America/Chicago
BEGIN:DAYLIGHT
TZOFFSETFROM:-0600
TZOFFSETTO:-0500
TZNAME:CDT
DTSTART:20240310T080000
END:DAYLIGHT
BEGIN:STANDARD
TZOFFSETFROM:-0500
TZOFFSETTO:-0600
TZNAME:CST
DTSTART:20241103T070000
END:STANDARD
BEGIN:DAYLIGHT
TZOFFSETFROM:-0600
TZOFFSETTO:-0500
TZNAME:CDT
DTSTART:20250309T080000
END:DAYLIGHT
BEGIN:STANDARD
TZOFFSETFROM:-0500
TZOFFSETTO:-0600
TZNAME:CST
DTSTART:20251102T070000
END:STANDARD
BEGIN:DAYLIGHT
TZOFFSETFROM:-0600
TZOFFSETTO:-0500
TZNAME:CDT
DTSTART:20260308T080000
END:DAYLIGHT
BEGIN:STANDARD
TZOFFSETFROM:-0500
TZOFFSETTO:-0600
TZNAME:CST
DTSTART:20261101T070000
END:STANDARD
END:VTIMEZONE
BEGIN:VEVENT
DTSTART;TZID=America/Chicago:20250711T210000
DTEND;TZID=America/Chicago:20250712T040000
DTSTAMP:20260424T230226
CREATED:20250323T202127Z
LAST-MODIFIED:20251027T153324Z
UID:10348464-1752267600-1752292800@golatindance.com
SUMMARY:Latin Street Tropical Fridays
DESCRIPTION:Join us at Las Fuentes\, a stunning Mexican restaurant turned late-night tropical escape — where the flavor\, music\, and energy keep going all the way until 4 AM. \nWhat to Expect\n9:00 pm – Doors open.\n9:30 pm – Salsa lesson by Carlos (Beginner-friendly)\n10:00 pm – DJ Frankie J spinning Bachata\, Salsa\, Cumbia & Tropical music.\n11:00 pm – DJ Carlitos takes over for a special 100% Bachata Halftime for 30 minutes\, delivering a set dedicated entirely to the hottest Urban/Commercial/Sensual Bachata songs.\n1:30 am – DJ Papi spinning a Bachata-heavy set until 4 am.\nKitchen open until 2 AM:\nAuthentic Mexican food + handcrafted cocktail 🌮\nDrink Specials! $6 Centenario Shots\, $8 Centenario Palomas\, $10 Lime Margaritas & $30 Beer Buckets\nVibrant indoor-outdoor atmosphere with Lincoln Park charm.\nEasy parking & walkable nightlife area 🚗
URL:https://golatindance.com/event/tropical-fridays-at-guild-row/2025-07-11/
LOCATION:Las Fuentes Restaurant\, 2558 N. Halsted\, Chicago\, IL\, 60614\, United States
CATEGORIES:Chicago
GEO:41.9289583;-87.6491462
X-APPLE-STRUCTURED-LOCATION;VALUE=URI;X-ADDRESS=Las Fuentes Restaurant 2558 N. Halsted Chicago IL 60614 United States;X-APPLE-RADIUS=500;X-TITLE=2558 N. Halsted:geo:-87.6491462,41.9289583
END:VEVENT
BEGIN:VEVENT
DTSTART;TZID=America/Chicago:20250704T210000
DTEND;TZID=America/Chicago:20250705T040000
DTSTAMP:20260424T230226
CREATED:20250323T202127Z
LAST-MODIFIED:20251027T153324Z
UID:10348463-1751662800-1751688000@golatindance.com
SUMMARY:Latin Street Tropical Fridays
DESCRIPTION:Join us at Las Fuentes\, a stunning Mexican restaurant turned late-night tropical escape — where the flavor\, music\, and energy keep going all the way until 4 AM. \nWhat to Expect\n9:00 pm – Doors open.\n9:30 pm – Salsa lesson by Carlos (Beginner-friendly)\n10:00 pm – DJ Frankie J spinning Bachata\, Salsa\, Cumbia & Tropical music.\n11:00 pm – DJ Carlitos takes over for a special 100% Bachata Halftime for 30 minutes\, delivering a set dedicated entirely to the hottest Urban/Commercial/Sensual Bachata songs.\n1:30 am – DJ Papi spinning a Bachata-heavy set until 4 am.\nKitchen open until 2 AM:\nAuthentic Mexican food + handcrafted cocktail 🌮\nDrink Specials! $6 Centenario Shots\, $8 Centenario Palomas\, $10 Lime Margaritas & $30 Beer Buckets\nVibrant indoor-outdoor atmosphere with Lincoln Park charm.\nEasy parking & walkable nightlife area 🚗
URL:https://golatindance.com/event/tropical-fridays-at-guild-row/2025-07-04/
LOCATION:Las Fuentes Restaurant\, 2558 N. Halsted\, Chicago\, IL\, 60614\, United States
CATEGORIES:Chicago
GEO:41.9289583;-87.6491462
X-APPLE-STRUCTURED-LOCATION;VALUE=URI;X-ADDRESS=Las Fuentes Restaurant 2558 N. Halsted Chicago IL 60614 United States;X-APPLE-RADIUS=500;X-TITLE=2558 N. Halsted:geo:-87.6491462,41.9289583
END:VEVENT
BEGIN:VEVENT
DTSTART;TZID=America/Chicago:20250627T210000
DTEND;TZID=America/Chicago:20250628T040000
DTSTAMP:20260424T230226
CREATED:20250323T202127Z
LAST-MODIFIED:20251027T153324Z
UID:10348462-1751058000-1751083200@golatindance.com
SUMMARY:Latin Street Tropical Fridays
DESCRIPTION:Join us at Las Fuentes\, a stunning Mexican restaurant turned late-night tropical escape — where the flavor\, music\, and energy keep going all the way until 4 AM. \nWhat to Expect\n9:00 pm – Doors open.\n9:30 pm – Salsa lesson by Carlos (Beginner-friendly)\n10:00 pm – DJ Frankie J spinning Bachata\, Salsa\, Cumbia & Tropical music.\n11:00 pm – DJ Carlitos takes over for a special 100% Bachata Halftime for 30 minutes\, delivering a set dedicated entirely to the hottest Urban/Commercial/Sensual Bachata songs.\n1:30 am – DJ Papi spinning a Bachata-heavy set until 4 am.\nKitchen open until 2 AM:\nAuthentic Mexican food + handcrafted cocktail 🌮\nDrink Specials! $6 Centenario Shots\, $8 Centenario Palomas\, $10 Lime Margaritas & $30 Beer Buckets\nVibrant indoor-outdoor atmosphere with Lincoln Park charm.\nEasy parking & walkable nightlife area 🚗
URL:https://golatindance.com/event/tropical-fridays-at-guild-row/2025-06-27/
LOCATION:Las Fuentes Restaurant\, 2558 N. Halsted\, Chicago\, IL\, 60614\, United States
CATEGORIES:Chicago
GEO:41.9289583;-87.6491462
X-APPLE-STRUCTURED-LOCATION;VALUE=URI;X-ADDRESS=Las Fuentes Restaurant 2558 N. Halsted Chicago IL 60614 United States;X-APPLE-RADIUS=500;X-TITLE=2558 N. Halsted:geo:-87.6491462,41.9289583
END:VEVENT
BEGIN:VEVENT
DTSTART;TZID=America/Chicago:20250620T210000
DTEND;TZID=America/Chicago:20250621T040000
DTSTAMP:20260424T230226
CREATED:20250323T202127Z
LAST-MODIFIED:20251027T153324Z
UID:10348461-1750453200-1750478400@golatindance.com
SUMMARY:Latin Street Tropical Fridays
DESCRIPTION:Join us at Las Fuentes\, a stunning Mexican restaurant turned late-night tropical escape — where the flavor\, music\, and energy keep going all the way until 4 AM. \nWhat to Expect\n9:00 pm – Doors open.\n9:30 pm – Salsa lesson by Carlos (Beginner-friendly)\n10:00 pm – DJ Frankie J spinning Bachata\, Salsa\, Cumbia & Tropical music.\n11:00 pm – DJ Carlitos takes over for a special 100% Bachata Halftime for 30 minutes\, delivering a set dedicated entirely to the hottest Urban/Commercial/Sensual Bachata songs.\n1:30 am – DJ Papi spinning a Bachata-heavy set until 4 am.\nKitchen open until 2 AM:\nAuthentic Mexican food + handcrafted cocktail 🌮\nDrink Specials! $6 Centenario Shots\, $8 Centenario Palomas\, $10 Lime Margaritas & $30 Beer Buckets\nVibrant indoor-outdoor atmosphere with Lincoln Park charm.\nEasy parking & walkable nightlife area 🚗
URL:https://golatindance.com/event/tropical-fridays-at-guild-row/2025-06-20/
LOCATION:Las Fuentes Restaurant\, 2558 N. Halsted\, Chicago\, IL\, 60614\, United States
CATEGORIES:Chicago
GEO:41.9289583;-87.6491462
X-APPLE-STRUCTURED-LOCATION;VALUE=URI;X-ADDRESS=Las Fuentes Restaurant 2558 N. Halsted Chicago IL 60614 United States;X-APPLE-RADIUS=500;X-TITLE=2558 N. Halsted:geo:-87.6491462,41.9289583
END:VEVENT
BEGIN:VEVENT
DTSTART;TZID=America/Chicago:20250613T210000
DTEND;TZID=America/Chicago:20250614T040000
DTSTAMP:20260424T230226
CREATED:20250323T202127Z
LAST-MODIFIED:20251027T153324Z
UID:10348460-1749848400-1749873600@golatindance.com
SUMMARY:Latin Street Tropical Fridays
DESCRIPTION:Join us at Las Fuentes\, a stunning Mexican restaurant turned late-night tropical escape — where the flavor\, music\, and energy keep going all the way until 4 AM. \nWhat to Expect\n9:00 pm – Doors open.\n9:30 pm – Salsa lesson by Carlos (Beginner-friendly)\n10:00 pm – DJ Frankie J spinning Bachata\, Salsa\, Cumbia & Tropical music.\n11:00 pm – DJ Carlitos takes over for a special 100% Bachata Halftime for 30 minutes\, delivering a set dedicated entirely to the hottest Urban/Commercial/Sensual Bachata songs.\n1:30 am – DJ Papi spinning a Bachata-heavy set until 4 am.\nKitchen open until 2 AM:\nAuthentic Mexican food + handcrafted cocktail 🌮\nDrink Specials! $6 Centenario Shots\, $8 Centenario Palomas\, $10 Lime Margaritas & $30 Beer Buckets\nVibrant indoor-outdoor atmosphere with Lincoln Park charm.\nEasy parking & walkable nightlife area 🚗
URL:https://golatindance.com/event/tropical-fridays-at-guild-row/2025-06-13/
LOCATION:Las Fuentes Restaurant\, 2558 N. Halsted\, Chicago\, IL\, 60614\, United States
CATEGORIES:Chicago
GEO:41.9289583;-87.6491462
X-APPLE-STRUCTURED-LOCATION;VALUE=URI;X-ADDRESS=Las Fuentes Restaurant 2558 N. Halsted Chicago IL 60614 United States;X-APPLE-RADIUS=500;X-TITLE=2558 N. Halsted:geo:-87.6491462,41.9289583
END:VEVENT
BEGIN:VEVENT
DTSTART;TZID=America/Chicago:20250606T210000
DTEND;TZID=America/Chicago:20250607T040000
DTSTAMP:20260424T230226
CREATED:20250323T202127Z
LAST-MODIFIED:20251027T153324Z
UID:10348459-1749243600-1749268800@golatindance.com
SUMMARY:Latin Street Tropical Fridays
DESCRIPTION:Join us at Las Fuentes\, a stunning Mexican restaurant turned late-night tropical escape — where the flavor\, music\, and energy keep going all the way until 4 AM. \nWhat to Expect\n9:00 pm – Doors open.\n9:30 pm – Salsa lesson by Carlos (Beginner-friendly)\n10:00 pm – DJ Frankie J spinning Bachata\, Salsa\, Cumbia & Tropical music.\n11:00 pm – DJ Carlitos takes over for a special 100% Bachata Halftime for 30 minutes\, delivering a set dedicated entirely to the hottest Urban/Commercial/Sensual Bachata songs.\n1:30 am – DJ Papi spinning a Bachata-heavy set until 4 am.\nKitchen open until 2 AM:\nAuthentic Mexican food + handcrafted cocktail 🌮\nDrink Specials! $6 Centenario Shots\, $8 Centenario Palomas\, $10 Lime Margaritas & $30 Beer Buckets\nVibrant indoor-outdoor atmosphere with Lincoln Park charm.\nEasy parking & walkable nightlife area 🚗
URL:https://golatindance.com/event/tropical-fridays-at-guild-row/2025-06-06/
LOCATION:Las Fuentes Restaurant\, 2558 N. Halsted\, Chicago\, IL\, 60614\, United States
CATEGORIES:Chicago
GEO:41.9289583;-87.6491462
X-APPLE-STRUCTURED-LOCATION;VALUE=URI;X-ADDRESS=Las Fuentes Restaurant 2558 N. Halsted Chicago IL 60614 United States;X-APPLE-RADIUS=500;X-TITLE=2558 N. Halsted:geo:-87.6491462,41.9289583
END:VEVENT
BEGIN:VEVENT
DTSTART;TZID=America/Chicago:20250530T210000
DTEND;TZID=America/Chicago:20250531T040000
DTSTAMP:20260424T230226
CREATED:20250323T202127Z
LAST-MODIFIED:20251027T153324Z
UID:10348458-1748638800-1748664000@golatindance.com
SUMMARY:Latin Street Tropical Fridays
DESCRIPTION:Join us at Las Fuentes\, a stunning Mexican restaurant turned late-night tropical escape — where the flavor\, music\, and energy keep going all the way until 4 AM. \nWhat to Expect\n9:00 pm – Doors open.\n9:30 pm – Salsa lesson by Carlos (Beginner-friendly)\n10:00 pm – DJ Frankie J spinning Bachata\, Salsa\, Cumbia & Tropical music.\n11:00 pm – DJ Carlitos takes over for a special 100% Bachata Halftime for 30 minutes\, delivering a set dedicated entirely to the hottest Urban/Commercial/Sensual Bachata songs.\n1:30 am – DJ Papi spinning a Bachata-heavy set until 4 am.\nKitchen open until 2 AM:\nAuthentic Mexican food + handcrafted cocktail 🌮\nDrink Specials! $6 Centenario Shots\, $8 Centenario Palomas\, $10 Lime Margaritas & $30 Beer Buckets\nVibrant indoor-outdoor atmosphere with Lincoln Park charm.\nEasy parking & walkable nightlife area 🚗
URL:https://golatindance.com/event/tropical-fridays-at-guild-row/2025-05-30/
LOCATION:Las Fuentes Restaurant\, 2558 N. Halsted\, Chicago\, IL\, 60614\, United States
CATEGORIES:Chicago
GEO:41.9289583;-87.6491462
X-APPLE-STRUCTURED-LOCATION;VALUE=URI;X-ADDRESS=Las Fuentes Restaurant 2558 N. Halsted Chicago IL 60614 United States;X-APPLE-RADIUS=500;X-TITLE=2558 N. Halsted:geo:-87.6491462,41.9289583
END:VEVENT
BEGIN:VEVENT
DTSTART;TZID=America/Chicago:20250523T210000
DTEND;TZID=America/Chicago:20250524T040000
DTSTAMP:20260424T230226
CREATED:20250323T202127Z
LAST-MODIFIED:20251027T153324Z
UID:10348457-1748034000-1748059200@golatindance.com
SUMMARY:Latin Street Tropical Fridays
DESCRIPTION:Join us at Las Fuentes\, a stunning Mexican restaurant turned late-night tropical escape — where the flavor\, music\, and energy keep going all the way until 4 AM. \nWhat to Expect\n9:00 pm – Doors open.\n9:30 pm – Salsa lesson by Carlos (Beginner-friendly)\n10:00 pm – DJ Frankie J spinning Bachata\, Salsa\, Cumbia & Tropical music.\n11:00 pm – DJ Carlitos takes over for a special 100% Bachata Halftime for 30 minutes\, delivering a set dedicated entirely to the hottest Urban/Commercial/Sensual Bachata songs.\n1:30 am – DJ Papi spinning a Bachata-heavy set until 4 am.\nKitchen open until 2 AM:\nAuthentic Mexican food + handcrafted cocktail 🌮\nDrink Specials! $6 Centenario Shots\, $8 Centenario Palomas\, $10 Lime Margaritas & $30 Beer Buckets\nVibrant indoor-outdoor atmosphere with Lincoln Park charm.\nEasy parking & walkable nightlife area 🚗
URL:https://golatindance.com/event/tropical-fridays-at-guild-row/2025-05-23/
LOCATION:Las Fuentes Restaurant\, 2558 N. Halsted\, Chicago\, IL\, 60614\, United States
CATEGORIES:Chicago
GEO:41.9289583;-87.6491462
X-APPLE-STRUCTURED-LOCATION;VALUE=URI;X-ADDRESS=Las Fuentes Restaurant 2558 N. Halsted Chicago IL 60614 United States;X-APPLE-RADIUS=500;X-TITLE=2558 N. Halsted:geo:-87.6491462,41.9289583
END:VEVENT
BEGIN:VEVENT
DTSTART;TZID=America/Chicago:20250516T210000
DTEND;TZID=America/Chicago:20250517T040000
DTSTAMP:20260424T230226
CREATED:20250323T202127Z
LAST-MODIFIED:20251027T153324Z
UID:10348456-1747429200-1747454400@golatindance.com
SUMMARY:Latin Street Tropical Fridays
DESCRIPTION:Join us at Las Fuentes\, a stunning Mexican restaurant turned late-night tropical escape — where the flavor\, music\, and energy keep going all the way until 4 AM. \nWhat to Expect\n9:00 pm – Doors open.\n9:30 pm – Salsa lesson by Carlos (Beginner-friendly)\n10:00 pm – DJ Frankie J spinning Bachata\, Salsa\, Cumbia & Tropical music.\n11:00 pm – DJ Carlitos takes over for a special 100% Bachata Halftime for 30 minutes\, delivering a set dedicated entirely to the hottest Urban/Commercial/Sensual Bachata songs.\n1:30 am – DJ Papi spinning a Bachata-heavy set until 4 am.\nKitchen open until 2 AM:\nAuthentic Mexican food + handcrafted cocktail 🌮\nDrink Specials! $6 Centenario Shots\, $8 Centenario Palomas\, $10 Lime Margaritas & $30 Beer Buckets\nVibrant indoor-outdoor atmosphere with Lincoln Park charm.\nEasy parking & walkable nightlife area 🚗
URL:https://golatindance.com/event/tropical-fridays-at-guild-row/2025-05-16/
LOCATION:Las Fuentes Restaurant\, 2558 N. Halsted\, Chicago\, IL\, 60614\, United States
CATEGORIES:Chicago
GEO:41.9289583;-87.6491462
X-APPLE-STRUCTURED-LOCATION;VALUE=URI;X-ADDRESS=Las Fuentes Restaurant 2558 N. Halsted Chicago IL 60614 United States;X-APPLE-RADIUS=500;X-TITLE=2558 N. Halsted:geo:-87.6491462,41.9289583
END:VEVENT
BEGIN:VEVENT
DTSTART;TZID=America/Chicago:20250509T210000
DTEND;TZID=America/Chicago:20250510T040000
DTSTAMP:20260424T230226
CREATED:20250323T202127Z
LAST-MODIFIED:20251027T153324Z
UID:10348455-1746824400-1746849600@golatindance.com
SUMMARY:Latin Street Tropical Fridays
DESCRIPTION:Join us at Las Fuentes\, a stunning Mexican restaurant turned late-night tropical escape — where the flavor\, music\, and energy keep going all the way until 4 AM. \nWhat to Expect\n9:00 pm – Doors open.\n9:30 pm – Salsa lesson by Carlos (Beginner-friendly)\n10:00 pm – DJ Frankie J spinning Bachata\, Salsa\, Cumbia & Tropical music.\n11:00 pm – DJ Carlitos takes over for a special 100% Bachata Halftime for 30 minutes\, delivering a set dedicated entirely to the hottest Urban/Commercial/Sensual Bachata songs.\n1:30 am – DJ Papi spinning a Bachata-heavy set until 4 am.\nKitchen open until 2 AM:\nAuthentic Mexican food + handcrafted cocktail 🌮\nDrink Specials! $6 Centenario Shots\, $8 Centenario Palomas\, $10 Lime Margaritas & $30 Beer Buckets\nVibrant indoor-outdoor atmosphere with Lincoln Park charm.\nEasy parking & walkable nightlife area 🚗
URL:https://golatindance.com/event/tropical-fridays-at-guild-row/2025-05-09/
LOCATION:Las Fuentes Restaurant\, 2558 N. Halsted\, Chicago\, IL\, 60614\, United States
CATEGORIES:Chicago
GEO:41.9289583;-87.6491462
X-APPLE-STRUCTURED-LOCATION;VALUE=URI;X-ADDRESS=Las Fuentes Restaurant 2558 N. Halsted Chicago IL 60614 United States;X-APPLE-RADIUS=500;X-TITLE=2558 N. Halsted:geo:-87.6491462,41.9289583
END:VEVENT
BEGIN:VEVENT
DTSTART;TZID=America/Chicago:20250502T210000
DTEND;TZID=America/Chicago:20250503T040000
DTSTAMP:20260424T230226
CREATED:20250323T202127Z
LAST-MODIFIED:20251027T153324Z
UID:10348454-1746219600-1746244800@golatindance.com
SUMMARY:Latin Street Tropical Fridays
DESCRIPTION:Join us at Las Fuentes\, a stunning Mexican restaurant turned late-night tropical escape — where the flavor\, music\, and energy keep going all the way until 4 AM. \nWhat to Expect\n9:00 pm – Doors open.\n9:30 pm – Salsa lesson by Carlos (Beginner-friendly)\n10:00 pm – DJ Frankie J spinning Bachata\, Salsa\, Cumbia & Tropical music.\n11:00 pm – DJ Carlitos takes over for a special 100% Bachata Halftime for 30 minutes\, delivering a set dedicated entirely to the hottest Urban/Commercial/Sensual Bachata songs.\n1:30 am – DJ Papi spinning a Bachata-heavy set until 4 am.\nKitchen open until 2 AM:\nAuthentic Mexican food + handcrafted cocktail 🌮\nDrink Specials! $6 Centenario Shots\, $8 Centenario Palomas\, $10 Lime Margaritas & $30 Beer Buckets\nVibrant indoor-outdoor atmosphere with Lincoln Park charm.\nEasy parking & walkable nightlife area 🚗
URL:https://golatindance.com/event/tropical-fridays-at-guild-row/2025-05-02/
LOCATION:Las Fuentes Restaurant\, 2558 N. Halsted\, Chicago\, IL\, 60614\, United States
CATEGORIES:Chicago
GEO:41.9289583;-87.6491462
X-APPLE-STRUCTURED-LOCATION;VALUE=URI;X-ADDRESS=Las Fuentes Restaurant 2558 N. Halsted Chicago IL 60614 United States;X-APPLE-RADIUS=500;X-TITLE=2558 N. Halsted:geo:-87.6491462,41.9289583
END:VEVENT
BEGIN:VEVENT
DTSTART;TZID=America/Chicago:20250425T210000
DTEND;TZID=America/Chicago:20250426T040000
DTSTAMP:20260424T230226
CREATED:20250323T202127Z
LAST-MODIFIED:20251027T153324Z
UID:10348453-1745614800-1745640000@golatindance.com
SUMMARY:Latin Street Tropical Fridays
DESCRIPTION:Join us at Las Fuentes\, a stunning Mexican restaurant turned late-night tropical escape — where the flavor\, music\, and energy keep going all the way until 4 AM. \nWhat to Expect\n9:00 pm – Doors open.\n9:30 pm – Salsa lesson by Carlos (Beginner-friendly)\n10:00 pm – DJ Frankie J spinning Bachata\, Salsa\, Cumbia & Tropical music.\n11:00 pm – DJ Carlitos takes over for a special 100% Bachata Halftime for 30 minutes\, delivering a set dedicated entirely to the hottest Urban/Commercial/Sensual Bachata songs.\n1:30 am – DJ Papi spinning a Bachata-heavy set until 4 am.\nKitchen open until 2 AM:\nAuthentic Mexican food + handcrafted cocktail 🌮\nDrink Specials! $6 Centenario Shots\, $8 Centenario Palomas\, $10 Lime Margaritas & $30 Beer Buckets\nVibrant indoor-outdoor atmosphere with Lincoln Park charm.\nEasy parking & walkable nightlife area 🚗
URL:https://golatindance.com/event/tropical-fridays-at-guild-row/2025-04-25/
LOCATION:Las Fuentes Restaurant\, 2558 N. Halsted\, Chicago\, IL\, 60614\, United States
CATEGORIES:Chicago
GEO:41.9289583;-87.6491462
X-APPLE-STRUCTURED-LOCATION;VALUE=URI;X-ADDRESS=Las Fuentes Restaurant 2558 N. Halsted Chicago IL 60614 United States;X-APPLE-RADIUS=500;X-TITLE=2558 N. Halsted:geo:-87.6491462,41.9289583
END:VEVENT
BEGIN:VEVENT
DTSTART;TZID=America/Chicago:20250418T210000
DTEND;TZID=America/Chicago:20250419T040000
DTSTAMP:20260424T230227
CREATED:20250323T202127Z
LAST-MODIFIED:20251027T153324Z
UID:10348452-1745010000-1745035200@golatindance.com
SUMMARY:Latin Street Tropical Fridays
DESCRIPTION:Join us at Las Fuentes\, a stunning Mexican restaurant turned late-night tropical escape — where the flavor\, music\, and energy keep going all the way until 4 AM. \nWhat to Expect\n9:00 pm – Doors open.\n9:30 pm – Salsa lesson by Carlos (Beginner-friendly)\n10:00 pm – DJ Frankie J spinning Bachata\, Salsa\, Cumbia & Tropical music.\n11:00 pm – DJ Carlitos takes over for a special 100% Bachata Halftime for 30 minutes\, delivering a set dedicated entirely to the hottest Urban/Commercial/Sensual Bachata songs.\n1:30 am – DJ Papi spinning a Bachata-heavy set until 4 am.\nKitchen open until 2 AM:\nAuthentic Mexican food + handcrafted cocktail 🌮\nDrink Specials! $6 Centenario Shots\, $8 Centenario Palomas\, $10 Lime Margaritas & $30 Beer Buckets\nVibrant indoor-outdoor atmosphere with Lincoln Park charm.\nEasy parking & walkable nightlife area 🚗
URL:https://golatindance.com/event/tropical-fridays-at-guild-row/2025-04-18/
LOCATION:Las Fuentes Restaurant\, 2558 N. Halsted\, Chicago\, IL\, 60614\, United States
CATEGORIES:Chicago
GEO:41.9289583;-87.6491462
X-APPLE-STRUCTURED-LOCATION;VALUE=URI;X-ADDRESS=Las Fuentes Restaurant 2558 N. Halsted Chicago IL 60614 United States;X-APPLE-RADIUS=500;X-TITLE=2558 N. Halsted:geo:-87.6491462,41.9289583
END:VEVENT
BEGIN:VEVENT
DTSTART;TZID=America/Chicago:20250411T210000
DTEND;TZID=America/Chicago:20250412T040000
DTSTAMP:20260424T230227
CREATED:20250323T202127Z
LAST-MODIFIED:20251027T153324Z
UID:10348451-1744405200-1744430400@golatindance.com
SUMMARY:Latin Street Tropical Fridays
DESCRIPTION:Join us at Las Fuentes\, a stunning Mexican restaurant turned late-night tropical escape — where the flavor\, music\, and energy keep going all the way until 4 AM. \nWhat to Expect\n9:00 pm – Doors open.\n9:30 pm – Salsa lesson by Carlos (Beginner-friendly)\n10:00 pm – DJ Frankie J spinning Bachata\, Salsa\, Cumbia & Tropical music.\n11:00 pm – DJ Carlitos takes over for a special 100% Bachata Halftime for 30 minutes\, delivering a set dedicated entirely to the hottest Urban/Commercial/Sensual Bachata songs.\n1:30 am – DJ Papi spinning a Bachata-heavy set until 4 am.\nKitchen open until 2 AM:\nAuthentic Mexican food + handcrafted cocktail 🌮\nDrink Specials! $6 Centenario Shots\, $8 Centenario Palomas\, $10 Lime Margaritas & $30 Beer Buckets\nVibrant indoor-outdoor atmosphere with Lincoln Park charm.\nEasy parking & walkable nightlife area 🚗
URL:https://golatindance.com/event/tropical-fridays-at-guild-row/2025-04-11/
LOCATION:Las Fuentes Restaurant\, 2558 N. Halsted\, Chicago\, IL\, 60614\, United States
CATEGORIES:Chicago
GEO:41.9289583;-87.6491462
X-APPLE-STRUCTURED-LOCATION;VALUE=URI;X-ADDRESS=Las Fuentes Restaurant 2558 N. Halsted Chicago IL 60614 United States;X-APPLE-RADIUS=500;X-TITLE=2558 N. Halsted:geo:-87.6491462,41.9289583
END:VEVENT
BEGIN:VEVENT
DTSTART;TZID=America/Chicago:20250404T210000
DTEND;TZID=America/Chicago:20250405T040000
DTSTAMP:20260424T230227
CREATED:20250323T202127Z
LAST-MODIFIED:20251027T153324Z
UID:10348450-1743800400-1743825600@golatindance.com
SUMMARY:Latin Street Tropical Fridays
DESCRIPTION:Join us at Las Fuentes\, a stunning Mexican restaurant turned late-night tropical escape — where the flavor\, music\, and energy keep going all the way until 4 AM. \nWhat to Expect\n9:00 pm – Doors open.\n9:30 pm – Salsa lesson by Carlos (Beginner-friendly)\n10:00 pm – DJ Frankie J spinning Bachata\, Salsa\, Cumbia & Tropical music.\n11:00 pm – DJ Carlitos takes over for a special 100% Bachata Halftime for 30 minutes\, delivering a set dedicated entirely to the hottest Urban/Commercial/Sensual Bachata songs.\n1:30 am – DJ Papi spinning a Bachata-heavy set until 4 am.\nKitchen open until 2 AM:\nAuthentic Mexican food + handcrafted cocktail 🌮\nDrink Specials! $6 Centenario Shots\, $8 Centenario Palomas\, $10 Lime Margaritas & $30 Beer Buckets\nVibrant indoor-outdoor atmosphere with Lincoln Park charm.\nEasy parking & walkable nightlife area 🚗
URL:https://golatindance.com/event/tropical-fridays-at-guild-row/2025-04-04/
LOCATION:Las Fuentes Restaurant\, 2558 N. Halsted\, Chicago\, IL\, 60614\, United States
CATEGORIES:Chicago
GEO:41.9289583;-87.6491462
X-APPLE-STRUCTURED-LOCATION;VALUE=URI;X-ADDRESS=Las Fuentes Restaurant 2558 N. Halsted Chicago IL 60614 United States;X-APPLE-RADIUS=500;X-TITLE=2558 N. Halsted:geo:-87.6491462,41.9289583
END:VEVENT
BEGIN:VEVENT
DTSTART;TZID=America/Chicago:20250328T210000
DTEND;TZID=America/Chicago:20250329T040000
DTSTAMP:20260424T230227
CREATED:20250323T202127Z
LAST-MODIFIED:20251027T153324Z
UID:10348449-1743195600-1743220800@golatindance.com
SUMMARY:Latin Street Tropical Fridays
DESCRIPTION:Join us at Las Fuentes\, a stunning Mexican restaurant turned late-night tropical escape — where the flavor\, music\, and energy keep going all the way until 4 AM. \nWhat to Expect\n9:00 pm – Doors open.\n9:30 pm – Salsa lesson by Carlos (Beginner-friendly)\n10:00 pm – DJ Frankie J spinning Bachata\, Salsa\, Cumbia & Tropical music.\n11:00 pm – DJ Carlitos takes over for a special 100% Bachata Halftime for 30 minutes\, delivering a set dedicated entirely to the hottest Urban/Commercial/Sensual Bachata songs.\n1:30 am – DJ Papi spinning a Bachata-heavy set until 4 am.\nKitchen open until 2 AM:\nAuthentic Mexican food + handcrafted cocktail 🌮\nDrink Specials! $6 Centenario Shots\, $8 Centenario Palomas\, $10 Lime Margaritas & $30 Beer Buckets\nVibrant indoor-outdoor atmosphere with Lincoln Park charm.\nEasy parking & walkable nightlife area 🚗
URL:https://golatindance.com/event/tropical-fridays-at-guild-row/2025-03-28/
LOCATION:Las Fuentes Restaurant\, 2558 N. Halsted\, Chicago\, IL\, 60614\, United States
CATEGORIES:Chicago
GEO:41.9289583;-87.6491462
X-APPLE-STRUCTURED-LOCATION;VALUE=URI;X-ADDRESS=Las Fuentes Restaurant 2558 N. Halsted Chicago IL 60614 United States;X-APPLE-RADIUS=500;X-TITLE=2558 N. Halsted:geo:-87.6491462,41.9289583
END:VEVENT
END:VCALENDAR