BEGIN:VCALENDAR
VERSION:2.0
PRODID:-//GO Latin Dance - ECPv6.15.18//NONSGML v1.0//EN
CALSCALE:GREGORIAN
METHOD:PUBLISH
X-WR-CALNAME:GO Latin Dance
X-ORIGINAL-URL:https://golatindance.com
X-WR-CALDESC:Events for GO Latin Dance
REFRESH-INTERVAL;VALUE=DURATION:PT1H
X-Robots-Tag:noindex
X-PUBLISHED-TTL:PT1H
BEGIN:VTIMEZONE
TZID:America/New_York
BEGIN:DAYLIGHT
TZOFFSETFROM:-0500
TZOFFSETTO:-0400
TZNAME:EDT
DTSTART:20260308T070000
END:DAYLIGHT
BEGIN:STANDARD
TZOFFSETFROM:-0400
TZOFFSETTO:-0500
TZNAME:EST
DTSTART:20261101T060000
END:STANDARD
BEGIN:DAYLIGHT
TZOFFSETFROM:-0500
TZOFFSETTO:-0400
TZNAME:EDT
DTSTART:20270314T070000
END:DAYLIGHT
BEGIN:STANDARD
TZOFFSETFROM:-0400
TZOFFSETTO:-0500
TZNAME:EST
DTSTART:20271107T060000
END:STANDARD
BEGIN:DAYLIGHT
TZOFFSETFROM:-0500
TZOFFSETTO:-0400
TZNAME:EDT
DTSTART:20280312T070000
END:DAYLIGHT
BEGIN:STANDARD
TZOFFSETFROM:-0400
TZOFFSETTO:-0500
TZNAME:EST
DTSTART:20281105T060000
END:STANDARD
END:VTIMEZONE
BEGIN:VEVENT
DTSTART;TZID=America/New_York:20270409T210000
DTEND;TZID=America/New_York:20270410T000000
DTSTAMP:20260422T144227
CREATED:20221123T234338Z
LAST-MODIFIED:20240515T142257Z
UID:10138059-1807304400-1807315200@golatindance.com
SUMMARY:Socials at Lorenz Dance Studio - Glendale
DESCRIPTION:Every Friday 9pm-12am\n$10 for Registered Studio Student\n$15 for Non-Members \nPlease check Events Page for any closures
URL:https://golatindance.com/event/socials-at-lorenz-dance-studio-glendale/2027-04-09/
LOCATION:Lorenz Latin Dance Studio – Glendale\, 65-52 Myrtle Avenue\, Queens\, Glendale\, NY\, 11385\, United States
CATEGORIES:New York City
END:VEVENT
BEGIN:VEVENT
DTSTART;TZID=America/New_York:20270416T210000
DTEND;TZID=America/New_York:20270417T000000
DTSTAMP:20260422T144227
CREATED:20221123T234338Z
LAST-MODIFIED:20240515T142257Z
UID:10138060-1807909200-1807920000@golatindance.com
SUMMARY:Socials at Lorenz Dance Studio - Glendale
DESCRIPTION:Every Friday 9pm-12am\n$10 for Registered Studio Student\n$15 for Non-Members \nPlease check Events Page for any closures
URL:https://golatindance.com/event/socials-at-lorenz-dance-studio-glendale/2027-04-16/
LOCATION:Lorenz Latin Dance Studio – Glendale\, 65-52 Myrtle Avenue\, Queens\, Glendale\, NY\, 11385\, United States
CATEGORIES:New York City
END:VEVENT
BEGIN:VEVENT
DTSTART;TZID=America/New_York:20270423T210000
DTEND;TZID=America/New_York:20270424T000000
DTSTAMP:20260422T144227
CREATED:20221123T234338Z
LAST-MODIFIED:20240515T142257Z
UID:10138061-1808514000-1808524800@golatindance.com
SUMMARY:Socials at Lorenz Dance Studio - Glendale
DESCRIPTION:Every Friday 9pm-12am\n$10 for Registered Studio Student\n$15 for Non-Members \nPlease check Events Page for any closures
URL:https://golatindance.com/event/socials-at-lorenz-dance-studio-glendale/2027-04-23/
LOCATION:Lorenz Latin Dance Studio – Glendale\, 65-52 Myrtle Avenue\, Queens\, Glendale\, NY\, 11385\, United States
CATEGORIES:New York City
END:VEVENT
BEGIN:VEVENT
DTSTART;TZID=America/New_York:20270430T210000
DTEND;TZID=America/New_York:20270501T000000
DTSTAMP:20260422T144227
CREATED:20221123T234338Z
LAST-MODIFIED:20240515T142257Z
UID:10138062-1809118800-1809129600@golatindance.com
SUMMARY:Socials at Lorenz Dance Studio - Glendale
DESCRIPTION:Every Friday 9pm-12am\n$10 for Registered Studio Student\n$15 for Non-Members \nPlease check Events Page for any closures
URL:https://golatindance.com/event/socials-at-lorenz-dance-studio-glendale/2027-04-30/
LOCATION:Lorenz Latin Dance Studio – Glendale\, 65-52 Myrtle Avenue\, Queens\, Glendale\, NY\, 11385\, United States
CATEGORIES:New York City
END:VEVENT
BEGIN:VEVENT
DTSTART;TZID=America/New_York:20270507T210000
DTEND;TZID=America/New_York:20270508T000000
DTSTAMP:20260422T144227
CREATED:20221123T234338Z
LAST-MODIFIED:20240515T142257Z
UID:10138063-1809723600-1809734400@golatindance.com
SUMMARY:Socials at Lorenz Dance Studio - Glendale
DESCRIPTION:Every Friday 9pm-12am\n$10 for Registered Studio Student\n$15 for Non-Members \nPlease check Events Page for any closures
URL:https://golatindance.com/event/socials-at-lorenz-dance-studio-glendale/2027-05-07/
LOCATION:Lorenz Latin Dance Studio – Glendale\, 65-52 Myrtle Avenue\, Queens\, Glendale\, NY\, 11385\, United States
CATEGORIES:New York City
END:VEVENT
BEGIN:VEVENT
DTSTART;TZID=America/New_York:20270514T210000
DTEND;TZID=America/New_York:20270515T000000
DTSTAMP:20260422T144227
CREATED:20221123T234338Z
LAST-MODIFIED:20240515T142257Z
UID:10138064-1810328400-1810339200@golatindance.com
SUMMARY:Socials at Lorenz Dance Studio - Glendale
DESCRIPTION:Every Friday 9pm-12am\n$10 for Registered Studio Student\n$15 for Non-Members \nPlease check Events Page for any closures
URL:https://golatindance.com/event/socials-at-lorenz-dance-studio-glendale/2027-05-14/
LOCATION:Lorenz Latin Dance Studio – Glendale\, 65-52 Myrtle Avenue\, Queens\, Glendale\, NY\, 11385\, United States
CATEGORIES:New York City
END:VEVENT
BEGIN:VEVENT
DTSTART;TZID=America/New_York:20270521T210000
DTEND;TZID=America/New_York:20270522T000000
DTSTAMP:20260422T144227
CREATED:20221123T234338Z
LAST-MODIFIED:20240515T142257Z
UID:10138065-1810933200-1810944000@golatindance.com
SUMMARY:Socials at Lorenz Dance Studio - Glendale
DESCRIPTION:Every Friday 9pm-12am\n$10 for Registered Studio Student\n$15 for Non-Members \nPlease check Events Page for any closures
URL:https://golatindance.com/event/socials-at-lorenz-dance-studio-glendale/2027-05-21/
LOCATION:Lorenz Latin Dance Studio – Glendale\, 65-52 Myrtle Avenue\, Queens\, Glendale\, NY\, 11385\, United States
CATEGORIES:New York City
END:VEVENT
BEGIN:VEVENT
DTSTART;TZID=America/New_York:20270528T210000
DTEND;TZID=America/New_York:20270529T000000
DTSTAMP:20260422T144227
CREATED:20221123T234338Z
LAST-MODIFIED:20240515T142257Z
UID:10138066-1811538000-1811548800@golatindance.com
SUMMARY:Socials at Lorenz Dance Studio - Glendale
DESCRIPTION:Every Friday 9pm-12am\n$10 for Registered Studio Student\n$15 for Non-Members \nPlease check Events Page for any closures
URL:https://golatindance.com/event/socials-at-lorenz-dance-studio-glendale/2027-05-28/
LOCATION:Lorenz Latin Dance Studio – Glendale\, 65-52 Myrtle Avenue\, Queens\, Glendale\, NY\, 11385\, United States
CATEGORIES:New York City
END:VEVENT
BEGIN:VEVENT
DTSTART;TZID=America/New_York:20270604T210000
DTEND;TZID=America/New_York:20270605T000000
DTSTAMP:20260422T144227
CREATED:20221123T234338Z
LAST-MODIFIED:20240515T142257Z
UID:10138067-1812142800-1812153600@golatindance.com
SUMMARY:Socials at Lorenz Dance Studio - Glendale
DESCRIPTION:Every Friday 9pm-12am\n$10 for Registered Studio Student\n$15 for Non-Members \nPlease check Events Page for any closures
URL:https://golatindance.com/event/socials-at-lorenz-dance-studio-glendale/2027-06-04/
LOCATION:Lorenz Latin Dance Studio – Glendale\, 65-52 Myrtle Avenue\, Queens\, Glendale\, NY\, 11385\, United States
CATEGORIES:New York City
END:VEVENT
BEGIN:VEVENT
DTSTART;TZID=America/New_York:20270611T210000
DTEND;TZID=America/New_York:20270612T000000
DTSTAMP:20260422T144227
CREATED:20221123T234338Z
LAST-MODIFIED:20240515T142257Z
UID:10138068-1812747600-1812758400@golatindance.com
SUMMARY:Socials at Lorenz Dance Studio - Glendale
DESCRIPTION:Every Friday 9pm-12am\n$10 for Registered Studio Student\n$15 for Non-Members \nPlease check Events Page for any closures
URL:https://golatindance.com/event/socials-at-lorenz-dance-studio-glendale/2027-06-11/
LOCATION:Lorenz Latin Dance Studio – Glendale\, 65-52 Myrtle Avenue\, Queens\, Glendale\, NY\, 11385\, United States
CATEGORIES:New York City
END:VEVENT
BEGIN:VEVENT
DTSTART;TZID=America/New_York:20270618T210000
DTEND;TZID=America/New_York:20270619T000000
DTSTAMP:20260422T144227
CREATED:20221123T234338Z
LAST-MODIFIED:20240515T142257Z
UID:10138069-1813352400-1813363200@golatindance.com
SUMMARY:Socials at Lorenz Dance Studio - Glendale
DESCRIPTION:Every Friday 9pm-12am\n$10 for Registered Studio Student\n$15 for Non-Members \nPlease check Events Page for any closures
URL:https://golatindance.com/event/socials-at-lorenz-dance-studio-glendale/2027-06-18/
LOCATION:Lorenz Latin Dance Studio – Glendale\, 65-52 Myrtle Avenue\, Queens\, Glendale\, NY\, 11385\, United States
CATEGORIES:New York City
END:VEVENT
BEGIN:VEVENT
DTSTART;TZID=America/New_York:20270625T210000
DTEND;TZID=America/New_York:20270626T000000
DTSTAMP:20260422T144227
CREATED:20221123T234338Z
LAST-MODIFIED:20240515T142257Z
UID:10138070-1813957200-1813968000@golatindance.com
SUMMARY:Socials at Lorenz Dance Studio - Glendale
DESCRIPTION:Every Friday 9pm-12am\n$10 for Registered Studio Student\n$15 for Non-Members \nPlease check Events Page for any closures
URL:https://golatindance.com/event/socials-at-lorenz-dance-studio-glendale/2027-06-25/
LOCATION:Lorenz Latin Dance Studio – Glendale\, 65-52 Myrtle Avenue\, Queens\, Glendale\, NY\, 11385\, United States
CATEGORIES:New York City
END:VEVENT
BEGIN:VEVENT
DTSTART;TZID=America/New_York:20270702T210000
DTEND;TZID=America/New_York:20270703T000000
DTSTAMP:20260422T144227
CREATED:20221123T234338Z
LAST-MODIFIED:20240515T142257Z
UID:10138071-1814562000-1814572800@golatindance.com
SUMMARY:Socials at Lorenz Dance Studio - Glendale
DESCRIPTION:Every Friday 9pm-12am\n$10 for Registered Studio Student\n$15 for Non-Members \nPlease check Events Page for any closures
URL:https://golatindance.com/event/socials-at-lorenz-dance-studio-glendale/2027-07-02/
LOCATION:Lorenz Latin Dance Studio – Glendale\, 65-52 Myrtle Avenue\, Queens\, Glendale\, NY\, 11385\, United States
CATEGORIES:New York City
END:VEVENT
BEGIN:VEVENT
DTSTART;TZID=America/New_York:20270709T210000
DTEND;TZID=America/New_York:20270710T000000
DTSTAMP:20260422T144227
CREATED:20221123T234338Z
LAST-MODIFIED:20240515T142257Z
UID:10138072-1815166800-1815177600@golatindance.com
SUMMARY:Socials at Lorenz Dance Studio - Glendale
DESCRIPTION:Every Friday 9pm-12am\n$10 for Registered Studio Student\n$15 for Non-Members \nPlease check Events Page for any closures
URL:https://golatindance.com/event/socials-at-lorenz-dance-studio-glendale/2027-07-09/
LOCATION:Lorenz Latin Dance Studio – Glendale\, 65-52 Myrtle Avenue\, Queens\, Glendale\, NY\, 11385\, United States
CATEGORIES:New York City
END:VEVENT
BEGIN:VEVENT
DTSTART;TZID=America/New_York:20270716T210000
DTEND;TZID=America/New_York:20270717T000000
DTSTAMP:20260422T144227
CREATED:20221123T234338Z
LAST-MODIFIED:20240515T142257Z
UID:10138073-1815771600-1815782400@golatindance.com
SUMMARY:Socials at Lorenz Dance Studio - Glendale
DESCRIPTION:Every Friday 9pm-12am\n$10 for Registered Studio Student\n$15 for Non-Members \nPlease check Events Page for any closures
URL:https://golatindance.com/event/socials-at-lorenz-dance-studio-glendale/2027-07-16/
LOCATION:Lorenz Latin Dance Studio – Glendale\, 65-52 Myrtle Avenue\, Queens\, Glendale\, NY\, 11385\, United States
CATEGORIES:New York City
END:VEVENT
BEGIN:VEVENT
DTSTART;TZID=America/New_York:20270723T210000
DTEND;TZID=America/New_York:20270724T000000
DTSTAMP:20260422T144227
CREATED:20221123T234338Z
LAST-MODIFIED:20240515T142257Z
UID:10138074-1816376400-1816387200@golatindance.com
SUMMARY:Socials at Lorenz Dance Studio - Glendale
DESCRIPTION:Every Friday 9pm-12am\n$10 for Registered Studio Student\n$15 for Non-Members \nPlease check Events Page for any closures
URL:https://golatindance.com/event/socials-at-lorenz-dance-studio-glendale/2027-07-23/
LOCATION:Lorenz Latin Dance Studio – Glendale\, 65-52 Myrtle Avenue\, Queens\, Glendale\, NY\, 11385\, United States
CATEGORIES:New York City
END:VEVENT
BEGIN:VEVENT
DTSTART;TZID=America/New_York:20270730T210000
DTEND;TZID=America/New_York:20270731T000000
DTSTAMP:20260422T144227
CREATED:20221123T234338Z
LAST-MODIFIED:20240515T142257Z
UID:10138075-1816981200-1816992000@golatindance.com
SUMMARY:Socials at Lorenz Dance Studio - Glendale
DESCRIPTION:Every Friday 9pm-12am\n$10 for Registered Studio Student\n$15 for Non-Members \nPlease check Events Page for any closures
URL:https://golatindance.com/event/socials-at-lorenz-dance-studio-glendale/2027-07-30/
LOCATION:Lorenz Latin Dance Studio – Glendale\, 65-52 Myrtle Avenue\, Queens\, Glendale\, NY\, 11385\, United States
CATEGORIES:New York City
END:VEVENT
BEGIN:VEVENT
DTSTART;TZID=America/New_York:20270806T210000
DTEND;TZID=America/New_York:20270807T000000
DTSTAMP:20260422T144227
CREATED:20221123T234338Z
LAST-MODIFIED:20240515T142257Z
UID:10138076-1817586000-1817596800@golatindance.com
SUMMARY:Socials at Lorenz Dance Studio - Glendale
DESCRIPTION:Every Friday 9pm-12am\n$10 for Registered Studio Student\n$15 for Non-Members \nPlease check Events Page for any closures
URL:https://golatindance.com/event/socials-at-lorenz-dance-studio-glendale/2027-08-06/
LOCATION:Lorenz Latin Dance Studio – Glendale\, 65-52 Myrtle Avenue\, Queens\, Glendale\, NY\, 11385\, United States
CATEGORIES:New York City
END:VEVENT
BEGIN:VEVENT
DTSTART;TZID=America/New_York:20270813T210000
DTEND;TZID=America/New_York:20270814T000000
DTSTAMP:20260422T144227
CREATED:20221123T234338Z
LAST-MODIFIED:20240515T142257Z
UID:10138077-1818190800-1818201600@golatindance.com
SUMMARY:Socials at Lorenz Dance Studio - Glendale
DESCRIPTION:Every Friday 9pm-12am\n$10 for Registered Studio Student\n$15 for Non-Members \nPlease check Events Page for any closures
URL:https://golatindance.com/event/socials-at-lorenz-dance-studio-glendale/2027-08-13/
LOCATION:Lorenz Latin Dance Studio – Glendale\, 65-52 Myrtle Avenue\, Queens\, Glendale\, NY\, 11385\, United States
CATEGORIES:New York City
END:VEVENT
BEGIN:VEVENT
DTSTART;TZID=America/New_York:20270820T210000
DTEND;TZID=America/New_York:20270821T000000
DTSTAMP:20260422T144227
CREATED:20221123T234338Z
LAST-MODIFIED:20240515T142257Z
UID:10138078-1818795600-1818806400@golatindance.com
SUMMARY:Socials at Lorenz Dance Studio - Glendale
DESCRIPTION:Every Friday 9pm-12am\n$10 for Registered Studio Student\n$15 for Non-Members \nPlease check Events Page for any closures
URL:https://golatindance.com/event/socials-at-lorenz-dance-studio-glendale/2027-08-20/
LOCATION:Lorenz Latin Dance Studio – Glendale\, 65-52 Myrtle Avenue\, Queens\, Glendale\, NY\, 11385\, United States
CATEGORIES:New York City
END:VEVENT
BEGIN:VEVENT
DTSTART;TZID=America/New_York:20270827T210000
DTEND;TZID=America/New_York:20270828T000000
DTSTAMP:20260422T144227
CREATED:20221123T234338Z
LAST-MODIFIED:20240515T142257Z
UID:10138079-1819400400-1819411200@golatindance.com
SUMMARY:Socials at Lorenz Dance Studio - Glendale
DESCRIPTION:Every Friday 9pm-12am\n$10 for Registered Studio Student\n$15 for Non-Members \nPlease check Events Page for any closures
URL:https://golatindance.com/event/socials-at-lorenz-dance-studio-glendale/2027-08-27/
LOCATION:Lorenz Latin Dance Studio – Glendale\, 65-52 Myrtle Avenue\, Queens\, Glendale\, NY\, 11385\, United States
CATEGORIES:New York City
END:VEVENT
BEGIN:VEVENT
DTSTART;TZID=America/New_York:20270903T210000
DTEND;TZID=America/New_York:20270904T000000
DTSTAMP:20260422T144227
CREATED:20221123T234338Z
LAST-MODIFIED:20240515T142257Z
UID:10138080-1820005200-1820016000@golatindance.com
SUMMARY:Socials at Lorenz Dance Studio - Glendale
DESCRIPTION:Every Friday 9pm-12am\n$10 for Registered Studio Student\n$15 for Non-Members \nPlease check Events Page for any closures
URL:https://golatindance.com/event/socials-at-lorenz-dance-studio-glendale/2027-09-03/
LOCATION:Lorenz Latin Dance Studio – Glendale\, 65-52 Myrtle Avenue\, Queens\, Glendale\, NY\, 11385\, United States
CATEGORIES:New York City
END:VEVENT
BEGIN:VEVENT
DTSTART;TZID=America/New_York:20270910T210000
DTEND;TZID=America/New_York:20270911T000000
DTSTAMP:20260422T144227
CREATED:20221123T234338Z
LAST-MODIFIED:20240515T142257Z
UID:10138081-1820610000-1820620800@golatindance.com
SUMMARY:Socials at Lorenz Dance Studio - Glendale
DESCRIPTION:Every Friday 9pm-12am\n$10 for Registered Studio Student\n$15 for Non-Members \nPlease check Events Page for any closures
URL:https://golatindance.com/event/socials-at-lorenz-dance-studio-glendale/2027-09-10/
LOCATION:Lorenz Latin Dance Studio – Glendale\, 65-52 Myrtle Avenue\, Queens\, Glendale\, NY\, 11385\, United States
CATEGORIES:New York City
END:VEVENT
BEGIN:VEVENT
DTSTART;TZID=America/New_York:20270917T210000
DTEND;TZID=America/New_York:20270918T000000
DTSTAMP:20260422T144227
CREATED:20221123T234338Z
LAST-MODIFIED:20240515T142257Z
UID:10138082-1821214800-1821225600@golatindance.com
SUMMARY:Socials at Lorenz Dance Studio - Glendale
DESCRIPTION:Every Friday 9pm-12am\n$10 for Registered Studio Student\n$15 for Non-Members \nPlease check Events Page for any closures
URL:https://golatindance.com/event/socials-at-lorenz-dance-studio-glendale/2027-09-17/
LOCATION:Lorenz Latin Dance Studio – Glendale\, 65-52 Myrtle Avenue\, Queens\, Glendale\, NY\, 11385\, United States
CATEGORIES:New York City
END:VEVENT
BEGIN:VEVENT
DTSTART;TZID=America/New_York:20270924T210000
DTEND;TZID=America/New_York:20270925T000000
DTSTAMP:20260422T144227
CREATED:20221123T234338Z
LAST-MODIFIED:20240515T142257Z
UID:10138083-1821819600-1821830400@golatindance.com
SUMMARY:Socials at Lorenz Dance Studio - Glendale
DESCRIPTION:Every Friday 9pm-12am\n$10 for Registered Studio Student\n$15 for Non-Members \nPlease check Events Page for any closures
URL:https://golatindance.com/event/socials-at-lorenz-dance-studio-glendale/2027-09-24/
LOCATION:Lorenz Latin Dance Studio – Glendale\, 65-52 Myrtle Avenue\, Queens\, Glendale\, NY\, 11385\, United States
CATEGORIES:New York City
END:VEVENT
BEGIN:VEVENT
DTSTART;TZID=America/New_York:20271001T210000
DTEND;TZID=America/New_York:20271002T000000
DTSTAMP:20260422T144227
CREATED:20221123T234338Z
LAST-MODIFIED:20240515T142257Z
UID:10138084-1822424400-1822435200@golatindance.com
SUMMARY:Socials at Lorenz Dance Studio - Glendale
DESCRIPTION:Every Friday 9pm-12am\n$10 for Registered Studio Student\n$15 for Non-Members \nPlease check Events Page for any closures
URL:https://golatindance.com/event/socials-at-lorenz-dance-studio-glendale/2027-10-01/
LOCATION:Lorenz Latin Dance Studio – Glendale\, 65-52 Myrtle Avenue\, Queens\, Glendale\, NY\, 11385\, United States
CATEGORIES:New York City
END:VEVENT
BEGIN:VEVENT
DTSTART;TZID=America/New_York:20271008T210000
DTEND;TZID=America/New_York:20271009T000000
DTSTAMP:20260422T144227
CREATED:20221123T234338Z
LAST-MODIFIED:20240515T142257Z
UID:10138085-1823029200-1823040000@golatindance.com
SUMMARY:Socials at Lorenz Dance Studio - Glendale
DESCRIPTION:Every Friday 9pm-12am\n$10 for Registered Studio Student\n$15 for Non-Members \nPlease check Events Page for any closures
URL:https://golatindance.com/event/socials-at-lorenz-dance-studio-glendale/2027-10-08/
LOCATION:Lorenz Latin Dance Studio – Glendale\, 65-52 Myrtle Avenue\, Queens\, Glendale\, NY\, 11385\, United States
CATEGORIES:New York City
END:VEVENT
BEGIN:VEVENT
DTSTART;TZID=America/New_York:20271015T210000
DTEND;TZID=America/New_York:20271016T000000
DTSTAMP:20260422T144227
CREATED:20221123T234338Z
LAST-MODIFIED:20240515T142257Z
UID:10138086-1823634000-1823644800@golatindance.com
SUMMARY:Socials at Lorenz Dance Studio - Glendale
DESCRIPTION:Every Friday 9pm-12am\n$10 for Registered Studio Student\n$15 for Non-Members \nPlease check Events Page for any closures
URL:https://golatindance.com/event/socials-at-lorenz-dance-studio-glendale/2027-10-15/
LOCATION:Lorenz Latin Dance Studio – Glendale\, 65-52 Myrtle Avenue\, Queens\, Glendale\, NY\, 11385\, United States
CATEGORIES:New York City
END:VEVENT
BEGIN:VEVENT
DTSTART;TZID=America/New_York:20271022T210000
DTEND;TZID=America/New_York:20271023T000000
DTSTAMP:20260422T144227
CREATED:20221123T234338Z
LAST-MODIFIED:20240515T142257Z
UID:10138087-1824238800-1824249600@golatindance.com
SUMMARY:Socials at Lorenz Dance Studio - Glendale
DESCRIPTION:Every Friday 9pm-12am\n$10 for Registered Studio Student\n$15 for Non-Members \nPlease check Events Page for any closures
URL:https://golatindance.com/event/socials-at-lorenz-dance-studio-glendale/2027-10-22/
LOCATION:Lorenz Latin Dance Studio – Glendale\, 65-52 Myrtle Avenue\, Queens\, Glendale\, NY\, 11385\, United States
CATEGORIES:New York City
END:VEVENT
BEGIN:VEVENT
DTSTART;TZID=America/New_York:20271029T210000
DTEND;TZID=America/New_York:20271030T000000
DTSTAMP:20260422T144227
CREATED:20221123T234338Z
LAST-MODIFIED:20240515T142257Z
UID:10138088-1824843600-1824854400@golatindance.com
SUMMARY:Socials at Lorenz Dance Studio - Glendale
DESCRIPTION:Every Friday 9pm-12am\n$10 for Registered Studio Student\n$15 for Non-Members \nPlease check Events Page for any closures
URL:https://golatindance.com/event/socials-at-lorenz-dance-studio-glendale/2027-10-29/
LOCATION:Lorenz Latin Dance Studio – Glendale\, 65-52 Myrtle Avenue\, Queens\, Glendale\, NY\, 11385\, United States
CATEGORIES:New York City
END:VEVENT
END:VCALENDAR