BEGIN:VCALENDAR
VERSION:2.0
PRODID:-//GO Latin Dance - ECPv6.15.18//NONSGML v1.0//EN
CALSCALE:GREGORIAN
METHOD:PUBLISH
X-WR-CALNAME:GO Latin Dance
X-ORIGINAL-URL:https://golatindance.com
X-WR-CALDESC:Events for GO Latin Dance
REFRESH-INTERVAL;VALUE=DURATION:PT1H
X-Robots-Tag:noindex
X-PUBLISHED-TTL:PT1H
BEGIN:VTIMEZONE
TZID:America/New_York
BEGIN:DAYLIGHT
TZOFFSETFROM:-0500
TZOFFSETTO:-0400
TZNAME:EDT
DTSTART:20270314T070000
END:DAYLIGHT
BEGIN:STANDARD
TZOFFSETFROM:-0400
TZOFFSETTO:-0500
TZNAME:EST
DTSTART:20271107T060000
END:STANDARD
BEGIN:DAYLIGHT
TZOFFSETFROM:-0500
TZOFFSETTO:-0400
TZNAME:EDT
DTSTART:20280312T070000
END:DAYLIGHT
BEGIN:STANDARD
TZOFFSETFROM:-0400
TZOFFSETTO:-0500
TZNAME:EST
DTSTART:20281105T060000
END:STANDARD
BEGIN:DAYLIGHT
TZOFFSETFROM:-0500
TZOFFSETTO:-0400
TZNAME:EDT
DTSTART:20290311T070000
END:DAYLIGHT
BEGIN:STANDARD
TZOFFSETFROM:-0400
TZOFFSETTO:-0500
TZNAME:EST
DTSTART:20291104T060000
END:STANDARD
END:VTIMEZONE
BEGIN:VEVENT
DTSTART;TZID=America/New_York:20280120T200000
DTEND;TZID=America/New_York:20280121T010000
DTSTAMP:20260425T081212
CREATED:20250416T160738Z
LAST-MODIFIED:20260107T161155Z
UID:10357467-1832011200-1832029200@golatindance.com
SUMMARY:Latin Pulse Thursdays | Bachata & Salsa | Baltimore Dance Social
DESCRIPTION:Every Week at Mystique Brewery! \nSalsa & Bachata classes at 7PM + 8PM • Social dancing 9PM–12AM \nJust $10 • Beginner-friendly • No partner needed \n📍 912 Washington Blvd\, Baltimore | Pigtown
URL:https://golatindance.com/event/latin-pulse-thursdays-bachata-salsa-baltimore-dance-social/2028-01-20/
LOCATION:Mystique Barrel Brewing and Lager House\, 912 Washington Boulevard\, Baltimore\, MD 21230\, Baltimore\, MD\, 21230\, US
CATEGORIES:Washington DC-Baltimore
END:VEVENT
BEGIN:VEVENT
DTSTART;TZID=America/New_York:20280127T200000
DTEND;TZID=America/New_York:20280128T010000
DTSTAMP:20260425T081212
CREATED:20250416T160738Z
LAST-MODIFIED:20260107T161155Z
UID:10357468-1832616000-1832634000@golatindance.com
SUMMARY:Latin Pulse Thursdays | Bachata & Salsa | Baltimore Dance Social
DESCRIPTION:Every Week at Mystique Brewery! \nSalsa & Bachata classes at 7PM + 8PM • Social dancing 9PM–12AM \nJust $10 • Beginner-friendly • No partner needed \n📍 912 Washington Blvd\, Baltimore | Pigtown
URL:https://golatindance.com/event/latin-pulse-thursdays-bachata-salsa-baltimore-dance-social/2028-01-27/
LOCATION:Mystique Barrel Brewing and Lager House\, 912 Washington Boulevard\, Baltimore\, MD 21230\, Baltimore\, MD\, 21230\, US
CATEGORIES:Washington DC-Baltimore
END:VEVENT
BEGIN:VEVENT
DTSTART;TZID=America/New_York:20280203T200000
DTEND;TZID=America/New_York:20280204T010000
DTSTAMP:20260425T081212
CREATED:20250416T160738Z
LAST-MODIFIED:20260107T161155Z
UID:10357469-1833220800-1833238800@golatindance.com
SUMMARY:Latin Pulse Thursdays | Bachata & Salsa | Baltimore Dance Social
DESCRIPTION:Every Week at Mystique Brewery! \nSalsa & Bachata classes at 7PM + 8PM • Social dancing 9PM–12AM \nJust $10 • Beginner-friendly • No partner needed \n📍 912 Washington Blvd\, Baltimore | Pigtown
URL:https://golatindance.com/event/latin-pulse-thursdays-bachata-salsa-baltimore-dance-social/2028-02-03/
LOCATION:Mystique Barrel Brewing and Lager House\, 912 Washington Boulevard\, Baltimore\, MD 21230\, Baltimore\, MD\, 21230\, US
CATEGORIES:Washington DC-Baltimore
END:VEVENT
BEGIN:VEVENT
DTSTART;TZID=America/New_York:20280210T200000
DTEND;TZID=America/New_York:20280211T010000
DTSTAMP:20260425T081212
CREATED:20250416T160738Z
LAST-MODIFIED:20260107T161155Z
UID:10357470-1833825600-1833843600@golatindance.com
SUMMARY:Latin Pulse Thursdays | Bachata & Salsa | Baltimore Dance Social
DESCRIPTION:Every Week at Mystique Brewery! \nSalsa & Bachata classes at 7PM + 8PM • Social dancing 9PM–12AM \nJust $10 • Beginner-friendly • No partner needed \n📍 912 Washington Blvd\, Baltimore | Pigtown
URL:https://golatindance.com/event/latin-pulse-thursdays-bachata-salsa-baltimore-dance-social/2028-02-10/
LOCATION:Mystique Barrel Brewing and Lager House\, 912 Washington Boulevard\, Baltimore\, MD 21230\, Baltimore\, MD\, 21230\, US
CATEGORIES:Washington DC-Baltimore
END:VEVENT
BEGIN:VEVENT
DTSTART;TZID=America/New_York:20280217T200000
DTEND;TZID=America/New_York:20280218T010000
DTSTAMP:20260425T081212
CREATED:20250416T160738Z
LAST-MODIFIED:20260107T161155Z
UID:10357471-1834430400-1834448400@golatindance.com
SUMMARY:Latin Pulse Thursdays | Bachata & Salsa | Baltimore Dance Social
DESCRIPTION:Every Week at Mystique Brewery! \nSalsa & Bachata classes at 7PM + 8PM • Social dancing 9PM–12AM \nJust $10 • Beginner-friendly • No partner needed \n📍 912 Washington Blvd\, Baltimore | Pigtown
URL:https://golatindance.com/event/latin-pulse-thursdays-bachata-salsa-baltimore-dance-social/2028-02-17/
LOCATION:Mystique Barrel Brewing and Lager House\, 912 Washington Boulevard\, Baltimore\, MD 21230\, Baltimore\, MD\, 21230\, US
CATEGORIES:Washington DC-Baltimore
END:VEVENT
BEGIN:VEVENT
DTSTART;TZID=America/New_York:20280224T200000
DTEND;TZID=America/New_York:20280225T010000
DTSTAMP:20260425T081212
CREATED:20250416T160738Z
LAST-MODIFIED:20260107T161155Z
UID:10357472-1835035200-1835053200@golatindance.com
SUMMARY:Latin Pulse Thursdays | Bachata & Salsa | Baltimore Dance Social
DESCRIPTION:Every Week at Mystique Brewery! \nSalsa & Bachata classes at 7PM + 8PM • Social dancing 9PM–12AM \nJust $10 • Beginner-friendly • No partner needed \n📍 912 Washington Blvd\, Baltimore | Pigtown
URL:https://golatindance.com/event/latin-pulse-thursdays-bachata-salsa-baltimore-dance-social/2028-02-24/
LOCATION:Mystique Barrel Brewing and Lager House\, 912 Washington Boulevard\, Baltimore\, MD 21230\, Baltimore\, MD\, 21230\, US
CATEGORIES:Washington DC-Baltimore
END:VEVENT
BEGIN:VEVENT
DTSTART;TZID=America/New_York:20280302T200000
DTEND;TZID=America/New_York:20280303T010000
DTSTAMP:20260425T081212
CREATED:20250416T160738Z
LAST-MODIFIED:20260107T161155Z
UID:10357473-1835640000-1835658000@golatindance.com
SUMMARY:Latin Pulse Thursdays | Bachata & Salsa | Baltimore Dance Social
DESCRIPTION:Every Week at Mystique Brewery! \nSalsa & Bachata classes at 7PM + 8PM • Social dancing 9PM–12AM \nJust $10 • Beginner-friendly • No partner needed \n📍 912 Washington Blvd\, Baltimore | Pigtown
URL:https://golatindance.com/event/latin-pulse-thursdays-bachata-salsa-baltimore-dance-social/2028-03-02/
LOCATION:Mystique Barrel Brewing and Lager House\, 912 Washington Boulevard\, Baltimore\, MD 21230\, Baltimore\, MD\, 21230\, US
CATEGORIES:Washington DC-Baltimore
END:VEVENT
BEGIN:VEVENT
DTSTART;TZID=America/New_York:20280309T200000
DTEND;TZID=America/New_York:20280310T010000
DTSTAMP:20260425T081212
CREATED:20250416T160738Z
LAST-MODIFIED:20260107T161155Z
UID:10357474-1836244800-1836262800@golatindance.com
SUMMARY:Latin Pulse Thursdays | Bachata & Salsa | Baltimore Dance Social
DESCRIPTION:Every Week at Mystique Brewery! \nSalsa & Bachata classes at 7PM + 8PM • Social dancing 9PM–12AM \nJust $10 • Beginner-friendly • No partner needed \n📍 912 Washington Blvd\, Baltimore | Pigtown
URL:https://golatindance.com/event/latin-pulse-thursdays-bachata-salsa-baltimore-dance-social/2028-03-09/
LOCATION:Mystique Barrel Brewing and Lager House\, 912 Washington Boulevard\, Baltimore\, MD 21230\, Baltimore\, MD\, 21230\, US
CATEGORIES:Washington DC-Baltimore
END:VEVENT
BEGIN:VEVENT
DTSTART;TZID=America/New_York:20280316T200000
DTEND;TZID=America/New_York:20280317T010000
DTSTAMP:20260425T081212
CREATED:20250416T160738Z
LAST-MODIFIED:20260107T161155Z
UID:10357475-1836849600-1836867600@golatindance.com
SUMMARY:Latin Pulse Thursdays | Bachata & Salsa | Baltimore Dance Social
DESCRIPTION:Every Week at Mystique Brewery! \nSalsa & Bachata classes at 7PM + 8PM • Social dancing 9PM–12AM \nJust $10 • Beginner-friendly • No partner needed \n📍 912 Washington Blvd\, Baltimore | Pigtown
URL:https://golatindance.com/event/latin-pulse-thursdays-bachata-salsa-baltimore-dance-social/2028-03-16/
LOCATION:Mystique Barrel Brewing and Lager House\, 912 Washington Boulevard\, Baltimore\, MD 21230\, Baltimore\, MD\, 21230\, US
CATEGORIES:Washington DC-Baltimore
END:VEVENT
BEGIN:VEVENT
DTSTART;TZID=America/New_York:20280323T200000
DTEND;TZID=America/New_York:20280324T010000
DTSTAMP:20260425T081212
CREATED:20250416T160738Z
LAST-MODIFIED:20260107T161155Z
UID:10357476-1837454400-1837472400@golatindance.com
SUMMARY:Latin Pulse Thursdays | Bachata & Salsa | Baltimore Dance Social
DESCRIPTION:Every Week at Mystique Brewery! \nSalsa & Bachata classes at 7PM + 8PM • Social dancing 9PM–12AM \nJust $10 • Beginner-friendly • No partner needed \n📍 912 Washington Blvd\, Baltimore | Pigtown
URL:https://golatindance.com/event/latin-pulse-thursdays-bachata-salsa-baltimore-dance-social/2028-03-23/
LOCATION:Mystique Barrel Brewing and Lager House\, 912 Washington Boulevard\, Baltimore\, MD 21230\, Baltimore\, MD\, 21230\, US
CATEGORIES:Washington DC-Baltimore
END:VEVENT
BEGIN:VEVENT
DTSTART;TZID=America/New_York:20280330T200000
DTEND;TZID=America/New_York:20280331T010000
DTSTAMP:20260425T081212
CREATED:20250416T160738Z
LAST-MODIFIED:20260107T161155Z
UID:10357477-1838059200-1838077200@golatindance.com
SUMMARY:Latin Pulse Thursdays | Bachata & Salsa | Baltimore Dance Social
DESCRIPTION:Every Week at Mystique Brewery! \nSalsa & Bachata classes at 7PM + 8PM • Social dancing 9PM–12AM \nJust $10 • Beginner-friendly • No partner needed \n📍 912 Washington Blvd\, Baltimore | Pigtown
URL:https://golatindance.com/event/latin-pulse-thursdays-bachata-salsa-baltimore-dance-social/2028-03-30/
LOCATION:Mystique Barrel Brewing and Lager House\, 912 Washington Boulevard\, Baltimore\, MD 21230\, Baltimore\, MD\, 21230\, US
CATEGORIES:Washington DC-Baltimore
END:VEVENT
BEGIN:VEVENT
DTSTART;TZID=America/New_York:20280406T200000
DTEND;TZID=America/New_York:20280407T010000
DTSTAMP:20260425T081212
CREATED:20250416T160738Z
LAST-MODIFIED:20260107T161155Z
UID:10357478-1838664000-1838682000@golatindance.com
SUMMARY:Latin Pulse Thursdays | Bachata & Salsa | Baltimore Dance Social
DESCRIPTION:Every Week at Mystique Brewery! \nSalsa & Bachata classes at 7PM + 8PM • Social dancing 9PM–12AM \nJust $10 • Beginner-friendly • No partner needed \n📍 912 Washington Blvd\, Baltimore | Pigtown
URL:https://golatindance.com/event/latin-pulse-thursdays-bachata-salsa-baltimore-dance-social/2028-04-06/
LOCATION:Mystique Barrel Brewing and Lager House\, 912 Washington Boulevard\, Baltimore\, MD 21230\, Baltimore\, MD\, 21230\, US
CATEGORIES:Washington DC-Baltimore
END:VEVENT
BEGIN:VEVENT
DTSTART;TZID=America/New_York:20280413T200000
DTEND;TZID=America/New_York:20280414T010000
DTSTAMP:20260425T081212
CREATED:20250416T160738Z
LAST-MODIFIED:20260107T161155Z
UID:10357479-1839268800-1839286800@golatindance.com
SUMMARY:Latin Pulse Thursdays | Bachata & Salsa | Baltimore Dance Social
DESCRIPTION:Every Week at Mystique Brewery! \nSalsa & Bachata classes at 7PM + 8PM • Social dancing 9PM–12AM \nJust $10 • Beginner-friendly • No partner needed \n📍 912 Washington Blvd\, Baltimore | Pigtown
URL:https://golatindance.com/event/latin-pulse-thursdays-bachata-salsa-baltimore-dance-social/2028-04-13/
LOCATION:Mystique Barrel Brewing and Lager House\, 912 Washington Boulevard\, Baltimore\, MD 21230\, Baltimore\, MD\, 21230\, US
CATEGORIES:Washington DC-Baltimore
END:VEVENT
BEGIN:VEVENT
DTSTART;TZID=America/New_York:20280420T200000
DTEND;TZID=America/New_York:20280421T010000
DTSTAMP:20260425T081212
CREATED:20250416T160738Z
LAST-MODIFIED:20260107T161155Z
UID:10357480-1839873600-1839891600@golatindance.com
SUMMARY:Latin Pulse Thursdays | Bachata & Salsa | Baltimore Dance Social
DESCRIPTION:Every Week at Mystique Brewery! \nSalsa & Bachata classes at 7PM + 8PM • Social dancing 9PM–12AM \nJust $10 • Beginner-friendly • No partner needed \n📍 912 Washington Blvd\, Baltimore | Pigtown
URL:https://golatindance.com/event/latin-pulse-thursdays-bachata-salsa-baltimore-dance-social/2028-04-20/
LOCATION:Mystique Barrel Brewing and Lager House\, 912 Washington Boulevard\, Baltimore\, MD 21230\, Baltimore\, MD\, 21230\, US
CATEGORIES:Washington DC-Baltimore
END:VEVENT
BEGIN:VEVENT
DTSTART;TZID=America/New_York:20280427T200000
DTEND;TZID=America/New_York:20280428T010000
DTSTAMP:20260425T081212
CREATED:20250416T160738Z
LAST-MODIFIED:20260107T161155Z
UID:10357481-1840478400-1840496400@golatindance.com
SUMMARY:Latin Pulse Thursdays | Bachata & Salsa | Baltimore Dance Social
DESCRIPTION:Every Week at Mystique Brewery! \nSalsa & Bachata classes at 7PM + 8PM • Social dancing 9PM–12AM \nJust $10 • Beginner-friendly • No partner needed \n📍 912 Washington Blvd\, Baltimore | Pigtown
URL:https://golatindance.com/event/latin-pulse-thursdays-bachata-salsa-baltimore-dance-social/2028-04-27/
LOCATION:Mystique Barrel Brewing and Lager House\, 912 Washington Boulevard\, Baltimore\, MD 21230\, Baltimore\, MD\, 21230\, US
CATEGORIES:Washington DC-Baltimore
END:VEVENT
BEGIN:VEVENT
DTSTART;TZID=America/New_York:20280504T200000
DTEND;TZID=America/New_York:20280505T010000
DTSTAMP:20260425T081212
CREATED:20250416T160738Z
LAST-MODIFIED:20260107T161155Z
UID:10357482-1841083200-1841101200@golatindance.com
SUMMARY:Latin Pulse Thursdays | Bachata & Salsa | Baltimore Dance Social
DESCRIPTION:Every Week at Mystique Brewery! \nSalsa & Bachata classes at 7PM + 8PM • Social dancing 9PM–12AM \nJust $10 • Beginner-friendly • No partner needed \n📍 912 Washington Blvd\, Baltimore | Pigtown
URL:https://golatindance.com/event/latin-pulse-thursdays-bachata-salsa-baltimore-dance-social/2028-05-04/
LOCATION:Mystique Barrel Brewing and Lager House\, 912 Washington Boulevard\, Baltimore\, MD 21230\, Baltimore\, MD\, 21230\, US
CATEGORIES:Washington DC-Baltimore
END:VEVENT
BEGIN:VEVENT
DTSTART;TZID=America/New_York:20280511T200000
DTEND;TZID=America/New_York:20280512T010000
DTSTAMP:20260425T081212
CREATED:20250416T160738Z
LAST-MODIFIED:20260107T161155Z
UID:10357483-1841688000-1841706000@golatindance.com
SUMMARY:Latin Pulse Thursdays | Bachata & Salsa | Baltimore Dance Social
DESCRIPTION:Every Week at Mystique Brewery! \nSalsa & Bachata classes at 7PM + 8PM • Social dancing 9PM–12AM \nJust $10 • Beginner-friendly • No partner needed \n📍 912 Washington Blvd\, Baltimore | Pigtown
URL:https://golatindance.com/event/latin-pulse-thursdays-bachata-salsa-baltimore-dance-social/2028-05-11/
LOCATION:Mystique Barrel Brewing and Lager House\, 912 Washington Boulevard\, Baltimore\, MD 21230\, Baltimore\, MD\, 21230\, US
CATEGORIES:Washington DC-Baltimore
END:VEVENT
BEGIN:VEVENT
DTSTART;TZID=America/New_York:20280518T200000
DTEND;TZID=America/New_York:20280519T010000
DTSTAMP:20260425T081212
CREATED:20250416T160738Z
LAST-MODIFIED:20260107T161155Z
UID:10357484-1842292800-1842310800@golatindance.com
SUMMARY:Latin Pulse Thursdays | Bachata & Salsa | Baltimore Dance Social
DESCRIPTION:Every Week at Mystique Brewery! \nSalsa & Bachata classes at 7PM + 8PM • Social dancing 9PM–12AM \nJust $10 • Beginner-friendly • No partner needed \n📍 912 Washington Blvd\, Baltimore | Pigtown
URL:https://golatindance.com/event/latin-pulse-thursdays-bachata-salsa-baltimore-dance-social/2028-05-18/
LOCATION:Mystique Barrel Brewing and Lager House\, 912 Washington Boulevard\, Baltimore\, MD 21230\, Baltimore\, MD\, 21230\, US
CATEGORIES:Washington DC-Baltimore
END:VEVENT
BEGIN:VEVENT
DTSTART;TZID=America/New_York:20280525T200000
DTEND;TZID=America/New_York:20280526T010000
DTSTAMP:20260425T081212
CREATED:20250416T160738Z
LAST-MODIFIED:20260107T161155Z
UID:10357485-1842897600-1842915600@golatindance.com
SUMMARY:Latin Pulse Thursdays | Bachata & Salsa | Baltimore Dance Social
DESCRIPTION:Every Week at Mystique Brewery! \nSalsa & Bachata classes at 7PM + 8PM • Social dancing 9PM–12AM \nJust $10 • Beginner-friendly • No partner needed \n📍 912 Washington Blvd\, Baltimore | Pigtown
URL:https://golatindance.com/event/latin-pulse-thursdays-bachata-salsa-baltimore-dance-social/2028-05-25/
LOCATION:Mystique Barrel Brewing and Lager House\, 912 Washington Boulevard\, Baltimore\, MD 21230\, Baltimore\, MD\, 21230\, US
CATEGORIES:Washington DC-Baltimore
END:VEVENT
BEGIN:VEVENT
DTSTART;TZID=America/New_York:20280601T200000
DTEND;TZID=America/New_York:20280602T010000
DTSTAMP:20260425T081212
CREATED:20250416T160738Z
LAST-MODIFIED:20260107T161155Z
UID:10357486-1843502400-1843520400@golatindance.com
SUMMARY:Latin Pulse Thursdays | Bachata & Salsa | Baltimore Dance Social
DESCRIPTION:Every Week at Mystique Brewery! \nSalsa & Bachata classes at 7PM + 8PM • Social dancing 9PM–12AM \nJust $10 • Beginner-friendly • No partner needed \n📍 912 Washington Blvd\, Baltimore | Pigtown
URL:https://golatindance.com/event/latin-pulse-thursdays-bachata-salsa-baltimore-dance-social/2028-06-01/
LOCATION:Mystique Barrel Brewing and Lager House\, 912 Washington Boulevard\, Baltimore\, MD 21230\, Baltimore\, MD\, 21230\, US
CATEGORIES:Washington DC-Baltimore
END:VEVENT
BEGIN:VEVENT
DTSTART;TZID=America/New_York:20280608T200000
DTEND;TZID=America/New_York:20280609T010000
DTSTAMP:20260425T081212
CREATED:20250416T160738Z
LAST-MODIFIED:20260107T161155Z
UID:10357487-1844107200-1844125200@golatindance.com
SUMMARY:Latin Pulse Thursdays | Bachata & Salsa | Baltimore Dance Social
DESCRIPTION:Every Week at Mystique Brewery! \nSalsa & Bachata classes at 7PM + 8PM • Social dancing 9PM–12AM \nJust $10 • Beginner-friendly • No partner needed \n📍 912 Washington Blvd\, Baltimore | Pigtown
URL:https://golatindance.com/event/latin-pulse-thursdays-bachata-salsa-baltimore-dance-social/2028-06-08/
LOCATION:Mystique Barrel Brewing and Lager House\, 912 Washington Boulevard\, Baltimore\, MD 21230\, Baltimore\, MD\, 21230\, US
CATEGORIES:Washington DC-Baltimore
END:VEVENT
BEGIN:VEVENT
DTSTART;TZID=America/New_York:20280615T200000
DTEND;TZID=America/New_York:20280616T010000
DTSTAMP:20260425T081212
CREATED:20250416T160738Z
LAST-MODIFIED:20260107T161155Z
UID:10357488-1844712000-1844730000@golatindance.com
SUMMARY:Latin Pulse Thursdays | Bachata & Salsa | Baltimore Dance Social
DESCRIPTION:Every Week at Mystique Brewery! \nSalsa & Bachata classes at 7PM + 8PM • Social dancing 9PM–12AM \nJust $10 • Beginner-friendly • No partner needed \n📍 912 Washington Blvd\, Baltimore | Pigtown
URL:https://golatindance.com/event/latin-pulse-thursdays-bachata-salsa-baltimore-dance-social/2028-06-15/
LOCATION:Mystique Barrel Brewing and Lager House\, 912 Washington Boulevard\, Baltimore\, MD 21230\, Baltimore\, MD\, 21230\, US
CATEGORIES:Washington DC-Baltimore
END:VEVENT
BEGIN:VEVENT
DTSTART;TZID=America/New_York:20280622T200000
DTEND;TZID=America/New_York:20280623T010000
DTSTAMP:20260425T081212
CREATED:20250416T160738Z
LAST-MODIFIED:20260107T161155Z
UID:10357489-1845316800-1845334800@golatindance.com
SUMMARY:Latin Pulse Thursdays | Bachata & Salsa | Baltimore Dance Social
DESCRIPTION:Every Week at Mystique Brewery! \nSalsa & Bachata classes at 7PM + 8PM • Social dancing 9PM–12AM \nJust $10 • Beginner-friendly • No partner needed \n📍 912 Washington Blvd\, Baltimore | Pigtown
URL:https://golatindance.com/event/latin-pulse-thursdays-bachata-salsa-baltimore-dance-social/2028-06-22/
LOCATION:Mystique Barrel Brewing and Lager House\, 912 Washington Boulevard\, Baltimore\, MD 21230\, Baltimore\, MD\, 21230\, US
CATEGORIES:Washington DC-Baltimore
END:VEVENT
BEGIN:VEVENT
DTSTART;TZID=America/New_York:20280629T200000
DTEND;TZID=America/New_York:20280630T010000
DTSTAMP:20260425T081212
CREATED:20250416T160738Z
LAST-MODIFIED:20260107T161155Z
UID:10357490-1845921600-1845939600@golatindance.com
SUMMARY:Latin Pulse Thursdays | Bachata & Salsa | Baltimore Dance Social
DESCRIPTION:Every Week at Mystique Brewery! \nSalsa & Bachata classes at 7PM + 8PM • Social dancing 9PM–12AM \nJust $10 • Beginner-friendly • No partner needed \n📍 912 Washington Blvd\, Baltimore | Pigtown
URL:https://golatindance.com/event/latin-pulse-thursdays-bachata-salsa-baltimore-dance-social/2028-06-29/
LOCATION:Mystique Barrel Brewing and Lager House\, 912 Washington Boulevard\, Baltimore\, MD 21230\, Baltimore\, MD\, 21230\, US
CATEGORIES:Washington DC-Baltimore
END:VEVENT
BEGIN:VEVENT
DTSTART;TZID=America/New_York:20280706T200000
DTEND;TZID=America/New_York:20280707T010000
DTSTAMP:20260425T081212
CREATED:20250416T160738Z
LAST-MODIFIED:20260107T161155Z
UID:10357491-1846526400-1846544400@golatindance.com
SUMMARY:Latin Pulse Thursdays | Bachata & Salsa | Baltimore Dance Social
DESCRIPTION:Every Week at Mystique Brewery! \nSalsa & Bachata classes at 7PM + 8PM • Social dancing 9PM–12AM \nJust $10 • Beginner-friendly • No partner needed \n📍 912 Washington Blvd\, Baltimore | Pigtown
URL:https://golatindance.com/event/latin-pulse-thursdays-bachata-salsa-baltimore-dance-social/2028-07-06/
LOCATION:Mystique Barrel Brewing and Lager House\, 912 Washington Boulevard\, Baltimore\, MD 21230\, Baltimore\, MD\, 21230\, US
CATEGORIES:Washington DC-Baltimore
END:VEVENT
BEGIN:VEVENT
DTSTART;TZID=America/New_York:20280713T200000
DTEND;TZID=America/New_York:20280714T010000
DTSTAMP:20260425T081212
CREATED:20250416T160738Z
LAST-MODIFIED:20260107T161155Z
UID:10357492-1847131200-1847149200@golatindance.com
SUMMARY:Latin Pulse Thursdays | Bachata & Salsa | Baltimore Dance Social
DESCRIPTION:Every Week at Mystique Brewery! \nSalsa & Bachata classes at 7PM + 8PM • Social dancing 9PM–12AM \nJust $10 • Beginner-friendly • No partner needed \n📍 912 Washington Blvd\, Baltimore | Pigtown
URL:https://golatindance.com/event/latin-pulse-thursdays-bachata-salsa-baltimore-dance-social/2028-07-13/
LOCATION:Mystique Barrel Brewing and Lager House\, 912 Washington Boulevard\, Baltimore\, MD 21230\, Baltimore\, MD\, 21230\, US
CATEGORIES:Washington DC-Baltimore
END:VEVENT
BEGIN:VEVENT
DTSTART;TZID=America/New_York:20280720T200000
DTEND;TZID=America/New_York:20280721T010000
DTSTAMP:20260425T081212
CREATED:20250416T160738Z
LAST-MODIFIED:20260107T161155Z
UID:10357493-1847736000-1847754000@golatindance.com
SUMMARY:Latin Pulse Thursdays | Bachata & Salsa | Baltimore Dance Social
DESCRIPTION:Every Week at Mystique Brewery! \nSalsa & Bachata classes at 7PM + 8PM • Social dancing 9PM–12AM \nJust $10 • Beginner-friendly • No partner needed \n📍 912 Washington Blvd\, Baltimore | Pigtown
URL:https://golatindance.com/event/latin-pulse-thursdays-bachata-salsa-baltimore-dance-social/2028-07-20/
LOCATION:Mystique Barrel Brewing and Lager House\, 912 Washington Boulevard\, Baltimore\, MD 21230\, Baltimore\, MD\, 21230\, US
CATEGORIES:Washington DC-Baltimore
END:VEVENT
BEGIN:VEVENT
DTSTART;TZID=America/New_York:20280727T200000
DTEND;TZID=America/New_York:20280728T010000
DTSTAMP:20260425T081212
CREATED:20250416T160738Z
LAST-MODIFIED:20260107T161155Z
UID:10357494-1848340800-1848358800@golatindance.com
SUMMARY:Latin Pulse Thursdays | Bachata & Salsa | Baltimore Dance Social
DESCRIPTION:Every Week at Mystique Brewery! \nSalsa & Bachata classes at 7PM + 8PM • Social dancing 9PM–12AM \nJust $10 • Beginner-friendly • No partner needed \n📍 912 Washington Blvd\, Baltimore | Pigtown
URL:https://golatindance.com/event/latin-pulse-thursdays-bachata-salsa-baltimore-dance-social/2028-07-27/
LOCATION:Mystique Barrel Brewing and Lager House\, 912 Washington Boulevard\, Baltimore\, MD 21230\, Baltimore\, MD\, 21230\, US
CATEGORIES:Washington DC-Baltimore
END:VEVENT
BEGIN:VEVENT
DTSTART;TZID=America/New_York:20280803T200000
DTEND;TZID=America/New_York:20280804T010000
DTSTAMP:20260425T081212
CREATED:20250416T160738Z
LAST-MODIFIED:20260107T161155Z
UID:10357495-1848945600-1848963600@golatindance.com
SUMMARY:Latin Pulse Thursdays | Bachata & Salsa | Baltimore Dance Social
DESCRIPTION:Every Week at Mystique Brewery! \nSalsa & Bachata classes at 7PM + 8PM • Social dancing 9PM–12AM \nJust $10 • Beginner-friendly • No partner needed \n📍 912 Washington Blvd\, Baltimore | Pigtown
URL:https://golatindance.com/event/latin-pulse-thursdays-bachata-salsa-baltimore-dance-social/2028-08-03/
LOCATION:Mystique Barrel Brewing and Lager House\, 912 Washington Boulevard\, Baltimore\, MD 21230\, Baltimore\, MD\, 21230\, US
CATEGORIES:Washington DC-Baltimore
END:VEVENT
BEGIN:VEVENT
DTSTART;TZID=America/New_York:20280810T200000
DTEND;TZID=America/New_York:20280811T010000
DTSTAMP:20260425T081212
CREATED:20250416T160738Z
LAST-MODIFIED:20260107T161155Z
UID:10357496-1849550400-1849568400@golatindance.com
SUMMARY:Latin Pulse Thursdays | Bachata & Salsa | Baltimore Dance Social
DESCRIPTION:Every Week at Mystique Brewery! \nSalsa & Bachata classes at 7PM + 8PM • Social dancing 9PM–12AM \nJust $10 • Beginner-friendly • No partner needed \n📍 912 Washington Blvd\, Baltimore | Pigtown
URL:https://golatindance.com/event/latin-pulse-thursdays-bachata-salsa-baltimore-dance-social/2028-08-10/
LOCATION:Mystique Barrel Brewing and Lager House\, 912 Washington Boulevard\, Baltimore\, MD 21230\, Baltimore\, MD\, 21230\, US
CATEGORIES:Washington DC-Baltimore
END:VEVENT
END:VCALENDAR