BEGIN:VCALENDAR
VERSION:2.0
PRODID:-//GO Latin Dance - ECPv6.15.18//NONSGML v1.0//EN
CALSCALE:GREGORIAN
METHOD:PUBLISH
X-ORIGINAL-URL:https://golatindance.com
X-WR-CALDESC:Events for GO Latin Dance
REFRESH-INTERVAL;VALUE=DURATION:PT1H
X-Robots-Tag:noindex
X-PUBLISHED-TTL:PT1H
BEGIN:VTIMEZONE
TZID:America/Chicago
BEGIN:DAYLIGHT
TZOFFSETFROM:-0600
TZOFFSETTO:-0500
TZNAME:CDT
DTSTART:20260308T080000
END:DAYLIGHT
BEGIN:STANDARD
TZOFFSETFROM:-0500
TZOFFSETTO:-0600
TZNAME:CST
DTSTART:20261101T070000
END:STANDARD
BEGIN:DAYLIGHT
TZOFFSETFROM:-0600
TZOFFSETTO:-0500
TZNAME:CDT
DTSTART:20270314T080000
END:DAYLIGHT
BEGIN:STANDARD
TZOFFSETFROM:-0500
TZOFFSETTO:-0600
TZNAME:CST
DTSTART:20271107T070000
END:STANDARD
BEGIN:DAYLIGHT
TZOFFSETFROM:-0600
TZOFFSETTO:-0500
TZNAME:CDT
DTSTART:20280312T080000
END:DAYLIGHT
BEGIN:STANDARD
TZOFFSETFROM:-0500
TZOFFSETTO:-0600
TZNAME:CST
DTSTART:20281105T070000
END:STANDARD
END:VTIMEZONE
BEGIN:VEVENT
DTSTART;TZID=America/Chicago:20270203T200000
DTEND;TZID=America/Chicago:20270204T010000
DTSTAMP:20260424T154221
CREATED:20240324T160241Z
LAST-MODIFIED:20250120T200402Z
UID:10228589-1801684800-1801702800@golatindance.com
SUMMARY:Bachata Sensual and Salsa Wednesdays
DESCRIPTION:One hour dance lessons every week at 8pm or 8:30pm.\nDj Porras & guest DJs\nCover $10\n18+\nFree parking
URL:https://golatindance.com/event/bachata-sensual-and-salsa-wednesdays/2027-02-03/
LOCATION:MZ Bar\, 1550 Illinois Rte 59 #156\, Naperville\, IL\, 60563\, United States
CATEGORIES:Chicago
ATTACH;FMTTYPE=image/png:https://golatindance.com/wp-content/uploads/2024/03/mz.png
GEO:41.7952358;-88.2043431
X-APPLE-STRUCTURED-LOCATION;VALUE=URI;X-ADDRESS=MZ Bar 1550 Illinois Rte 59 #156 Naperville IL 60563 United States;X-APPLE-RADIUS=500;X-TITLE=1550 Illinois Rte 59 #156:geo:-88.2043431,41.7952358
END:VEVENT
BEGIN:VEVENT
DTSTART;TZID=America/Chicago:20270206T210000
DTEND;TZID=America/Chicago:20270207T020000
DTSTAMP:20260424T154221
CREATED:20230220T200337Z
LAST-MODIFIED:20240715T204639Z
UID:10119313-1801947600-1801965600@golatindance.com
SUMMARY:Latin Vibes Saturdays
DESCRIPTION:Bachata\, Cumbia\, Salsa and tropical beats. Dance class usually at 8:30pm or 9pm. Guest DJs.
URL:https://golatindance.com/event/latin-vibes-saturdays/2027-02-06/
LOCATION:MZ Bar\, 1550 Illinois Rte 59 #156\, Naperville\, IL\, 60563\, United States
CATEGORIES:Chicago
GEO:41.7952358;-88.2043431
X-APPLE-STRUCTURED-LOCATION;VALUE=URI;X-ADDRESS=MZ Bar 1550 Illinois Rte 59 #156 Naperville IL 60563 United States;X-APPLE-RADIUS=500;X-TITLE=1550 Illinois Rte 59 #156:geo:-88.2043431,41.7952358
END:VEVENT
BEGIN:VEVENT
DTSTART;TZID=America/Chicago:20270207T170000
DTEND;TZID=America/Chicago:20270207T210000
DTSTAMP:20260424T154221
CREATED:20240311T201519Z
LAST-MODIFIED:20260222T202804Z
UID:10236225-1802019600-1802034000@golatindance.com
SUMMARY:1st Sunday Salsa Social
DESCRIPTION:1st Sunday Salsa Social\n5-6 pm Salsa class\n6-9 pm open dancing\nCelebrating birthdays\, or any other occasions? Call or text us at 847-310-3250 to reserve your table.\nSpecial Birthday packages are available upon request.\nRestaurant and Bar open all night!!\nCover: $15.00\nPlenty of free parking all evening\nAll ages event
URL:https://golatindance.com/event/1st-sunday-social-bar-louie/2027-02-07/
LOCATION:MZ Bar\, 1550 Illinois Rte 59 #156\, Naperville\, IL\, 60563\, United States
CATEGORIES:Chicago
GEO:41.7952358;-88.2043431
X-APPLE-STRUCTURED-LOCATION;VALUE=URI;X-ADDRESS=MZ Bar 1550 Illinois Rte 59 #156 Naperville IL 60563 United States;X-APPLE-RADIUS=500;X-TITLE=1550 Illinois Rte 59 #156:geo:-88.2043431,41.7952358
END:VEVENT
BEGIN:VEVENT
DTSTART;TZID=America/Chicago:20270210T200000
DTEND;TZID=America/Chicago:20270211T010000
DTSTAMP:20260424T154221
CREATED:20240324T160241Z
LAST-MODIFIED:20250120T200402Z
UID:10228590-1802289600-1802307600@golatindance.com
SUMMARY:Bachata Sensual and Salsa Wednesdays
DESCRIPTION:One hour dance lessons every week at 8pm or 8:30pm.\nDj Porras & guest DJs\nCover $10\n18+\nFree parking
URL:https://golatindance.com/event/bachata-sensual-and-salsa-wednesdays/2027-02-10/
LOCATION:MZ Bar\, 1550 Illinois Rte 59 #156\, Naperville\, IL\, 60563\, United States
CATEGORIES:Chicago
ATTACH;FMTTYPE=image/png:https://golatindance.com/wp-content/uploads/2024/03/mz.png
GEO:41.7952358;-88.2043431
X-APPLE-STRUCTURED-LOCATION;VALUE=URI;X-ADDRESS=MZ Bar 1550 Illinois Rte 59 #156 Naperville IL 60563 United States;X-APPLE-RADIUS=500;X-TITLE=1550 Illinois Rte 59 #156:geo:-88.2043431,41.7952358
END:VEVENT
BEGIN:VEVENT
DTSTART;TZID=America/Chicago:20270213T210000
DTEND;TZID=America/Chicago:20270214T020000
DTSTAMP:20260424T154221
CREATED:20230220T200337Z
LAST-MODIFIED:20240715T204639Z
UID:10119314-1802552400-1802570400@golatindance.com
SUMMARY:Latin Vibes Saturdays
DESCRIPTION:Bachata\, Cumbia\, Salsa and tropical beats. Dance class usually at 8:30pm or 9pm. Guest DJs.
URL:https://golatindance.com/event/latin-vibes-saturdays/2027-02-13/
LOCATION:MZ Bar\, 1550 Illinois Rte 59 #156\, Naperville\, IL\, 60563\, United States
CATEGORIES:Chicago
GEO:41.7952358;-88.2043431
X-APPLE-STRUCTURED-LOCATION;VALUE=URI;X-ADDRESS=MZ Bar 1550 Illinois Rte 59 #156 Naperville IL 60563 United States;X-APPLE-RADIUS=500;X-TITLE=1550 Illinois Rte 59 #156:geo:-88.2043431,41.7952358
END:VEVENT
BEGIN:VEVENT
DTSTART;TZID=America/Chicago:20270217T200000
DTEND;TZID=America/Chicago:20270218T010000
DTSTAMP:20260424T154221
CREATED:20240324T160241Z
LAST-MODIFIED:20250120T200402Z
UID:10228591-1802894400-1802912400@golatindance.com
SUMMARY:Bachata Sensual and Salsa Wednesdays
DESCRIPTION:One hour dance lessons every week at 8pm or 8:30pm.\nDj Porras & guest DJs\nCover $10\n18+\nFree parking
URL:https://golatindance.com/event/bachata-sensual-and-salsa-wednesdays/2027-02-17/
LOCATION:MZ Bar\, 1550 Illinois Rte 59 #156\, Naperville\, IL\, 60563\, United States
CATEGORIES:Chicago
ATTACH;FMTTYPE=image/png:https://golatindance.com/wp-content/uploads/2024/03/mz.png
GEO:41.7952358;-88.2043431
X-APPLE-STRUCTURED-LOCATION;VALUE=URI;X-ADDRESS=MZ Bar 1550 Illinois Rte 59 #156 Naperville IL 60563 United States;X-APPLE-RADIUS=500;X-TITLE=1550 Illinois Rte 59 #156:geo:-88.2043431,41.7952358
END:VEVENT
BEGIN:VEVENT
DTSTART;TZID=America/Chicago:20270220T210000
DTEND;TZID=America/Chicago:20270221T020000
DTSTAMP:20260424T154221
CREATED:20230220T200337Z
LAST-MODIFIED:20240715T204639Z
UID:10119315-1803157200-1803175200@golatindance.com
SUMMARY:Latin Vibes Saturdays
DESCRIPTION:Bachata\, Cumbia\, Salsa and tropical beats. Dance class usually at 8:30pm or 9pm. Guest DJs.
URL:https://golatindance.com/event/latin-vibes-saturdays/2027-02-20/
LOCATION:MZ Bar\, 1550 Illinois Rte 59 #156\, Naperville\, IL\, 60563\, United States
CATEGORIES:Chicago
GEO:41.7952358;-88.2043431
X-APPLE-STRUCTURED-LOCATION;VALUE=URI;X-ADDRESS=MZ Bar 1550 Illinois Rte 59 #156 Naperville IL 60563 United States;X-APPLE-RADIUS=500;X-TITLE=1550 Illinois Rte 59 #156:geo:-88.2043431,41.7952358
END:VEVENT
BEGIN:VEVENT
DTSTART;TZID=America/Chicago:20270224T200000
DTEND;TZID=America/Chicago:20270225T010000
DTSTAMP:20260424T154221
CREATED:20240324T160241Z
LAST-MODIFIED:20250120T200402Z
UID:10228592-1803499200-1803517200@golatindance.com
SUMMARY:Bachata Sensual and Salsa Wednesdays
DESCRIPTION:One hour dance lessons every week at 8pm or 8:30pm.\nDj Porras & guest DJs\nCover $10\n18+\nFree parking
URL:https://golatindance.com/event/bachata-sensual-and-salsa-wednesdays/2027-02-24/
LOCATION:MZ Bar\, 1550 Illinois Rte 59 #156\, Naperville\, IL\, 60563\, United States
CATEGORIES:Chicago
ATTACH;FMTTYPE=image/png:https://golatindance.com/wp-content/uploads/2024/03/mz.png
GEO:41.7952358;-88.2043431
X-APPLE-STRUCTURED-LOCATION;VALUE=URI;X-ADDRESS=MZ Bar 1550 Illinois Rte 59 #156 Naperville IL 60563 United States;X-APPLE-RADIUS=500;X-TITLE=1550 Illinois Rte 59 #156:geo:-88.2043431,41.7952358
END:VEVENT
BEGIN:VEVENT
DTSTART;TZID=America/Chicago:20270227T210000
DTEND;TZID=America/Chicago:20270228T020000
DTSTAMP:20260424T154221
CREATED:20230220T200337Z
LAST-MODIFIED:20240715T204639Z
UID:10119316-1803762000-1803780000@golatindance.com
SUMMARY:Latin Vibes Saturdays
DESCRIPTION:Bachata\, Cumbia\, Salsa and tropical beats. Dance class usually at 8:30pm or 9pm. Guest DJs.
URL:https://golatindance.com/event/latin-vibes-saturdays/2027-02-27/
LOCATION:MZ Bar\, 1550 Illinois Rte 59 #156\, Naperville\, IL\, 60563\, United States
CATEGORIES:Chicago
GEO:41.7952358;-88.2043431
X-APPLE-STRUCTURED-LOCATION;VALUE=URI;X-ADDRESS=MZ Bar 1550 Illinois Rte 59 #156 Naperville IL 60563 United States;X-APPLE-RADIUS=500;X-TITLE=1550 Illinois Rte 59 #156:geo:-88.2043431,41.7952358
END:VEVENT
BEGIN:VEVENT
DTSTART;TZID=America/Chicago:20270303T200000
DTEND;TZID=America/Chicago:20270304T010000
DTSTAMP:20260424T154221
CREATED:20240324T160241Z
LAST-MODIFIED:20250120T200402Z
UID:10228593-1804104000-1804122000@golatindance.com
SUMMARY:Bachata Sensual and Salsa Wednesdays
DESCRIPTION:One hour dance lessons every week at 8pm or 8:30pm.\nDj Porras & guest DJs\nCover $10\n18+\nFree parking
URL:https://golatindance.com/event/bachata-sensual-and-salsa-wednesdays/2027-03-03/
LOCATION:MZ Bar\, 1550 Illinois Rte 59 #156\, Naperville\, IL\, 60563\, United States
CATEGORIES:Chicago
ATTACH;FMTTYPE=image/png:https://golatindance.com/wp-content/uploads/2024/03/mz.png
GEO:41.7952358;-88.2043431
X-APPLE-STRUCTURED-LOCATION;VALUE=URI;X-ADDRESS=MZ Bar 1550 Illinois Rte 59 #156 Naperville IL 60563 United States;X-APPLE-RADIUS=500;X-TITLE=1550 Illinois Rte 59 #156:geo:-88.2043431,41.7952358
END:VEVENT
BEGIN:VEVENT
DTSTART;TZID=America/Chicago:20270306T210000
DTEND;TZID=America/Chicago:20270307T020000
DTSTAMP:20260424T154221
CREATED:20230220T200337Z
LAST-MODIFIED:20240715T204639Z
UID:10119317-1804366800-1804384800@golatindance.com
SUMMARY:Latin Vibes Saturdays
DESCRIPTION:Bachata\, Cumbia\, Salsa and tropical beats. Dance class usually at 8:30pm or 9pm. Guest DJs.
URL:https://golatindance.com/event/latin-vibes-saturdays/2027-03-06/
LOCATION:MZ Bar\, 1550 Illinois Rte 59 #156\, Naperville\, IL\, 60563\, United States
CATEGORIES:Chicago
GEO:41.7952358;-88.2043431
X-APPLE-STRUCTURED-LOCATION;VALUE=URI;X-ADDRESS=MZ Bar 1550 Illinois Rte 59 #156 Naperville IL 60563 United States;X-APPLE-RADIUS=500;X-TITLE=1550 Illinois Rte 59 #156:geo:-88.2043431,41.7952358
END:VEVENT
BEGIN:VEVENT
DTSTART;TZID=America/Chicago:20270307T170000
DTEND;TZID=America/Chicago:20270307T210000
DTSTAMP:20260424T154221
CREATED:20240311T201519Z
LAST-MODIFIED:20260222T202804Z
UID:10236226-1804438800-1804453200@golatindance.com
SUMMARY:1st Sunday Salsa Social
DESCRIPTION:1st Sunday Salsa Social\n5-6 pm Salsa class\n6-9 pm open dancing\nCelebrating birthdays\, or any other occasions? Call or text us at 847-310-3250 to reserve your table.\nSpecial Birthday packages are available upon request.\nRestaurant and Bar open all night!!\nCover: $15.00\nPlenty of free parking all evening\nAll ages event
URL:https://golatindance.com/event/1st-sunday-social-bar-louie/2027-03-07/
LOCATION:MZ Bar\, 1550 Illinois Rte 59 #156\, Naperville\, IL\, 60563\, United States
CATEGORIES:Chicago
GEO:41.7952358;-88.2043431
X-APPLE-STRUCTURED-LOCATION;VALUE=URI;X-ADDRESS=MZ Bar 1550 Illinois Rte 59 #156 Naperville IL 60563 United States;X-APPLE-RADIUS=500;X-TITLE=1550 Illinois Rte 59 #156:geo:-88.2043431,41.7952358
END:VEVENT
BEGIN:VEVENT
DTSTART;TZID=America/Chicago:20270310T200000
DTEND;TZID=America/Chicago:20270311T010000
DTSTAMP:20260424T154221
CREATED:20240324T160241Z
LAST-MODIFIED:20250120T200402Z
UID:10228594-1804708800-1804726800@golatindance.com
SUMMARY:Bachata Sensual and Salsa Wednesdays
DESCRIPTION:One hour dance lessons every week at 8pm or 8:30pm.\nDj Porras & guest DJs\nCover $10\n18+\nFree parking
URL:https://golatindance.com/event/bachata-sensual-and-salsa-wednesdays/2027-03-10/
LOCATION:MZ Bar\, 1550 Illinois Rte 59 #156\, Naperville\, IL\, 60563\, United States
CATEGORIES:Chicago
ATTACH;FMTTYPE=image/png:https://golatindance.com/wp-content/uploads/2024/03/mz.png
GEO:41.7952358;-88.2043431
X-APPLE-STRUCTURED-LOCATION;VALUE=URI;X-ADDRESS=MZ Bar 1550 Illinois Rte 59 #156 Naperville IL 60563 United States;X-APPLE-RADIUS=500;X-TITLE=1550 Illinois Rte 59 #156:geo:-88.2043431,41.7952358
END:VEVENT
BEGIN:VEVENT
DTSTART;TZID=America/Chicago:20270313T210000
DTEND;TZID=America/Chicago:20270314T030000
DTSTAMP:20260424T154221
CREATED:20230220T200337Z
LAST-MODIFIED:20240715T204639Z
UID:10119318-1804971600-1804993200@golatindance.com
SUMMARY:Latin Vibes Saturdays
DESCRIPTION:Bachata\, Cumbia\, Salsa and tropical beats. Dance class usually at 8:30pm or 9pm. Guest DJs.
URL:https://golatindance.com/event/latin-vibes-saturdays/2027-03-13/
LOCATION:MZ Bar\, 1550 Illinois Rte 59 #156\, Naperville\, IL\, 60563\, United States
CATEGORIES:Chicago
GEO:41.7952358;-88.2043431
X-APPLE-STRUCTURED-LOCATION;VALUE=URI;X-ADDRESS=MZ Bar 1550 Illinois Rte 59 #156 Naperville IL 60563 United States;X-APPLE-RADIUS=500;X-TITLE=1550 Illinois Rte 59 #156:geo:-88.2043431,41.7952358
END:VEVENT
BEGIN:VEVENT
DTSTART;TZID=America/Chicago:20270317T200000
DTEND;TZID=America/Chicago:20270318T010000
DTSTAMP:20260424T154221
CREATED:20240324T160241Z
LAST-MODIFIED:20250120T200402Z
UID:10228595-1805313600-1805331600@golatindance.com
SUMMARY:Bachata Sensual and Salsa Wednesdays
DESCRIPTION:One hour dance lessons every week at 8pm or 8:30pm.\nDj Porras & guest DJs\nCover $10\n18+\nFree parking
URL:https://golatindance.com/event/bachata-sensual-and-salsa-wednesdays/2027-03-17/
LOCATION:MZ Bar\, 1550 Illinois Rte 59 #156\, Naperville\, IL\, 60563\, United States
CATEGORIES:Chicago
ATTACH;FMTTYPE=image/png:https://golatindance.com/wp-content/uploads/2024/03/mz.png
GEO:41.7952358;-88.2043431
X-APPLE-STRUCTURED-LOCATION;VALUE=URI;X-ADDRESS=MZ Bar 1550 Illinois Rte 59 #156 Naperville IL 60563 United States;X-APPLE-RADIUS=500;X-TITLE=1550 Illinois Rte 59 #156:geo:-88.2043431,41.7952358
END:VEVENT
BEGIN:VEVENT
DTSTART;TZID=America/Chicago:20270320T210000
DTEND;TZID=America/Chicago:20270321T020000
DTSTAMP:20260424T154221
CREATED:20230220T200337Z
LAST-MODIFIED:20240715T204639Z
UID:10119319-1805576400-1805594400@golatindance.com
SUMMARY:Latin Vibes Saturdays
DESCRIPTION:Bachata\, Cumbia\, Salsa and tropical beats. Dance class usually at 8:30pm or 9pm. Guest DJs.
URL:https://golatindance.com/event/latin-vibes-saturdays/2027-03-20/
LOCATION:MZ Bar\, 1550 Illinois Rte 59 #156\, Naperville\, IL\, 60563\, United States
CATEGORIES:Chicago
GEO:41.7952358;-88.2043431
X-APPLE-STRUCTURED-LOCATION;VALUE=URI;X-ADDRESS=MZ Bar 1550 Illinois Rte 59 #156 Naperville IL 60563 United States;X-APPLE-RADIUS=500;X-TITLE=1550 Illinois Rte 59 #156:geo:-88.2043431,41.7952358
END:VEVENT
BEGIN:VEVENT
DTSTART;TZID=America/Chicago:20270324T200000
DTEND;TZID=America/Chicago:20270325T010000
DTSTAMP:20260424T154221
CREATED:20240324T160241Z
LAST-MODIFIED:20250120T200402Z
UID:10228596-1805918400-1805936400@golatindance.com
SUMMARY:Bachata Sensual and Salsa Wednesdays
DESCRIPTION:One hour dance lessons every week at 8pm or 8:30pm.\nDj Porras & guest DJs\nCover $10\n18+\nFree parking
URL:https://golatindance.com/event/bachata-sensual-and-salsa-wednesdays/2027-03-24/
LOCATION:MZ Bar\, 1550 Illinois Rte 59 #156\, Naperville\, IL\, 60563\, United States
CATEGORIES:Chicago
ATTACH;FMTTYPE=image/png:https://golatindance.com/wp-content/uploads/2024/03/mz.png
GEO:41.7952358;-88.2043431
X-APPLE-STRUCTURED-LOCATION;VALUE=URI;X-ADDRESS=MZ Bar 1550 Illinois Rte 59 #156 Naperville IL 60563 United States;X-APPLE-RADIUS=500;X-TITLE=1550 Illinois Rte 59 #156:geo:-88.2043431,41.7952358
END:VEVENT
BEGIN:VEVENT
DTSTART;TZID=America/Chicago:20270327T210000
DTEND;TZID=America/Chicago:20270328T020000
DTSTAMP:20260424T154221
CREATED:20230220T200337Z
LAST-MODIFIED:20240715T204639Z
UID:10119320-1806181200-1806199200@golatindance.com
SUMMARY:Latin Vibes Saturdays
DESCRIPTION:Bachata\, Cumbia\, Salsa and tropical beats. Dance class usually at 8:30pm or 9pm. Guest DJs.
URL:https://golatindance.com/event/latin-vibes-saturdays/2027-03-27/
LOCATION:MZ Bar\, 1550 Illinois Rte 59 #156\, Naperville\, IL\, 60563\, United States
CATEGORIES:Chicago
GEO:41.7952358;-88.2043431
X-APPLE-STRUCTURED-LOCATION;VALUE=URI;X-ADDRESS=MZ Bar 1550 Illinois Rte 59 #156 Naperville IL 60563 United States;X-APPLE-RADIUS=500;X-TITLE=1550 Illinois Rte 59 #156:geo:-88.2043431,41.7952358
END:VEVENT
BEGIN:VEVENT
DTSTART;TZID=America/Chicago:20270331T200000
DTEND;TZID=America/Chicago:20270401T010000
DTSTAMP:20260424T154221
CREATED:20240324T160241Z
LAST-MODIFIED:20250120T200402Z
UID:10228597-1806523200-1806541200@golatindance.com
SUMMARY:Bachata Sensual and Salsa Wednesdays
DESCRIPTION:One hour dance lessons every week at 8pm or 8:30pm.\nDj Porras & guest DJs\nCover $10\n18+\nFree parking
URL:https://golatindance.com/event/bachata-sensual-and-salsa-wednesdays/2027-03-31/
LOCATION:MZ Bar\, 1550 Illinois Rte 59 #156\, Naperville\, IL\, 60563\, United States
CATEGORIES:Chicago
ATTACH;FMTTYPE=image/png:https://golatindance.com/wp-content/uploads/2024/03/mz.png
GEO:41.7952358;-88.2043431
X-APPLE-STRUCTURED-LOCATION;VALUE=URI;X-ADDRESS=MZ Bar 1550 Illinois Rte 59 #156 Naperville IL 60563 United States;X-APPLE-RADIUS=500;X-TITLE=1550 Illinois Rte 59 #156:geo:-88.2043431,41.7952358
END:VEVENT
BEGIN:VEVENT
DTSTART;TZID=America/Chicago:20270403T210000
DTEND;TZID=America/Chicago:20270404T020000
DTSTAMP:20260424T154221
CREATED:20230220T200337Z
LAST-MODIFIED:20240715T204639Z
UID:10119321-1806786000-1806804000@golatindance.com
SUMMARY:Latin Vibes Saturdays
DESCRIPTION:Bachata\, Cumbia\, Salsa and tropical beats. Dance class usually at 8:30pm or 9pm. Guest DJs.
URL:https://golatindance.com/event/latin-vibes-saturdays/2027-04-03/
LOCATION:MZ Bar\, 1550 Illinois Rte 59 #156\, Naperville\, IL\, 60563\, United States
CATEGORIES:Chicago
GEO:41.7952358;-88.2043431
X-APPLE-STRUCTURED-LOCATION;VALUE=URI;X-ADDRESS=MZ Bar 1550 Illinois Rte 59 #156 Naperville IL 60563 United States;X-APPLE-RADIUS=500;X-TITLE=1550 Illinois Rte 59 #156:geo:-88.2043431,41.7952358
END:VEVENT
BEGIN:VEVENT
DTSTART;TZID=America/Chicago:20270404T170000
DTEND;TZID=America/Chicago:20270404T210000
DTSTAMP:20260424T154221
CREATED:20240311T201519Z
LAST-MODIFIED:20260222T202804Z
UID:10236227-1806858000-1806872400@golatindance.com
SUMMARY:1st Sunday Salsa Social
DESCRIPTION:1st Sunday Salsa Social\n5-6 pm Salsa class\n6-9 pm open dancing\nCelebrating birthdays\, or any other occasions? Call or text us at 847-310-3250 to reserve your table.\nSpecial Birthday packages are available upon request.\nRestaurant and Bar open all night!!\nCover: $15.00\nPlenty of free parking all evening\nAll ages event
URL:https://golatindance.com/event/1st-sunday-social-bar-louie/2027-04-04/
LOCATION:MZ Bar\, 1550 Illinois Rte 59 #156\, Naperville\, IL\, 60563\, United States
CATEGORIES:Chicago
GEO:41.7952358;-88.2043431
X-APPLE-STRUCTURED-LOCATION;VALUE=URI;X-ADDRESS=MZ Bar 1550 Illinois Rte 59 #156 Naperville IL 60563 United States;X-APPLE-RADIUS=500;X-TITLE=1550 Illinois Rte 59 #156:geo:-88.2043431,41.7952358
END:VEVENT
BEGIN:VEVENT
DTSTART;TZID=America/Chicago:20270407T200000
DTEND;TZID=America/Chicago:20270408T010000
DTSTAMP:20260424T154221
CREATED:20240324T160241Z
LAST-MODIFIED:20250120T200402Z
UID:10228598-1807128000-1807146000@golatindance.com
SUMMARY:Bachata Sensual and Salsa Wednesdays
DESCRIPTION:One hour dance lessons every week at 8pm or 8:30pm.\nDj Porras & guest DJs\nCover $10\n18+\nFree parking
URL:https://golatindance.com/event/bachata-sensual-and-salsa-wednesdays/2027-04-07/
LOCATION:MZ Bar\, 1550 Illinois Rte 59 #156\, Naperville\, IL\, 60563\, United States
CATEGORIES:Chicago
ATTACH;FMTTYPE=image/png:https://golatindance.com/wp-content/uploads/2024/03/mz.png
GEO:41.7952358;-88.2043431
X-APPLE-STRUCTURED-LOCATION;VALUE=URI;X-ADDRESS=MZ Bar 1550 Illinois Rte 59 #156 Naperville IL 60563 United States;X-APPLE-RADIUS=500;X-TITLE=1550 Illinois Rte 59 #156:geo:-88.2043431,41.7952358
END:VEVENT
BEGIN:VEVENT
DTSTART;TZID=America/Chicago:20270410T210000
DTEND;TZID=America/Chicago:20270411T020000
DTSTAMP:20260424T154221
CREATED:20230220T200337Z
LAST-MODIFIED:20240715T204639Z
UID:10119322-1807390800-1807408800@golatindance.com
SUMMARY:Latin Vibes Saturdays
DESCRIPTION:Bachata\, Cumbia\, Salsa and tropical beats. Dance class usually at 8:30pm or 9pm. Guest DJs.
URL:https://golatindance.com/event/latin-vibes-saturdays/2027-04-10/
LOCATION:MZ Bar\, 1550 Illinois Rte 59 #156\, Naperville\, IL\, 60563\, United States
CATEGORIES:Chicago
GEO:41.7952358;-88.2043431
X-APPLE-STRUCTURED-LOCATION;VALUE=URI;X-ADDRESS=MZ Bar 1550 Illinois Rte 59 #156 Naperville IL 60563 United States;X-APPLE-RADIUS=500;X-TITLE=1550 Illinois Rte 59 #156:geo:-88.2043431,41.7952358
END:VEVENT
BEGIN:VEVENT
DTSTART;TZID=America/Chicago:20270414T200000
DTEND;TZID=America/Chicago:20270415T010000
DTSTAMP:20260424T154221
CREATED:20240324T160241Z
LAST-MODIFIED:20250120T200402Z
UID:10228599-1807732800-1807750800@golatindance.com
SUMMARY:Bachata Sensual and Salsa Wednesdays
DESCRIPTION:One hour dance lessons every week at 8pm or 8:30pm.\nDj Porras & guest DJs\nCover $10\n18+\nFree parking
URL:https://golatindance.com/event/bachata-sensual-and-salsa-wednesdays/2027-04-14/
LOCATION:MZ Bar\, 1550 Illinois Rte 59 #156\, Naperville\, IL\, 60563\, United States
CATEGORIES:Chicago
ATTACH;FMTTYPE=image/png:https://golatindance.com/wp-content/uploads/2024/03/mz.png
GEO:41.7952358;-88.2043431
X-APPLE-STRUCTURED-LOCATION;VALUE=URI;X-ADDRESS=MZ Bar 1550 Illinois Rte 59 #156 Naperville IL 60563 United States;X-APPLE-RADIUS=500;X-TITLE=1550 Illinois Rte 59 #156:geo:-88.2043431,41.7952358
END:VEVENT
BEGIN:VEVENT
DTSTART;TZID=America/Chicago:20270417T210000
DTEND;TZID=America/Chicago:20270418T020000
DTSTAMP:20260424T154221
CREATED:20230220T200337Z
LAST-MODIFIED:20240715T204639Z
UID:10119323-1807995600-1808013600@golatindance.com
SUMMARY:Latin Vibes Saturdays
DESCRIPTION:Bachata\, Cumbia\, Salsa and tropical beats. Dance class usually at 8:30pm or 9pm. Guest DJs.
URL:https://golatindance.com/event/latin-vibes-saturdays/2027-04-17/
LOCATION:MZ Bar\, 1550 Illinois Rte 59 #156\, Naperville\, IL\, 60563\, United States
CATEGORIES:Chicago
GEO:41.7952358;-88.2043431
X-APPLE-STRUCTURED-LOCATION;VALUE=URI;X-ADDRESS=MZ Bar 1550 Illinois Rte 59 #156 Naperville IL 60563 United States;X-APPLE-RADIUS=500;X-TITLE=1550 Illinois Rte 59 #156:geo:-88.2043431,41.7952358
END:VEVENT
BEGIN:VEVENT
DTSTART;TZID=America/Chicago:20270421T200000
DTEND;TZID=America/Chicago:20270422T010000
DTSTAMP:20260424T154221
CREATED:20240324T160241Z
LAST-MODIFIED:20250120T200402Z
UID:10228600-1808337600-1808355600@golatindance.com
SUMMARY:Bachata Sensual and Salsa Wednesdays
DESCRIPTION:One hour dance lessons every week at 8pm or 8:30pm.\nDj Porras & guest DJs\nCover $10\n18+\nFree parking
URL:https://golatindance.com/event/bachata-sensual-and-salsa-wednesdays/2027-04-21/
LOCATION:MZ Bar\, 1550 Illinois Rte 59 #156\, Naperville\, IL\, 60563\, United States
CATEGORIES:Chicago
ATTACH;FMTTYPE=image/png:https://golatindance.com/wp-content/uploads/2024/03/mz.png
GEO:41.7952358;-88.2043431
X-APPLE-STRUCTURED-LOCATION;VALUE=URI;X-ADDRESS=MZ Bar 1550 Illinois Rte 59 #156 Naperville IL 60563 United States;X-APPLE-RADIUS=500;X-TITLE=1550 Illinois Rte 59 #156:geo:-88.2043431,41.7952358
END:VEVENT
BEGIN:VEVENT
DTSTART;TZID=America/Chicago:20270424T210000
DTEND;TZID=America/Chicago:20270425T020000
DTSTAMP:20260424T154221
CREATED:20230220T200337Z
LAST-MODIFIED:20240715T204639Z
UID:10119324-1808600400-1808618400@golatindance.com
SUMMARY:Latin Vibes Saturdays
DESCRIPTION:Bachata\, Cumbia\, Salsa and tropical beats. Dance class usually at 8:30pm or 9pm. Guest DJs.
URL:https://golatindance.com/event/latin-vibes-saturdays/2027-04-24/
LOCATION:MZ Bar\, 1550 Illinois Rte 59 #156\, Naperville\, IL\, 60563\, United States
CATEGORIES:Chicago
GEO:41.7952358;-88.2043431
X-APPLE-STRUCTURED-LOCATION;VALUE=URI;X-ADDRESS=MZ Bar 1550 Illinois Rte 59 #156 Naperville IL 60563 United States;X-APPLE-RADIUS=500;X-TITLE=1550 Illinois Rte 59 #156:geo:-88.2043431,41.7952358
END:VEVENT
BEGIN:VEVENT
DTSTART;TZID=America/Chicago:20270428T200000
DTEND;TZID=America/Chicago:20270429T010000
DTSTAMP:20260424T154221
CREATED:20240324T160241Z
LAST-MODIFIED:20250120T200402Z
UID:10228601-1808942400-1808960400@golatindance.com
SUMMARY:Bachata Sensual and Salsa Wednesdays
DESCRIPTION:One hour dance lessons every week at 8pm or 8:30pm.\nDj Porras & guest DJs\nCover $10\n18+\nFree parking
URL:https://golatindance.com/event/bachata-sensual-and-salsa-wednesdays/2027-04-28/
LOCATION:MZ Bar\, 1550 Illinois Rte 59 #156\, Naperville\, IL\, 60563\, United States
CATEGORIES:Chicago
ATTACH;FMTTYPE=image/png:https://golatindance.com/wp-content/uploads/2024/03/mz.png
GEO:41.7952358;-88.2043431
X-APPLE-STRUCTURED-LOCATION;VALUE=URI;X-ADDRESS=MZ Bar 1550 Illinois Rte 59 #156 Naperville IL 60563 United States;X-APPLE-RADIUS=500;X-TITLE=1550 Illinois Rte 59 #156:geo:-88.2043431,41.7952358
END:VEVENT
BEGIN:VEVENT
DTSTART;TZID=America/Chicago:20270501T210000
DTEND;TZID=America/Chicago:20270502T020000
DTSTAMP:20260424T154221
CREATED:20230220T200337Z
LAST-MODIFIED:20240715T204639Z
UID:10119325-1809205200-1809223200@golatindance.com
SUMMARY:Latin Vibes Saturdays
DESCRIPTION:Bachata\, Cumbia\, Salsa and tropical beats. Dance class usually at 8:30pm or 9pm. Guest DJs.
URL:https://golatindance.com/event/latin-vibes-saturdays/2027-05-01/
LOCATION:MZ Bar\, 1550 Illinois Rte 59 #156\, Naperville\, IL\, 60563\, United States
CATEGORIES:Chicago
GEO:41.7952358;-88.2043431
X-APPLE-STRUCTURED-LOCATION;VALUE=URI;X-ADDRESS=MZ Bar 1550 Illinois Rte 59 #156 Naperville IL 60563 United States;X-APPLE-RADIUS=500;X-TITLE=1550 Illinois Rte 59 #156:geo:-88.2043431,41.7952358
END:VEVENT
BEGIN:VEVENT
DTSTART;TZID=America/Chicago:20270502T170000
DTEND;TZID=America/Chicago:20270502T210000
DTSTAMP:20260424T154221
CREATED:20240311T201519Z
LAST-MODIFIED:20260222T202804Z
UID:10236228-1809277200-1809291600@golatindance.com
SUMMARY:1st Sunday Salsa Social
DESCRIPTION:1st Sunday Salsa Social\n5-6 pm Salsa class\n6-9 pm open dancing\nCelebrating birthdays\, or any other occasions? Call or text us at 847-310-3250 to reserve your table.\nSpecial Birthday packages are available upon request.\nRestaurant and Bar open all night!!\nCover: $15.00\nPlenty of free parking all evening\nAll ages event
URL:https://golatindance.com/event/1st-sunday-social-bar-louie/2027-05-02/
LOCATION:MZ Bar\, 1550 Illinois Rte 59 #156\, Naperville\, IL\, 60563\, United States
CATEGORIES:Chicago
GEO:41.7952358;-88.2043431
X-APPLE-STRUCTURED-LOCATION;VALUE=URI;X-ADDRESS=MZ Bar 1550 Illinois Rte 59 #156 Naperville IL 60563 United States;X-APPLE-RADIUS=500;X-TITLE=1550 Illinois Rte 59 #156:geo:-88.2043431,41.7952358
END:VEVENT
END:VCALENDAR