BEGIN:VCALENDAR
VERSION:2.0
PRODID:-//GO Latin Dance - ECPv6.15.18//NONSGML v1.0//EN
CALSCALE:GREGORIAN
METHOD:PUBLISH
X-ORIGINAL-URL:https://golatindance.com
X-WR-CALDESC:Events for GO Latin Dance
REFRESH-INTERVAL;VALUE=DURATION:PT1H
X-Robots-Tag:noindex
X-PUBLISHED-TTL:PT1H
BEGIN:VTIMEZONE
TZID:America/New_York
BEGIN:DAYLIGHT
TZOFFSETFROM:-0500
TZOFFSETTO:-0400
TZNAME:EDT
DTSTART:20260308T070000
END:DAYLIGHT
BEGIN:STANDARD
TZOFFSETFROM:-0400
TZOFFSETTO:-0500
TZNAME:EST
DTSTART:20261101T060000
END:STANDARD
BEGIN:DAYLIGHT
TZOFFSETFROM:-0500
TZOFFSETTO:-0400
TZNAME:EDT
DTSTART:20270314T070000
END:DAYLIGHT
BEGIN:STANDARD
TZOFFSETFROM:-0400
TZOFFSETTO:-0500
TZNAME:EST
DTSTART:20271107T060000
END:STANDARD
BEGIN:DAYLIGHT
TZOFFSETFROM:-0500
TZOFFSETTO:-0400
TZNAME:EDT
DTSTART:20280312T070000
END:DAYLIGHT
BEGIN:STANDARD
TZOFFSETFROM:-0400
TZOFFSETTO:-0500
TZNAME:EST
DTSTART:20281105T060000
END:STANDARD
BEGIN:DAYLIGHT
TZOFFSETFROM:-0500
TZOFFSETTO:-0400
TZNAME:EDT
DTSTART:20290311T070000
END:DAYLIGHT
BEGIN:STANDARD
TZOFFSETFROM:-0400
TZOFFSETTO:-0500
TZNAME:EST
DTSTART:20291104T060000
END:STANDARD
BEGIN:DAYLIGHT
TZOFFSETFROM:-0500
TZOFFSETTO:-0400
TZNAME:EDT
DTSTART:20300310T070000
END:DAYLIGHT
BEGIN:STANDARD
TZOFFSETFROM:-0400
TZOFFSETTO:-0500
TZNAME:EST
DTSTART:20301103T060000
END:STANDARD
END:VTIMEZONE
BEGIN:VEVENT
DTSTART;TZID=America/New_York:20270317T180000
DTEND;TZID=America/New_York:20270317T220000
DTSTAMP:20260420T203318
CREATED:20260217T184832Z
LAST-MODIFIED:20260217T184832Z
UID:10446120-1805306400-1805320800@golatindance.com
SUMMARY:Salsa Bajo Techo!
DESCRIPTION:Salsa Bajo Techo – Indoor Salsa Social \nHosted by Mi Salsa Dura Baile at Negril Village \n• 1st & 3rd Wednesdays\n• 6:00 PM – 10:00 PM\n• Free beginner salsa class\n• Open social dancing\n• Happy Hour all night\n• Kitchen open until 11 PM\n• Food & drinks available\n• 21+ with valid ID \nLocation: 70 W 3rd St\, Manhattan \nFree entry all night..
URL:https://golatindance.com/event/salsa-bajo-techo-2/2027-03-17/
LOCATION:Negril Village\, 70 W 3rd St\, Manhattan\,\, NY\, 10012\, United States
CATEGORIES:New York City
ATTACH;FMTTYPE=image/jpeg:https://golatindance.com/wp-content/uploads/2026/02/38958.jpg
END:VEVENT
BEGIN:VEVENT
DTSTART;TZID=America/New_York:20270421T180000
DTEND;TZID=America/New_York:20270421T220000
DTSTAMP:20260420T203318
CREATED:20260217T184832Z
LAST-MODIFIED:20260217T184832Z
UID:10446121-1808330400-1808344800@golatindance.com
SUMMARY:Salsa Bajo Techo!
DESCRIPTION:Salsa Bajo Techo – Indoor Salsa Social \nHosted by Mi Salsa Dura Baile at Negril Village \n• 1st & 3rd Wednesdays\n• 6:00 PM – 10:00 PM\n• Free beginner salsa class\n• Open social dancing\n• Happy Hour all night\n• Kitchen open until 11 PM\n• Food & drinks available\n• 21+ with valid ID \nLocation: 70 W 3rd St\, Manhattan \nFree entry all night..
URL:https://golatindance.com/event/salsa-bajo-techo-2/2027-04-21/
LOCATION:Negril Village\, 70 W 3rd St\, Manhattan\,\, NY\, 10012\, United States
CATEGORIES:New York City
ATTACH;FMTTYPE=image/jpeg:https://golatindance.com/wp-content/uploads/2026/02/38958.jpg
END:VEVENT
BEGIN:VEVENT
DTSTART;TZID=America/New_York:20270519T180000
DTEND;TZID=America/New_York:20270519T220000
DTSTAMP:20260420T203318
CREATED:20260217T184832Z
LAST-MODIFIED:20260217T184832Z
UID:10446122-1810749600-1810764000@golatindance.com
SUMMARY:Salsa Bajo Techo!
DESCRIPTION:Salsa Bajo Techo – Indoor Salsa Social \nHosted by Mi Salsa Dura Baile at Negril Village \n• 1st & 3rd Wednesdays\n• 6:00 PM – 10:00 PM\n• Free beginner salsa class\n• Open social dancing\n• Happy Hour all night\n• Kitchen open until 11 PM\n• Food & drinks available\n• 21+ with valid ID \nLocation: 70 W 3rd St\, Manhattan \nFree entry all night..
URL:https://golatindance.com/event/salsa-bajo-techo-2/2027-05-19/
LOCATION:Negril Village\, 70 W 3rd St\, Manhattan\,\, NY\, 10012\, United States
CATEGORIES:New York City
ATTACH;FMTTYPE=image/jpeg:https://golatindance.com/wp-content/uploads/2026/02/38958.jpg
END:VEVENT
BEGIN:VEVENT
DTSTART;TZID=America/New_York:20270616T180000
DTEND;TZID=America/New_York:20270616T220000
DTSTAMP:20260420T203318
CREATED:20260217T184832Z
LAST-MODIFIED:20260217T184832Z
UID:10446123-1813168800-1813183200@golatindance.com
SUMMARY:Salsa Bajo Techo!
DESCRIPTION:Salsa Bajo Techo – Indoor Salsa Social \nHosted by Mi Salsa Dura Baile at Negril Village \n• 1st & 3rd Wednesdays\n• 6:00 PM – 10:00 PM\n• Free beginner salsa class\n• Open social dancing\n• Happy Hour all night\n• Kitchen open until 11 PM\n• Food & drinks available\n• 21+ with valid ID \nLocation: 70 W 3rd St\, Manhattan \nFree entry all night..
URL:https://golatindance.com/event/salsa-bajo-techo-2/2027-06-16/
LOCATION:Negril Village\, 70 W 3rd St\, Manhattan\,\, NY\, 10012\, United States
CATEGORIES:New York City
ATTACH;FMTTYPE=image/jpeg:https://golatindance.com/wp-content/uploads/2026/02/38958.jpg
END:VEVENT
BEGIN:VEVENT
DTSTART;TZID=America/New_York:20270721T180000
DTEND;TZID=America/New_York:20270721T220000
DTSTAMP:20260420T203319
CREATED:20260217T184832Z
LAST-MODIFIED:20260217T184832Z
UID:10446124-1816192800-1816207200@golatindance.com
SUMMARY:Salsa Bajo Techo!
DESCRIPTION:Salsa Bajo Techo – Indoor Salsa Social \nHosted by Mi Salsa Dura Baile at Negril Village \n• 1st & 3rd Wednesdays\n• 6:00 PM – 10:00 PM\n• Free beginner salsa class\n• Open social dancing\n• Happy Hour all night\n• Kitchen open until 11 PM\n• Food & drinks available\n• 21+ with valid ID \nLocation: 70 W 3rd St\, Manhattan \nFree entry all night..
URL:https://golatindance.com/event/salsa-bajo-techo-2/2027-07-21/
LOCATION:Negril Village\, 70 W 3rd St\, Manhattan\,\, NY\, 10012\, United States
CATEGORIES:New York City
ATTACH;FMTTYPE=image/jpeg:https://golatindance.com/wp-content/uploads/2026/02/38958.jpg
END:VEVENT
BEGIN:VEVENT
DTSTART;TZID=America/New_York:20270818T180000
DTEND;TZID=America/New_York:20270818T220000
DTSTAMP:20260420T203319
CREATED:20260217T184832Z
LAST-MODIFIED:20260217T184832Z
UID:10446125-1818612000-1818626400@golatindance.com
SUMMARY:Salsa Bajo Techo!
DESCRIPTION:Salsa Bajo Techo – Indoor Salsa Social \nHosted by Mi Salsa Dura Baile at Negril Village \n• 1st & 3rd Wednesdays\n• 6:00 PM – 10:00 PM\n• Free beginner salsa class\n• Open social dancing\n• Happy Hour all night\n• Kitchen open until 11 PM\n• Food & drinks available\n• 21+ with valid ID \nLocation: 70 W 3rd St\, Manhattan \nFree entry all night..
URL:https://golatindance.com/event/salsa-bajo-techo-2/2027-08-18/
LOCATION:Negril Village\, 70 W 3rd St\, Manhattan\,\, NY\, 10012\, United States
CATEGORIES:New York City
ATTACH;FMTTYPE=image/jpeg:https://golatindance.com/wp-content/uploads/2026/02/38958.jpg
END:VEVENT
BEGIN:VEVENT
DTSTART;TZID=America/New_York:20270915T180000
DTEND;TZID=America/New_York:20270915T220000
DTSTAMP:20260420T203319
CREATED:20260217T184832Z
LAST-MODIFIED:20260217T184832Z
UID:10446126-1821031200-1821045600@golatindance.com
SUMMARY:Salsa Bajo Techo!
DESCRIPTION:Salsa Bajo Techo – Indoor Salsa Social \nHosted by Mi Salsa Dura Baile at Negril Village \n• 1st & 3rd Wednesdays\n• 6:00 PM – 10:00 PM\n• Free beginner salsa class\n• Open social dancing\n• Happy Hour all night\n• Kitchen open until 11 PM\n• Food & drinks available\n• 21+ with valid ID \nLocation: 70 W 3rd St\, Manhattan \nFree entry all night..
URL:https://golatindance.com/event/salsa-bajo-techo-2/2027-09-15/
LOCATION:Negril Village\, 70 W 3rd St\, Manhattan\,\, NY\, 10012\, United States
CATEGORIES:New York City
ATTACH;FMTTYPE=image/jpeg:https://golatindance.com/wp-content/uploads/2026/02/38958.jpg
END:VEVENT
BEGIN:VEVENT
DTSTART;TZID=America/New_York:20271020T180000
DTEND;TZID=America/New_York:20271020T220000
DTSTAMP:20260420T203319
CREATED:20260217T184832Z
LAST-MODIFIED:20260217T184832Z
UID:10446127-1824055200-1824069600@golatindance.com
SUMMARY:Salsa Bajo Techo!
DESCRIPTION:Salsa Bajo Techo – Indoor Salsa Social \nHosted by Mi Salsa Dura Baile at Negril Village \n• 1st & 3rd Wednesdays\n• 6:00 PM – 10:00 PM\n• Free beginner salsa class\n• Open social dancing\n• Happy Hour all night\n• Kitchen open until 11 PM\n• Food & drinks available\n• 21+ with valid ID \nLocation: 70 W 3rd St\, Manhattan \nFree entry all night..
URL:https://golatindance.com/event/salsa-bajo-techo-2/2027-10-20/
LOCATION:Negril Village\, 70 W 3rd St\, Manhattan\,\, NY\, 10012\, United States
CATEGORIES:New York City
ATTACH;FMTTYPE=image/jpeg:https://golatindance.com/wp-content/uploads/2026/02/38958.jpg
END:VEVENT
BEGIN:VEVENT
DTSTART;TZID=America/New_York:20271117T180000
DTEND;TZID=America/New_York:20271117T220000
DTSTAMP:20260420T203319
CREATED:20260217T184832Z
LAST-MODIFIED:20260217T184832Z
UID:10446128-1826474400-1826488800@golatindance.com
SUMMARY:Salsa Bajo Techo!
DESCRIPTION:Salsa Bajo Techo – Indoor Salsa Social \nHosted by Mi Salsa Dura Baile at Negril Village \n• 1st & 3rd Wednesdays\n• 6:00 PM – 10:00 PM\n• Free beginner salsa class\n• Open social dancing\n• Happy Hour all night\n• Kitchen open until 11 PM\n• Food & drinks available\n• 21+ with valid ID \nLocation: 70 W 3rd St\, Manhattan \nFree entry all night..
URL:https://golatindance.com/event/salsa-bajo-techo-2/2027-11-17/
LOCATION:Negril Village\, 70 W 3rd St\, Manhattan\,\, NY\, 10012\, United States
CATEGORIES:New York City
ATTACH;FMTTYPE=image/jpeg:https://golatindance.com/wp-content/uploads/2026/02/38958.jpg
END:VEVENT
BEGIN:VEVENT
DTSTART;TZID=America/New_York:20271215T180000
DTEND;TZID=America/New_York:20271215T220000
DTSTAMP:20260420T203319
CREATED:20260217T184832Z
LAST-MODIFIED:20260217T184832Z
UID:10446129-1828893600-1828908000@golatindance.com
SUMMARY:Salsa Bajo Techo!
DESCRIPTION:Salsa Bajo Techo – Indoor Salsa Social \nHosted by Mi Salsa Dura Baile at Negril Village \n• 1st & 3rd Wednesdays\n• 6:00 PM – 10:00 PM\n• Free beginner salsa class\n• Open social dancing\n• Happy Hour all night\n• Kitchen open until 11 PM\n• Food & drinks available\n• 21+ with valid ID \nLocation: 70 W 3rd St\, Manhattan \nFree entry all night..
URL:https://golatindance.com/event/salsa-bajo-techo-2/2027-12-15/
LOCATION:Negril Village\, 70 W 3rd St\, Manhattan\,\, NY\, 10012\, United States
CATEGORIES:New York City
ATTACH;FMTTYPE=image/jpeg:https://golatindance.com/wp-content/uploads/2026/02/38958.jpg
END:VEVENT
BEGIN:VEVENT
DTSTART;TZID=America/New_York:20280119T180000
DTEND;TZID=America/New_York:20280119T220000
DTSTAMP:20260420T203319
CREATED:20260217T184832Z
LAST-MODIFIED:20260217T184832Z
UID:10446130-1831917600-1831932000@golatindance.com
SUMMARY:Salsa Bajo Techo!
DESCRIPTION:Salsa Bajo Techo – Indoor Salsa Social \nHosted by Mi Salsa Dura Baile at Negril Village \n• 1st & 3rd Wednesdays\n• 6:00 PM – 10:00 PM\n• Free beginner salsa class\n• Open social dancing\n• Happy Hour all night\n• Kitchen open until 11 PM\n• Food & drinks available\n• 21+ with valid ID \nLocation: 70 W 3rd St\, Manhattan \nFree entry all night..
URL:https://golatindance.com/event/salsa-bajo-techo-2/2028-01-19/
LOCATION:Negril Village\, 70 W 3rd St\, Manhattan\,\, NY\, 10012\, United States
CATEGORIES:New York City
ATTACH;FMTTYPE=image/jpeg:https://golatindance.com/wp-content/uploads/2026/02/38958.jpg
END:VEVENT
BEGIN:VEVENT
DTSTART;TZID=America/New_York:20280216T180000
DTEND;TZID=America/New_York:20280216T220000
DTSTAMP:20260420T203319
CREATED:20260217T184832Z
LAST-MODIFIED:20260217T184832Z
UID:10446131-1834336800-1834351200@golatindance.com
SUMMARY:Salsa Bajo Techo!
DESCRIPTION:Salsa Bajo Techo – Indoor Salsa Social \nHosted by Mi Salsa Dura Baile at Negril Village \n• 1st & 3rd Wednesdays\n• 6:00 PM – 10:00 PM\n• Free beginner salsa class\n• Open social dancing\n• Happy Hour all night\n• Kitchen open until 11 PM\n• Food & drinks available\n• 21+ with valid ID \nLocation: 70 W 3rd St\, Manhattan \nFree entry all night..
URL:https://golatindance.com/event/salsa-bajo-techo-2/2028-02-16/
LOCATION:Negril Village\, 70 W 3rd St\, Manhattan\,\, NY\, 10012\, United States
CATEGORIES:New York City
ATTACH;FMTTYPE=image/jpeg:https://golatindance.com/wp-content/uploads/2026/02/38958.jpg
END:VEVENT
BEGIN:VEVENT
DTSTART;TZID=America/New_York:20280315T180000
DTEND;TZID=America/New_York:20280315T220000
DTSTAMP:20260420T203319
CREATED:20260217T184832Z
LAST-MODIFIED:20260217T184832Z
UID:10446132-1836756000-1836770400@golatindance.com
SUMMARY:Salsa Bajo Techo!
DESCRIPTION:Salsa Bajo Techo – Indoor Salsa Social \nHosted by Mi Salsa Dura Baile at Negril Village \n• 1st & 3rd Wednesdays\n• 6:00 PM – 10:00 PM\n• Free beginner salsa class\n• Open social dancing\n• Happy Hour all night\n• Kitchen open until 11 PM\n• Food & drinks available\n• 21+ with valid ID \nLocation: 70 W 3rd St\, Manhattan \nFree entry all night..
URL:https://golatindance.com/event/salsa-bajo-techo-2/2028-03-15/
LOCATION:Negril Village\, 70 W 3rd St\, Manhattan\,\, NY\, 10012\, United States
CATEGORIES:New York City
ATTACH;FMTTYPE=image/jpeg:https://golatindance.com/wp-content/uploads/2026/02/38958.jpg
END:VEVENT
BEGIN:VEVENT
DTSTART;TZID=America/New_York:20280419T180000
DTEND;TZID=America/New_York:20280419T220000
DTSTAMP:20260420T203319
CREATED:20260217T184832Z
LAST-MODIFIED:20260217T184832Z
UID:10446133-1839780000-1839794400@golatindance.com
SUMMARY:Salsa Bajo Techo!
DESCRIPTION:Salsa Bajo Techo – Indoor Salsa Social \nHosted by Mi Salsa Dura Baile at Negril Village \n• 1st & 3rd Wednesdays\n• 6:00 PM – 10:00 PM\n• Free beginner salsa class\n• Open social dancing\n• Happy Hour all night\n• Kitchen open until 11 PM\n• Food & drinks available\n• 21+ with valid ID \nLocation: 70 W 3rd St\, Manhattan \nFree entry all night..
URL:https://golatindance.com/event/salsa-bajo-techo-2/2028-04-19/
LOCATION:Negril Village\, 70 W 3rd St\, Manhattan\,\, NY\, 10012\, United States
CATEGORIES:New York City
ATTACH;FMTTYPE=image/jpeg:https://golatindance.com/wp-content/uploads/2026/02/38958.jpg
END:VEVENT
BEGIN:VEVENT
DTSTART;TZID=America/New_York:20280517T180000
DTEND;TZID=America/New_York:20280517T220000
DTSTAMP:20260420T203319
CREATED:20260217T184832Z
LAST-MODIFIED:20260217T184832Z
UID:10446134-1842199200-1842213600@golatindance.com
SUMMARY:Salsa Bajo Techo!
DESCRIPTION:Salsa Bajo Techo – Indoor Salsa Social \nHosted by Mi Salsa Dura Baile at Negril Village \n• 1st & 3rd Wednesdays\n• 6:00 PM – 10:00 PM\n• Free beginner salsa class\n• Open social dancing\n• Happy Hour all night\n• Kitchen open until 11 PM\n• Food & drinks available\n• 21+ with valid ID \nLocation: 70 W 3rd St\, Manhattan \nFree entry all night..
URL:https://golatindance.com/event/salsa-bajo-techo-2/2028-05-17/
LOCATION:Negril Village\, 70 W 3rd St\, Manhattan\,\, NY\, 10012\, United States
CATEGORIES:New York City
ATTACH;FMTTYPE=image/jpeg:https://golatindance.com/wp-content/uploads/2026/02/38958.jpg
END:VEVENT
BEGIN:VEVENT
DTSTART;TZID=America/New_York:20280621T180000
DTEND;TZID=America/New_York:20280621T220000
DTSTAMP:20260420T203319
CREATED:20260217T184832Z
LAST-MODIFIED:20260217T184832Z
UID:10446135-1845223200-1845237600@golatindance.com
SUMMARY:Salsa Bajo Techo!
DESCRIPTION:Salsa Bajo Techo – Indoor Salsa Social \nHosted by Mi Salsa Dura Baile at Negril Village \n• 1st & 3rd Wednesdays\n• 6:00 PM – 10:00 PM\n• Free beginner salsa class\n• Open social dancing\n• Happy Hour all night\n• Kitchen open until 11 PM\n• Food & drinks available\n• 21+ with valid ID \nLocation: 70 W 3rd St\, Manhattan \nFree entry all night..
URL:https://golatindance.com/event/salsa-bajo-techo-2/2028-06-21/
LOCATION:Negril Village\, 70 W 3rd St\, Manhattan\,\, NY\, 10012\, United States
CATEGORIES:New York City
ATTACH;FMTTYPE=image/jpeg:https://golatindance.com/wp-content/uploads/2026/02/38958.jpg
END:VEVENT
BEGIN:VEVENT
DTSTART;TZID=America/New_York:20280719T180000
DTEND;TZID=America/New_York:20280719T220000
DTSTAMP:20260420T203319
CREATED:20260217T184832Z
LAST-MODIFIED:20260217T184832Z
UID:10446136-1847642400-1847656800@golatindance.com
SUMMARY:Salsa Bajo Techo!
DESCRIPTION:Salsa Bajo Techo – Indoor Salsa Social \nHosted by Mi Salsa Dura Baile at Negril Village \n• 1st & 3rd Wednesdays\n• 6:00 PM – 10:00 PM\n• Free beginner salsa class\n• Open social dancing\n• Happy Hour all night\n• Kitchen open until 11 PM\n• Food & drinks available\n• 21+ with valid ID \nLocation: 70 W 3rd St\, Manhattan \nFree entry all night..
URL:https://golatindance.com/event/salsa-bajo-techo-2/2028-07-19/
LOCATION:Negril Village\, 70 W 3rd St\, Manhattan\,\, NY\, 10012\, United States
CATEGORIES:New York City
ATTACH;FMTTYPE=image/jpeg:https://golatindance.com/wp-content/uploads/2026/02/38958.jpg
END:VEVENT
BEGIN:VEVENT
DTSTART;TZID=America/New_York:20280816T180000
DTEND;TZID=America/New_York:20280816T220000
DTSTAMP:20260420T203319
CREATED:20260217T184832Z
LAST-MODIFIED:20260217T184832Z
UID:10446137-1850061600-1850076000@golatindance.com
SUMMARY:Salsa Bajo Techo!
DESCRIPTION:Salsa Bajo Techo – Indoor Salsa Social \nHosted by Mi Salsa Dura Baile at Negril Village \n• 1st & 3rd Wednesdays\n• 6:00 PM – 10:00 PM\n• Free beginner salsa class\n• Open social dancing\n• Happy Hour all night\n• Kitchen open until 11 PM\n• Food & drinks available\n• 21+ with valid ID \nLocation: 70 W 3rd St\, Manhattan \nFree entry all night..
URL:https://golatindance.com/event/salsa-bajo-techo-2/2028-08-16/
LOCATION:Negril Village\, 70 W 3rd St\, Manhattan\,\, NY\, 10012\, United States
CATEGORIES:New York City
ATTACH;FMTTYPE=image/jpeg:https://golatindance.com/wp-content/uploads/2026/02/38958.jpg
END:VEVENT
BEGIN:VEVENT
DTSTART;TZID=America/New_York:20280920T180000
DTEND;TZID=America/New_York:20280920T220000
DTSTAMP:20260420T203319
CREATED:20260217T184832Z
LAST-MODIFIED:20260217T184832Z
UID:10446138-1853085600-1853100000@golatindance.com
SUMMARY:Salsa Bajo Techo!
DESCRIPTION:Salsa Bajo Techo – Indoor Salsa Social \nHosted by Mi Salsa Dura Baile at Negril Village \n• 1st & 3rd Wednesdays\n• 6:00 PM – 10:00 PM\n• Free beginner salsa class\n• Open social dancing\n• Happy Hour all night\n• Kitchen open until 11 PM\n• Food & drinks available\n• 21+ with valid ID \nLocation: 70 W 3rd St\, Manhattan \nFree entry all night..
URL:https://golatindance.com/event/salsa-bajo-techo-2/2028-09-20/
LOCATION:Negril Village\, 70 W 3rd St\, Manhattan\,\, NY\, 10012\, United States
CATEGORIES:New York City
ATTACH;FMTTYPE=image/jpeg:https://golatindance.com/wp-content/uploads/2026/02/38958.jpg
END:VEVENT
BEGIN:VEVENT
DTSTART;TZID=America/New_York:20281018T180000
DTEND;TZID=America/New_York:20281018T220000
DTSTAMP:20260420T203319
CREATED:20260217T184832Z
LAST-MODIFIED:20260217T184832Z
UID:10446139-1855504800-1855519200@golatindance.com
SUMMARY:Salsa Bajo Techo!
DESCRIPTION:Salsa Bajo Techo – Indoor Salsa Social \nHosted by Mi Salsa Dura Baile at Negril Village \n• 1st & 3rd Wednesdays\n• 6:00 PM – 10:00 PM\n• Free beginner salsa class\n• Open social dancing\n• Happy Hour all night\n• Kitchen open until 11 PM\n• Food & drinks available\n• 21+ with valid ID \nLocation: 70 W 3rd St\, Manhattan \nFree entry all night..
URL:https://golatindance.com/event/salsa-bajo-techo-2/2028-10-18/
LOCATION:Negril Village\, 70 W 3rd St\, Manhattan\,\, NY\, 10012\, United States
CATEGORIES:New York City
ATTACH;FMTTYPE=image/jpeg:https://golatindance.com/wp-content/uploads/2026/02/38958.jpg
END:VEVENT
BEGIN:VEVENT
DTSTART;TZID=America/New_York:20281115T180000
DTEND;TZID=America/New_York:20281115T220000
DTSTAMP:20260420T203319
CREATED:20260217T184832Z
LAST-MODIFIED:20260217T184832Z
UID:10446140-1857924000-1857938400@golatindance.com
SUMMARY:Salsa Bajo Techo!
DESCRIPTION:Salsa Bajo Techo – Indoor Salsa Social \nHosted by Mi Salsa Dura Baile at Negril Village \n• 1st & 3rd Wednesdays\n• 6:00 PM – 10:00 PM\n• Free beginner salsa class\n• Open social dancing\n• Happy Hour all night\n• Kitchen open until 11 PM\n• Food & drinks available\n• 21+ with valid ID \nLocation: 70 W 3rd St\, Manhattan \nFree entry all night..
URL:https://golatindance.com/event/salsa-bajo-techo-2/2028-11-15/
LOCATION:Negril Village\, 70 W 3rd St\, Manhattan\,\, NY\, 10012\, United States
CATEGORIES:New York City
ATTACH;FMTTYPE=image/jpeg:https://golatindance.com/wp-content/uploads/2026/02/38958.jpg
END:VEVENT
BEGIN:VEVENT
DTSTART;TZID=America/New_York:20281220T180000
DTEND;TZID=America/New_York:20281220T220000
DTSTAMP:20260420T203319
CREATED:20260217T184832Z
LAST-MODIFIED:20260217T184832Z
UID:10446141-1860948000-1860962400@golatindance.com
SUMMARY:Salsa Bajo Techo!
DESCRIPTION:Salsa Bajo Techo – Indoor Salsa Social \nHosted by Mi Salsa Dura Baile at Negril Village \n• 1st & 3rd Wednesdays\n• 6:00 PM – 10:00 PM\n• Free beginner salsa class\n• Open social dancing\n• Happy Hour all night\n• Kitchen open until 11 PM\n• Food & drinks available\n• 21+ with valid ID \nLocation: 70 W 3rd St\, Manhattan \nFree entry all night..
URL:https://golatindance.com/event/salsa-bajo-techo-2/2028-12-20/
LOCATION:Negril Village\, 70 W 3rd St\, Manhattan\,\, NY\, 10012\, United States
CATEGORIES:New York City
ATTACH;FMTTYPE=image/jpeg:https://golatindance.com/wp-content/uploads/2026/02/38958.jpg
END:VEVENT
BEGIN:VEVENT
DTSTART;TZID=America/New_York:20290117T180000
DTEND;TZID=America/New_York:20290117T220000
DTSTAMP:20260420T203319
CREATED:20260217T184832Z
LAST-MODIFIED:20260217T184832Z
UID:10446142-1863367200-1863381600@golatindance.com
SUMMARY:Salsa Bajo Techo!
DESCRIPTION:Salsa Bajo Techo – Indoor Salsa Social \nHosted by Mi Salsa Dura Baile at Negril Village \n• 1st & 3rd Wednesdays\n• 6:00 PM – 10:00 PM\n• Free beginner salsa class\n• Open social dancing\n• Happy Hour all night\n• Kitchen open until 11 PM\n• Food & drinks available\n• 21+ with valid ID \nLocation: 70 W 3rd St\, Manhattan \nFree entry all night..
URL:https://golatindance.com/event/salsa-bajo-techo-2/2029-01-17/
LOCATION:Negril Village\, 70 W 3rd St\, Manhattan\,\, NY\, 10012\, United States
CATEGORIES:New York City
ATTACH;FMTTYPE=image/jpeg:https://golatindance.com/wp-content/uploads/2026/02/38958.jpg
END:VEVENT
BEGIN:VEVENT
DTSTART;TZID=America/New_York:20290221T180000
DTEND;TZID=America/New_York:20290221T220000
DTSTAMP:20260420T203319
CREATED:20260217T184832Z
LAST-MODIFIED:20260217T184832Z
UID:10446143-1866391200-1866405600@golatindance.com
SUMMARY:Salsa Bajo Techo!
DESCRIPTION:Salsa Bajo Techo – Indoor Salsa Social \nHosted by Mi Salsa Dura Baile at Negril Village \n• 1st & 3rd Wednesdays\n• 6:00 PM – 10:00 PM\n• Free beginner salsa class\n• Open social dancing\n• Happy Hour all night\n• Kitchen open until 11 PM\n• Food & drinks available\n• 21+ with valid ID \nLocation: 70 W 3rd St\, Manhattan \nFree entry all night..
URL:https://golatindance.com/event/salsa-bajo-techo-2/2029-02-21/
LOCATION:Negril Village\, 70 W 3rd St\, Manhattan\,\, NY\, 10012\, United States
CATEGORIES:New York City
ATTACH;FMTTYPE=image/jpeg:https://golatindance.com/wp-content/uploads/2026/02/38958.jpg
END:VEVENT
BEGIN:VEVENT
DTSTART;TZID=America/New_York:20290321T180000
DTEND;TZID=America/New_York:20290321T220000
DTSTAMP:20260420T203319
CREATED:20260217T184832Z
LAST-MODIFIED:20260217T184832Z
UID:10446144-1868810400-1868824800@golatindance.com
SUMMARY:Salsa Bajo Techo!
DESCRIPTION:Salsa Bajo Techo – Indoor Salsa Social \nHosted by Mi Salsa Dura Baile at Negril Village \n• 1st & 3rd Wednesdays\n• 6:00 PM – 10:00 PM\n• Free beginner salsa class\n• Open social dancing\n• Happy Hour all night\n• Kitchen open until 11 PM\n• Food & drinks available\n• 21+ with valid ID \nLocation: 70 W 3rd St\, Manhattan \nFree entry all night..
URL:https://golatindance.com/event/salsa-bajo-techo-2/2029-03-21/
LOCATION:Negril Village\, 70 W 3rd St\, Manhattan\,\, NY\, 10012\, United States
CATEGORIES:New York City
ATTACH;FMTTYPE=image/jpeg:https://golatindance.com/wp-content/uploads/2026/02/38958.jpg
END:VEVENT
BEGIN:VEVENT
DTSTART;TZID=America/New_York:20290418T180000
DTEND;TZID=America/New_York:20290418T220000
DTSTAMP:20260420T203319
CREATED:20260217T184832Z
LAST-MODIFIED:20260217T184832Z
UID:10446145-1871229600-1871244000@golatindance.com
SUMMARY:Salsa Bajo Techo!
DESCRIPTION:Salsa Bajo Techo – Indoor Salsa Social \nHosted by Mi Salsa Dura Baile at Negril Village \n• 1st & 3rd Wednesdays\n• 6:00 PM – 10:00 PM\n• Free beginner salsa class\n• Open social dancing\n• Happy Hour all night\n• Kitchen open until 11 PM\n• Food & drinks available\n• 21+ with valid ID \nLocation: 70 W 3rd St\, Manhattan \nFree entry all night..
URL:https://golatindance.com/event/salsa-bajo-techo-2/2029-04-18/
LOCATION:Negril Village\, 70 W 3rd St\, Manhattan\,\, NY\, 10012\, United States
CATEGORIES:New York City
ATTACH;FMTTYPE=image/jpeg:https://golatindance.com/wp-content/uploads/2026/02/38958.jpg
END:VEVENT
BEGIN:VEVENT
DTSTART;TZID=America/New_York:20290516T180000
DTEND;TZID=America/New_York:20290516T220000
DTSTAMP:20260420T203319
CREATED:20260217T184832Z
LAST-MODIFIED:20260217T184832Z
UID:10446146-1873648800-1873663200@golatindance.com
SUMMARY:Salsa Bajo Techo!
DESCRIPTION:Salsa Bajo Techo – Indoor Salsa Social \nHosted by Mi Salsa Dura Baile at Negril Village \n• 1st & 3rd Wednesdays\n• 6:00 PM – 10:00 PM\n• Free beginner salsa class\n• Open social dancing\n• Happy Hour all night\n• Kitchen open until 11 PM\n• Food & drinks available\n• 21+ with valid ID \nLocation: 70 W 3rd St\, Manhattan \nFree entry all night..
URL:https://golatindance.com/event/salsa-bajo-techo-2/2029-05-16/
LOCATION:Negril Village\, 70 W 3rd St\, Manhattan\,\, NY\, 10012\, United States
CATEGORIES:New York City
ATTACH;FMTTYPE=image/jpeg:https://golatindance.com/wp-content/uploads/2026/02/38958.jpg
END:VEVENT
BEGIN:VEVENT
DTSTART;TZID=America/New_York:20290620T180000
DTEND;TZID=America/New_York:20290620T220000
DTSTAMP:20260420T203319
CREATED:20260217T184832Z
LAST-MODIFIED:20260217T184832Z
UID:10446147-1876672800-1876687200@golatindance.com
SUMMARY:Salsa Bajo Techo!
DESCRIPTION:Salsa Bajo Techo – Indoor Salsa Social \nHosted by Mi Salsa Dura Baile at Negril Village \n• 1st & 3rd Wednesdays\n• 6:00 PM – 10:00 PM\n• Free beginner salsa class\n• Open social dancing\n• Happy Hour all night\n• Kitchen open until 11 PM\n• Food & drinks available\n• 21+ with valid ID \nLocation: 70 W 3rd St\, Manhattan \nFree entry all night..
URL:https://golatindance.com/event/salsa-bajo-techo-2/2029-06-20/
LOCATION:Negril Village\, 70 W 3rd St\, Manhattan\,\, NY\, 10012\, United States
CATEGORIES:New York City
ATTACH;FMTTYPE=image/jpeg:https://golatindance.com/wp-content/uploads/2026/02/38958.jpg
END:VEVENT
BEGIN:VEVENT
DTSTART;TZID=America/New_York:20290718T180000
DTEND;TZID=America/New_York:20290718T220000
DTSTAMP:20260420T203319
CREATED:20260217T184832Z
LAST-MODIFIED:20260217T184832Z
UID:10446148-1879092000-1879106400@golatindance.com
SUMMARY:Salsa Bajo Techo!
DESCRIPTION:Salsa Bajo Techo – Indoor Salsa Social \nHosted by Mi Salsa Dura Baile at Negril Village \n• 1st & 3rd Wednesdays\n• 6:00 PM – 10:00 PM\n• Free beginner salsa class\n• Open social dancing\n• Happy Hour all night\n• Kitchen open until 11 PM\n• Food & drinks available\n• 21+ with valid ID \nLocation: 70 W 3rd St\, Manhattan \nFree entry all night..
URL:https://golatindance.com/event/salsa-bajo-techo-2/2029-07-18/
LOCATION:Negril Village\, 70 W 3rd St\, Manhattan\,\, NY\, 10012\, United States
CATEGORIES:New York City
ATTACH;FMTTYPE=image/jpeg:https://golatindance.com/wp-content/uploads/2026/02/38958.jpg
END:VEVENT
BEGIN:VEVENT
DTSTART;TZID=America/New_York:20290815T180000
DTEND;TZID=America/New_York:20290815T220000
DTSTAMP:20260420T203319
CREATED:20260217T184832Z
LAST-MODIFIED:20260217T184832Z
UID:10446149-1881511200-1881525600@golatindance.com
SUMMARY:Salsa Bajo Techo!
DESCRIPTION:Salsa Bajo Techo – Indoor Salsa Social \nHosted by Mi Salsa Dura Baile at Negril Village \n• 1st & 3rd Wednesdays\n• 6:00 PM – 10:00 PM\n• Free beginner salsa class\n• Open social dancing\n• Happy Hour all night\n• Kitchen open until 11 PM\n• Food & drinks available\n• 21+ with valid ID \nLocation: 70 W 3rd St\, Manhattan \nFree entry all night..
URL:https://golatindance.com/event/salsa-bajo-techo-2/2029-08-15/
LOCATION:Negril Village\, 70 W 3rd St\, Manhattan\,\, NY\, 10012\, United States
CATEGORIES:New York City
ATTACH;FMTTYPE=image/jpeg:https://golatindance.com/wp-content/uploads/2026/02/38958.jpg
END:VEVENT
END:VCALENDAR