BEGIN:VCALENDAR
VERSION:2.0
PRODID:-//GO Latin Dance - ECPv6.15.18//NONSGML v1.0//EN
CALSCALE:GREGORIAN
METHOD:PUBLISH
X-ORIGINAL-URL:https://golatindance.com
X-WR-CALDESC:Events for GO Latin Dance
REFRESH-INTERVAL;VALUE=DURATION:PT1H
X-Robots-Tag:noindex
X-PUBLISHED-TTL:PT1H
BEGIN:VTIMEZONE
TZID:America/New_York
BEGIN:DAYLIGHT
TZOFFSETFROM:-0500
TZOFFSETTO:-0400
TZNAME:EDT
DTSTART:20250309T070000
END:DAYLIGHT
BEGIN:STANDARD
TZOFFSETFROM:-0400
TZOFFSETTO:-0500
TZNAME:EST
DTSTART:20251102T060000
END:STANDARD
BEGIN:DAYLIGHT
TZOFFSETFROM:-0500
TZOFFSETTO:-0400
TZNAME:EDT
DTSTART:20260308T070000
END:DAYLIGHT
BEGIN:STANDARD
TZOFFSETFROM:-0400
TZOFFSETTO:-0500
TZNAME:EST
DTSTART:20261101T060000
END:STANDARD
BEGIN:DAYLIGHT
TZOFFSETFROM:-0500
TZOFFSETTO:-0400
TZNAME:EDT
DTSTART:20270314T070000
END:DAYLIGHT
BEGIN:STANDARD
TZOFFSETFROM:-0400
TZOFFSETTO:-0500
TZNAME:EST
DTSTART:20271107T060000
END:STANDARD
END:VTIMEZONE
BEGIN:VEVENT
DTSTART;TZID=America/New_York:20260422T190000
DTEND;TZID=America/New_York:20260423T020000
DTSTAMP:20260420T202654
CREATED:20221207T172221Z
LAST-MODIFIED:20250514T140105Z
UID:10048764-1776884400-1776909600@golatindance.com
SUMMARY:Salsa Con Candela
DESCRIPTION:Salsa in DC and Public Bar Live bring you SALSA NIGHTS every WEDNESDAY! \n\nTHIS IS A FREE EVENT.\nContact Us For Reservations- events@publicbarlive.com \nHAPPY HOUR UNTIL 9PM\nDRESS CODE – COME AS YOU ARE BUT BRING YOUR DANCING SHOES! \nDETAILS: \nMust be 21+ \nNo outside drinks or food. \n\nBeginner classes begin at 7pm \nIntermediate classes begin at 8pm with International instructors. \nSocial dancing at 9pm- close \nMUSIC: Salsa\, Bachata\, Merengue\, Kizomba and Zouk with a mix of reggaeton. \nFOOD: The kitchen is open until midnight.
URL:https://golatindance.com/event/salsa-con-candela/2026-04-22/
LOCATION:Public Bar Live\, 1214 18th St NW\, Washington D.C.\, DC 20036\, Washington D.C.\, DC\, 20036\, US
CATEGORIES:Washington DC-Baltimore
ATTACH;FMTTYPE=image/jpeg:https://golatindance.com/wp-content/uploads/2022/12/183041_image-e1670433871906.jpg
END:VEVENT
BEGIN:VEVENT
DTSTART;TZID=America/New_York:20260424T210000
DTEND;TZID=America/New_York:20260425T023000
DTSTAMP:20260420T202654
CREATED:20231213T171853Z
LAST-MODIFIED:20250507T161224Z
UID:10192849-1777064400-1777084200@golatindance.com
SUMMARY:SALSA CON CANDELA FRIDAYS
DESCRIPTION:Each and every Friday as we have salsa and bachata nights!\nWith live percussion\nGuest instructors weekly\nNo cover\nLive DJ and dance shows\nCome as you are
URL:https://golatindance.com/event/salsa-con-candela-fridays-fiesta-latina/2026-04-24/
LOCATION:Public Bar Live\, 1214 18th St NW\, Washington D.C.\, DC 20036\, Washington D.C.\, DC\, 20036\, US
CATEGORIES:Washington DC-Baltimore
END:VEVENT
BEGIN:VEVENT
DTSTART;TZID=America/New_York:20260429T190000
DTEND;TZID=America/New_York:20260430T020000
DTSTAMP:20260420T202654
CREATED:20221207T172221Z
LAST-MODIFIED:20250514T140105Z
UID:10048765-1777489200-1777514400@golatindance.com
SUMMARY:Salsa Con Candela
DESCRIPTION:Salsa in DC and Public Bar Live bring you SALSA NIGHTS every WEDNESDAY! \n\nTHIS IS A FREE EVENT.\nContact Us For Reservations- events@publicbarlive.com \nHAPPY HOUR UNTIL 9PM\nDRESS CODE – COME AS YOU ARE BUT BRING YOUR DANCING SHOES! \nDETAILS: \nMust be 21+ \nNo outside drinks or food. \n\nBeginner classes begin at 7pm \nIntermediate classes begin at 8pm with International instructors. \nSocial dancing at 9pm- close \nMUSIC: Salsa\, Bachata\, Merengue\, Kizomba and Zouk with a mix of reggaeton. \nFOOD: The kitchen is open until midnight.
URL:https://golatindance.com/event/salsa-con-candela/2026-04-29/
LOCATION:Public Bar Live\, 1214 18th St NW\, Washington D.C.\, DC 20036\, Washington D.C.\, DC\, 20036\, US
CATEGORIES:Washington DC-Baltimore
ATTACH;FMTTYPE=image/jpeg:https://golatindance.com/wp-content/uploads/2022/12/183041_image-e1670433871906.jpg
END:VEVENT
BEGIN:VEVENT
DTSTART;TZID=America/New_York:20260501T210000
DTEND;TZID=America/New_York:20260502T023000
DTSTAMP:20260420T202654
CREATED:20231213T171853Z
LAST-MODIFIED:20250507T161224Z
UID:10192850-1777669200-1777689000@golatindance.com
SUMMARY:SALSA CON CANDELA FRIDAYS
DESCRIPTION:Each and every Friday as we have salsa and bachata nights!\nWith live percussion\nGuest instructors weekly\nNo cover\nLive DJ and dance shows\nCome as you are
URL:https://golatindance.com/event/salsa-con-candela-fridays-fiesta-latina/2026-05-01/
LOCATION:Public Bar Live\, 1214 18th St NW\, Washington D.C.\, DC 20036\, Washington D.C.\, DC\, 20036\, US
CATEGORIES:Washington DC-Baltimore
END:VEVENT
BEGIN:VEVENT
DTSTART;TZID=America/New_York:20260506T190000
DTEND;TZID=America/New_York:20260507T020000
DTSTAMP:20260420T202654
CREATED:20221207T172221Z
LAST-MODIFIED:20250514T140105Z
UID:10048766-1778094000-1778119200@golatindance.com
SUMMARY:Salsa Con Candela
DESCRIPTION:Salsa in DC and Public Bar Live bring you SALSA NIGHTS every WEDNESDAY! \n\nTHIS IS A FREE EVENT.\nContact Us For Reservations- events@publicbarlive.com \nHAPPY HOUR UNTIL 9PM\nDRESS CODE – COME AS YOU ARE BUT BRING YOUR DANCING SHOES! \nDETAILS: \nMust be 21+ \nNo outside drinks or food. \n\nBeginner classes begin at 7pm \nIntermediate classes begin at 8pm with International instructors. \nSocial dancing at 9pm- close \nMUSIC: Salsa\, Bachata\, Merengue\, Kizomba and Zouk with a mix of reggaeton. \nFOOD: The kitchen is open until midnight.
URL:https://golatindance.com/event/salsa-con-candela/2026-05-06/
LOCATION:Public Bar Live\, 1214 18th St NW\, Washington D.C.\, DC 20036\, Washington D.C.\, DC\, 20036\, US
CATEGORIES:Washington DC-Baltimore
ATTACH;FMTTYPE=image/jpeg:https://golatindance.com/wp-content/uploads/2022/12/183041_image-e1670433871906.jpg
END:VEVENT
BEGIN:VEVENT
DTSTART;TZID=America/New_York:20260508T210000
DTEND;TZID=America/New_York:20260509T023000
DTSTAMP:20260420T202654
CREATED:20231213T171853Z
LAST-MODIFIED:20250507T161224Z
UID:10192851-1778274000-1778293800@golatindance.com
SUMMARY:SALSA CON CANDELA FRIDAYS
DESCRIPTION:Each and every Friday as we have salsa and bachata nights!\nWith live percussion\nGuest instructors weekly\nNo cover\nLive DJ and dance shows\nCome as you are
URL:https://golatindance.com/event/salsa-con-candela-fridays-fiesta-latina/2026-05-08/
LOCATION:Public Bar Live\, 1214 18th St NW\, Washington D.C.\, DC 20036\, Washington D.C.\, DC\, 20036\, US
CATEGORIES:Washington DC-Baltimore
END:VEVENT
BEGIN:VEVENT
DTSTART;TZID=America/New_York:20260513T190000
DTEND;TZID=America/New_York:20260514T020000
DTSTAMP:20260420T202654
CREATED:20221207T172221Z
LAST-MODIFIED:20250514T140105Z
UID:10048767-1778698800-1778724000@golatindance.com
SUMMARY:Salsa Con Candela
DESCRIPTION:Salsa in DC and Public Bar Live bring you SALSA NIGHTS every WEDNESDAY! \n\nTHIS IS A FREE EVENT.\nContact Us For Reservations- events@publicbarlive.com \nHAPPY HOUR UNTIL 9PM\nDRESS CODE – COME AS YOU ARE BUT BRING YOUR DANCING SHOES! \nDETAILS: \nMust be 21+ \nNo outside drinks or food. \n\nBeginner classes begin at 7pm \nIntermediate classes begin at 8pm with International instructors. \nSocial dancing at 9pm- close \nMUSIC: Salsa\, Bachata\, Merengue\, Kizomba and Zouk with a mix of reggaeton. \nFOOD: The kitchen is open until midnight.
URL:https://golatindance.com/event/salsa-con-candela/2026-05-13/
LOCATION:Public Bar Live\, 1214 18th St NW\, Washington D.C.\, DC 20036\, Washington D.C.\, DC\, 20036\, US
CATEGORIES:Washington DC-Baltimore
ATTACH;FMTTYPE=image/jpeg:https://golatindance.com/wp-content/uploads/2022/12/183041_image-e1670433871906.jpg
END:VEVENT
BEGIN:VEVENT
DTSTART;TZID=America/New_York:20260515T210000
DTEND;TZID=America/New_York:20260516T023000
DTSTAMP:20260420T202654
CREATED:20231213T171853Z
LAST-MODIFIED:20250507T161224Z
UID:10192852-1778878800-1778898600@golatindance.com
SUMMARY:SALSA CON CANDELA FRIDAYS
DESCRIPTION:Each and every Friday as we have salsa and bachata nights!\nWith live percussion\nGuest instructors weekly\nNo cover\nLive DJ and dance shows\nCome as you are
URL:https://golatindance.com/event/salsa-con-candela-fridays-fiesta-latina/2026-05-15/
LOCATION:Public Bar Live\, 1214 18th St NW\, Washington D.C.\, DC 20036\, Washington D.C.\, DC\, 20036\, US
CATEGORIES:Washington DC-Baltimore
END:VEVENT
BEGIN:VEVENT
DTSTART;TZID=America/New_York:20260520T190000
DTEND;TZID=America/New_York:20260521T020000
DTSTAMP:20260420T202654
CREATED:20221207T172221Z
LAST-MODIFIED:20250514T140105Z
UID:10048768-1779303600-1779328800@golatindance.com
SUMMARY:Salsa Con Candela
DESCRIPTION:Salsa in DC and Public Bar Live bring you SALSA NIGHTS every WEDNESDAY! \n\nTHIS IS A FREE EVENT.\nContact Us For Reservations- events@publicbarlive.com \nHAPPY HOUR UNTIL 9PM\nDRESS CODE – COME AS YOU ARE BUT BRING YOUR DANCING SHOES! \nDETAILS: \nMust be 21+ \nNo outside drinks or food. \n\nBeginner classes begin at 7pm \nIntermediate classes begin at 8pm with International instructors. \nSocial dancing at 9pm- close \nMUSIC: Salsa\, Bachata\, Merengue\, Kizomba and Zouk with a mix of reggaeton. \nFOOD: The kitchen is open until midnight.
URL:https://golatindance.com/event/salsa-con-candela/2026-05-20/
LOCATION:Public Bar Live\, 1214 18th St NW\, Washington D.C.\, DC 20036\, Washington D.C.\, DC\, 20036\, US
CATEGORIES:Washington DC-Baltimore
ATTACH;FMTTYPE=image/jpeg:https://golatindance.com/wp-content/uploads/2022/12/183041_image-e1670433871906.jpg
END:VEVENT
BEGIN:VEVENT
DTSTART;TZID=America/New_York:20260522T210000
DTEND;TZID=America/New_York:20260523T023000
DTSTAMP:20260420T202654
CREATED:20231213T171853Z
LAST-MODIFIED:20250507T161224Z
UID:10192853-1779483600-1779503400@golatindance.com
SUMMARY:SALSA CON CANDELA FRIDAYS
DESCRIPTION:Each and every Friday as we have salsa and bachata nights!\nWith live percussion\nGuest instructors weekly\nNo cover\nLive DJ and dance shows\nCome as you are
URL:https://golatindance.com/event/salsa-con-candela-fridays-fiesta-latina/2026-05-22/
LOCATION:Public Bar Live\, 1214 18th St NW\, Washington D.C.\, DC 20036\, Washington D.C.\, DC\, 20036\, US
CATEGORIES:Washington DC-Baltimore
END:VEVENT
BEGIN:VEVENT
DTSTART;TZID=America/New_York:20260527T190000
DTEND;TZID=America/New_York:20260528T020000
DTSTAMP:20260420T202654
CREATED:20221207T172221Z
LAST-MODIFIED:20250514T140105Z
UID:10048769-1779908400-1779933600@golatindance.com
SUMMARY:Salsa Con Candela
DESCRIPTION:Salsa in DC and Public Bar Live bring you SALSA NIGHTS every WEDNESDAY! \n\nTHIS IS A FREE EVENT.\nContact Us For Reservations- events@publicbarlive.com \nHAPPY HOUR UNTIL 9PM\nDRESS CODE – COME AS YOU ARE BUT BRING YOUR DANCING SHOES! \nDETAILS: \nMust be 21+ \nNo outside drinks or food. \n\nBeginner classes begin at 7pm \nIntermediate classes begin at 8pm with International instructors. \nSocial dancing at 9pm- close \nMUSIC: Salsa\, Bachata\, Merengue\, Kizomba and Zouk with a mix of reggaeton. \nFOOD: The kitchen is open until midnight.
URL:https://golatindance.com/event/salsa-con-candela/2026-05-27/
LOCATION:Public Bar Live\, 1214 18th St NW\, Washington D.C.\, DC 20036\, Washington D.C.\, DC\, 20036\, US
CATEGORIES:Washington DC-Baltimore
ATTACH;FMTTYPE=image/jpeg:https://golatindance.com/wp-content/uploads/2022/12/183041_image-e1670433871906.jpg
END:VEVENT
BEGIN:VEVENT
DTSTART;TZID=America/New_York:20260529T210000
DTEND;TZID=America/New_York:20260530T023000
DTSTAMP:20260420T202654
CREATED:20231213T171853Z
LAST-MODIFIED:20250507T161224Z
UID:10192854-1780088400-1780108200@golatindance.com
SUMMARY:SALSA CON CANDELA FRIDAYS
DESCRIPTION:Each and every Friday as we have salsa and bachata nights!\nWith live percussion\nGuest instructors weekly\nNo cover\nLive DJ and dance shows\nCome as you are
URL:https://golatindance.com/event/salsa-con-candela-fridays-fiesta-latina/2026-05-29/
LOCATION:Public Bar Live\, 1214 18th St NW\, Washington D.C.\, DC 20036\, Washington D.C.\, DC\, 20036\, US
CATEGORIES:Washington DC-Baltimore
END:VEVENT
BEGIN:VEVENT
DTSTART;TZID=America/New_York:20260603T190000
DTEND;TZID=America/New_York:20260604T020000
DTSTAMP:20260420T202654
CREATED:20221207T172221Z
LAST-MODIFIED:20250514T140105Z
UID:10048770-1780513200-1780538400@golatindance.com
SUMMARY:Salsa Con Candela
DESCRIPTION:Salsa in DC and Public Bar Live bring you SALSA NIGHTS every WEDNESDAY! \n\nTHIS IS A FREE EVENT.\nContact Us For Reservations- events@publicbarlive.com \nHAPPY HOUR UNTIL 9PM\nDRESS CODE – COME AS YOU ARE BUT BRING YOUR DANCING SHOES! \nDETAILS: \nMust be 21+ \nNo outside drinks or food. \n\nBeginner classes begin at 7pm \nIntermediate classes begin at 8pm with International instructors. \nSocial dancing at 9pm- close \nMUSIC: Salsa\, Bachata\, Merengue\, Kizomba and Zouk with a mix of reggaeton. \nFOOD: The kitchen is open until midnight.
URL:https://golatindance.com/event/salsa-con-candela/2026-06-03/
LOCATION:Public Bar Live\, 1214 18th St NW\, Washington D.C.\, DC 20036\, Washington D.C.\, DC\, 20036\, US
CATEGORIES:Washington DC-Baltimore
ATTACH;FMTTYPE=image/jpeg:https://golatindance.com/wp-content/uploads/2022/12/183041_image-e1670433871906.jpg
END:VEVENT
BEGIN:VEVENT
DTSTART;TZID=America/New_York:20260605T210000
DTEND;TZID=America/New_York:20260606T023000
DTSTAMP:20260420T202654
CREATED:20231213T171853Z
LAST-MODIFIED:20250507T161224Z
UID:10192855-1780693200-1780713000@golatindance.com
SUMMARY:SALSA CON CANDELA FRIDAYS
DESCRIPTION:Each and every Friday as we have salsa and bachata nights!\nWith live percussion\nGuest instructors weekly\nNo cover\nLive DJ and dance shows\nCome as you are
URL:https://golatindance.com/event/salsa-con-candela-fridays-fiesta-latina/2026-06-05/
LOCATION:Public Bar Live\, 1214 18th St NW\, Washington D.C.\, DC 20036\, Washington D.C.\, DC\, 20036\, US
CATEGORIES:Washington DC-Baltimore
END:VEVENT
BEGIN:VEVENT
DTSTART;TZID=America/New_York:20260610T190000
DTEND;TZID=America/New_York:20260611T020000
DTSTAMP:20260420T202654
CREATED:20221207T172221Z
LAST-MODIFIED:20250514T140105Z
UID:10048771-1781118000-1781143200@golatindance.com
SUMMARY:Salsa Con Candela
DESCRIPTION:Salsa in DC and Public Bar Live bring you SALSA NIGHTS every WEDNESDAY! \n\nTHIS IS A FREE EVENT.\nContact Us For Reservations- events@publicbarlive.com \nHAPPY HOUR UNTIL 9PM\nDRESS CODE – COME AS YOU ARE BUT BRING YOUR DANCING SHOES! \nDETAILS: \nMust be 21+ \nNo outside drinks or food. \n\nBeginner classes begin at 7pm \nIntermediate classes begin at 8pm with International instructors. \nSocial dancing at 9pm- close \nMUSIC: Salsa\, Bachata\, Merengue\, Kizomba and Zouk with a mix of reggaeton. \nFOOD: The kitchen is open until midnight.
URL:https://golatindance.com/event/salsa-con-candela/2026-06-10/
LOCATION:Public Bar Live\, 1214 18th St NW\, Washington D.C.\, DC 20036\, Washington D.C.\, DC\, 20036\, US
CATEGORIES:Washington DC-Baltimore
ATTACH;FMTTYPE=image/jpeg:https://golatindance.com/wp-content/uploads/2022/12/183041_image-e1670433871906.jpg
END:VEVENT
BEGIN:VEVENT
DTSTART;TZID=America/New_York:20260612T210000
DTEND;TZID=America/New_York:20260613T023000
DTSTAMP:20260420T202654
CREATED:20231213T171853Z
LAST-MODIFIED:20250507T161224Z
UID:10192856-1781298000-1781317800@golatindance.com
SUMMARY:SALSA CON CANDELA FRIDAYS
DESCRIPTION:Each and every Friday as we have salsa and bachata nights!\nWith live percussion\nGuest instructors weekly\nNo cover\nLive DJ and dance shows\nCome as you are
URL:https://golatindance.com/event/salsa-con-candela-fridays-fiesta-latina/2026-06-12/
LOCATION:Public Bar Live\, 1214 18th St NW\, Washington D.C.\, DC 20036\, Washington D.C.\, DC\, 20036\, US
CATEGORIES:Washington DC-Baltimore
END:VEVENT
BEGIN:VEVENT
DTSTART;TZID=America/New_York:20260617T190000
DTEND;TZID=America/New_York:20260618T020000
DTSTAMP:20260420T202654
CREATED:20221207T172221Z
LAST-MODIFIED:20250514T140105Z
UID:10048772-1781722800-1781748000@golatindance.com
SUMMARY:Salsa Con Candela
DESCRIPTION:Salsa in DC and Public Bar Live bring you SALSA NIGHTS every WEDNESDAY! \n\nTHIS IS A FREE EVENT.\nContact Us For Reservations- events@publicbarlive.com \nHAPPY HOUR UNTIL 9PM\nDRESS CODE – COME AS YOU ARE BUT BRING YOUR DANCING SHOES! \nDETAILS: \nMust be 21+ \nNo outside drinks or food. \n\nBeginner classes begin at 7pm \nIntermediate classes begin at 8pm with International instructors. \nSocial dancing at 9pm- close \nMUSIC: Salsa\, Bachata\, Merengue\, Kizomba and Zouk with a mix of reggaeton. \nFOOD: The kitchen is open until midnight.
URL:https://golatindance.com/event/salsa-con-candela/2026-06-17/
LOCATION:Public Bar Live\, 1214 18th St NW\, Washington D.C.\, DC 20036\, Washington D.C.\, DC\, 20036\, US
CATEGORIES:Washington DC-Baltimore
ATTACH;FMTTYPE=image/jpeg:https://golatindance.com/wp-content/uploads/2022/12/183041_image-e1670433871906.jpg
END:VEVENT
BEGIN:VEVENT
DTSTART;TZID=America/New_York:20260619T210000
DTEND;TZID=America/New_York:20260620T023000
DTSTAMP:20260420T202654
CREATED:20231213T171853Z
LAST-MODIFIED:20250507T161224Z
UID:10192857-1781902800-1781922600@golatindance.com
SUMMARY:SALSA CON CANDELA FRIDAYS
DESCRIPTION:Each and every Friday as we have salsa and bachata nights!\nWith live percussion\nGuest instructors weekly\nNo cover\nLive DJ and dance shows\nCome as you are
URL:https://golatindance.com/event/salsa-con-candela-fridays-fiesta-latina/2026-06-19/
LOCATION:Public Bar Live\, 1214 18th St NW\, Washington D.C.\, DC 20036\, Washington D.C.\, DC\, 20036\, US
CATEGORIES:Washington DC-Baltimore
END:VEVENT
BEGIN:VEVENT
DTSTART;TZID=America/New_York:20260624T190000
DTEND;TZID=America/New_York:20260625T020000
DTSTAMP:20260420T202654
CREATED:20221207T172221Z
LAST-MODIFIED:20250514T140105Z
UID:10048773-1782327600-1782352800@golatindance.com
SUMMARY:Salsa Con Candela
DESCRIPTION:Salsa in DC and Public Bar Live bring you SALSA NIGHTS every WEDNESDAY! \n\nTHIS IS A FREE EVENT.\nContact Us For Reservations- events@publicbarlive.com \nHAPPY HOUR UNTIL 9PM\nDRESS CODE – COME AS YOU ARE BUT BRING YOUR DANCING SHOES! \nDETAILS: \nMust be 21+ \nNo outside drinks or food. \n\nBeginner classes begin at 7pm \nIntermediate classes begin at 8pm with International instructors. \nSocial dancing at 9pm- close \nMUSIC: Salsa\, Bachata\, Merengue\, Kizomba and Zouk with a mix of reggaeton. \nFOOD: The kitchen is open until midnight.
URL:https://golatindance.com/event/salsa-con-candela/2026-06-24/
LOCATION:Public Bar Live\, 1214 18th St NW\, Washington D.C.\, DC 20036\, Washington D.C.\, DC\, 20036\, US
CATEGORIES:Washington DC-Baltimore
ATTACH;FMTTYPE=image/jpeg:https://golatindance.com/wp-content/uploads/2022/12/183041_image-e1670433871906.jpg
END:VEVENT
BEGIN:VEVENT
DTSTART;TZID=America/New_York:20260626T210000
DTEND;TZID=America/New_York:20260627T023000
DTSTAMP:20260420T202654
CREATED:20231213T171853Z
LAST-MODIFIED:20250507T161224Z
UID:10192858-1782507600-1782527400@golatindance.com
SUMMARY:SALSA CON CANDELA FRIDAYS
DESCRIPTION:Each and every Friday as we have salsa and bachata nights!\nWith live percussion\nGuest instructors weekly\nNo cover\nLive DJ and dance shows\nCome as you are
URL:https://golatindance.com/event/salsa-con-candela-fridays-fiesta-latina/2026-06-26/
LOCATION:Public Bar Live\, 1214 18th St NW\, Washington D.C.\, DC 20036\, Washington D.C.\, DC\, 20036\, US
CATEGORIES:Washington DC-Baltimore
END:VEVENT
BEGIN:VEVENT
DTSTART;TZID=America/New_York:20260701T190000
DTEND;TZID=America/New_York:20260702T020000
DTSTAMP:20260420T202654
CREATED:20221207T172221Z
LAST-MODIFIED:20250514T140105Z
UID:10048774-1782932400-1782957600@golatindance.com
SUMMARY:Salsa Con Candela
DESCRIPTION:Salsa in DC and Public Bar Live bring you SALSA NIGHTS every WEDNESDAY! \n\nTHIS IS A FREE EVENT.\nContact Us For Reservations- events@publicbarlive.com \nHAPPY HOUR UNTIL 9PM\nDRESS CODE – COME AS YOU ARE BUT BRING YOUR DANCING SHOES! \nDETAILS: \nMust be 21+ \nNo outside drinks or food. \n\nBeginner classes begin at 7pm \nIntermediate classes begin at 8pm with International instructors. \nSocial dancing at 9pm- close \nMUSIC: Salsa\, Bachata\, Merengue\, Kizomba and Zouk with a mix of reggaeton. \nFOOD: The kitchen is open until midnight.
URL:https://golatindance.com/event/salsa-con-candela/2026-07-01/
LOCATION:Public Bar Live\, 1214 18th St NW\, Washington D.C.\, DC 20036\, Washington D.C.\, DC\, 20036\, US
CATEGORIES:Washington DC-Baltimore
ATTACH;FMTTYPE=image/jpeg:https://golatindance.com/wp-content/uploads/2022/12/183041_image-e1670433871906.jpg
END:VEVENT
BEGIN:VEVENT
DTSTART;TZID=America/New_York:20260703T210000
DTEND;TZID=America/New_York:20260704T023000
DTSTAMP:20260420T202654
CREATED:20231213T171853Z
LAST-MODIFIED:20250507T161224Z
UID:10192859-1783112400-1783132200@golatindance.com
SUMMARY:SALSA CON CANDELA FRIDAYS
DESCRIPTION:Each and every Friday as we have salsa and bachata nights!\nWith live percussion\nGuest instructors weekly\nNo cover\nLive DJ and dance shows\nCome as you are
URL:https://golatindance.com/event/salsa-con-candela-fridays-fiesta-latina/2026-07-03/
LOCATION:Public Bar Live\, 1214 18th St NW\, Washington D.C.\, DC 20036\, Washington D.C.\, DC\, 20036\, US
CATEGORIES:Washington DC-Baltimore
END:VEVENT
BEGIN:VEVENT
DTSTART;TZID=America/New_York:20260708T190000
DTEND;TZID=America/New_York:20260709T020000
DTSTAMP:20260420T202654
CREATED:20221207T172221Z
LAST-MODIFIED:20250514T140105Z
UID:10048775-1783537200-1783562400@golatindance.com
SUMMARY:Salsa Con Candela
DESCRIPTION:Salsa in DC and Public Bar Live bring you SALSA NIGHTS every WEDNESDAY! \n\nTHIS IS A FREE EVENT.\nContact Us For Reservations- events@publicbarlive.com \nHAPPY HOUR UNTIL 9PM\nDRESS CODE – COME AS YOU ARE BUT BRING YOUR DANCING SHOES! \nDETAILS: \nMust be 21+ \nNo outside drinks or food. \n\nBeginner classes begin at 7pm \nIntermediate classes begin at 8pm with International instructors. \nSocial dancing at 9pm- close \nMUSIC: Salsa\, Bachata\, Merengue\, Kizomba and Zouk with a mix of reggaeton. \nFOOD: The kitchen is open until midnight.
URL:https://golatindance.com/event/salsa-con-candela/2026-07-08/
LOCATION:Public Bar Live\, 1214 18th St NW\, Washington D.C.\, DC 20036\, Washington D.C.\, DC\, 20036\, US
CATEGORIES:Washington DC-Baltimore
ATTACH;FMTTYPE=image/jpeg:https://golatindance.com/wp-content/uploads/2022/12/183041_image-e1670433871906.jpg
END:VEVENT
BEGIN:VEVENT
DTSTART;TZID=America/New_York:20260710T210000
DTEND;TZID=America/New_York:20260711T023000
DTSTAMP:20260420T202654
CREATED:20231213T171853Z
LAST-MODIFIED:20250507T161224Z
UID:10192860-1783717200-1783737000@golatindance.com
SUMMARY:SALSA CON CANDELA FRIDAYS
DESCRIPTION:Each and every Friday as we have salsa and bachata nights!\nWith live percussion\nGuest instructors weekly\nNo cover\nLive DJ and dance shows\nCome as you are
URL:https://golatindance.com/event/salsa-con-candela-fridays-fiesta-latina/2026-07-10/
LOCATION:Public Bar Live\, 1214 18th St NW\, Washington D.C.\, DC 20036\, Washington D.C.\, DC\, 20036\, US
CATEGORIES:Washington DC-Baltimore
END:VEVENT
BEGIN:VEVENT
DTSTART;TZID=America/New_York:20260715T190000
DTEND;TZID=America/New_York:20260716T020000
DTSTAMP:20260420T202654
CREATED:20221207T172221Z
LAST-MODIFIED:20250514T140105Z
UID:10048776-1784142000-1784167200@golatindance.com
SUMMARY:Salsa Con Candela
DESCRIPTION:Salsa in DC and Public Bar Live bring you SALSA NIGHTS every WEDNESDAY! \n\nTHIS IS A FREE EVENT.\nContact Us For Reservations- events@publicbarlive.com \nHAPPY HOUR UNTIL 9PM\nDRESS CODE – COME AS YOU ARE BUT BRING YOUR DANCING SHOES! \nDETAILS: \nMust be 21+ \nNo outside drinks or food. \n\nBeginner classes begin at 7pm \nIntermediate classes begin at 8pm with International instructors. \nSocial dancing at 9pm- close \nMUSIC: Salsa\, Bachata\, Merengue\, Kizomba and Zouk with a mix of reggaeton. \nFOOD: The kitchen is open until midnight.
URL:https://golatindance.com/event/salsa-con-candela/2026-07-15/
LOCATION:Public Bar Live\, 1214 18th St NW\, Washington D.C.\, DC 20036\, Washington D.C.\, DC\, 20036\, US
CATEGORIES:Washington DC-Baltimore
ATTACH;FMTTYPE=image/jpeg:https://golatindance.com/wp-content/uploads/2022/12/183041_image-e1670433871906.jpg
END:VEVENT
BEGIN:VEVENT
DTSTART;TZID=America/New_York:20260717T210000
DTEND;TZID=America/New_York:20260718T023000
DTSTAMP:20260420T202654
CREATED:20231213T171853Z
LAST-MODIFIED:20250507T161224Z
UID:10192861-1784322000-1784341800@golatindance.com
SUMMARY:SALSA CON CANDELA FRIDAYS
DESCRIPTION:Each and every Friday as we have salsa and bachata nights!\nWith live percussion\nGuest instructors weekly\nNo cover\nLive DJ and dance shows\nCome as you are
URL:https://golatindance.com/event/salsa-con-candela-fridays-fiesta-latina/2026-07-17/
LOCATION:Public Bar Live\, 1214 18th St NW\, Washington D.C.\, DC 20036\, Washington D.C.\, DC\, 20036\, US
CATEGORIES:Washington DC-Baltimore
END:VEVENT
BEGIN:VEVENT
DTSTART;TZID=America/New_York:20260722T190000
DTEND;TZID=America/New_York:20260723T020000
DTSTAMP:20260420T202654
CREATED:20221207T172221Z
LAST-MODIFIED:20250514T140105Z
UID:10048777-1784746800-1784772000@golatindance.com
SUMMARY:Salsa Con Candela
DESCRIPTION:Salsa in DC and Public Bar Live bring you SALSA NIGHTS every WEDNESDAY! \n\nTHIS IS A FREE EVENT.\nContact Us For Reservations- events@publicbarlive.com \nHAPPY HOUR UNTIL 9PM\nDRESS CODE – COME AS YOU ARE BUT BRING YOUR DANCING SHOES! \nDETAILS: \nMust be 21+ \nNo outside drinks or food. \n\nBeginner classes begin at 7pm \nIntermediate classes begin at 8pm with International instructors. \nSocial dancing at 9pm- close \nMUSIC: Salsa\, Bachata\, Merengue\, Kizomba and Zouk with a mix of reggaeton. \nFOOD: The kitchen is open until midnight.
URL:https://golatindance.com/event/salsa-con-candela/2026-07-22/
LOCATION:Public Bar Live\, 1214 18th St NW\, Washington D.C.\, DC 20036\, Washington D.C.\, DC\, 20036\, US
CATEGORIES:Washington DC-Baltimore
ATTACH;FMTTYPE=image/jpeg:https://golatindance.com/wp-content/uploads/2022/12/183041_image-e1670433871906.jpg
END:VEVENT
BEGIN:VEVENT
DTSTART;TZID=America/New_York:20260724T210000
DTEND;TZID=America/New_York:20260725T023000
DTSTAMP:20260420T202654
CREATED:20231213T171853Z
LAST-MODIFIED:20250507T161224Z
UID:10192862-1784926800-1784946600@golatindance.com
SUMMARY:SALSA CON CANDELA FRIDAYS
DESCRIPTION:Each and every Friday as we have salsa and bachata nights!\nWith live percussion\nGuest instructors weekly\nNo cover\nLive DJ and dance shows\nCome as you are
URL:https://golatindance.com/event/salsa-con-candela-fridays-fiesta-latina/2026-07-24/
LOCATION:Public Bar Live\, 1214 18th St NW\, Washington D.C.\, DC 20036\, Washington D.C.\, DC\, 20036\, US
CATEGORIES:Washington DC-Baltimore
END:VEVENT
BEGIN:VEVENT
DTSTART;TZID=America/New_York:20260729T190000
DTEND;TZID=America/New_York:20260730T020000
DTSTAMP:20260420T202654
CREATED:20221207T172221Z
LAST-MODIFIED:20250514T140105Z
UID:10048778-1785351600-1785376800@golatindance.com
SUMMARY:Salsa Con Candela
DESCRIPTION:Salsa in DC and Public Bar Live bring you SALSA NIGHTS every WEDNESDAY! \n\nTHIS IS A FREE EVENT.\nContact Us For Reservations- events@publicbarlive.com \nHAPPY HOUR UNTIL 9PM\nDRESS CODE – COME AS YOU ARE BUT BRING YOUR DANCING SHOES! \nDETAILS: \nMust be 21+ \nNo outside drinks or food. \n\nBeginner classes begin at 7pm \nIntermediate classes begin at 8pm with International instructors. \nSocial dancing at 9pm- close \nMUSIC: Salsa\, Bachata\, Merengue\, Kizomba and Zouk with a mix of reggaeton. \nFOOD: The kitchen is open until midnight.
URL:https://golatindance.com/event/salsa-con-candela/2026-07-29/
LOCATION:Public Bar Live\, 1214 18th St NW\, Washington D.C.\, DC 20036\, Washington D.C.\, DC\, 20036\, US
CATEGORIES:Washington DC-Baltimore
ATTACH;FMTTYPE=image/jpeg:https://golatindance.com/wp-content/uploads/2022/12/183041_image-e1670433871906.jpg
END:VEVENT
BEGIN:VEVENT
DTSTART;TZID=America/New_York:20260731T210000
DTEND;TZID=America/New_York:20260801T023000
DTSTAMP:20260420T202654
CREATED:20231213T171853Z
LAST-MODIFIED:20250507T161224Z
UID:10192863-1785531600-1785551400@golatindance.com
SUMMARY:SALSA CON CANDELA FRIDAYS
DESCRIPTION:Each and every Friday as we have salsa and bachata nights!\nWith live percussion\nGuest instructors weekly\nNo cover\nLive DJ and dance shows\nCome as you are
URL:https://golatindance.com/event/salsa-con-candela-fridays-fiesta-latina/2026-07-31/
LOCATION:Public Bar Live\, 1214 18th St NW\, Washington D.C.\, DC 20036\, Washington D.C.\, DC\, 20036\, US
CATEGORIES:Washington DC-Baltimore
END:VEVENT
END:VCALENDAR