BEGIN:VCALENDAR
VERSION:2.0
PRODID:-//GO Latin Dance - ECPv6.15.18//NONSGML v1.0//EN
CALSCALE:GREGORIAN
METHOD:PUBLISH
X-ORIGINAL-URL:https://golatindance.com
X-WR-CALDESC:Events for GO Latin Dance
REFRESH-INTERVAL;VALUE=DURATION:PT1H
X-Robots-Tag:noindex
X-PUBLISHED-TTL:PT1H
BEGIN:VTIMEZONE
TZID:America/Los_Angeles
BEGIN:DAYLIGHT
TZOFFSETFROM:-0800
TZOFFSETTO:-0700
TZNAME:PDT
DTSTART:20270314T100000
END:DAYLIGHT
BEGIN:STANDARD
TZOFFSETFROM:-0700
TZOFFSETTO:-0800
TZNAME:PST
DTSTART:20271107T090000
END:STANDARD
BEGIN:DAYLIGHT
TZOFFSETFROM:-0800
TZOFFSETTO:-0700
TZNAME:PDT
DTSTART:20280312T100000
END:DAYLIGHT
BEGIN:STANDARD
TZOFFSETFROM:-0700
TZOFFSETTO:-0800
TZNAME:PST
DTSTART:20281105T090000
END:STANDARD
BEGIN:DAYLIGHT
TZOFFSETFROM:-0800
TZOFFSETTO:-0700
TZNAME:PDT
DTSTART:20290311T100000
END:DAYLIGHT
BEGIN:STANDARD
TZOFFSETFROM:-0700
TZOFFSETTO:-0800
TZNAME:PST
DTSTART:20291104T090000
END:STANDARD
BEGIN:DAYLIGHT
TZOFFSETFROM:-0800
TZOFFSETTO:-0700
TZNAME:PDT
DTSTART:20300310T100000
END:DAYLIGHT
BEGIN:STANDARD
TZOFFSETFROM:-0700
TZOFFSETTO:-0800
TZNAME:PST
DTSTART:20301103T090000
END:STANDARD
END:VTIMEZONE
BEGIN:VEVENT
DTSTART;TZID=America/Los_Angeles:20281022T173000
DTEND;TZID=America/Los_Angeles:20281022T220000
DTSTAMP:20260425T140357
CREATED:20221108T173700Z
LAST-MODIFIED:20251230T210905Z
UID:10349474-1855848600-1855864800@golatindance.com
SUMMARY:Salsa Bachata Sundays at Queen Bees
DESCRIPTION:Spice Up Your Sundays with Salsa & Bachata at Queen Bee’s!Join us every Sunday from 5:30pm-10pm for Salsa Sunday! See flyer for details.
URL:https://golatindance.com/event/salsa-bachata-sundays-at-queen-bees/2028-10-22/
LOCATION:Queen Bee’s Art and Cultural Center\, 3925 Ohio Street\, San Diego\, CA 92104\, San Diego\, CA\, 92104\, United States
CATEGORIES:San Diego
ATTACH;FMTTYPE=image/jpeg:https://golatindance.com/wp-content/uploads/2022/11/953f34_7bbada5d535646a68f7203006e946665mv2.jpg
END:VEVENT
BEGIN:VEVENT
DTSTART;TZID=America/Los_Angeles:20281029T173000
DTEND;TZID=America/Los_Angeles:20281029T220000
DTSTAMP:20260425T140357
CREATED:20221108T173700Z
LAST-MODIFIED:20251230T210905Z
UID:10349475-1856453400-1856469600@golatindance.com
SUMMARY:Salsa Bachata Sundays at Queen Bees
DESCRIPTION:Spice Up Your Sundays with Salsa & Bachata at Queen Bee’s!Join us every Sunday from 5:30pm-10pm for Salsa Sunday! See flyer for details.
URL:https://golatindance.com/event/salsa-bachata-sundays-at-queen-bees/2028-10-29/
LOCATION:Queen Bee’s Art and Cultural Center\, 3925 Ohio Street\, San Diego\, CA 92104\, San Diego\, CA\, 92104\, United States
CATEGORIES:San Diego
ATTACH;FMTTYPE=image/jpeg:https://golatindance.com/wp-content/uploads/2022/11/953f34_7bbada5d535646a68f7203006e946665mv2.jpg
END:VEVENT
BEGIN:VEVENT
DTSTART;TZID=America/Los_Angeles:20281105T173000
DTEND;TZID=America/Los_Angeles:20281105T220000
DTSTAMP:20260425T140357
CREATED:20221108T173700Z
LAST-MODIFIED:20251230T210905Z
UID:10349476-1857058200-1857074400@golatindance.com
SUMMARY:Salsa Bachata Sundays at Queen Bees
DESCRIPTION:Spice Up Your Sundays with Salsa & Bachata at Queen Bee’s!Join us every Sunday from 5:30pm-10pm for Salsa Sunday! See flyer for details.
URL:https://golatindance.com/event/salsa-bachata-sundays-at-queen-bees/2028-11-05/
LOCATION:Queen Bee’s Art and Cultural Center\, 3925 Ohio Street\, San Diego\, CA 92104\, San Diego\, CA\, 92104\, United States
CATEGORIES:San Diego
ATTACH;FMTTYPE=image/jpeg:https://golatindance.com/wp-content/uploads/2022/11/953f34_7bbada5d535646a68f7203006e946665mv2.jpg
END:VEVENT
BEGIN:VEVENT
DTSTART;TZID=America/Los_Angeles:20281112T173000
DTEND;TZID=America/Los_Angeles:20281112T220000
DTSTAMP:20260425T140357
CREATED:20221108T173700Z
LAST-MODIFIED:20251230T210905Z
UID:10349477-1857663000-1857679200@golatindance.com
SUMMARY:Salsa Bachata Sundays at Queen Bees
DESCRIPTION:Spice Up Your Sundays with Salsa & Bachata at Queen Bee’s!Join us every Sunday from 5:30pm-10pm for Salsa Sunday! See flyer for details.
URL:https://golatindance.com/event/salsa-bachata-sundays-at-queen-bees/2028-11-12/
LOCATION:Queen Bee’s Art and Cultural Center\, 3925 Ohio Street\, San Diego\, CA 92104\, San Diego\, CA\, 92104\, United States
CATEGORIES:San Diego
ATTACH;FMTTYPE=image/jpeg:https://golatindance.com/wp-content/uploads/2022/11/953f34_7bbada5d535646a68f7203006e946665mv2.jpg
END:VEVENT
BEGIN:VEVENT
DTSTART;TZID=America/Los_Angeles:20281119T173000
DTEND;TZID=America/Los_Angeles:20281119T220000
DTSTAMP:20260425T140357
CREATED:20221108T173700Z
LAST-MODIFIED:20251230T210905Z
UID:10349478-1858267800-1858284000@golatindance.com
SUMMARY:Salsa Bachata Sundays at Queen Bees
DESCRIPTION:Spice Up Your Sundays with Salsa & Bachata at Queen Bee’s!Join us every Sunday from 5:30pm-10pm for Salsa Sunday! See flyer for details.
URL:https://golatindance.com/event/salsa-bachata-sundays-at-queen-bees/2028-11-19/
LOCATION:Queen Bee’s Art and Cultural Center\, 3925 Ohio Street\, San Diego\, CA 92104\, San Diego\, CA\, 92104\, United States
CATEGORIES:San Diego
ATTACH;FMTTYPE=image/jpeg:https://golatindance.com/wp-content/uploads/2022/11/953f34_7bbada5d535646a68f7203006e946665mv2.jpg
END:VEVENT
BEGIN:VEVENT
DTSTART;TZID=America/Los_Angeles:20281126T173000
DTEND;TZID=America/Los_Angeles:20281126T220000
DTSTAMP:20260425T140357
CREATED:20221108T173700Z
LAST-MODIFIED:20251230T210905Z
UID:10349479-1858872600-1858888800@golatindance.com
SUMMARY:Salsa Bachata Sundays at Queen Bees
DESCRIPTION:Spice Up Your Sundays with Salsa & Bachata at Queen Bee’s!Join us every Sunday from 5:30pm-10pm for Salsa Sunday! See flyer for details.
URL:https://golatindance.com/event/salsa-bachata-sundays-at-queen-bees/2028-11-26/
LOCATION:Queen Bee’s Art and Cultural Center\, 3925 Ohio Street\, San Diego\, CA 92104\, San Diego\, CA\, 92104\, United States
CATEGORIES:San Diego
ATTACH;FMTTYPE=image/jpeg:https://golatindance.com/wp-content/uploads/2022/11/953f34_7bbada5d535646a68f7203006e946665mv2.jpg
END:VEVENT
BEGIN:VEVENT
DTSTART;TZID=America/Los_Angeles:20281203T173000
DTEND;TZID=America/Los_Angeles:20281203T220000
DTSTAMP:20260425T140357
CREATED:20221108T173700Z
LAST-MODIFIED:20251230T210905Z
UID:10349480-1859477400-1859493600@golatindance.com
SUMMARY:Salsa Bachata Sundays at Queen Bees
DESCRIPTION:Spice Up Your Sundays with Salsa & Bachata at Queen Bee’s!Join us every Sunday from 5:30pm-10pm for Salsa Sunday! See flyer for details.
URL:https://golatindance.com/event/salsa-bachata-sundays-at-queen-bees/2028-12-03/
LOCATION:Queen Bee’s Art and Cultural Center\, 3925 Ohio Street\, San Diego\, CA 92104\, San Diego\, CA\, 92104\, United States
CATEGORIES:San Diego
ATTACH;FMTTYPE=image/jpeg:https://golatindance.com/wp-content/uploads/2022/11/953f34_7bbada5d535646a68f7203006e946665mv2.jpg
END:VEVENT
BEGIN:VEVENT
DTSTART;TZID=America/Los_Angeles:20281210T173000
DTEND;TZID=America/Los_Angeles:20281210T220000
DTSTAMP:20260425T140357
CREATED:20221108T173700Z
LAST-MODIFIED:20251230T210905Z
UID:10349481-1860082200-1860098400@golatindance.com
SUMMARY:Salsa Bachata Sundays at Queen Bees
DESCRIPTION:Spice Up Your Sundays with Salsa & Bachata at Queen Bee’s!Join us every Sunday from 5:30pm-10pm for Salsa Sunday! See flyer for details.
URL:https://golatindance.com/event/salsa-bachata-sundays-at-queen-bees/2028-12-10/
LOCATION:Queen Bee’s Art and Cultural Center\, 3925 Ohio Street\, San Diego\, CA 92104\, San Diego\, CA\, 92104\, United States
CATEGORIES:San Diego
ATTACH;FMTTYPE=image/jpeg:https://golatindance.com/wp-content/uploads/2022/11/953f34_7bbada5d535646a68f7203006e946665mv2.jpg
END:VEVENT
BEGIN:VEVENT
DTSTART;TZID=America/Los_Angeles:20281217T173000
DTEND;TZID=America/Los_Angeles:20281217T220000
DTSTAMP:20260425T140357
CREATED:20221108T173700Z
LAST-MODIFIED:20251230T210905Z
UID:10349482-1860687000-1860703200@golatindance.com
SUMMARY:Salsa Bachata Sundays at Queen Bees
DESCRIPTION:Spice Up Your Sundays with Salsa & Bachata at Queen Bee’s!Join us every Sunday from 5:30pm-10pm for Salsa Sunday! See flyer for details.
URL:https://golatindance.com/event/salsa-bachata-sundays-at-queen-bees/2028-12-17/
LOCATION:Queen Bee’s Art and Cultural Center\, 3925 Ohio Street\, San Diego\, CA 92104\, San Diego\, CA\, 92104\, United States
CATEGORIES:San Diego
ATTACH;FMTTYPE=image/jpeg:https://golatindance.com/wp-content/uploads/2022/11/953f34_7bbada5d535646a68f7203006e946665mv2.jpg
END:VEVENT
BEGIN:VEVENT
DTSTART;TZID=America/Los_Angeles:20281224T173000
DTEND;TZID=America/Los_Angeles:20281224T220000
DTSTAMP:20260425T140357
CREATED:20221108T173700Z
LAST-MODIFIED:20251230T210905Z
UID:10349483-1861291800-1861308000@golatindance.com
SUMMARY:Salsa Bachata Sundays at Queen Bees
DESCRIPTION:Spice Up Your Sundays with Salsa & Bachata at Queen Bee’s!Join us every Sunday from 5:30pm-10pm for Salsa Sunday! See flyer for details.
URL:https://golatindance.com/event/salsa-bachata-sundays-at-queen-bees/2028-12-24/
LOCATION:Queen Bee’s Art and Cultural Center\, 3925 Ohio Street\, San Diego\, CA 92104\, San Diego\, CA\, 92104\, United States
CATEGORIES:San Diego
ATTACH;FMTTYPE=image/jpeg:https://golatindance.com/wp-content/uploads/2022/11/953f34_7bbada5d535646a68f7203006e946665mv2.jpg
END:VEVENT
BEGIN:VEVENT
DTSTART;TZID=America/Los_Angeles:20281231T173000
DTEND;TZID=America/Los_Angeles:20281231T220000
DTSTAMP:20260425T140357
CREATED:20221108T173700Z
LAST-MODIFIED:20251230T210905Z
UID:10349484-1861896600-1861912800@golatindance.com
SUMMARY:Salsa Bachata Sundays at Queen Bees
DESCRIPTION:Spice Up Your Sundays with Salsa & Bachata at Queen Bee’s!Join us every Sunday from 5:30pm-10pm for Salsa Sunday! See flyer for details.
URL:https://golatindance.com/event/salsa-bachata-sundays-at-queen-bees/2028-12-31/
LOCATION:Queen Bee’s Art and Cultural Center\, 3925 Ohio Street\, San Diego\, CA 92104\, San Diego\, CA\, 92104\, United States
CATEGORIES:San Diego
ATTACH;FMTTYPE=image/jpeg:https://golatindance.com/wp-content/uploads/2022/11/953f34_7bbada5d535646a68f7203006e946665mv2.jpg
END:VEVENT
BEGIN:VEVENT
DTSTART;TZID=America/Los_Angeles:20290107T173000
DTEND;TZID=America/Los_Angeles:20290107T220000
DTSTAMP:20260425T140357
CREATED:20221108T173700Z
LAST-MODIFIED:20251230T210905Z
UID:10349485-1862501400-1862517600@golatindance.com
SUMMARY:Salsa Bachata Sundays at Queen Bees
DESCRIPTION:Spice Up Your Sundays with Salsa & Bachata at Queen Bee’s!Join us every Sunday from 5:30pm-10pm for Salsa Sunday! See flyer for details.
URL:https://golatindance.com/event/salsa-bachata-sundays-at-queen-bees/2029-01-07/
LOCATION:Queen Bee’s Art and Cultural Center\, 3925 Ohio Street\, San Diego\, CA 92104\, San Diego\, CA\, 92104\, United States
CATEGORIES:San Diego
ATTACH;FMTTYPE=image/jpeg:https://golatindance.com/wp-content/uploads/2022/11/953f34_7bbada5d535646a68f7203006e946665mv2.jpg
END:VEVENT
BEGIN:VEVENT
DTSTART;TZID=America/Los_Angeles:20290114T173000
DTEND;TZID=America/Los_Angeles:20290114T220000
DTSTAMP:20260425T140357
CREATED:20221108T173700Z
LAST-MODIFIED:20251230T210905Z
UID:10349486-1863106200-1863122400@golatindance.com
SUMMARY:Salsa Bachata Sundays at Queen Bees
DESCRIPTION:Spice Up Your Sundays with Salsa & Bachata at Queen Bee’s!Join us every Sunday from 5:30pm-10pm for Salsa Sunday! See flyer for details.
URL:https://golatindance.com/event/salsa-bachata-sundays-at-queen-bees/2029-01-14/
LOCATION:Queen Bee’s Art and Cultural Center\, 3925 Ohio Street\, San Diego\, CA 92104\, San Diego\, CA\, 92104\, United States
CATEGORIES:San Diego
ATTACH;FMTTYPE=image/jpeg:https://golatindance.com/wp-content/uploads/2022/11/953f34_7bbada5d535646a68f7203006e946665mv2.jpg
END:VEVENT
BEGIN:VEVENT
DTSTART;TZID=America/Los_Angeles:20290121T173000
DTEND;TZID=America/Los_Angeles:20290121T220000
DTSTAMP:20260425T140357
CREATED:20221108T173700Z
LAST-MODIFIED:20251230T210905Z
UID:10349487-1863711000-1863727200@golatindance.com
SUMMARY:Salsa Bachata Sundays at Queen Bees
DESCRIPTION:Spice Up Your Sundays with Salsa & Bachata at Queen Bee’s!Join us every Sunday from 5:30pm-10pm for Salsa Sunday! See flyer for details.
URL:https://golatindance.com/event/salsa-bachata-sundays-at-queen-bees/2029-01-21/
LOCATION:Queen Bee’s Art and Cultural Center\, 3925 Ohio Street\, San Diego\, CA 92104\, San Diego\, CA\, 92104\, United States
CATEGORIES:San Diego
ATTACH;FMTTYPE=image/jpeg:https://golatindance.com/wp-content/uploads/2022/11/953f34_7bbada5d535646a68f7203006e946665mv2.jpg
END:VEVENT
BEGIN:VEVENT
DTSTART;TZID=America/Los_Angeles:20290128T173000
DTEND;TZID=America/Los_Angeles:20290128T220000
DTSTAMP:20260425T140357
CREATED:20221108T173700Z
LAST-MODIFIED:20251230T210905Z
UID:10349488-1864315800-1864332000@golatindance.com
SUMMARY:Salsa Bachata Sundays at Queen Bees
DESCRIPTION:Spice Up Your Sundays with Salsa & Bachata at Queen Bee’s!Join us every Sunday from 5:30pm-10pm for Salsa Sunday! See flyer for details.
URL:https://golatindance.com/event/salsa-bachata-sundays-at-queen-bees/2029-01-28/
LOCATION:Queen Bee’s Art and Cultural Center\, 3925 Ohio Street\, San Diego\, CA 92104\, San Diego\, CA\, 92104\, United States
CATEGORIES:San Diego
ATTACH;FMTTYPE=image/jpeg:https://golatindance.com/wp-content/uploads/2022/11/953f34_7bbada5d535646a68f7203006e946665mv2.jpg
END:VEVENT
BEGIN:VEVENT
DTSTART;TZID=America/Los_Angeles:20290204T173000
DTEND;TZID=America/Los_Angeles:20290204T220000
DTSTAMP:20260425T140357
CREATED:20221108T173700Z
LAST-MODIFIED:20251230T210905Z
UID:10349489-1864920600-1864936800@golatindance.com
SUMMARY:Salsa Bachata Sundays at Queen Bees
DESCRIPTION:Spice Up Your Sundays with Salsa & Bachata at Queen Bee’s!Join us every Sunday from 5:30pm-10pm for Salsa Sunday! See flyer for details.
URL:https://golatindance.com/event/salsa-bachata-sundays-at-queen-bees/2029-02-04/
LOCATION:Queen Bee’s Art and Cultural Center\, 3925 Ohio Street\, San Diego\, CA 92104\, San Diego\, CA\, 92104\, United States
CATEGORIES:San Diego
ATTACH;FMTTYPE=image/jpeg:https://golatindance.com/wp-content/uploads/2022/11/953f34_7bbada5d535646a68f7203006e946665mv2.jpg
END:VEVENT
BEGIN:VEVENT
DTSTART;TZID=America/Los_Angeles:20290211T173000
DTEND;TZID=America/Los_Angeles:20290211T220000
DTSTAMP:20260425T140357
CREATED:20221108T173700Z
LAST-MODIFIED:20251230T210905Z
UID:10349490-1865525400-1865541600@golatindance.com
SUMMARY:Salsa Bachata Sundays at Queen Bees
DESCRIPTION:Spice Up Your Sundays with Salsa & Bachata at Queen Bee’s!Join us every Sunday from 5:30pm-10pm for Salsa Sunday! See flyer for details.
URL:https://golatindance.com/event/salsa-bachata-sundays-at-queen-bees/2029-02-11/
LOCATION:Queen Bee’s Art and Cultural Center\, 3925 Ohio Street\, San Diego\, CA 92104\, San Diego\, CA\, 92104\, United States
CATEGORIES:San Diego
ATTACH;FMTTYPE=image/jpeg:https://golatindance.com/wp-content/uploads/2022/11/953f34_7bbada5d535646a68f7203006e946665mv2.jpg
END:VEVENT
BEGIN:VEVENT
DTSTART;TZID=America/Los_Angeles:20290218T173000
DTEND;TZID=America/Los_Angeles:20290218T220000
DTSTAMP:20260425T140357
CREATED:20221108T173700Z
LAST-MODIFIED:20251230T210905Z
UID:10349491-1866130200-1866146400@golatindance.com
SUMMARY:Salsa Bachata Sundays at Queen Bees
DESCRIPTION:Spice Up Your Sundays with Salsa & Bachata at Queen Bee’s!Join us every Sunday from 5:30pm-10pm for Salsa Sunday! See flyer for details.
URL:https://golatindance.com/event/salsa-bachata-sundays-at-queen-bees/2029-02-18/
LOCATION:Queen Bee’s Art and Cultural Center\, 3925 Ohio Street\, San Diego\, CA 92104\, San Diego\, CA\, 92104\, United States
CATEGORIES:San Diego
ATTACH;FMTTYPE=image/jpeg:https://golatindance.com/wp-content/uploads/2022/11/953f34_7bbada5d535646a68f7203006e946665mv2.jpg
END:VEVENT
BEGIN:VEVENT
DTSTART;TZID=America/Los_Angeles:20290225T173000
DTEND;TZID=America/Los_Angeles:20290225T220000
DTSTAMP:20260425T140357
CREATED:20221108T173700Z
LAST-MODIFIED:20251230T210905Z
UID:10349492-1866735000-1866751200@golatindance.com
SUMMARY:Salsa Bachata Sundays at Queen Bees
DESCRIPTION:Spice Up Your Sundays with Salsa & Bachata at Queen Bee’s!Join us every Sunday from 5:30pm-10pm for Salsa Sunday! See flyer for details.
URL:https://golatindance.com/event/salsa-bachata-sundays-at-queen-bees/2029-02-25/
LOCATION:Queen Bee’s Art and Cultural Center\, 3925 Ohio Street\, San Diego\, CA 92104\, San Diego\, CA\, 92104\, United States
CATEGORIES:San Diego
ATTACH;FMTTYPE=image/jpeg:https://golatindance.com/wp-content/uploads/2022/11/953f34_7bbada5d535646a68f7203006e946665mv2.jpg
END:VEVENT
BEGIN:VEVENT
DTSTART;TZID=America/Los_Angeles:20290304T173000
DTEND;TZID=America/Los_Angeles:20290304T220000
DTSTAMP:20260425T140357
CREATED:20221108T173700Z
LAST-MODIFIED:20251230T210905Z
UID:10349493-1867339800-1867356000@golatindance.com
SUMMARY:Salsa Bachata Sundays at Queen Bees
DESCRIPTION:Spice Up Your Sundays with Salsa & Bachata at Queen Bee’s!Join us every Sunday from 5:30pm-10pm for Salsa Sunday! See flyer for details.
URL:https://golatindance.com/event/salsa-bachata-sundays-at-queen-bees/2029-03-04/
LOCATION:Queen Bee’s Art and Cultural Center\, 3925 Ohio Street\, San Diego\, CA 92104\, San Diego\, CA\, 92104\, United States
CATEGORIES:San Diego
ATTACH;FMTTYPE=image/jpeg:https://golatindance.com/wp-content/uploads/2022/11/953f34_7bbada5d535646a68f7203006e946665mv2.jpg
END:VEVENT
BEGIN:VEVENT
DTSTART;TZID=America/Los_Angeles:20290311T173000
DTEND;TZID=America/Los_Angeles:20290311T220000
DTSTAMP:20260425T140357
CREATED:20221108T173700Z
LAST-MODIFIED:20251230T210905Z
UID:10349494-1867944600-1867960800@golatindance.com
SUMMARY:Salsa Bachata Sundays at Queen Bees
DESCRIPTION:Spice Up Your Sundays with Salsa & Bachata at Queen Bee’s!Join us every Sunday from 5:30pm-10pm for Salsa Sunday! See flyer for details.
URL:https://golatindance.com/event/salsa-bachata-sundays-at-queen-bees/2029-03-11/
LOCATION:Queen Bee’s Art and Cultural Center\, 3925 Ohio Street\, San Diego\, CA 92104\, San Diego\, CA\, 92104\, United States
CATEGORIES:San Diego
ATTACH;FMTTYPE=image/jpeg:https://golatindance.com/wp-content/uploads/2022/11/953f34_7bbada5d535646a68f7203006e946665mv2.jpg
END:VEVENT
BEGIN:VEVENT
DTSTART;TZID=America/Los_Angeles:20290318T173000
DTEND;TZID=America/Los_Angeles:20290318T220000
DTSTAMP:20260425T140357
CREATED:20221108T173700Z
LAST-MODIFIED:20251230T210905Z
UID:10349495-1868549400-1868565600@golatindance.com
SUMMARY:Salsa Bachata Sundays at Queen Bees
DESCRIPTION:Spice Up Your Sundays with Salsa & Bachata at Queen Bee’s!Join us every Sunday from 5:30pm-10pm for Salsa Sunday! See flyer for details.
URL:https://golatindance.com/event/salsa-bachata-sundays-at-queen-bees/2029-03-18/
LOCATION:Queen Bee’s Art and Cultural Center\, 3925 Ohio Street\, San Diego\, CA 92104\, San Diego\, CA\, 92104\, United States
CATEGORIES:San Diego
ATTACH;FMTTYPE=image/jpeg:https://golatindance.com/wp-content/uploads/2022/11/953f34_7bbada5d535646a68f7203006e946665mv2.jpg
END:VEVENT
BEGIN:VEVENT
DTSTART;TZID=America/Los_Angeles:20290325T173000
DTEND;TZID=America/Los_Angeles:20290325T220000
DTSTAMP:20260425T140357
CREATED:20221108T173700Z
LAST-MODIFIED:20251230T210905Z
UID:10349496-1869154200-1869170400@golatindance.com
SUMMARY:Salsa Bachata Sundays at Queen Bees
DESCRIPTION:Spice Up Your Sundays with Salsa & Bachata at Queen Bee’s!Join us every Sunday from 5:30pm-10pm for Salsa Sunday! See flyer for details.
URL:https://golatindance.com/event/salsa-bachata-sundays-at-queen-bees/2029-03-25/
LOCATION:Queen Bee’s Art and Cultural Center\, 3925 Ohio Street\, San Diego\, CA 92104\, San Diego\, CA\, 92104\, United States
CATEGORIES:San Diego
ATTACH;FMTTYPE=image/jpeg:https://golatindance.com/wp-content/uploads/2022/11/953f34_7bbada5d535646a68f7203006e946665mv2.jpg
END:VEVENT
BEGIN:VEVENT
DTSTART;TZID=America/Los_Angeles:20290401T173000
DTEND;TZID=America/Los_Angeles:20290401T220000
DTSTAMP:20260425T140357
CREATED:20221108T173700Z
LAST-MODIFIED:20251230T210905Z
UID:10349497-1869759000-1869775200@golatindance.com
SUMMARY:Salsa Bachata Sundays at Queen Bees
DESCRIPTION:Spice Up Your Sundays with Salsa & Bachata at Queen Bee’s!Join us every Sunday from 5:30pm-10pm for Salsa Sunday! See flyer for details.
URL:https://golatindance.com/event/salsa-bachata-sundays-at-queen-bees/2029-04-01/
LOCATION:Queen Bee’s Art and Cultural Center\, 3925 Ohio Street\, San Diego\, CA 92104\, San Diego\, CA\, 92104\, United States
CATEGORIES:San Diego
ATTACH;FMTTYPE=image/jpeg:https://golatindance.com/wp-content/uploads/2022/11/953f34_7bbada5d535646a68f7203006e946665mv2.jpg
END:VEVENT
BEGIN:VEVENT
DTSTART;TZID=America/Los_Angeles:20290408T173000
DTEND;TZID=America/Los_Angeles:20290408T220000
DTSTAMP:20260425T140357
CREATED:20221108T173700Z
LAST-MODIFIED:20251230T210905Z
UID:10349498-1870363800-1870380000@golatindance.com
SUMMARY:Salsa Bachata Sundays at Queen Bees
DESCRIPTION:Spice Up Your Sundays with Salsa & Bachata at Queen Bee’s!Join us every Sunday from 5:30pm-10pm for Salsa Sunday! See flyer for details.
URL:https://golatindance.com/event/salsa-bachata-sundays-at-queen-bees/2029-04-08/
LOCATION:Queen Bee’s Art and Cultural Center\, 3925 Ohio Street\, San Diego\, CA 92104\, San Diego\, CA\, 92104\, United States
CATEGORIES:San Diego
ATTACH;FMTTYPE=image/jpeg:https://golatindance.com/wp-content/uploads/2022/11/953f34_7bbada5d535646a68f7203006e946665mv2.jpg
END:VEVENT
BEGIN:VEVENT
DTSTART;TZID=America/Los_Angeles:20290415T173000
DTEND;TZID=America/Los_Angeles:20290415T220000
DTSTAMP:20260425T140357
CREATED:20221108T173700Z
LAST-MODIFIED:20251230T210905Z
UID:10349499-1870968600-1870984800@golatindance.com
SUMMARY:Salsa Bachata Sundays at Queen Bees
DESCRIPTION:Spice Up Your Sundays with Salsa & Bachata at Queen Bee’s!Join us every Sunday from 5:30pm-10pm for Salsa Sunday! See flyer for details.
URL:https://golatindance.com/event/salsa-bachata-sundays-at-queen-bees/2029-04-15/
LOCATION:Queen Bee’s Art and Cultural Center\, 3925 Ohio Street\, San Diego\, CA 92104\, San Diego\, CA\, 92104\, United States
CATEGORIES:San Diego
ATTACH;FMTTYPE=image/jpeg:https://golatindance.com/wp-content/uploads/2022/11/953f34_7bbada5d535646a68f7203006e946665mv2.jpg
END:VEVENT
BEGIN:VEVENT
DTSTART;TZID=America/Los_Angeles:20290422T173000
DTEND;TZID=America/Los_Angeles:20290422T220000
DTSTAMP:20260425T140357
CREATED:20221108T173700Z
LAST-MODIFIED:20251230T210905Z
UID:10349500-1871573400-1871589600@golatindance.com
SUMMARY:Salsa Bachata Sundays at Queen Bees
DESCRIPTION:Spice Up Your Sundays with Salsa & Bachata at Queen Bee’s!Join us every Sunday from 5:30pm-10pm for Salsa Sunday! See flyer for details.
URL:https://golatindance.com/event/salsa-bachata-sundays-at-queen-bees/2029-04-22/
LOCATION:Queen Bee’s Art and Cultural Center\, 3925 Ohio Street\, San Diego\, CA 92104\, San Diego\, CA\, 92104\, United States
CATEGORIES:San Diego
ATTACH;FMTTYPE=image/jpeg:https://golatindance.com/wp-content/uploads/2022/11/953f34_7bbada5d535646a68f7203006e946665mv2.jpg
END:VEVENT
BEGIN:VEVENT
DTSTART;TZID=America/Los_Angeles:20290429T173000
DTEND;TZID=America/Los_Angeles:20290429T220000
DTSTAMP:20260425T140357
CREATED:20221108T173700Z
LAST-MODIFIED:20251230T210905Z
UID:10349501-1872178200-1872194400@golatindance.com
SUMMARY:Salsa Bachata Sundays at Queen Bees
DESCRIPTION:Spice Up Your Sundays with Salsa & Bachata at Queen Bee’s!Join us every Sunday from 5:30pm-10pm for Salsa Sunday! See flyer for details.
URL:https://golatindance.com/event/salsa-bachata-sundays-at-queen-bees/2029-04-29/
LOCATION:Queen Bee’s Art and Cultural Center\, 3925 Ohio Street\, San Diego\, CA 92104\, San Diego\, CA\, 92104\, United States
CATEGORIES:San Diego
ATTACH;FMTTYPE=image/jpeg:https://golatindance.com/wp-content/uploads/2022/11/953f34_7bbada5d535646a68f7203006e946665mv2.jpg
END:VEVENT
BEGIN:VEVENT
DTSTART;TZID=America/Los_Angeles:20290506T173000
DTEND;TZID=America/Los_Angeles:20290506T220000
DTSTAMP:20260425T140357
CREATED:20221108T173700Z
LAST-MODIFIED:20251230T210905Z
UID:10349502-1872783000-1872799200@golatindance.com
SUMMARY:Salsa Bachata Sundays at Queen Bees
DESCRIPTION:Spice Up Your Sundays with Salsa & Bachata at Queen Bee’s!Join us every Sunday from 5:30pm-10pm for Salsa Sunday! See flyer for details.
URL:https://golatindance.com/event/salsa-bachata-sundays-at-queen-bees/2029-05-06/
LOCATION:Queen Bee’s Art and Cultural Center\, 3925 Ohio Street\, San Diego\, CA 92104\, San Diego\, CA\, 92104\, United States
CATEGORIES:San Diego
ATTACH;FMTTYPE=image/jpeg:https://golatindance.com/wp-content/uploads/2022/11/953f34_7bbada5d535646a68f7203006e946665mv2.jpg
END:VEVENT
BEGIN:VEVENT
DTSTART;TZID=America/Los_Angeles:20290513T173000
DTEND;TZID=America/Los_Angeles:20290513T220000
DTSTAMP:20260425T140357
CREATED:20221108T173700Z
LAST-MODIFIED:20251230T210905Z
UID:10349503-1873387800-1873404000@golatindance.com
SUMMARY:Salsa Bachata Sundays at Queen Bees
DESCRIPTION:Spice Up Your Sundays with Salsa & Bachata at Queen Bee’s!Join us every Sunday from 5:30pm-10pm for Salsa Sunday! See flyer for details.
URL:https://golatindance.com/event/salsa-bachata-sundays-at-queen-bees/2029-05-13/
LOCATION:Queen Bee’s Art and Cultural Center\, 3925 Ohio Street\, San Diego\, CA 92104\, San Diego\, CA\, 92104\, United States
CATEGORIES:San Diego
ATTACH;FMTTYPE=image/jpeg:https://golatindance.com/wp-content/uploads/2022/11/953f34_7bbada5d535646a68f7203006e946665mv2.jpg
END:VEVENT
END:VCALENDAR