BEGIN:VCALENDAR
VERSION:2.0
PRODID:-//GO Latin Dance - ECPv6.15.18//NONSGML v1.0//EN
CALSCALE:GREGORIAN
METHOD:PUBLISH
X-ORIGINAL-URL:https://golatindance.com
X-WR-CALDESC:Events for GO Latin Dance
REFRESH-INTERVAL;VALUE=DURATION:PT1H
X-Robots-Tag:noindex
X-PUBLISHED-TTL:PT1H
BEGIN:VTIMEZONE
TZID:America/Los_Angeles
BEGIN:DAYLIGHT
TZOFFSETFROM:-0800
TZOFFSETTO:-0700
TZNAME:PDT
DTSTART:20280312T100000
END:DAYLIGHT
BEGIN:STANDARD
TZOFFSETFROM:-0700
TZOFFSETTO:-0800
TZNAME:PST
DTSTART:20281105T090000
END:STANDARD
BEGIN:DAYLIGHT
TZOFFSETFROM:-0800
TZOFFSETTO:-0700
TZNAME:PDT
DTSTART:20290311T100000
END:DAYLIGHT
BEGIN:STANDARD
TZOFFSETFROM:-0700
TZOFFSETTO:-0800
TZNAME:PST
DTSTART:20291104T090000
END:STANDARD
BEGIN:DAYLIGHT
TZOFFSETFROM:-0800
TZOFFSETTO:-0700
TZNAME:PDT
DTSTART:20300310T100000
END:DAYLIGHT
BEGIN:STANDARD
TZOFFSETFROM:-0700
TZOFFSETTO:-0800
TZNAME:PST
DTSTART:20301103T090000
END:STANDARD
END:VTIMEZONE
BEGIN:VEVENT
DTSTART;TZID=America/Los_Angeles:20290520T173000
DTEND;TZID=America/Los_Angeles:20290520T220000
DTSTAMP:20260425T175204
CREATED:20221108T173700Z
LAST-MODIFIED:20251230T210905Z
UID:10349504-1873992600-1874008800@golatindance.com
SUMMARY:Salsa Bachata Sundays at Queen Bees
DESCRIPTION:Spice Up Your Sundays with Salsa & Bachata at Queen Bee’s!Join us every Sunday from 5:30pm-10pm for Salsa Sunday! See flyer for details.
URL:https://golatindance.com/event/salsa-bachata-sundays-at-queen-bees/2029-05-20/
LOCATION:Queen Bee’s Art and Cultural Center\, 3925 Ohio Street\, San Diego\, CA 92104\, San Diego\, CA\, 92104\, United States
CATEGORIES:San Diego
ATTACH;FMTTYPE=image/jpeg:https://golatindance.com/wp-content/uploads/2022/11/953f34_7bbada5d535646a68f7203006e946665mv2.jpg
END:VEVENT
BEGIN:VEVENT
DTSTART;TZID=America/Los_Angeles:20290527T173000
DTEND;TZID=America/Los_Angeles:20290527T220000
DTSTAMP:20260425T175204
CREATED:20221108T173700Z
LAST-MODIFIED:20251230T210905Z
UID:10349505-1874597400-1874613600@golatindance.com
SUMMARY:Salsa Bachata Sundays at Queen Bees
DESCRIPTION:Spice Up Your Sundays with Salsa & Bachata at Queen Bee’s!Join us every Sunday from 5:30pm-10pm for Salsa Sunday! See flyer for details.
URL:https://golatindance.com/event/salsa-bachata-sundays-at-queen-bees/2029-05-27/
LOCATION:Queen Bee’s Art and Cultural Center\, 3925 Ohio Street\, San Diego\, CA 92104\, San Diego\, CA\, 92104\, United States
CATEGORIES:San Diego
ATTACH;FMTTYPE=image/jpeg:https://golatindance.com/wp-content/uploads/2022/11/953f34_7bbada5d535646a68f7203006e946665mv2.jpg
END:VEVENT
BEGIN:VEVENT
DTSTART;TZID=America/Los_Angeles:20290603T173000
DTEND;TZID=America/Los_Angeles:20290603T220000
DTSTAMP:20260425T175204
CREATED:20221108T173700Z
LAST-MODIFIED:20251230T210905Z
UID:10349506-1875202200-1875218400@golatindance.com
SUMMARY:Salsa Bachata Sundays at Queen Bees
DESCRIPTION:Spice Up Your Sundays with Salsa & Bachata at Queen Bee’s!Join us every Sunday from 5:30pm-10pm for Salsa Sunday! See flyer for details.
URL:https://golatindance.com/event/salsa-bachata-sundays-at-queen-bees/2029-06-03/
LOCATION:Queen Bee’s Art and Cultural Center\, 3925 Ohio Street\, San Diego\, CA 92104\, San Diego\, CA\, 92104\, United States
CATEGORIES:San Diego
ATTACH;FMTTYPE=image/jpeg:https://golatindance.com/wp-content/uploads/2022/11/953f34_7bbada5d535646a68f7203006e946665mv2.jpg
END:VEVENT
BEGIN:VEVENT
DTSTART;TZID=America/Los_Angeles:20290610T173000
DTEND;TZID=America/Los_Angeles:20290610T220000
DTSTAMP:20260425T175204
CREATED:20221108T173700Z
LAST-MODIFIED:20251230T210905Z
UID:10349507-1875807000-1875823200@golatindance.com
SUMMARY:Salsa Bachata Sundays at Queen Bees
DESCRIPTION:Spice Up Your Sundays with Salsa & Bachata at Queen Bee’s!Join us every Sunday from 5:30pm-10pm for Salsa Sunday! See flyer for details.
URL:https://golatindance.com/event/salsa-bachata-sundays-at-queen-bees/2029-06-10/
LOCATION:Queen Bee’s Art and Cultural Center\, 3925 Ohio Street\, San Diego\, CA 92104\, San Diego\, CA\, 92104\, United States
CATEGORIES:San Diego
ATTACH;FMTTYPE=image/jpeg:https://golatindance.com/wp-content/uploads/2022/11/953f34_7bbada5d535646a68f7203006e946665mv2.jpg
END:VEVENT
BEGIN:VEVENT
DTSTART;TZID=America/Los_Angeles:20290617T173000
DTEND;TZID=America/Los_Angeles:20290617T220000
DTSTAMP:20260425T175204
CREATED:20221108T173700Z
LAST-MODIFIED:20251230T210905Z
UID:10349508-1876411800-1876428000@golatindance.com
SUMMARY:Salsa Bachata Sundays at Queen Bees
DESCRIPTION:Spice Up Your Sundays with Salsa & Bachata at Queen Bee’s!Join us every Sunday from 5:30pm-10pm for Salsa Sunday! See flyer for details.
URL:https://golatindance.com/event/salsa-bachata-sundays-at-queen-bees/2029-06-17/
LOCATION:Queen Bee’s Art and Cultural Center\, 3925 Ohio Street\, San Diego\, CA 92104\, San Diego\, CA\, 92104\, United States
CATEGORIES:San Diego
ATTACH;FMTTYPE=image/jpeg:https://golatindance.com/wp-content/uploads/2022/11/953f34_7bbada5d535646a68f7203006e946665mv2.jpg
END:VEVENT
BEGIN:VEVENT
DTSTART;TZID=America/Los_Angeles:20290624T173000
DTEND;TZID=America/Los_Angeles:20290624T220000
DTSTAMP:20260425T175204
CREATED:20221108T173700Z
LAST-MODIFIED:20251230T210905Z
UID:10349509-1877016600-1877032800@golatindance.com
SUMMARY:Salsa Bachata Sundays at Queen Bees
DESCRIPTION:Spice Up Your Sundays with Salsa & Bachata at Queen Bee’s!Join us every Sunday from 5:30pm-10pm for Salsa Sunday! See flyer for details.
URL:https://golatindance.com/event/salsa-bachata-sundays-at-queen-bees/2029-06-24/
LOCATION:Queen Bee’s Art and Cultural Center\, 3925 Ohio Street\, San Diego\, CA 92104\, San Diego\, CA\, 92104\, United States
CATEGORIES:San Diego
ATTACH;FMTTYPE=image/jpeg:https://golatindance.com/wp-content/uploads/2022/11/953f34_7bbada5d535646a68f7203006e946665mv2.jpg
END:VEVENT
BEGIN:VEVENT
DTSTART;TZID=America/Los_Angeles:20290701T173000
DTEND;TZID=America/Los_Angeles:20290701T220000
DTSTAMP:20260425T175204
CREATED:20221108T173700Z
LAST-MODIFIED:20251230T210905Z
UID:10349510-1877621400-1877637600@golatindance.com
SUMMARY:Salsa Bachata Sundays at Queen Bees
DESCRIPTION:Spice Up Your Sundays with Salsa & Bachata at Queen Bee’s!Join us every Sunday from 5:30pm-10pm for Salsa Sunday! See flyer for details.
URL:https://golatindance.com/event/salsa-bachata-sundays-at-queen-bees/2029-07-01/
LOCATION:Queen Bee’s Art and Cultural Center\, 3925 Ohio Street\, San Diego\, CA 92104\, San Diego\, CA\, 92104\, United States
CATEGORIES:San Diego
ATTACH;FMTTYPE=image/jpeg:https://golatindance.com/wp-content/uploads/2022/11/953f34_7bbada5d535646a68f7203006e946665mv2.jpg
END:VEVENT
BEGIN:VEVENT
DTSTART;TZID=America/Los_Angeles:20290708T173000
DTEND;TZID=America/Los_Angeles:20290708T220000
DTSTAMP:20260425T175204
CREATED:20221108T173700Z
LAST-MODIFIED:20251230T210905Z
UID:10349511-1878226200-1878242400@golatindance.com
SUMMARY:Salsa Bachata Sundays at Queen Bees
DESCRIPTION:Spice Up Your Sundays with Salsa & Bachata at Queen Bee’s!Join us every Sunday from 5:30pm-10pm for Salsa Sunday! See flyer for details.
URL:https://golatindance.com/event/salsa-bachata-sundays-at-queen-bees/2029-07-08/
LOCATION:Queen Bee’s Art and Cultural Center\, 3925 Ohio Street\, San Diego\, CA 92104\, San Diego\, CA\, 92104\, United States
CATEGORIES:San Diego
ATTACH;FMTTYPE=image/jpeg:https://golatindance.com/wp-content/uploads/2022/11/953f34_7bbada5d535646a68f7203006e946665mv2.jpg
END:VEVENT
BEGIN:VEVENT
DTSTART;TZID=America/Los_Angeles:20290715T173000
DTEND;TZID=America/Los_Angeles:20290715T220000
DTSTAMP:20260425T175204
CREATED:20221108T173700Z
LAST-MODIFIED:20251230T210905Z
UID:10349512-1878831000-1878847200@golatindance.com
SUMMARY:Salsa Bachata Sundays at Queen Bees
DESCRIPTION:Spice Up Your Sundays with Salsa & Bachata at Queen Bee’s!Join us every Sunday from 5:30pm-10pm for Salsa Sunday! See flyer for details.
URL:https://golatindance.com/event/salsa-bachata-sundays-at-queen-bees/2029-07-15/
LOCATION:Queen Bee’s Art and Cultural Center\, 3925 Ohio Street\, San Diego\, CA 92104\, San Diego\, CA\, 92104\, United States
CATEGORIES:San Diego
ATTACH;FMTTYPE=image/jpeg:https://golatindance.com/wp-content/uploads/2022/11/953f34_7bbada5d535646a68f7203006e946665mv2.jpg
END:VEVENT
BEGIN:VEVENT
DTSTART;TZID=America/Los_Angeles:20290722T173000
DTEND;TZID=America/Los_Angeles:20290722T220000
DTSTAMP:20260425T175204
CREATED:20221108T173700Z
LAST-MODIFIED:20251230T210905Z
UID:10349513-1879435800-1879452000@golatindance.com
SUMMARY:Salsa Bachata Sundays at Queen Bees
DESCRIPTION:Spice Up Your Sundays with Salsa & Bachata at Queen Bee’s!Join us every Sunday from 5:30pm-10pm for Salsa Sunday! See flyer for details.
URL:https://golatindance.com/event/salsa-bachata-sundays-at-queen-bees/2029-07-22/
LOCATION:Queen Bee’s Art and Cultural Center\, 3925 Ohio Street\, San Diego\, CA 92104\, San Diego\, CA\, 92104\, United States
CATEGORIES:San Diego
ATTACH;FMTTYPE=image/jpeg:https://golatindance.com/wp-content/uploads/2022/11/953f34_7bbada5d535646a68f7203006e946665mv2.jpg
END:VEVENT
BEGIN:VEVENT
DTSTART;TZID=America/Los_Angeles:20290729T173000
DTEND;TZID=America/Los_Angeles:20290729T220000
DTSTAMP:20260425T175204
CREATED:20221108T173700Z
LAST-MODIFIED:20251230T210905Z
UID:10349514-1880040600-1880056800@golatindance.com
SUMMARY:Salsa Bachata Sundays at Queen Bees
DESCRIPTION:Spice Up Your Sundays with Salsa & Bachata at Queen Bee’s!Join us every Sunday from 5:30pm-10pm for Salsa Sunday! See flyer for details.
URL:https://golatindance.com/event/salsa-bachata-sundays-at-queen-bees/2029-07-29/
LOCATION:Queen Bee’s Art and Cultural Center\, 3925 Ohio Street\, San Diego\, CA 92104\, San Diego\, CA\, 92104\, United States
CATEGORIES:San Diego
ATTACH;FMTTYPE=image/jpeg:https://golatindance.com/wp-content/uploads/2022/11/953f34_7bbada5d535646a68f7203006e946665mv2.jpg
END:VEVENT
BEGIN:VEVENT
DTSTART;TZID=America/Los_Angeles:20290805T173000
DTEND;TZID=America/Los_Angeles:20290805T220000
DTSTAMP:20260425T175204
CREATED:20221108T173700Z
LAST-MODIFIED:20251230T210905Z
UID:10349515-1880645400-1880661600@golatindance.com
SUMMARY:Salsa Bachata Sundays at Queen Bees
DESCRIPTION:Spice Up Your Sundays with Salsa & Bachata at Queen Bee’s!Join us every Sunday from 5:30pm-10pm for Salsa Sunday! See flyer for details.
URL:https://golatindance.com/event/salsa-bachata-sundays-at-queen-bees/2029-08-05/
LOCATION:Queen Bee’s Art and Cultural Center\, 3925 Ohio Street\, San Diego\, CA 92104\, San Diego\, CA\, 92104\, United States
CATEGORIES:San Diego
ATTACH;FMTTYPE=image/jpeg:https://golatindance.com/wp-content/uploads/2022/11/953f34_7bbada5d535646a68f7203006e946665mv2.jpg
END:VEVENT
BEGIN:VEVENT
DTSTART;TZID=America/Los_Angeles:20290812T173000
DTEND;TZID=America/Los_Angeles:20290812T220000
DTSTAMP:20260425T175204
CREATED:20221108T173700Z
LAST-MODIFIED:20251230T210905Z
UID:10349516-1881250200-1881266400@golatindance.com
SUMMARY:Salsa Bachata Sundays at Queen Bees
DESCRIPTION:Spice Up Your Sundays with Salsa & Bachata at Queen Bee’s!Join us every Sunday from 5:30pm-10pm for Salsa Sunday! See flyer for details.
URL:https://golatindance.com/event/salsa-bachata-sundays-at-queen-bees/2029-08-12/
LOCATION:Queen Bee’s Art and Cultural Center\, 3925 Ohio Street\, San Diego\, CA 92104\, San Diego\, CA\, 92104\, United States
CATEGORIES:San Diego
ATTACH;FMTTYPE=image/jpeg:https://golatindance.com/wp-content/uploads/2022/11/953f34_7bbada5d535646a68f7203006e946665mv2.jpg
END:VEVENT
BEGIN:VEVENT
DTSTART;TZID=America/Los_Angeles:20290819T173000
DTEND;TZID=America/Los_Angeles:20290819T220000
DTSTAMP:20260425T175204
CREATED:20221108T173700Z
LAST-MODIFIED:20251230T210905Z
UID:10349517-1881855000-1881871200@golatindance.com
SUMMARY:Salsa Bachata Sundays at Queen Bees
DESCRIPTION:Spice Up Your Sundays with Salsa & Bachata at Queen Bee’s!Join us every Sunday from 5:30pm-10pm for Salsa Sunday! See flyer for details.
URL:https://golatindance.com/event/salsa-bachata-sundays-at-queen-bees/2029-08-19/
LOCATION:Queen Bee’s Art and Cultural Center\, 3925 Ohio Street\, San Diego\, CA 92104\, San Diego\, CA\, 92104\, United States
CATEGORIES:San Diego
ATTACH;FMTTYPE=image/jpeg:https://golatindance.com/wp-content/uploads/2022/11/953f34_7bbada5d535646a68f7203006e946665mv2.jpg
END:VEVENT
BEGIN:VEVENT
DTSTART;TZID=America/Los_Angeles:20290826T173000
DTEND;TZID=America/Los_Angeles:20290826T220000
DTSTAMP:20260425T175204
CREATED:20221108T173700Z
LAST-MODIFIED:20251230T210905Z
UID:10349518-1882459800-1882476000@golatindance.com
SUMMARY:Salsa Bachata Sundays at Queen Bees
DESCRIPTION:Spice Up Your Sundays with Salsa & Bachata at Queen Bee’s!Join us every Sunday from 5:30pm-10pm for Salsa Sunday! See flyer for details.
URL:https://golatindance.com/event/salsa-bachata-sundays-at-queen-bees/2029-08-26/
LOCATION:Queen Bee’s Art and Cultural Center\, 3925 Ohio Street\, San Diego\, CA 92104\, San Diego\, CA\, 92104\, United States
CATEGORIES:San Diego
ATTACH;FMTTYPE=image/jpeg:https://golatindance.com/wp-content/uploads/2022/11/953f34_7bbada5d535646a68f7203006e946665mv2.jpg
END:VEVENT
BEGIN:VEVENT
DTSTART;TZID=America/Los_Angeles:20290902T173000
DTEND;TZID=America/Los_Angeles:20290902T220000
DTSTAMP:20260425T175204
CREATED:20221108T173700Z
LAST-MODIFIED:20251230T210905Z
UID:10349519-1883064600-1883080800@golatindance.com
SUMMARY:Salsa Bachata Sundays at Queen Bees
DESCRIPTION:Spice Up Your Sundays with Salsa & Bachata at Queen Bee’s!Join us every Sunday from 5:30pm-10pm for Salsa Sunday! See flyer for details.
URL:https://golatindance.com/event/salsa-bachata-sundays-at-queen-bees/2029-09-02/
LOCATION:Queen Bee’s Art and Cultural Center\, 3925 Ohio Street\, San Diego\, CA 92104\, San Diego\, CA\, 92104\, United States
CATEGORIES:San Diego
ATTACH;FMTTYPE=image/jpeg:https://golatindance.com/wp-content/uploads/2022/11/953f34_7bbada5d535646a68f7203006e946665mv2.jpg
END:VEVENT
BEGIN:VEVENT
DTSTART;TZID=America/Los_Angeles:20290909T173000
DTEND;TZID=America/Los_Angeles:20290909T220000
DTSTAMP:20260425T175204
CREATED:20221108T173700Z
LAST-MODIFIED:20251230T210905Z
UID:10349520-1883669400-1883685600@golatindance.com
SUMMARY:Salsa Bachata Sundays at Queen Bees
DESCRIPTION:Spice Up Your Sundays with Salsa & Bachata at Queen Bee’s!Join us every Sunday from 5:30pm-10pm for Salsa Sunday! See flyer for details.
URL:https://golatindance.com/event/salsa-bachata-sundays-at-queen-bees/2029-09-09/
LOCATION:Queen Bee’s Art and Cultural Center\, 3925 Ohio Street\, San Diego\, CA 92104\, San Diego\, CA\, 92104\, United States
CATEGORIES:San Diego
ATTACH;FMTTYPE=image/jpeg:https://golatindance.com/wp-content/uploads/2022/11/953f34_7bbada5d535646a68f7203006e946665mv2.jpg
END:VEVENT
BEGIN:VEVENT
DTSTART;TZID=America/Los_Angeles:20290916T173000
DTEND;TZID=America/Los_Angeles:20290916T220000
DTSTAMP:20260425T175204
CREATED:20221108T173700Z
LAST-MODIFIED:20251230T210905Z
UID:10349521-1884274200-1884290400@golatindance.com
SUMMARY:Salsa Bachata Sundays at Queen Bees
DESCRIPTION:Spice Up Your Sundays with Salsa & Bachata at Queen Bee’s!Join us every Sunday from 5:30pm-10pm for Salsa Sunday! See flyer for details.
URL:https://golatindance.com/event/salsa-bachata-sundays-at-queen-bees/2029-09-16/
LOCATION:Queen Bee’s Art and Cultural Center\, 3925 Ohio Street\, San Diego\, CA 92104\, San Diego\, CA\, 92104\, United States
CATEGORIES:San Diego
ATTACH;FMTTYPE=image/jpeg:https://golatindance.com/wp-content/uploads/2022/11/953f34_7bbada5d535646a68f7203006e946665mv2.jpg
END:VEVENT
BEGIN:VEVENT
DTSTART;TZID=America/Los_Angeles:20290923T173000
DTEND;TZID=America/Los_Angeles:20290923T220000
DTSTAMP:20260425T175204
CREATED:20221108T173700Z
LAST-MODIFIED:20251230T210905Z
UID:10349522-1884879000-1884895200@golatindance.com
SUMMARY:Salsa Bachata Sundays at Queen Bees
DESCRIPTION:Spice Up Your Sundays with Salsa & Bachata at Queen Bee’s!Join us every Sunday from 5:30pm-10pm for Salsa Sunday! See flyer for details.
URL:https://golatindance.com/event/salsa-bachata-sundays-at-queen-bees/2029-09-23/
LOCATION:Queen Bee’s Art and Cultural Center\, 3925 Ohio Street\, San Diego\, CA 92104\, San Diego\, CA\, 92104\, United States
CATEGORIES:San Diego
ATTACH;FMTTYPE=image/jpeg:https://golatindance.com/wp-content/uploads/2022/11/953f34_7bbada5d535646a68f7203006e946665mv2.jpg
END:VEVENT
BEGIN:VEVENT
DTSTART;TZID=America/Los_Angeles:20290930T173000
DTEND;TZID=America/Los_Angeles:20290930T220000
DTSTAMP:20260425T175204
CREATED:20221108T173700Z
LAST-MODIFIED:20251230T210905Z
UID:10349523-1885483800-1885500000@golatindance.com
SUMMARY:Salsa Bachata Sundays at Queen Bees
DESCRIPTION:Spice Up Your Sundays with Salsa & Bachata at Queen Bee’s!Join us every Sunday from 5:30pm-10pm for Salsa Sunday! See flyer for details.
URL:https://golatindance.com/event/salsa-bachata-sundays-at-queen-bees/2029-09-30/
LOCATION:Queen Bee’s Art and Cultural Center\, 3925 Ohio Street\, San Diego\, CA 92104\, San Diego\, CA\, 92104\, United States
CATEGORIES:San Diego
ATTACH;FMTTYPE=image/jpeg:https://golatindance.com/wp-content/uploads/2022/11/953f34_7bbada5d535646a68f7203006e946665mv2.jpg
END:VEVENT
BEGIN:VEVENT
DTSTART;TZID=America/Los_Angeles:20291007T173000
DTEND;TZID=America/Los_Angeles:20291007T220000
DTSTAMP:20260425T175204
CREATED:20221108T173700Z
LAST-MODIFIED:20251230T210905Z
UID:10349524-1886088600-1886104800@golatindance.com
SUMMARY:Salsa Bachata Sundays at Queen Bees
DESCRIPTION:Spice Up Your Sundays with Salsa & Bachata at Queen Bee’s!Join us every Sunday from 5:30pm-10pm for Salsa Sunday! See flyer for details.
URL:https://golatindance.com/event/salsa-bachata-sundays-at-queen-bees/2029-10-07/
LOCATION:Queen Bee’s Art and Cultural Center\, 3925 Ohio Street\, San Diego\, CA 92104\, San Diego\, CA\, 92104\, United States
CATEGORIES:San Diego
ATTACH;FMTTYPE=image/jpeg:https://golatindance.com/wp-content/uploads/2022/11/953f34_7bbada5d535646a68f7203006e946665mv2.jpg
END:VEVENT
BEGIN:VEVENT
DTSTART;TZID=America/Los_Angeles:20291014T173000
DTEND;TZID=America/Los_Angeles:20291014T220000
DTSTAMP:20260425T175204
CREATED:20221108T173700Z
LAST-MODIFIED:20251230T210905Z
UID:10349525-1886693400-1886709600@golatindance.com
SUMMARY:Salsa Bachata Sundays at Queen Bees
DESCRIPTION:Spice Up Your Sundays with Salsa & Bachata at Queen Bee’s!Join us every Sunday from 5:30pm-10pm for Salsa Sunday! See flyer for details.
URL:https://golatindance.com/event/salsa-bachata-sundays-at-queen-bees/2029-10-14/
LOCATION:Queen Bee’s Art and Cultural Center\, 3925 Ohio Street\, San Diego\, CA 92104\, San Diego\, CA\, 92104\, United States
CATEGORIES:San Diego
ATTACH;FMTTYPE=image/jpeg:https://golatindance.com/wp-content/uploads/2022/11/953f34_7bbada5d535646a68f7203006e946665mv2.jpg
END:VEVENT
BEGIN:VEVENT
DTSTART;TZID=America/Los_Angeles:20291021T173000
DTEND;TZID=America/Los_Angeles:20291021T220000
DTSTAMP:20260425T175204
CREATED:20221108T173700Z
LAST-MODIFIED:20251230T210905Z
UID:10349526-1887298200-1887314400@golatindance.com
SUMMARY:Salsa Bachata Sundays at Queen Bees
DESCRIPTION:Spice Up Your Sundays with Salsa & Bachata at Queen Bee’s!Join us every Sunday from 5:30pm-10pm for Salsa Sunday! See flyer for details.
URL:https://golatindance.com/event/salsa-bachata-sundays-at-queen-bees/2029-10-21/
LOCATION:Queen Bee’s Art and Cultural Center\, 3925 Ohio Street\, San Diego\, CA 92104\, San Diego\, CA\, 92104\, United States
CATEGORIES:San Diego
ATTACH;FMTTYPE=image/jpeg:https://golatindance.com/wp-content/uploads/2022/11/953f34_7bbada5d535646a68f7203006e946665mv2.jpg
END:VEVENT
BEGIN:VEVENT
DTSTART;TZID=America/Los_Angeles:20291028T173000
DTEND;TZID=America/Los_Angeles:20291028T220000
DTSTAMP:20260425T175204
CREATED:20221108T173700Z
LAST-MODIFIED:20251230T210905Z
UID:10349527-1887903000-1887919200@golatindance.com
SUMMARY:Salsa Bachata Sundays at Queen Bees
DESCRIPTION:Spice Up Your Sundays with Salsa & Bachata at Queen Bee’s!Join us every Sunday from 5:30pm-10pm for Salsa Sunday! See flyer for details.
URL:https://golatindance.com/event/salsa-bachata-sundays-at-queen-bees/2029-10-28/
LOCATION:Queen Bee’s Art and Cultural Center\, 3925 Ohio Street\, San Diego\, CA 92104\, San Diego\, CA\, 92104\, United States
CATEGORIES:San Diego
ATTACH;FMTTYPE=image/jpeg:https://golatindance.com/wp-content/uploads/2022/11/953f34_7bbada5d535646a68f7203006e946665mv2.jpg
END:VEVENT
BEGIN:VEVENT
DTSTART;TZID=America/Los_Angeles:20291104T173000
DTEND;TZID=America/Los_Angeles:20291104T220000
DTSTAMP:20260425T175204
CREATED:20221108T173700Z
LAST-MODIFIED:20251230T210905Z
UID:10349528-1888507800-1888524000@golatindance.com
SUMMARY:Salsa Bachata Sundays at Queen Bees
DESCRIPTION:Spice Up Your Sundays with Salsa & Bachata at Queen Bee’s!Join us every Sunday from 5:30pm-10pm for Salsa Sunday! See flyer for details.
URL:https://golatindance.com/event/salsa-bachata-sundays-at-queen-bees/2029-11-04/
LOCATION:Queen Bee’s Art and Cultural Center\, 3925 Ohio Street\, San Diego\, CA 92104\, San Diego\, CA\, 92104\, United States
CATEGORIES:San Diego
ATTACH;FMTTYPE=image/jpeg:https://golatindance.com/wp-content/uploads/2022/11/953f34_7bbada5d535646a68f7203006e946665mv2.jpg
END:VEVENT
BEGIN:VEVENT
DTSTART;TZID=America/Los_Angeles:20291111T173000
DTEND;TZID=America/Los_Angeles:20291111T220000
DTSTAMP:20260425T175204
CREATED:20221108T173700Z
LAST-MODIFIED:20251230T210905Z
UID:10349529-1889112600-1889128800@golatindance.com
SUMMARY:Salsa Bachata Sundays at Queen Bees
DESCRIPTION:Spice Up Your Sundays with Salsa & Bachata at Queen Bee’s!Join us every Sunday from 5:30pm-10pm for Salsa Sunday! See flyer for details.
URL:https://golatindance.com/event/salsa-bachata-sundays-at-queen-bees/2029-11-11/
LOCATION:Queen Bee’s Art and Cultural Center\, 3925 Ohio Street\, San Diego\, CA 92104\, San Diego\, CA\, 92104\, United States
CATEGORIES:San Diego
ATTACH;FMTTYPE=image/jpeg:https://golatindance.com/wp-content/uploads/2022/11/953f34_7bbada5d535646a68f7203006e946665mv2.jpg
END:VEVENT
BEGIN:VEVENT
DTSTART;TZID=America/Los_Angeles:20291118T173000
DTEND;TZID=America/Los_Angeles:20291118T220000
DTSTAMP:20260425T175204
CREATED:20221108T173700Z
LAST-MODIFIED:20251230T210905Z
UID:10349530-1889717400-1889733600@golatindance.com
SUMMARY:Salsa Bachata Sundays at Queen Bees
DESCRIPTION:Spice Up Your Sundays with Salsa & Bachata at Queen Bee’s!Join us every Sunday from 5:30pm-10pm for Salsa Sunday! See flyer for details.
URL:https://golatindance.com/event/salsa-bachata-sundays-at-queen-bees/2029-11-18/
LOCATION:Queen Bee’s Art and Cultural Center\, 3925 Ohio Street\, San Diego\, CA 92104\, San Diego\, CA\, 92104\, United States
CATEGORIES:San Diego
ATTACH;FMTTYPE=image/jpeg:https://golatindance.com/wp-content/uploads/2022/11/953f34_7bbada5d535646a68f7203006e946665mv2.jpg
END:VEVENT
BEGIN:VEVENT
DTSTART;TZID=America/Los_Angeles:20291125T173000
DTEND;TZID=America/Los_Angeles:20291125T220000
DTSTAMP:20260425T175204
CREATED:20221108T173700Z
LAST-MODIFIED:20251230T210905Z
UID:10349531-1890322200-1890338400@golatindance.com
SUMMARY:Salsa Bachata Sundays at Queen Bees
DESCRIPTION:Spice Up Your Sundays with Salsa & Bachata at Queen Bee’s!Join us every Sunday from 5:30pm-10pm for Salsa Sunday! See flyer for details.
URL:https://golatindance.com/event/salsa-bachata-sundays-at-queen-bees/2029-11-25/
LOCATION:Queen Bee’s Art and Cultural Center\, 3925 Ohio Street\, San Diego\, CA 92104\, San Diego\, CA\, 92104\, United States
CATEGORIES:San Diego
ATTACH;FMTTYPE=image/jpeg:https://golatindance.com/wp-content/uploads/2022/11/953f34_7bbada5d535646a68f7203006e946665mv2.jpg
END:VEVENT
BEGIN:VEVENT
DTSTART;TZID=America/Los_Angeles:20291202T173000
DTEND;TZID=America/Los_Angeles:20291202T220000
DTSTAMP:20260425T175204
CREATED:20221108T173700Z
LAST-MODIFIED:20251230T210905Z
UID:10349532-1890927000-1890943200@golatindance.com
SUMMARY:Salsa Bachata Sundays at Queen Bees
DESCRIPTION:Spice Up Your Sundays with Salsa & Bachata at Queen Bee’s!Join us every Sunday from 5:30pm-10pm for Salsa Sunday! See flyer for details.
URL:https://golatindance.com/event/salsa-bachata-sundays-at-queen-bees/2029-12-02/
LOCATION:Queen Bee’s Art and Cultural Center\, 3925 Ohio Street\, San Diego\, CA 92104\, San Diego\, CA\, 92104\, United States
CATEGORIES:San Diego
ATTACH;FMTTYPE=image/jpeg:https://golatindance.com/wp-content/uploads/2022/11/953f34_7bbada5d535646a68f7203006e946665mv2.jpg
END:VEVENT
BEGIN:VEVENT
DTSTART;TZID=America/Los_Angeles:20291209T173000
DTEND;TZID=America/Los_Angeles:20291209T220000
DTSTAMP:20260425T175204
CREATED:20221108T173700Z
LAST-MODIFIED:20251230T210905Z
UID:10349533-1891531800-1891548000@golatindance.com
SUMMARY:Salsa Bachata Sundays at Queen Bees
DESCRIPTION:Spice Up Your Sundays with Salsa & Bachata at Queen Bee’s!Join us every Sunday from 5:30pm-10pm for Salsa Sunday! See flyer for details.
URL:https://golatindance.com/event/salsa-bachata-sundays-at-queen-bees/2029-12-09/
LOCATION:Queen Bee’s Art and Cultural Center\, 3925 Ohio Street\, San Diego\, CA 92104\, San Diego\, CA\, 92104\, United States
CATEGORIES:San Diego
ATTACH;FMTTYPE=image/jpeg:https://golatindance.com/wp-content/uploads/2022/11/953f34_7bbada5d535646a68f7203006e946665mv2.jpg
END:VEVENT
END:VCALENDAR