BEGIN:VCALENDAR
VERSION:2.0
PRODID:-//GO Latin Dance - ECPv6.15.18//NONSGML v1.0//EN
CALSCALE:GREGORIAN
METHOD:PUBLISH
X-WR-CALNAME:GO Latin Dance
X-ORIGINAL-URL:https://golatindance.com
X-WR-CALDESC:Events for GO Latin Dance
REFRESH-INTERVAL;VALUE=DURATION:PT1H
X-Robots-Tag:noindex
X-PUBLISHED-TTL:PT1H
BEGIN:VTIMEZONE
TZID:America/Los_Angeles
BEGIN:DAYLIGHT
TZOFFSETFROM:-0800
TZOFFSETTO:-0700
TZNAME:PDT
DTSTART:20250309T100000
END:DAYLIGHT
BEGIN:STANDARD
TZOFFSETFROM:-0700
TZOFFSETTO:-0800
TZNAME:PST
DTSTART:20251102T090000
END:STANDARD
BEGIN:DAYLIGHT
TZOFFSETFROM:-0800
TZOFFSETTO:-0700
TZNAME:PDT
DTSTART:20260308T100000
END:DAYLIGHT
BEGIN:STANDARD
TZOFFSETFROM:-0700
TZOFFSETTO:-0800
TZNAME:PST
DTSTART:20261101T090000
END:STANDARD
BEGIN:DAYLIGHT
TZOFFSETFROM:-0800
TZOFFSETTO:-0700
TZNAME:PDT
DTSTART:20270314T100000
END:DAYLIGHT
BEGIN:STANDARD
TZOFFSETFROM:-0700
TZOFFSETTO:-0800
TZNAME:PST
DTSTART:20271107T090000
END:STANDARD
BEGIN:DAYLIGHT
TZOFFSETFROM:-0800
TZOFFSETTO:-0700
TZNAME:PDT
DTSTART:20280312T100000
END:DAYLIGHT
BEGIN:STANDARD
TZOFFSETFROM:-0700
TZOFFSETTO:-0800
TZNAME:PST
DTSTART:20281105T090000
END:STANDARD
END:VTIMEZONE
BEGIN:VEVENT
DTSTART;TZID=America/Los_Angeles:20260913T173000
DTEND;TZID=America/Los_Angeles:20260913T220000
DTSTAMP:20260424T230349
CREATED:20221108T173700Z
LAST-MODIFIED:20251230T210905Z
UID:10349364-1789320600-1789336800@golatindance.com
SUMMARY:Salsa Bachata Sundays at Queen Bees
DESCRIPTION:Spice Up Your Sundays with Salsa & Bachata at Queen Bee’s!Join us every Sunday from 5:30pm-10pm for Salsa Sunday! See flyer for details.
URL:https://golatindance.com/event/salsa-bachata-sundays-at-queen-bees/2026-09-13/
LOCATION:Queen Bee’s Art and Cultural Center\, 3925 Ohio Street\, San Diego\, CA 92104\, San Diego\, CA\, 92104\, United States
CATEGORIES:San Diego
ATTACH;FMTTYPE=image/jpeg:https://golatindance.com/wp-content/uploads/2022/11/953f34_7bbada5d535646a68f7203006e946665mv2.jpg
END:VEVENT
BEGIN:VEVENT
DTSTART;TZID=America/Los_Angeles:20260920T173000
DTEND;TZID=America/Los_Angeles:20260920T220000
DTSTAMP:20260424T230349
CREATED:20221108T173700Z
LAST-MODIFIED:20251230T210905Z
UID:10349365-1789925400-1789941600@golatindance.com
SUMMARY:Salsa Bachata Sundays at Queen Bees
DESCRIPTION:Spice Up Your Sundays with Salsa & Bachata at Queen Bee’s!Join us every Sunday from 5:30pm-10pm for Salsa Sunday! See flyer for details.
URL:https://golatindance.com/event/salsa-bachata-sundays-at-queen-bees/2026-09-20/
LOCATION:Queen Bee’s Art and Cultural Center\, 3925 Ohio Street\, San Diego\, CA 92104\, San Diego\, CA\, 92104\, United States
CATEGORIES:San Diego
ATTACH;FMTTYPE=image/jpeg:https://golatindance.com/wp-content/uploads/2022/11/953f34_7bbada5d535646a68f7203006e946665mv2.jpg
END:VEVENT
BEGIN:VEVENT
DTSTART;TZID=America/Los_Angeles:20260927T173000
DTEND;TZID=America/Los_Angeles:20260927T220000
DTSTAMP:20260424T230349
CREATED:20221108T173700Z
LAST-MODIFIED:20251230T210905Z
UID:10349366-1790530200-1790546400@golatindance.com
SUMMARY:Salsa Bachata Sundays at Queen Bees
DESCRIPTION:Spice Up Your Sundays with Salsa & Bachata at Queen Bee’s!Join us every Sunday from 5:30pm-10pm for Salsa Sunday! See flyer for details.
URL:https://golatindance.com/event/salsa-bachata-sundays-at-queen-bees/2026-09-27/
LOCATION:Queen Bee’s Art and Cultural Center\, 3925 Ohio Street\, San Diego\, CA 92104\, San Diego\, CA\, 92104\, United States
CATEGORIES:San Diego
ATTACH;FMTTYPE=image/jpeg:https://golatindance.com/wp-content/uploads/2022/11/953f34_7bbada5d535646a68f7203006e946665mv2.jpg
END:VEVENT
BEGIN:VEVENT
DTSTART;TZID=America/Los_Angeles:20261004T173000
DTEND;TZID=America/Los_Angeles:20261004T220000
DTSTAMP:20260424T230349
CREATED:20221108T173700Z
LAST-MODIFIED:20251230T210905Z
UID:10349367-1791135000-1791151200@golatindance.com
SUMMARY:Salsa Bachata Sundays at Queen Bees
DESCRIPTION:Spice Up Your Sundays with Salsa & Bachata at Queen Bee’s!Join us every Sunday from 5:30pm-10pm for Salsa Sunday! See flyer for details.
URL:https://golatindance.com/event/salsa-bachata-sundays-at-queen-bees/2026-10-04/
LOCATION:Queen Bee’s Art and Cultural Center\, 3925 Ohio Street\, San Diego\, CA 92104\, San Diego\, CA\, 92104\, United States
CATEGORIES:San Diego
ATTACH;FMTTYPE=image/jpeg:https://golatindance.com/wp-content/uploads/2022/11/953f34_7bbada5d535646a68f7203006e946665mv2.jpg
END:VEVENT
BEGIN:VEVENT
DTSTART;TZID=America/Los_Angeles:20261011T173000
DTEND;TZID=America/Los_Angeles:20261011T220000
DTSTAMP:20260424T230349
CREATED:20221108T173700Z
LAST-MODIFIED:20251230T210905Z
UID:10349368-1791739800-1791756000@golatindance.com
SUMMARY:Salsa Bachata Sundays at Queen Bees
DESCRIPTION:Spice Up Your Sundays with Salsa & Bachata at Queen Bee’s!Join us every Sunday from 5:30pm-10pm for Salsa Sunday! See flyer for details.
URL:https://golatindance.com/event/salsa-bachata-sundays-at-queen-bees/2026-10-11/
LOCATION:Queen Bee’s Art and Cultural Center\, 3925 Ohio Street\, San Diego\, CA 92104\, San Diego\, CA\, 92104\, United States
CATEGORIES:San Diego
ATTACH;FMTTYPE=image/jpeg:https://golatindance.com/wp-content/uploads/2022/11/953f34_7bbada5d535646a68f7203006e946665mv2.jpg
END:VEVENT
BEGIN:VEVENT
DTSTART;TZID=America/Los_Angeles:20261018T173000
DTEND;TZID=America/Los_Angeles:20261018T220000
DTSTAMP:20260424T230349
CREATED:20221108T173700Z
LAST-MODIFIED:20251230T210905Z
UID:10349369-1792344600-1792360800@golatindance.com
SUMMARY:Salsa Bachata Sundays at Queen Bees
DESCRIPTION:Spice Up Your Sundays with Salsa & Bachata at Queen Bee’s!Join us every Sunday from 5:30pm-10pm for Salsa Sunday! See flyer for details.
URL:https://golatindance.com/event/salsa-bachata-sundays-at-queen-bees/2026-10-18/
LOCATION:Queen Bee’s Art and Cultural Center\, 3925 Ohio Street\, San Diego\, CA 92104\, San Diego\, CA\, 92104\, United States
CATEGORIES:San Diego
ATTACH;FMTTYPE=image/jpeg:https://golatindance.com/wp-content/uploads/2022/11/953f34_7bbada5d535646a68f7203006e946665mv2.jpg
END:VEVENT
BEGIN:VEVENT
DTSTART;TZID=America/Los_Angeles:20261025T173000
DTEND;TZID=America/Los_Angeles:20261025T220000
DTSTAMP:20260424T230349
CREATED:20221108T173700Z
LAST-MODIFIED:20251230T210905Z
UID:10349370-1792949400-1792965600@golatindance.com
SUMMARY:Salsa Bachata Sundays at Queen Bees
DESCRIPTION:Spice Up Your Sundays with Salsa & Bachata at Queen Bee’s!Join us every Sunday from 5:30pm-10pm for Salsa Sunday! See flyer for details.
URL:https://golatindance.com/event/salsa-bachata-sundays-at-queen-bees/2026-10-25/
LOCATION:Queen Bee’s Art and Cultural Center\, 3925 Ohio Street\, San Diego\, CA 92104\, San Diego\, CA\, 92104\, United States
CATEGORIES:San Diego
ATTACH;FMTTYPE=image/jpeg:https://golatindance.com/wp-content/uploads/2022/11/953f34_7bbada5d535646a68f7203006e946665mv2.jpg
END:VEVENT
BEGIN:VEVENT
DTSTART;TZID=America/Los_Angeles:20261101T173000
DTEND;TZID=America/Los_Angeles:20261101T220000
DTSTAMP:20260424T230349
CREATED:20221108T173700Z
LAST-MODIFIED:20251230T210905Z
UID:10349371-1793554200-1793570400@golatindance.com
SUMMARY:Salsa Bachata Sundays at Queen Bees
DESCRIPTION:Spice Up Your Sundays with Salsa & Bachata at Queen Bee’s!Join us every Sunday from 5:30pm-10pm for Salsa Sunday! See flyer for details.
URL:https://golatindance.com/event/salsa-bachata-sundays-at-queen-bees/2026-11-01/
LOCATION:Queen Bee’s Art and Cultural Center\, 3925 Ohio Street\, San Diego\, CA 92104\, San Diego\, CA\, 92104\, United States
CATEGORIES:San Diego
ATTACH;FMTTYPE=image/jpeg:https://golatindance.com/wp-content/uploads/2022/11/953f34_7bbada5d535646a68f7203006e946665mv2.jpg
END:VEVENT
BEGIN:VEVENT
DTSTART;TZID=America/Los_Angeles:20261108T173000
DTEND;TZID=America/Los_Angeles:20261108T220000
DTSTAMP:20260424T230349
CREATED:20221108T173700Z
LAST-MODIFIED:20251230T210905Z
UID:10349372-1794159000-1794175200@golatindance.com
SUMMARY:Salsa Bachata Sundays at Queen Bees
DESCRIPTION:Spice Up Your Sundays with Salsa & Bachata at Queen Bee’s!Join us every Sunday from 5:30pm-10pm for Salsa Sunday! See flyer for details.
URL:https://golatindance.com/event/salsa-bachata-sundays-at-queen-bees/2026-11-08/
LOCATION:Queen Bee’s Art and Cultural Center\, 3925 Ohio Street\, San Diego\, CA 92104\, San Diego\, CA\, 92104\, United States
CATEGORIES:San Diego
ATTACH;FMTTYPE=image/jpeg:https://golatindance.com/wp-content/uploads/2022/11/953f34_7bbada5d535646a68f7203006e946665mv2.jpg
END:VEVENT
BEGIN:VEVENT
DTSTART;TZID=America/Los_Angeles:20261115T173000
DTEND;TZID=America/Los_Angeles:20261115T220000
DTSTAMP:20260424T230349
CREATED:20221108T173700Z
LAST-MODIFIED:20251230T210905Z
UID:10349373-1794763800-1794780000@golatindance.com
SUMMARY:Salsa Bachata Sundays at Queen Bees
DESCRIPTION:Spice Up Your Sundays with Salsa & Bachata at Queen Bee’s!Join us every Sunday from 5:30pm-10pm for Salsa Sunday! See flyer for details.
URL:https://golatindance.com/event/salsa-bachata-sundays-at-queen-bees/2026-11-15/
LOCATION:Queen Bee’s Art and Cultural Center\, 3925 Ohio Street\, San Diego\, CA 92104\, San Diego\, CA\, 92104\, United States
CATEGORIES:San Diego
ATTACH;FMTTYPE=image/jpeg:https://golatindance.com/wp-content/uploads/2022/11/953f34_7bbada5d535646a68f7203006e946665mv2.jpg
END:VEVENT
BEGIN:VEVENT
DTSTART;TZID=America/Los_Angeles:20261122T173000
DTEND;TZID=America/Los_Angeles:20261122T220000
DTSTAMP:20260424T230349
CREATED:20221108T173700Z
LAST-MODIFIED:20251230T210905Z
UID:10349374-1795368600-1795384800@golatindance.com
SUMMARY:Salsa Bachata Sundays at Queen Bees
DESCRIPTION:Spice Up Your Sundays with Salsa & Bachata at Queen Bee’s!Join us every Sunday from 5:30pm-10pm for Salsa Sunday! See flyer for details.
URL:https://golatindance.com/event/salsa-bachata-sundays-at-queen-bees/2026-11-22/
LOCATION:Queen Bee’s Art and Cultural Center\, 3925 Ohio Street\, San Diego\, CA 92104\, San Diego\, CA\, 92104\, United States
CATEGORIES:San Diego
ATTACH;FMTTYPE=image/jpeg:https://golatindance.com/wp-content/uploads/2022/11/953f34_7bbada5d535646a68f7203006e946665mv2.jpg
END:VEVENT
BEGIN:VEVENT
DTSTART;TZID=America/Los_Angeles:20261129T173000
DTEND;TZID=America/Los_Angeles:20261129T220000
DTSTAMP:20260424T230349
CREATED:20221108T173700Z
LAST-MODIFIED:20251230T210905Z
UID:10349375-1795973400-1795989600@golatindance.com
SUMMARY:Salsa Bachata Sundays at Queen Bees
DESCRIPTION:Spice Up Your Sundays with Salsa & Bachata at Queen Bee’s!Join us every Sunday from 5:30pm-10pm for Salsa Sunday! See flyer for details.
URL:https://golatindance.com/event/salsa-bachata-sundays-at-queen-bees/2026-11-29/
LOCATION:Queen Bee’s Art and Cultural Center\, 3925 Ohio Street\, San Diego\, CA 92104\, San Diego\, CA\, 92104\, United States
CATEGORIES:San Diego
ATTACH;FMTTYPE=image/jpeg:https://golatindance.com/wp-content/uploads/2022/11/953f34_7bbada5d535646a68f7203006e946665mv2.jpg
END:VEVENT
BEGIN:VEVENT
DTSTART;TZID=America/Los_Angeles:20261206T173000
DTEND;TZID=America/Los_Angeles:20261206T220000
DTSTAMP:20260424T230349
CREATED:20221108T173700Z
LAST-MODIFIED:20251230T210905Z
UID:10349376-1796578200-1796594400@golatindance.com
SUMMARY:Salsa Bachata Sundays at Queen Bees
DESCRIPTION:Spice Up Your Sundays with Salsa & Bachata at Queen Bee’s!Join us every Sunday from 5:30pm-10pm for Salsa Sunday! See flyer for details.
URL:https://golatindance.com/event/salsa-bachata-sundays-at-queen-bees/2026-12-06/
LOCATION:Queen Bee’s Art and Cultural Center\, 3925 Ohio Street\, San Diego\, CA 92104\, San Diego\, CA\, 92104\, United States
CATEGORIES:San Diego
ATTACH;FMTTYPE=image/jpeg:https://golatindance.com/wp-content/uploads/2022/11/953f34_7bbada5d535646a68f7203006e946665mv2.jpg
END:VEVENT
BEGIN:VEVENT
DTSTART;TZID=America/Los_Angeles:20261213T173000
DTEND;TZID=America/Los_Angeles:20261213T220000
DTSTAMP:20260424T230349
CREATED:20221108T173700Z
LAST-MODIFIED:20251230T210905Z
UID:10349377-1797183000-1797199200@golatindance.com
SUMMARY:Salsa Bachata Sundays at Queen Bees
DESCRIPTION:Spice Up Your Sundays with Salsa & Bachata at Queen Bee’s!Join us every Sunday from 5:30pm-10pm for Salsa Sunday! See flyer for details.
URL:https://golatindance.com/event/salsa-bachata-sundays-at-queen-bees/2026-12-13/
LOCATION:Queen Bee’s Art and Cultural Center\, 3925 Ohio Street\, San Diego\, CA 92104\, San Diego\, CA\, 92104\, United States
CATEGORIES:San Diego
ATTACH;FMTTYPE=image/jpeg:https://golatindance.com/wp-content/uploads/2022/11/953f34_7bbada5d535646a68f7203006e946665mv2.jpg
END:VEVENT
BEGIN:VEVENT
DTSTART;TZID=America/Los_Angeles:20261220T173000
DTEND;TZID=America/Los_Angeles:20261220T220000
DTSTAMP:20260424T230349
CREATED:20221108T173700Z
LAST-MODIFIED:20251230T210905Z
UID:10349378-1797787800-1797804000@golatindance.com
SUMMARY:Salsa Bachata Sundays at Queen Bees
DESCRIPTION:Spice Up Your Sundays with Salsa & Bachata at Queen Bee’s!Join us every Sunday from 5:30pm-10pm for Salsa Sunday! See flyer for details.
URL:https://golatindance.com/event/salsa-bachata-sundays-at-queen-bees/2026-12-20/
LOCATION:Queen Bee’s Art and Cultural Center\, 3925 Ohio Street\, San Diego\, CA 92104\, San Diego\, CA\, 92104\, United States
CATEGORIES:San Diego
ATTACH;FMTTYPE=image/jpeg:https://golatindance.com/wp-content/uploads/2022/11/953f34_7bbada5d535646a68f7203006e946665mv2.jpg
END:VEVENT
BEGIN:VEVENT
DTSTART;TZID=America/Los_Angeles:20261227T173000
DTEND;TZID=America/Los_Angeles:20261227T220000
DTSTAMP:20260424T230349
CREATED:20221108T173700Z
LAST-MODIFIED:20251230T210905Z
UID:10349379-1798392600-1798408800@golatindance.com
SUMMARY:Salsa Bachata Sundays at Queen Bees
DESCRIPTION:Spice Up Your Sundays with Salsa & Bachata at Queen Bee’s!Join us every Sunday from 5:30pm-10pm for Salsa Sunday! See flyer for details.
URL:https://golatindance.com/event/salsa-bachata-sundays-at-queen-bees/2026-12-27/
LOCATION:Queen Bee’s Art and Cultural Center\, 3925 Ohio Street\, San Diego\, CA 92104\, San Diego\, CA\, 92104\, United States
CATEGORIES:San Diego
ATTACH;FMTTYPE=image/jpeg:https://golatindance.com/wp-content/uploads/2022/11/953f34_7bbada5d535646a68f7203006e946665mv2.jpg
END:VEVENT
BEGIN:VEVENT
DTSTART;TZID=America/Los_Angeles:20270103T173000
DTEND;TZID=America/Los_Angeles:20270103T220000
DTSTAMP:20260424T230349
CREATED:20221108T173700Z
LAST-MODIFIED:20251230T210905Z
UID:10349380-1798997400-1799013600@golatindance.com
SUMMARY:Salsa Bachata Sundays at Queen Bees
DESCRIPTION:Spice Up Your Sundays with Salsa & Bachata at Queen Bee’s!Join us every Sunday from 5:30pm-10pm for Salsa Sunday! See flyer for details.
URL:https://golatindance.com/event/salsa-bachata-sundays-at-queen-bees/2027-01-03/
LOCATION:Queen Bee’s Art and Cultural Center\, 3925 Ohio Street\, San Diego\, CA 92104\, San Diego\, CA\, 92104\, United States
CATEGORIES:San Diego
ATTACH;FMTTYPE=image/jpeg:https://golatindance.com/wp-content/uploads/2022/11/953f34_7bbada5d535646a68f7203006e946665mv2.jpg
END:VEVENT
BEGIN:VEVENT
DTSTART;TZID=America/Los_Angeles:20270110T173000
DTEND;TZID=America/Los_Angeles:20270110T220000
DTSTAMP:20260424T230349
CREATED:20221108T173700Z
LAST-MODIFIED:20251230T210905Z
UID:10349381-1799602200-1799618400@golatindance.com
SUMMARY:Salsa Bachata Sundays at Queen Bees
DESCRIPTION:Spice Up Your Sundays with Salsa & Bachata at Queen Bee’s!Join us every Sunday from 5:30pm-10pm for Salsa Sunday! See flyer for details.
URL:https://golatindance.com/event/salsa-bachata-sundays-at-queen-bees/2027-01-10/
LOCATION:Queen Bee’s Art and Cultural Center\, 3925 Ohio Street\, San Diego\, CA 92104\, San Diego\, CA\, 92104\, United States
CATEGORIES:San Diego
ATTACH;FMTTYPE=image/jpeg:https://golatindance.com/wp-content/uploads/2022/11/953f34_7bbada5d535646a68f7203006e946665mv2.jpg
END:VEVENT
BEGIN:VEVENT
DTSTART;TZID=America/Los_Angeles:20270117T173000
DTEND;TZID=America/Los_Angeles:20270117T220000
DTSTAMP:20260424T230349
CREATED:20221108T173700Z
LAST-MODIFIED:20251230T210905Z
UID:10349382-1800207000-1800223200@golatindance.com
SUMMARY:Salsa Bachata Sundays at Queen Bees
DESCRIPTION:Spice Up Your Sundays with Salsa & Bachata at Queen Bee’s!Join us every Sunday from 5:30pm-10pm for Salsa Sunday! See flyer for details.
URL:https://golatindance.com/event/salsa-bachata-sundays-at-queen-bees/2027-01-17/
LOCATION:Queen Bee’s Art and Cultural Center\, 3925 Ohio Street\, San Diego\, CA 92104\, San Diego\, CA\, 92104\, United States
CATEGORIES:San Diego
ATTACH;FMTTYPE=image/jpeg:https://golatindance.com/wp-content/uploads/2022/11/953f34_7bbada5d535646a68f7203006e946665mv2.jpg
END:VEVENT
BEGIN:VEVENT
DTSTART;TZID=America/Los_Angeles:20270124T173000
DTEND;TZID=America/Los_Angeles:20270124T220000
DTSTAMP:20260424T230349
CREATED:20221108T173700Z
LAST-MODIFIED:20251230T210905Z
UID:10349383-1800811800-1800828000@golatindance.com
SUMMARY:Salsa Bachata Sundays at Queen Bees
DESCRIPTION:Spice Up Your Sundays with Salsa & Bachata at Queen Bee’s!Join us every Sunday from 5:30pm-10pm for Salsa Sunday! See flyer for details.
URL:https://golatindance.com/event/salsa-bachata-sundays-at-queen-bees/2027-01-24/
LOCATION:Queen Bee’s Art and Cultural Center\, 3925 Ohio Street\, San Diego\, CA 92104\, San Diego\, CA\, 92104\, United States
CATEGORIES:San Diego
ATTACH;FMTTYPE=image/jpeg:https://golatindance.com/wp-content/uploads/2022/11/953f34_7bbada5d535646a68f7203006e946665mv2.jpg
END:VEVENT
BEGIN:VEVENT
DTSTART;TZID=America/Los_Angeles:20270131T173000
DTEND;TZID=America/Los_Angeles:20270131T220000
DTSTAMP:20260424T230349
CREATED:20221108T173700Z
LAST-MODIFIED:20251230T210905Z
UID:10349384-1801416600-1801432800@golatindance.com
SUMMARY:Salsa Bachata Sundays at Queen Bees
DESCRIPTION:Spice Up Your Sundays with Salsa & Bachata at Queen Bee’s!Join us every Sunday from 5:30pm-10pm for Salsa Sunday! See flyer for details.
URL:https://golatindance.com/event/salsa-bachata-sundays-at-queen-bees/2027-01-31/
LOCATION:Queen Bee’s Art and Cultural Center\, 3925 Ohio Street\, San Diego\, CA 92104\, San Diego\, CA\, 92104\, United States
CATEGORIES:San Diego
ATTACH;FMTTYPE=image/jpeg:https://golatindance.com/wp-content/uploads/2022/11/953f34_7bbada5d535646a68f7203006e946665mv2.jpg
END:VEVENT
BEGIN:VEVENT
DTSTART;TZID=America/Los_Angeles:20270207T173000
DTEND;TZID=America/Los_Angeles:20270207T220000
DTSTAMP:20260424T230349
CREATED:20221108T173700Z
LAST-MODIFIED:20251230T210905Z
UID:10349385-1802021400-1802037600@golatindance.com
SUMMARY:Salsa Bachata Sundays at Queen Bees
DESCRIPTION:Spice Up Your Sundays with Salsa & Bachata at Queen Bee’s!Join us every Sunday from 5:30pm-10pm for Salsa Sunday! See flyer for details.
URL:https://golatindance.com/event/salsa-bachata-sundays-at-queen-bees/2027-02-07/
LOCATION:Queen Bee’s Art and Cultural Center\, 3925 Ohio Street\, San Diego\, CA 92104\, San Diego\, CA\, 92104\, United States
CATEGORIES:San Diego
ATTACH;FMTTYPE=image/jpeg:https://golatindance.com/wp-content/uploads/2022/11/953f34_7bbada5d535646a68f7203006e946665mv2.jpg
END:VEVENT
BEGIN:VEVENT
DTSTART;TZID=America/Los_Angeles:20270214T173000
DTEND;TZID=America/Los_Angeles:20270214T220000
DTSTAMP:20260424T230349
CREATED:20221108T173700Z
LAST-MODIFIED:20251230T210905Z
UID:10349386-1802626200-1802642400@golatindance.com
SUMMARY:Salsa Bachata Sundays at Queen Bees
DESCRIPTION:Spice Up Your Sundays with Salsa & Bachata at Queen Bee’s!Join us every Sunday from 5:30pm-10pm for Salsa Sunday! See flyer for details.
URL:https://golatindance.com/event/salsa-bachata-sundays-at-queen-bees/2027-02-14/
LOCATION:Queen Bee’s Art and Cultural Center\, 3925 Ohio Street\, San Diego\, CA 92104\, San Diego\, CA\, 92104\, United States
CATEGORIES:San Diego
ATTACH;FMTTYPE=image/jpeg:https://golatindance.com/wp-content/uploads/2022/11/953f34_7bbada5d535646a68f7203006e946665mv2.jpg
END:VEVENT
BEGIN:VEVENT
DTSTART;TZID=America/Los_Angeles:20270221T173000
DTEND;TZID=America/Los_Angeles:20270221T220000
DTSTAMP:20260424T230349
CREATED:20221108T173700Z
LAST-MODIFIED:20251230T210905Z
UID:10349387-1803231000-1803247200@golatindance.com
SUMMARY:Salsa Bachata Sundays at Queen Bees
DESCRIPTION:Spice Up Your Sundays with Salsa & Bachata at Queen Bee’s!Join us every Sunday from 5:30pm-10pm for Salsa Sunday! See flyer for details.
URL:https://golatindance.com/event/salsa-bachata-sundays-at-queen-bees/2027-02-21/
LOCATION:Queen Bee’s Art and Cultural Center\, 3925 Ohio Street\, San Diego\, CA 92104\, San Diego\, CA\, 92104\, United States
CATEGORIES:San Diego
ATTACH;FMTTYPE=image/jpeg:https://golatindance.com/wp-content/uploads/2022/11/953f34_7bbada5d535646a68f7203006e946665mv2.jpg
END:VEVENT
BEGIN:VEVENT
DTSTART;TZID=America/Los_Angeles:20270228T173000
DTEND;TZID=America/Los_Angeles:20270228T220000
DTSTAMP:20260424T230349
CREATED:20221108T173700Z
LAST-MODIFIED:20251230T210905Z
UID:10349388-1803835800-1803852000@golatindance.com
SUMMARY:Salsa Bachata Sundays at Queen Bees
DESCRIPTION:Spice Up Your Sundays with Salsa & Bachata at Queen Bee’s!Join us every Sunday from 5:30pm-10pm for Salsa Sunday! See flyer for details.
URL:https://golatindance.com/event/salsa-bachata-sundays-at-queen-bees/2027-02-28/
LOCATION:Queen Bee’s Art and Cultural Center\, 3925 Ohio Street\, San Diego\, CA 92104\, San Diego\, CA\, 92104\, United States
CATEGORIES:San Diego
ATTACH;FMTTYPE=image/jpeg:https://golatindance.com/wp-content/uploads/2022/11/953f34_7bbada5d535646a68f7203006e946665mv2.jpg
END:VEVENT
BEGIN:VEVENT
DTSTART;TZID=America/Los_Angeles:20270307T173000
DTEND;TZID=America/Los_Angeles:20270307T220000
DTSTAMP:20260424T230349
CREATED:20221108T173700Z
LAST-MODIFIED:20251230T210905Z
UID:10349389-1804440600-1804456800@golatindance.com
SUMMARY:Salsa Bachata Sundays at Queen Bees
DESCRIPTION:Spice Up Your Sundays with Salsa & Bachata at Queen Bee’s!Join us every Sunday from 5:30pm-10pm for Salsa Sunday! See flyer for details.
URL:https://golatindance.com/event/salsa-bachata-sundays-at-queen-bees/2027-03-07/
LOCATION:Queen Bee’s Art and Cultural Center\, 3925 Ohio Street\, San Diego\, CA 92104\, San Diego\, CA\, 92104\, United States
CATEGORIES:San Diego
ATTACH;FMTTYPE=image/jpeg:https://golatindance.com/wp-content/uploads/2022/11/953f34_7bbada5d535646a68f7203006e946665mv2.jpg
END:VEVENT
BEGIN:VEVENT
DTSTART;TZID=America/Los_Angeles:20270314T173000
DTEND;TZID=America/Los_Angeles:20270314T220000
DTSTAMP:20260424T230349
CREATED:20221108T173700Z
LAST-MODIFIED:20251230T210905Z
UID:10349390-1805045400-1805061600@golatindance.com
SUMMARY:Salsa Bachata Sundays at Queen Bees
DESCRIPTION:Spice Up Your Sundays with Salsa & Bachata at Queen Bee’s!Join us every Sunday from 5:30pm-10pm for Salsa Sunday! See flyer for details.
URL:https://golatindance.com/event/salsa-bachata-sundays-at-queen-bees/2027-03-14/
LOCATION:Queen Bee’s Art and Cultural Center\, 3925 Ohio Street\, San Diego\, CA 92104\, San Diego\, CA\, 92104\, United States
CATEGORIES:San Diego
ATTACH;FMTTYPE=image/jpeg:https://golatindance.com/wp-content/uploads/2022/11/953f34_7bbada5d535646a68f7203006e946665mv2.jpg
END:VEVENT
BEGIN:VEVENT
DTSTART;TZID=America/Los_Angeles:20270321T173000
DTEND;TZID=America/Los_Angeles:20270321T220000
DTSTAMP:20260424T230349
CREATED:20221108T173700Z
LAST-MODIFIED:20251230T210905Z
UID:10349391-1805650200-1805666400@golatindance.com
SUMMARY:Salsa Bachata Sundays at Queen Bees
DESCRIPTION:Spice Up Your Sundays with Salsa & Bachata at Queen Bee’s!Join us every Sunday from 5:30pm-10pm for Salsa Sunday! See flyer for details.
URL:https://golatindance.com/event/salsa-bachata-sundays-at-queen-bees/2027-03-21/
LOCATION:Queen Bee’s Art and Cultural Center\, 3925 Ohio Street\, San Diego\, CA 92104\, San Diego\, CA\, 92104\, United States
CATEGORIES:San Diego
ATTACH;FMTTYPE=image/jpeg:https://golatindance.com/wp-content/uploads/2022/11/953f34_7bbada5d535646a68f7203006e946665mv2.jpg
END:VEVENT
BEGIN:VEVENT
DTSTART;TZID=America/Los_Angeles:20270328T173000
DTEND;TZID=America/Los_Angeles:20270328T220000
DTSTAMP:20260424T230349
CREATED:20221108T173700Z
LAST-MODIFIED:20251230T210905Z
UID:10349392-1806255000-1806271200@golatindance.com
SUMMARY:Salsa Bachata Sundays at Queen Bees
DESCRIPTION:Spice Up Your Sundays with Salsa & Bachata at Queen Bee’s!Join us every Sunday from 5:30pm-10pm for Salsa Sunday! See flyer for details.
URL:https://golatindance.com/event/salsa-bachata-sundays-at-queen-bees/2027-03-28/
LOCATION:Queen Bee’s Art and Cultural Center\, 3925 Ohio Street\, San Diego\, CA 92104\, San Diego\, CA\, 92104\, United States
CATEGORIES:San Diego
ATTACH;FMTTYPE=image/jpeg:https://golatindance.com/wp-content/uploads/2022/11/953f34_7bbada5d535646a68f7203006e946665mv2.jpg
END:VEVENT
BEGIN:VEVENT
DTSTART;TZID=America/Los_Angeles:20270404T173000
DTEND;TZID=America/Los_Angeles:20270404T220000
DTSTAMP:20260424T230349
CREATED:20221108T173700Z
LAST-MODIFIED:20251230T210905Z
UID:10349393-1806859800-1806876000@golatindance.com
SUMMARY:Salsa Bachata Sundays at Queen Bees
DESCRIPTION:Spice Up Your Sundays with Salsa & Bachata at Queen Bee’s!Join us every Sunday from 5:30pm-10pm for Salsa Sunday! See flyer for details.
URL:https://golatindance.com/event/salsa-bachata-sundays-at-queen-bees/2027-04-04/
LOCATION:Queen Bee’s Art and Cultural Center\, 3925 Ohio Street\, San Diego\, CA 92104\, San Diego\, CA\, 92104\, United States
CATEGORIES:San Diego
ATTACH;FMTTYPE=image/jpeg:https://golatindance.com/wp-content/uploads/2022/11/953f34_7bbada5d535646a68f7203006e946665mv2.jpg
END:VEVENT
END:VCALENDAR