BEGIN:VCALENDAR
VERSION:2.0
PRODID:-//GO Latin Dance - ECPv6.15.18//NONSGML v1.0//EN
CALSCALE:GREGORIAN
METHOD:PUBLISH
X-ORIGINAL-URL:https://golatindance.com
X-WR-CALDESC:Events for GO Latin Dance
REFRESH-INTERVAL;VALUE=DURATION:PT1H
X-Robots-Tag:noindex
X-PUBLISHED-TTL:PT1H
BEGIN:VTIMEZONE
TZID:America/New_York
BEGIN:DAYLIGHT
TZOFFSETFROM:-0500
TZOFFSETTO:-0400
TZNAME:EDT
DTSTART:20270314T070000
END:DAYLIGHT
BEGIN:STANDARD
TZOFFSETFROM:-0400
TZOFFSETTO:-0500
TZNAME:EST
DTSTART:20271107T060000
END:STANDARD
BEGIN:DAYLIGHT
TZOFFSETFROM:-0500
TZOFFSETTO:-0400
TZNAME:EDT
DTSTART:20280312T070000
END:DAYLIGHT
BEGIN:STANDARD
TZOFFSETFROM:-0400
TZOFFSETTO:-0500
TZNAME:EST
DTSTART:20281105T060000
END:STANDARD
BEGIN:DAYLIGHT
TZOFFSETFROM:-0500
TZOFFSETTO:-0400
TZNAME:EDT
DTSTART:20290311T070000
END:DAYLIGHT
BEGIN:STANDARD
TZOFFSETFROM:-0400
TZOFFSETTO:-0500
TZNAME:EST
DTSTART:20291104T060000
END:STANDARD
END:VTIMEZONE
BEGIN:VEVENT
DTSTART;TZID=America/New_York:20280530T190000
DTEND;TZID=America/New_York:20280530T230000
DTSTAMP:20260420T202652
CREATED:20241001T165053Z
LAST-MODIFIED:20241001T170011Z
UID:10306911-1843326000-1843340400@golatindance.com
SUMMARY:Salsa Bachata Night at Rendezvous
DESCRIPTION:Salsa Bachata Night at Rendezvous. See flyer for details.
URL:https://golatindance.com/event/salsa-bachata-night-at-rendezvous/2028-05-30/
LOCATION:Rais Rendezvous\, 44042 Pipeline Plaza\, Ashburn\, VA\, United States
CATEGORIES:Washington DC-Baltimore
ATTACH;FMTTYPE=image/jpeg:https://golatindance.com/wp-content/uploads/2024/10/461693778_10161572746629030_6205992527391762863_n.jpg
END:VEVENT
BEGIN:VEVENT
DTSTART;TZID=America/New_York:20280606T190000
DTEND;TZID=America/New_York:20280606T230000
DTSTAMP:20260420T202652
CREATED:20241001T165053Z
LAST-MODIFIED:20241001T170011Z
UID:10306912-1843930800-1843945200@golatindance.com
SUMMARY:Salsa Bachata Night at Rendezvous
DESCRIPTION:Salsa Bachata Night at Rendezvous. See flyer for details.
URL:https://golatindance.com/event/salsa-bachata-night-at-rendezvous/2028-06-06/
LOCATION:Rais Rendezvous\, 44042 Pipeline Plaza\, Ashburn\, VA\, United States
CATEGORIES:Washington DC-Baltimore
ATTACH;FMTTYPE=image/jpeg:https://golatindance.com/wp-content/uploads/2024/10/461693778_10161572746629030_6205992527391762863_n.jpg
END:VEVENT
BEGIN:VEVENT
DTSTART;TZID=America/New_York:20280613T190000
DTEND;TZID=America/New_York:20280613T230000
DTSTAMP:20260420T202652
CREATED:20241001T165053Z
LAST-MODIFIED:20241001T170011Z
UID:10306913-1844535600-1844550000@golatindance.com
SUMMARY:Salsa Bachata Night at Rendezvous
DESCRIPTION:Salsa Bachata Night at Rendezvous. See flyer for details.
URL:https://golatindance.com/event/salsa-bachata-night-at-rendezvous/2028-06-13/
LOCATION:Rais Rendezvous\, 44042 Pipeline Plaza\, Ashburn\, VA\, United States
CATEGORIES:Washington DC-Baltimore
ATTACH;FMTTYPE=image/jpeg:https://golatindance.com/wp-content/uploads/2024/10/461693778_10161572746629030_6205992527391762863_n.jpg
END:VEVENT
BEGIN:VEVENT
DTSTART;TZID=America/New_York:20280620T190000
DTEND;TZID=America/New_York:20280620T230000
DTSTAMP:20260420T202652
CREATED:20241001T165053Z
LAST-MODIFIED:20241001T170011Z
UID:10306914-1845140400-1845154800@golatindance.com
SUMMARY:Salsa Bachata Night at Rendezvous
DESCRIPTION:Salsa Bachata Night at Rendezvous. See flyer for details.
URL:https://golatindance.com/event/salsa-bachata-night-at-rendezvous/2028-06-20/
LOCATION:Rais Rendezvous\, 44042 Pipeline Plaza\, Ashburn\, VA\, United States
CATEGORIES:Washington DC-Baltimore
ATTACH;FMTTYPE=image/jpeg:https://golatindance.com/wp-content/uploads/2024/10/461693778_10161572746629030_6205992527391762863_n.jpg
END:VEVENT
BEGIN:VEVENT
DTSTART;TZID=America/New_York:20280627T190000
DTEND;TZID=America/New_York:20280627T230000
DTSTAMP:20260420T202652
CREATED:20241001T165053Z
LAST-MODIFIED:20241001T170011Z
UID:10306915-1845745200-1845759600@golatindance.com
SUMMARY:Salsa Bachata Night at Rendezvous
DESCRIPTION:Salsa Bachata Night at Rendezvous. See flyer for details.
URL:https://golatindance.com/event/salsa-bachata-night-at-rendezvous/2028-06-27/
LOCATION:Rais Rendezvous\, 44042 Pipeline Plaza\, Ashburn\, VA\, United States
CATEGORIES:Washington DC-Baltimore
ATTACH;FMTTYPE=image/jpeg:https://golatindance.com/wp-content/uploads/2024/10/461693778_10161572746629030_6205992527391762863_n.jpg
END:VEVENT
BEGIN:VEVENT
DTSTART;TZID=America/New_York:20280704T190000
DTEND;TZID=America/New_York:20280704T230000
DTSTAMP:20260420T202652
CREATED:20241001T165053Z
LAST-MODIFIED:20241001T170011Z
UID:10306916-1846350000-1846364400@golatindance.com
SUMMARY:Salsa Bachata Night at Rendezvous
DESCRIPTION:Salsa Bachata Night at Rendezvous. See flyer for details.
URL:https://golatindance.com/event/salsa-bachata-night-at-rendezvous/2028-07-04/
LOCATION:Rais Rendezvous\, 44042 Pipeline Plaza\, Ashburn\, VA\, United States
CATEGORIES:Washington DC-Baltimore
ATTACH;FMTTYPE=image/jpeg:https://golatindance.com/wp-content/uploads/2024/10/461693778_10161572746629030_6205992527391762863_n.jpg
END:VEVENT
BEGIN:VEVENT
DTSTART;TZID=America/New_York:20280711T190000
DTEND;TZID=America/New_York:20280711T230000
DTSTAMP:20260420T202652
CREATED:20241001T165053Z
LAST-MODIFIED:20241001T170011Z
UID:10306917-1846954800-1846969200@golatindance.com
SUMMARY:Salsa Bachata Night at Rendezvous
DESCRIPTION:Salsa Bachata Night at Rendezvous. See flyer for details.
URL:https://golatindance.com/event/salsa-bachata-night-at-rendezvous/2028-07-11/
LOCATION:Rais Rendezvous\, 44042 Pipeline Plaza\, Ashburn\, VA\, United States
CATEGORIES:Washington DC-Baltimore
ATTACH;FMTTYPE=image/jpeg:https://golatindance.com/wp-content/uploads/2024/10/461693778_10161572746629030_6205992527391762863_n.jpg
END:VEVENT
BEGIN:VEVENT
DTSTART;TZID=America/New_York:20280718T190000
DTEND;TZID=America/New_York:20280718T230000
DTSTAMP:20260420T202652
CREATED:20241001T165053Z
LAST-MODIFIED:20241001T170011Z
UID:10306918-1847559600-1847574000@golatindance.com
SUMMARY:Salsa Bachata Night at Rendezvous
DESCRIPTION:Salsa Bachata Night at Rendezvous. See flyer for details.
URL:https://golatindance.com/event/salsa-bachata-night-at-rendezvous/2028-07-18/
LOCATION:Rais Rendezvous\, 44042 Pipeline Plaza\, Ashburn\, VA\, United States
CATEGORIES:Washington DC-Baltimore
ATTACH;FMTTYPE=image/jpeg:https://golatindance.com/wp-content/uploads/2024/10/461693778_10161572746629030_6205992527391762863_n.jpg
END:VEVENT
BEGIN:VEVENT
DTSTART;TZID=America/New_York:20280725T190000
DTEND;TZID=America/New_York:20280725T230000
DTSTAMP:20260420T202652
CREATED:20241001T165053Z
LAST-MODIFIED:20241001T170011Z
UID:10306919-1848164400-1848178800@golatindance.com
SUMMARY:Salsa Bachata Night at Rendezvous
DESCRIPTION:Salsa Bachata Night at Rendezvous. See flyer for details.
URL:https://golatindance.com/event/salsa-bachata-night-at-rendezvous/2028-07-25/
LOCATION:Rais Rendezvous\, 44042 Pipeline Plaza\, Ashburn\, VA\, United States
CATEGORIES:Washington DC-Baltimore
ATTACH;FMTTYPE=image/jpeg:https://golatindance.com/wp-content/uploads/2024/10/461693778_10161572746629030_6205992527391762863_n.jpg
END:VEVENT
BEGIN:VEVENT
DTSTART;TZID=America/New_York:20280801T190000
DTEND;TZID=America/New_York:20280801T230000
DTSTAMP:20260420T202652
CREATED:20241001T165053Z
LAST-MODIFIED:20241001T170011Z
UID:10306920-1848769200-1848783600@golatindance.com
SUMMARY:Salsa Bachata Night at Rendezvous
DESCRIPTION:Salsa Bachata Night at Rendezvous. See flyer for details.
URL:https://golatindance.com/event/salsa-bachata-night-at-rendezvous/2028-08-01/
LOCATION:Rais Rendezvous\, 44042 Pipeline Plaza\, Ashburn\, VA\, United States
CATEGORIES:Washington DC-Baltimore
ATTACH;FMTTYPE=image/jpeg:https://golatindance.com/wp-content/uploads/2024/10/461693778_10161572746629030_6205992527391762863_n.jpg
END:VEVENT
BEGIN:VEVENT
DTSTART;TZID=America/New_York:20280808T190000
DTEND;TZID=America/New_York:20280808T230000
DTSTAMP:20260420T202652
CREATED:20241001T165053Z
LAST-MODIFIED:20241001T170011Z
UID:10306921-1849374000-1849388400@golatindance.com
SUMMARY:Salsa Bachata Night at Rendezvous
DESCRIPTION:Salsa Bachata Night at Rendezvous. See flyer for details.
URL:https://golatindance.com/event/salsa-bachata-night-at-rendezvous/2028-08-08/
LOCATION:Rais Rendezvous\, 44042 Pipeline Plaza\, Ashburn\, VA\, United States
CATEGORIES:Washington DC-Baltimore
ATTACH;FMTTYPE=image/jpeg:https://golatindance.com/wp-content/uploads/2024/10/461693778_10161572746629030_6205992527391762863_n.jpg
END:VEVENT
BEGIN:VEVENT
DTSTART;TZID=America/New_York:20280815T190000
DTEND;TZID=America/New_York:20280815T230000
DTSTAMP:20260420T202652
CREATED:20241001T165053Z
LAST-MODIFIED:20241001T170011Z
UID:10306922-1849978800-1849993200@golatindance.com
SUMMARY:Salsa Bachata Night at Rendezvous
DESCRIPTION:Salsa Bachata Night at Rendezvous. See flyer for details.
URL:https://golatindance.com/event/salsa-bachata-night-at-rendezvous/2028-08-15/
LOCATION:Rais Rendezvous\, 44042 Pipeline Plaza\, Ashburn\, VA\, United States
CATEGORIES:Washington DC-Baltimore
ATTACH;FMTTYPE=image/jpeg:https://golatindance.com/wp-content/uploads/2024/10/461693778_10161572746629030_6205992527391762863_n.jpg
END:VEVENT
BEGIN:VEVENT
DTSTART;TZID=America/New_York:20280822T190000
DTEND;TZID=America/New_York:20280822T230000
DTSTAMP:20260420T202652
CREATED:20241001T165053Z
LAST-MODIFIED:20241001T170011Z
UID:10306923-1850583600-1850598000@golatindance.com
SUMMARY:Salsa Bachata Night at Rendezvous
DESCRIPTION:Salsa Bachata Night at Rendezvous. See flyer for details.
URL:https://golatindance.com/event/salsa-bachata-night-at-rendezvous/2028-08-22/
LOCATION:Rais Rendezvous\, 44042 Pipeline Plaza\, Ashburn\, VA\, United States
CATEGORIES:Washington DC-Baltimore
ATTACH;FMTTYPE=image/jpeg:https://golatindance.com/wp-content/uploads/2024/10/461693778_10161572746629030_6205992527391762863_n.jpg
END:VEVENT
BEGIN:VEVENT
DTSTART;TZID=America/New_York:20280829T190000
DTEND;TZID=America/New_York:20280829T230000
DTSTAMP:20260420T202652
CREATED:20241001T165053Z
LAST-MODIFIED:20241001T170011Z
UID:10306924-1851188400-1851202800@golatindance.com
SUMMARY:Salsa Bachata Night at Rendezvous
DESCRIPTION:Salsa Bachata Night at Rendezvous. See flyer for details.
URL:https://golatindance.com/event/salsa-bachata-night-at-rendezvous/2028-08-29/
LOCATION:Rais Rendezvous\, 44042 Pipeline Plaza\, Ashburn\, VA\, United States
CATEGORIES:Washington DC-Baltimore
ATTACH;FMTTYPE=image/jpeg:https://golatindance.com/wp-content/uploads/2024/10/461693778_10161572746629030_6205992527391762863_n.jpg
END:VEVENT
BEGIN:VEVENT
DTSTART;TZID=America/New_York:20280905T190000
DTEND;TZID=America/New_York:20280905T230000
DTSTAMP:20260420T202652
CREATED:20241001T165053Z
LAST-MODIFIED:20241001T170011Z
UID:10306925-1851793200-1851807600@golatindance.com
SUMMARY:Salsa Bachata Night at Rendezvous
DESCRIPTION:Salsa Bachata Night at Rendezvous. See flyer for details.
URL:https://golatindance.com/event/salsa-bachata-night-at-rendezvous/2028-09-05/
LOCATION:Rais Rendezvous\, 44042 Pipeline Plaza\, Ashburn\, VA\, United States
CATEGORIES:Washington DC-Baltimore
ATTACH;FMTTYPE=image/jpeg:https://golatindance.com/wp-content/uploads/2024/10/461693778_10161572746629030_6205992527391762863_n.jpg
END:VEVENT
BEGIN:VEVENT
DTSTART;TZID=America/New_York:20280912T190000
DTEND;TZID=America/New_York:20280912T230000
DTSTAMP:20260420T202652
CREATED:20241001T165053Z
LAST-MODIFIED:20241001T170011Z
UID:10306926-1852398000-1852412400@golatindance.com
SUMMARY:Salsa Bachata Night at Rendezvous
DESCRIPTION:Salsa Bachata Night at Rendezvous. See flyer for details.
URL:https://golatindance.com/event/salsa-bachata-night-at-rendezvous/2028-09-12/
LOCATION:Rais Rendezvous\, 44042 Pipeline Plaza\, Ashburn\, VA\, United States
CATEGORIES:Washington DC-Baltimore
ATTACH;FMTTYPE=image/jpeg:https://golatindance.com/wp-content/uploads/2024/10/461693778_10161572746629030_6205992527391762863_n.jpg
END:VEVENT
BEGIN:VEVENT
DTSTART;TZID=America/New_York:20280919T190000
DTEND;TZID=America/New_York:20280919T230000
DTSTAMP:20260420T202652
CREATED:20241001T165053Z
LAST-MODIFIED:20241001T170011Z
UID:10306927-1853002800-1853017200@golatindance.com
SUMMARY:Salsa Bachata Night at Rendezvous
DESCRIPTION:Salsa Bachata Night at Rendezvous. See flyer for details.
URL:https://golatindance.com/event/salsa-bachata-night-at-rendezvous/2028-09-19/
LOCATION:Rais Rendezvous\, 44042 Pipeline Plaza\, Ashburn\, VA\, United States
CATEGORIES:Washington DC-Baltimore
ATTACH;FMTTYPE=image/jpeg:https://golatindance.com/wp-content/uploads/2024/10/461693778_10161572746629030_6205992527391762863_n.jpg
END:VEVENT
BEGIN:VEVENT
DTSTART;TZID=America/New_York:20280926T190000
DTEND;TZID=America/New_York:20280926T230000
DTSTAMP:20260420T202652
CREATED:20241001T165053Z
LAST-MODIFIED:20241001T170011Z
UID:10306928-1853607600-1853622000@golatindance.com
SUMMARY:Salsa Bachata Night at Rendezvous
DESCRIPTION:Salsa Bachata Night at Rendezvous. See flyer for details.
URL:https://golatindance.com/event/salsa-bachata-night-at-rendezvous/2028-09-26/
LOCATION:Rais Rendezvous\, 44042 Pipeline Plaza\, Ashburn\, VA\, United States
CATEGORIES:Washington DC-Baltimore
ATTACH;FMTTYPE=image/jpeg:https://golatindance.com/wp-content/uploads/2024/10/461693778_10161572746629030_6205992527391762863_n.jpg
END:VEVENT
BEGIN:VEVENT
DTSTART;TZID=America/New_York:20281003T190000
DTEND;TZID=America/New_York:20281003T230000
DTSTAMP:20260420T202652
CREATED:20241001T165053Z
LAST-MODIFIED:20241001T170011Z
UID:10306929-1854212400-1854226800@golatindance.com
SUMMARY:Salsa Bachata Night at Rendezvous
DESCRIPTION:Salsa Bachata Night at Rendezvous. See flyer for details.
URL:https://golatindance.com/event/salsa-bachata-night-at-rendezvous/2028-10-03/
LOCATION:Rais Rendezvous\, 44042 Pipeline Plaza\, Ashburn\, VA\, United States
CATEGORIES:Washington DC-Baltimore
ATTACH;FMTTYPE=image/jpeg:https://golatindance.com/wp-content/uploads/2024/10/461693778_10161572746629030_6205992527391762863_n.jpg
END:VEVENT
BEGIN:VEVENT
DTSTART;TZID=America/New_York:20281010T190000
DTEND;TZID=America/New_York:20281010T230000
DTSTAMP:20260420T202652
CREATED:20241001T165053Z
LAST-MODIFIED:20241001T170011Z
UID:10306930-1854817200-1854831600@golatindance.com
SUMMARY:Salsa Bachata Night at Rendezvous
DESCRIPTION:Salsa Bachata Night at Rendezvous. See flyer for details.
URL:https://golatindance.com/event/salsa-bachata-night-at-rendezvous/2028-10-10/
LOCATION:Rais Rendezvous\, 44042 Pipeline Plaza\, Ashburn\, VA\, United States
CATEGORIES:Washington DC-Baltimore
ATTACH;FMTTYPE=image/jpeg:https://golatindance.com/wp-content/uploads/2024/10/461693778_10161572746629030_6205992527391762863_n.jpg
END:VEVENT
BEGIN:VEVENT
DTSTART;TZID=America/New_York:20281017T190000
DTEND;TZID=America/New_York:20281017T230000
DTSTAMP:20260420T202652
CREATED:20241001T165053Z
LAST-MODIFIED:20241001T170011Z
UID:10306931-1855422000-1855436400@golatindance.com
SUMMARY:Salsa Bachata Night at Rendezvous
DESCRIPTION:Salsa Bachata Night at Rendezvous. See flyer for details.
URL:https://golatindance.com/event/salsa-bachata-night-at-rendezvous/2028-10-17/
LOCATION:Rais Rendezvous\, 44042 Pipeline Plaza\, Ashburn\, VA\, United States
CATEGORIES:Washington DC-Baltimore
ATTACH;FMTTYPE=image/jpeg:https://golatindance.com/wp-content/uploads/2024/10/461693778_10161572746629030_6205992527391762863_n.jpg
END:VEVENT
BEGIN:VEVENT
DTSTART;TZID=America/New_York:20281024T190000
DTEND;TZID=America/New_York:20281024T230000
DTSTAMP:20260420T202652
CREATED:20241001T165053Z
LAST-MODIFIED:20241001T170011Z
UID:10306932-1856026800-1856041200@golatindance.com
SUMMARY:Salsa Bachata Night at Rendezvous
DESCRIPTION:Salsa Bachata Night at Rendezvous. See flyer for details.
URL:https://golatindance.com/event/salsa-bachata-night-at-rendezvous/2028-10-24/
LOCATION:Rais Rendezvous\, 44042 Pipeline Plaza\, Ashburn\, VA\, United States
CATEGORIES:Washington DC-Baltimore
ATTACH;FMTTYPE=image/jpeg:https://golatindance.com/wp-content/uploads/2024/10/461693778_10161572746629030_6205992527391762863_n.jpg
END:VEVENT
BEGIN:VEVENT
DTSTART;TZID=America/New_York:20281031T190000
DTEND;TZID=America/New_York:20281031T230000
DTSTAMP:20260420T202652
CREATED:20241001T165053Z
LAST-MODIFIED:20241001T170011Z
UID:10306933-1856631600-1856646000@golatindance.com
SUMMARY:Salsa Bachata Night at Rendezvous
DESCRIPTION:Salsa Bachata Night at Rendezvous. See flyer for details.
URL:https://golatindance.com/event/salsa-bachata-night-at-rendezvous/2028-10-31/
LOCATION:Rais Rendezvous\, 44042 Pipeline Plaza\, Ashburn\, VA\, United States
CATEGORIES:Washington DC-Baltimore
ATTACH;FMTTYPE=image/jpeg:https://golatindance.com/wp-content/uploads/2024/10/461693778_10161572746629030_6205992527391762863_n.jpg
END:VEVENT
BEGIN:VEVENT
DTSTART;TZID=America/New_York:20281107T190000
DTEND;TZID=America/New_York:20281107T230000
DTSTAMP:20260420T202652
CREATED:20241001T165053Z
LAST-MODIFIED:20241001T170011Z
UID:10306934-1857236400-1857250800@golatindance.com
SUMMARY:Salsa Bachata Night at Rendezvous
DESCRIPTION:Salsa Bachata Night at Rendezvous. See flyer for details.
URL:https://golatindance.com/event/salsa-bachata-night-at-rendezvous/2028-11-07/
LOCATION:Rais Rendezvous\, 44042 Pipeline Plaza\, Ashburn\, VA\, United States
CATEGORIES:Washington DC-Baltimore
ATTACH;FMTTYPE=image/jpeg:https://golatindance.com/wp-content/uploads/2024/10/461693778_10161572746629030_6205992527391762863_n.jpg
END:VEVENT
BEGIN:VEVENT
DTSTART;TZID=America/New_York:20281114T190000
DTEND;TZID=America/New_York:20281114T230000
DTSTAMP:20260420T202652
CREATED:20241001T165053Z
LAST-MODIFIED:20241001T170011Z
UID:10306935-1857841200-1857855600@golatindance.com
SUMMARY:Salsa Bachata Night at Rendezvous
DESCRIPTION:Salsa Bachata Night at Rendezvous. See flyer for details.
URL:https://golatindance.com/event/salsa-bachata-night-at-rendezvous/2028-11-14/
LOCATION:Rais Rendezvous\, 44042 Pipeline Plaza\, Ashburn\, VA\, United States
CATEGORIES:Washington DC-Baltimore
ATTACH;FMTTYPE=image/jpeg:https://golatindance.com/wp-content/uploads/2024/10/461693778_10161572746629030_6205992527391762863_n.jpg
END:VEVENT
BEGIN:VEVENT
DTSTART;TZID=America/New_York:20281121T190000
DTEND;TZID=America/New_York:20281121T230000
DTSTAMP:20260420T202652
CREATED:20241001T165053Z
LAST-MODIFIED:20241001T170011Z
UID:10306936-1858446000-1858460400@golatindance.com
SUMMARY:Salsa Bachata Night at Rendezvous
DESCRIPTION:Salsa Bachata Night at Rendezvous. See flyer for details.
URL:https://golatindance.com/event/salsa-bachata-night-at-rendezvous/2028-11-21/
LOCATION:Rais Rendezvous\, 44042 Pipeline Plaza\, Ashburn\, VA\, United States
CATEGORIES:Washington DC-Baltimore
ATTACH;FMTTYPE=image/jpeg:https://golatindance.com/wp-content/uploads/2024/10/461693778_10161572746629030_6205992527391762863_n.jpg
END:VEVENT
BEGIN:VEVENT
DTSTART;TZID=America/New_York:20281128T190000
DTEND;TZID=America/New_York:20281128T230000
DTSTAMP:20260420T202652
CREATED:20241001T165053Z
LAST-MODIFIED:20241001T170011Z
UID:10306937-1859050800-1859065200@golatindance.com
SUMMARY:Salsa Bachata Night at Rendezvous
DESCRIPTION:Salsa Bachata Night at Rendezvous. See flyer for details.
URL:https://golatindance.com/event/salsa-bachata-night-at-rendezvous/2028-11-28/
LOCATION:Rais Rendezvous\, 44042 Pipeline Plaza\, Ashburn\, VA\, United States
CATEGORIES:Washington DC-Baltimore
ATTACH;FMTTYPE=image/jpeg:https://golatindance.com/wp-content/uploads/2024/10/461693778_10161572746629030_6205992527391762863_n.jpg
END:VEVENT
BEGIN:VEVENT
DTSTART;TZID=America/New_York:20281205T190000
DTEND;TZID=America/New_York:20281205T230000
DTSTAMP:20260420T202652
CREATED:20241001T165053Z
LAST-MODIFIED:20241001T170011Z
UID:10306938-1859655600-1859670000@golatindance.com
SUMMARY:Salsa Bachata Night at Rendezvous
DESCRIPTION:Salsa Bachata Night at Rendezvous. See flyer for details.
URL:https://golatindance.com/event/salsa-bachata-night-at-rendezvous/2028-12-05/
LOCATION:Rais Rendezvous\, 44042 Pipeline Plaza\, Ashburn\, VA\, United States
CATEGORIES:Washington DC-Baltimore
ATTACH;FMTTYPE=image/jpeg:https://golatindance.com/wp-content/uploads/2024/10/461693778_10161572746629030_6205992527391762863_n.jpg
END:VEVENT
BEGIN:VEVENT
DTSTART;TZID=America/New_York:20281212T190000
DTEND;TZID=America/New_York:20281212T230000
DTSTAMP:20260420T202652
CREATED:20241001T165053Z
LAST-MODIFIED:20241001T170011Z
UID:10306939-1860260400-1860274800@golatindance.com
SUMMARY:Salsa Bachata Night at Rendezvous
DESCRIPTION:Salsa Bachata Night at Rendezvous. See flyer for details.
URL:https://golatindance.com/event/salsa-bachata-night-at-rendezvous/2028-12-12/
LOCATION:Rais Rendezvous\, 44042 Pipeline Plaza\, Ashburn\, VA\, United States
CATEGORIES:Washington DC-Baltimore
ATTACH;FMTTYPE=image/jpeg:https://golatindance.com/wp-content/uploads/2024/10/461693778_10161572746629030_6205992527391762863_n.jpg
END:VEVENT
BEGIN:VEVENT
DTSTART;TZID=America/New_York:20281219T190000
DTEND;TZID=America/New_York:20281219T230000
DTSTAMP:20260420T202652
CREATED:20241001T165053Z
LAST-MODIFIED:20241001T170011Z
UID:10306940-1860865200-1860879600@golatindance.com
SUMMARY:Salsa Bachata Night at Rendezvous
DESCRIPTION:Salsa Bachata Night at Rendezvous. See flyer for details.
URL:https://golatindance.com/event/salsa-bachata-night-at-rendezvous/2028-12-19/
LOCATION:Rais Rendezvous\, 44042 Pipeline Plaza\, Ashburn\, VA\, United States
CATEGORIES:Washington DC-Baltimore
ATTACH;FMTTYPE=image/jpeg:https://golatindance.com/wp-content/uploads/2024/10/461693778_10161572746629030_6205992527391762863_n.jpg
END:VEVENT
END:VCALENDAR